{"text_format":"1","workbook":"xlsx","n_sheets":15,"sheets":["Cover","District Dropdown","BudgetSum 2-4","CashSum 5","EstRev 6-11","EstExp 12-20","Itemize 21","DeficitBudgetSum Calc 22","DefReductPlan 23-27","Bckgrnd-Assumpt 28-29","AC 30","VendContract 31","Ref 32","Balancing","B23"],"not_rendered":{"charts":0,"images":0,"macros":1,"external_links":0,"defined_names":27,"comments":4,"pivot_tables":0},"unopened":[],"bounds":{"document_bytes":16777216,"sheet_cells":100000,"rows_first":2000,"rows_last":500,"rows_between":2000,"halvings":0,"cell_chars":16384,"cell_head_chars":4096},"cells_cut":0,"cells_raw":0,"read":"whole","date_system":"1900"}

{"sheet":"Cover","index":0,"n_rows":72,"n_cols":25,"rows_kept":72,"cut":false,"hidden":false,"merged":[[0,6,0,14],[2,6,2,14],[3,6,3,14],[1,6,1,14],[2,15,12,19],[12,7,12,12],[9,7,9,9],[4,6,4,9],[5,1,5,6],[10,7,10,9],[13,7,13,12],[30,12,30,14],[56,10,56,16],[54,4,54,9],[54,10,54,16],[55,4,55,9],[56,4,56,9],[55,10,55,16],[53,4,53,9],[23,13,23,16],[24,13,24,16],[36,7,36,8],[27,3,27,6],[42,15,42,17],[43,4,43,5],[26,7,26,17],[23,4,23,10],[36,4,36,6],[36,9,36,11],[24,8,24,10],[48,10,48,16],[24,11,24,12],[41,0,41,17],[47,4,47,9],[47,10,47,16],[48,4,48,9],[52,4,52,9],[52,10,52,16],[49,10,49,16],[71,2,71,3],[70,2,70,6],[50,10,50,16],[51,4,51,9],[51,10,51,16],[50,4,50,9],[49,4,49,9],[59,4,59,16],[53,10,53,16],[57,10,57,16],[57,4,57,9]]}
["District Type:",null,null,null,null,null,"ILLINOIS STATE BOARD OF EDUCATION"]
[null,{"$f":"IF(ISBLANK(H13),\"\",IF(VLOOKUP($H$13,Table1[],4,FALSE)=\"SD\",\"X\",\"0\"))","v":"X"},"School District",null,null,null,"School Business Services Division"]
[null,{"$f":"IF(ISBLANK(H13),\"\",IF(VLOOKUP($H$13,Table1[],4,FALSE)=\"JA\",\"X\",\"0\"))","v":"0"},"Joint Agreement",null,null,null,null,null,null,null,null,null,null,null,null,{"$f":"'DeficitBudgetSum Calc 22'!D7 & \" \"","v":"Unbalanced budget; however, a Deficit Reduction Plan is not required at this time. "}]
[null,null,null,null,null,null,"SCHOOL DISTRICT/JOINT AGREEMENT BUDGET FORM *"]
["Accounting Basis:",null,null,null,null,null,{"$f":"\"July 1, \"&'B23'!E2-1","v":"July 1, 2022"},null,null,null,{"$f":"\"- June 30, \"&'B23'!E2","v":"- June 30, 2023"}]
[null,"Cash"]
[]
[]
[]
[null,null,"Date of Amended Budget:",null,null,null,null,"06/12/2023"]
[null,null,null,null,null,null,null,"(MM/DD/YY)"]
[]
[null,null,"District Name:",null,null,null,null,"Scott-Morgan CUSD 2",null,null,null,null,null,null,null,null,null,null,null,null,null,null,null,null,{"$f":"IF(H14<>\"Select dist name from drop-down on line above\",1,0)","v":1}]
[null,null,"District RCDT No:",null,null,null,null,{"$f":"IFERROR(VLOOKUP($H$13,Table1[],2,FALSE),\"Select dist name from drop-down on line above\")","v":1086002026},null,null,null,null,null,null,null,{"$f":"_xlfn.IFNA(VLOOKUP(H13,Table1[],6),\"\")","v":"01-086-0020-26"}]
[]
[null,null,{"$f":"\"If your FY\"&'B23'!E2-1","v":"If your FY2022"},null,{"$f":"\"AFR states that you need to do a deficit reduction plan and your FY\"&'B23'!E2","v":"AFR states that you need to do a deficit reduction plan and your FY2023"},null,null,null,null,null,null,null,null,"budget is balanced, please state the"]
[null,null,null,null,"measures you took to have your budget become balanced.  (Bckgrnd-Assumpt 25-26)"]
[]
[]
[]
[]
[]
[]
[null,null,"Budget of",null,{"$f":"IF(H13=\" Click here to choose your district from drop-down list\",\"\",H13)","v":"Scott-Morgan CUSD 2"},null,null,null,null,null,null,",  County of ",null,{"$f":"IFERROR(VLOOKUP($H$13,'District Dropdown'!$B$2:$F$996,5,FALSE),\"\")","v":"Scott/Morgan"},null,null,null,","]
[null,"State of Illinois, for the Fiscal Year beginning ",null,null,null,null,null,null,{"$f":"\"July 1, \"&'B23'!E2-1","v":"July 1, 2022"},null,null,"and ending",null,{"$f":"\"June 30, \"&'B23'!E2","v":"June 30, 2023"},null,null,null,"."]
[]
[null,null," WHEREAS the Board of Education of",null,null,null,null,{"$f":"IF(H13=\" Click here to choose your district from drop-down list\",\"\",H13)","v":"Scott-Morgan CUSD 2"},null,null,null,null,null,null,null,null,null,null,", "]
["   County of ",null,null,{"$f":"N24","v":"Scott/Morgan"},null,null,null,",","  State of Illinois, caused to be prepared in tentative form a budget, and the Secretary"]
["   of this Board has made the same conveniently available to public inspection for at least thirty days prior to final action thereon;"]
[]
[null,null,"AND WHEREAS a public hearing was held as to such budget on the ",null,null,null,null,null,null,null,"12th","day of ","June",null,null,",     20","23",","]
["   notice of said hearing was given at least thirty days prior thereto as required by law, and all other legal requirements have been complied with;"]
[]
[null,null,"NOW, THEREFORE, Be it resolved by the Board of Education of said district as follows:   "]
[]
[null,null,"Section 1:  That the fiscal year of this school district be and the same hereby is fixed and declared to be "]
["   beginning",null,null,null,{"$f":"I25","v":"July 1, 2022"},null,null,"and ending",null,{"$f":"N25","v":"June 30, 2023"},null,null,"."]
[]
[null,null,"Section 2: That the following budget containing an estimate of amounts available in each Fund, separately, and expenditures from each be "]
["   and the same is hereby adopted as the budget of this school district for said fiscal year."]
[]
["ADOPTION OF BUDGET  "]
[null,null,"The budget shall be approved and signed below by members of the School Board.  Adopted this",null,null,null,null,null,null,null,null,null,null,"12th","day of","June",null,null,", 20","23"]
["   by a roll call vote of ",null,null,null,"5",null,"Yeas, and",0,"Nays, to wit:"]
[]
[]
[]
[null,null,null,null,"** MEMBERS VOTING YEA:",null,null,null,null,null,"** MEMBERS VOTING NAY:"]
[null,null,null,null,"Gary Westermeyer"]
[null,null,null,null,"Terry Kunkel"]
[null,null,null,null,"Roger Barnett"]
[null,null,null,null,"Matt Bangert"]
[null,null,null,null,"Drew Barnett"]
[]
[]
[]
[]
[]
[]
[null,null,null,"*","Based on the 23 Illinois Administrative Code-Part 100 and inconformity with Section 17-1 of the School Code. "]
[null,null,null,"**","Type in the members who voted \"YEA\" nor \"NAY\".  Actual school board member signatures are not required for electronic submission."]
[]
[null,null,null,"(1)","A certified copy of this document must be filed with the county clerk within 30 days of adoption as required "]
[null,null,null,null,"by Section 18-50 of the Property Tax Code (35 ILCS 200/18-50).  "]
[null,null,null,"(2)","Districts are required to submit the adopted/amended budget electronically to ISBE within 30 days of adoption or by October 30,"]
[null,null,null,null,"whichever comes first. Budgets are submitted to School Finance Report (SFR): ",null,null,null,null,null,null,null,"https://sec1.isbe.net/attachmgr/default.aspx "]
[null,null,null,null,"Please type the member signatures before submitting to ISBE.  We do not accept PDF copies."]
[]
[]
[null,null,"SD50-36/JA50-39",null,"5/22"]
[null,null,{"$f":"H13","v":"Scott-Morgan CUSD 2"}]
[null,null,{"$f":"H14","v":1086002026}]

{"sheet":"District Dropdown","index":1,"n_rows":996,"n_cols":10,"rows_kept":996,"cut":false,"hidden":true,"merged":[]}
["Search hits for VLOOKUP:","School District","RCDT","Type","Dist Type","County","RCDTDash",null,"Offset for validation_list:","Dropdown Menu:"]
[{"$f":"IF(ISNUMBER(SEARCH(Cover!$H$13,Table1[[#This Row],[School District]])),MAX($A$1:A1)+1,0)","v":0}," Click here to choose your district from drop-down list","Select dist name from drop-down on line above",null,null,null,null,null,{"$f":"OFFSET($J$2,,,COUNTIF($J$2:$J$996,\"?*\"))","v":"Scott-Morgan CUSD 2"},{"$f":"IFERROR(VLOOKUP(ROWS($J$2:J2),$A$2:$B$996,2,FALSE),\"\")","v":"Scott-Morgan CUSD 2"}]
[{"$f":"IF(ISNUMBER(SEARCH(Cover!$H$13,Table1[[#This Row],[School District]])),MAX($A$1:A2)+1,0)","v":0},"Abingdon-Avon CUSD 276",33048276026,26,{"$f":"IF(OR(Table1[[#This Row],[Type]]=0,Table1[[#This Row],[Type]]>=40),\"JA\",\"SD\")","v":"SD"},"Knox","33-048-2760-26",null,null,{"$f":"IFERROR(VLOOKUP(ROWS($J$2:J3),$A$2:$B$996,2,FALSE),\"\")","v":""}]
[{"$f":"IF(ISNUMBER(SEARCH(Cover!$H$13,Table1[[#This Row],[School District]])),MAX($A$1:A3)+1,0)","v":0},"A-C Central CUSD 262",1009262026,26,{"$f":"IF(OR(Table1[[#This Row],[Type]]=0,Table1[[#This Row],[Type]]>=40),\"JA\",\"SD\")","v":"SD"},"Cass/Sangamon/Menard/Morgan","01-009-2620-26",null,null,{"$f":"IFERROR(VLOOKUP(ROWS($J$2:J4),$A$2:$B$996,2,FALSE),\"\")","v":""}]
[{"$f":"IF(ISNUMBER(SEARCH(Cover!$H$13,Table1[[#This Row],[School District]])),MAX($A$1:A4)+1,0)","v":0},"Addison SD 4",19022004002,2,{"$f":"IF(OR(Table1[[#This Row],[Type]]=0,Table1[[#This Row],[Type]]>=40),\"JA\",\"SD\")","v":"SD"},"DuPage","19-022-0040-02",null,null,{"$f":"IFERROR(VLOOKUP(ROWS($J$2:J5),$A$2:$B$996,2,FALSE),\"\")","v":""}]
[{"$f":"IF(ISNUMBER(SEARCH(Cover!$H$13,Table1[[#This Row],[School District]])),MAX($A$1:A5)+1,0)","v":0},"Adlai E Stevenson HSD 125",34049125013,13,{"$f":"IF(OR(Table1[[#This Row],[Type]]=0,Table1[[#This Row],[Type]]>=40),\"JA\",\"SD\")","v":"SD"},"Lake","34-049-1250-13",null,null,{"$f":"IFERROR(VLOOKUP(ROWS($J$2:J6),$A$2:$B$996,2,FALSE),\"\")","v":""}]
[{"$f":"IF(ISNUMBER(SEARCH(Cover!$H$13,Table1[[#This Row],[School District]])),MAX($A$1:A6)+1,0)","v":0},"AERO Spec Ed Coop",7016806060,60,{"$f":"IF(OR(Table1[[#This Row],[Type]]=0,Table1[[#This Row],[Type]]>=40),\"JA\",\"SD\")","v":"JA"},"Cook","07-016-8060-60",null,null,{"$f":"IFERROR(VLOOKUP(ROWS($J$2:J7),$A$2:$B$996,2,FALSE),\"\")","v":""}]
[{"$f":"IF(ISNUMBER(SEARCH(Cover!$H$13,Table1[[#This Row],[School District]])),MAX($A$1:A7)+1,0)","v":0},"Akin CCSD 91",21028091004,4,{"$f":"IF(OR(Table1[[#This Row],[Type]]=0,Table1[[#This Row],[Type]]>=40),\"JA\",\"SD\")","v":"SD"},"Franklin","21-028-0910-04",null,null,{"$f":"IFERROR(VLOOKUP(ROWS($J$2:J8),$A$2:$B$996,2,FALSE),\"\")","v":""}]
[{"$f":"IF(ISNUMBER(SEARCH(Cover!$H$13,Table1[[#This Row],[School District]])),MAX($A$1:A8)+1,0)","v":0},"Albers SD 63",13014063002,2,{"$f":"IF(OR(Table1[[#This Row],[Type]]=0,Table1[[#This Row],[Type]]>=40),\"JA\",\"SD\")","v":"SD"},"Clinton","13-014-0630-02",null,null,{"$f":"IFERROR(VLOOKUP(ROWS($J$2:J9),$A$2:$B$996,2,FALSE),\"\")","v":""}]
[{"$f":"IF(ISNUMBER(SEARCH(Cover!$H$13,Table1[[#This Row],[School District]])),MAX($A$1:A9)+1,0)","v":0},"Alden Hebron SD 19",44063019024,24,{"$f":"IF(OR(Table1[[#This Row],[Type]]=0,Table1[[#This Row],[Type]]>=40),\"JA\",\"SD\")","v":"SD"},"McHenry","44-063-0190-24",null,null,{"$f":"IFERROR(VLOOKUP(ROWS($J$2:J10),$A$2:$B$996,2,FALSE),\"\")","v":""}]
[{"$f":"IF(ISNUMBER(SEARCH(Cover!$H$13,Table1[[#This Row],[School District]])),MAX($A$1:A10)+1,0)","v":0},"Allendale CCSD 17",20093017024,24,{"$f":"IF(OR(Table1[[#This Row],[Type]]=0,Table1[[#This Row],[Type]]>=40),\"JA\",\"SD\")","v":"SD"},"Wabash","20-093-0170-24",null,null,{"$f":"IFERROR(VLOOKUP(ROWS($J$2:J11),$A$2:$B$996,2,FALSE),\"\")","v":""}]
[{"$f":"IF(ISNUMBER(SEARCH(Cover!$H$13,Table1[[#This Row],[School District]])),MAX($A$1:A11)+1,0)","v":0},"Allen-Otter Creek CCSD 65",35050065004,4,{"$f":"IF(OR(Table1[[#This Row],[Type]]=0,Table1[[#This Row],[Type]]>=40),\"JA\",\"SD\")","v":"SD"},"LaSalle/Livingston","35-050-0650-04",null,null,{"$f":"IFERROR(VLOOKUP(ROWS($J$2:J12),$A$2:$B$996,2,FALSE),\"\")","v":""}]
[{"$f":"IF(ISNUMBER(SEARCH(Cover!$H$13,Table1[[#This Row],[School District]])),MAX($A$1:A12)+1,0)","v":0},"Alsip-Hazlgrn-Oaklwn SD 126",7016126002,2,{"$f":"IF(OR(Table1[[#This Row],[Type]]=0,Table1[[#This Row],[Type]]>=40),\"JA\",\"SD\")","v":"SD"},"Cook","07-016-1260-02",null,null,{"$f":"IFERROR(VLOOKUP(ROWS($J$2:J13),$A$2:$B$996,2,FALSE),\"\")","v":""}]
[{"$f":"IF(ISNUMBER(SEARCH(Cover!$H$13,Table1[[#This Row],[School District]])),MAX($A$1:A13)+1,0)","v":0},"Altamont CUSD 10",3025010026,26,{"$f":"IF(OR(Table1[[#This Row],[Type]]=0,Table1[[#This Row],[Type]]>=40),\"JA\",\"SD\")","v":"SD"},"Effingham/Fayette","03-025-0100-26",null,null,{"$f":"IFERROR(VLOOKUP(ROWS($J$2:J14),$A$2:$B$996,2,FALSE),\"\")","v":""}]
[{"$f":"IF(ISNUMBER(SEARCH(Cover!$H$13,Table1[[#This Row],[School District]])),MAX($A$1:A14)+1,0)","v":0},"Alton CUSD 11",41057011026,26,{"$f":"IF(OR(Table1[[#This Row],[Type]]=0,Table1[[#This Row],[Type]]>=40),\"JA\",\"SD\")","v":"SD"},"Madison/Jersey","41-057-0110-26",null,null,{"$f":"IFERROR(VLOOKUP(ROWS($J$2:J15),$A$2:$B$996,2,FALSE),\"\")","v":""}]
[{"$f":"IF(ISNUMBER(SEARCH(Cover!$H$13,Table1[[#This Row],[School District]])),MAX($A$1:A15)+1,0)","v":0},"AlWood CUSD 225",28037225026,26,{"$f":"IF(OR(Table1[[#This Row],[Type]]=0,Table1[[#This Row],[Type]]>=40),\"JA\",\"SD\")","v":"SD"},"Henry","28-037-2250-26",null,null,{"$f":"IFERROR(VLOOKUP(ROWS($J$2:J16),$A$2:$B$996,2,FALSE),\"\")","v":""}]
[{"$f":"IF(ISNUMBER(SEARCH(Cover!$H$13,Table1[[#This Row],[School District]])),MAX($A$1:A16)+1,0)","v":0},"Amboy CUSD 272",47052272026,26,{"$f":"IF(OR(Table1[[#This Row],[Type]]=0,Table1[[#This Row],[Type]]>=40),\"JA\",\"SD\")","v":"SD"},"Lee","47-052-2720-26",null,null,{"$f":"IFERROR(VLOOKUP(ROWS($J$2:J17),$A$2:$B$996,2,FALSE),\"\")","v":""}]
[{"$f":"IF(ISNUMBER(SEARCH(Cover!$H$13,Table1[[#This Row],[School District]])),MAX($A$1:A17)+1,0)","v":0},"Anna CCSD 37",30091037004,4,{"$f":"IF(OR(Table1[[#This Row],[Type]]=0,Table1[[#This Row],[Type]]>=40),\"JA\",\"SD\")","v":"SD"},"Union","30-091-0370-04",null,null,{"$f":"IFERROR(VLOOKUP(ROWS($J$2:J18),$A$2:$B$996,2,FALSE),\"\")","v":""}]
[{"$f":"IF(ISNUMBER(SEARCH(Cover!$H$13,Table1[[#This Row],[School District]])),MAX($A$1:A18)+1,0)","v":0},"Anna Jonesboro CHSD 81",30091081016,16,{"$f":"IF(OR(Table1[[#This Row],[Type]]=0,Table1[[#This Row],[Type]]>=40),\"JA\",\"SD\")","v":"SD"},"Union","30-091-0810-16",null,null,{"$f":"IFERROR(VLOOKUP(ROWS($J$2:J19),$A$2:$B$996,2,FALSE),\"\")","v":""}]
[{"$f":"IF(ISNUMBER(SEARCH(Cover!$H$13,Table1[[#This Row],[School District]])),MAX($A$1:A19)+1,0)","v":0},"Annawan CUSD 226",28037226026,26,{"$f":"IF(OR(Table1[[#This Row],[Type]]=0,Table1[[#This Row],[Type]]>=40),\"JA\",\"SD\")","v":"SD"},"Henry/Bureau","28-037-2260-26",null,null,{"$f":"IFERROR(VLOOKUP(ROWS($J$2:J20),$A$2:$B$996,2,FALSE),\"\")","v":""}]
[{"$f":"IF(ISNUMBER(SEARCH(Cover!$H$13,Table1[[#This Row],[School District]])),MAX($A$1:A20)+1,0)","v":0},"Antioch CCSD 34",34049034004,4,{"$f":"IF(OR(Table1[[#This Row],[Type]]=0,Table1[[#This Row],[Type]]>=40),\"JA\",\"SD\")","v":"SD"},"Lake","34-049-0340-04",null,null,{"$f":"IFERROR(VLOOKUP(ROWS($J$2:J21),$A$2:$B$996,2,FALSE),\"\")","v":""}]
[{"$f":"IF(ISNUMBER(SEARCH(Cover!$H$13,Table1[[#This Row],[School District]])),MAX($A$1:A21)+1,0)","v":0},"Aptakisic-Tripp CCSD 102",34049102004,4,{"$f":"IF(OR(Table1[[#This Row],[Type]]=0,Table1[[#This Row],[Type]]>=40),\"JA\",\"SD\")","v":"SD"},"Lake","34-049-1020-04",null,null,{"$f":"IFERROR(VLOOKUP(ROWS($J$2:J22),$A$2:$B$996,2,FALSE),\"\")","v":""}]
[{"$f":"IF(ISNUMBER(SEARCH(Cover!$H$13,Table1[[#This Row],[School District]])),MAX($A$1:A22)+1,0)","v":0},"Arbor Park SD 145",7016145002,2,{"$f":"IF(OR(Table1[[#This Row],[Type]]=0,Table1[[#This Row],[Type]]>=40),\"JA\",\"SD\")","v":"SD"},"Cook","07-016-1450-02",null,null,{"$f":"IFERROR(VLOOKUP(ROWS($J$2:J23),$A$2:$B$996,2,FALSE),\"\")","v":""}]
[{"$f":"IF(ISNUMBER(SEARCH(Cover!$H$13,Table1[[#This Row],[School District]])),MAX($A$1:A23)+1,0)","v":0},"Arcola CUSD 306",11021306026,26,{"$f":"IF(OR(Table1[[#This Row],[Type]]=0,Table1[[#This Row],[Type]]>=40),\"JA\",\"SD\")","v":"SD"},"Douglas","11-021-3060-26",null,null,{"$f":"IFERROR(VLOOKUP(ROWS($J$2:J24),$A$2:$B$996,2,FALSE),\"\")","v":""}]
[{"$f":"IF(ISNUMBER(SEARCH(Cover!$H$13,Table1[[#This Row],[School District]])),MAX($A$1:A24)+1,0)","v":0},"Argenta-Oreana CUSD 1",39055001026,26,{"$f":"IF(OR(Table1[[#This Row],[Type]]=0,Table1[[#This Row],[Type]]>=40),\"JA\",\"SD\")","v":"SD"},"Macon/DeWitt","39-055-0010-26",null,null,{"$f":"IFERROR(VLOOKUP(ROWS($J$2:J25),$A$2:$B$996,2,FALSE),\"\")","v":""}]
[{"$f":"IF(ISNUMBER(SEARCH(Cover!$H$13,Table1[[#This Row],[School District]])),MAX($A$1:A25)+1,0)","v":0},"Argo CHSD 217",7016217016,16,{"$f":"IF(OR(Table1[[#This Row],[Type]]=0,Table1[[#This Row],[Type]]>=40),\"JA\",\"SD\")","v":"SD"},"Cook","07-016-2170-16",null,null,{"$f":"IFERROR(VLOOKUP(ROWS($J$2:J26),$A$2:$B$996,2,FALSE),\"\")","v":""}]
[{"$f":"IF(ISNUMBER(SEARCH(Cover!$H$13,Table1[[#This Row],[School District]])),MAX($A$1:A26)+1,0)","v":0},"Arlington Heights SD 25",5016025002,2,{"$f":"IF(OR(Table1[[#This Row],[Type]]=0,Table1[[#This Row],[Type]]>=40),\"JA\",\"SD\")","v":"SD"},"Cook","05-016-0250-02",null,null,{"$f":"IFERROR(VLOOKUP(ROWS($J$2:J27),$A$2:$B$996,2,FALSE),\"\")","v":""}]
[{"$f":"IF(ISNUMBER(SEARCH(Cover!$H$13,Table1[[#This Row],[School District]])),MAX($A$1:A27)+1,0)","v":0},"Armstrong Twp HSD 225",54092225017,17,{"$f":"IF(OR(Table1[[#This Row],[Type]]=0,Table1[[#This Row],[Type]]>=40),\"JA\",\"SD\")","v":"SD"},"Vermilion/Champaign","54-092-2250-17",null,null,{"$f":"IFERROR(VLOOKUP(ROWS($J$2:J28),$A$2:$B$996,2,FALSE),\"\")","v":""}]
[{"$f":"IF(ISNUMBER(SEARCH(Cover!$H$13,Table1[[#This Row],[School District]])),MAX($A$1:A28)+1,0)","v":0},"Armstrong-Ellis Cons SD 61",54092061003,3,{"$f":"IF(OR(Table1[[#This Row],[Type]]=0,Table1[[#This Row],[Type]]>=40),\"JA\",\"SD\")","v":"SD"},"Vermilion","54-092-0610-03",null,null,{"$f":"IFERROR(VLOOKUP(ROWS($J$2:J29),$A$2:$B$996,2,FALSE),\"\")","v":""}]
[{"$f":"IF(ISNUMBER(SEARCH(Cover!$H$13,Table1[[#This Row],[School District]])),MAX($A$1:A29)+1,0)","v":0},"Arthur CUSD 305",11021305026,26,{"$f":"IF(OR(Table1[[#This Row],[Type]]=0,Table1[[#This Row],[Type]]>=40),\"JA\",\"SD\")","v":"SD"},"Douglas","11-021-3050-26",null,null,{"$f":"IFERROR(VLOOKUP(ROWS($J$2:J30),$A$2:$B$996,2,FALSE),\"\")","v":""}]
[{"$f":"IF(ISNUMBER(SEARCH(Cover!$H$13,Table1[[#This Row],[School District]])),MAX($A$1:A30)+1,0)","v":0},"Ashley CCSD 15",13095015004,4,{"$f":"IF(OR(Table1[[#This Row],[Type]]=0,Table1[[#This Row],[Type]]>=40),\"JA\",\"SD\")","v":"SD"},"Washington","13-095-0150-04",null,null,{"$f":"IFERROR(VLOOKUP(ROWS($J$2:J31),$A$2:$B$996,2,FALSE),\"\")","v":""}]
[{"$f":"IF(ISNUMBER(SEARCH(Cover!$H$13,Table1[[#This Row],[School District]])),MAX($A$1:A31)+1,0)","v":0},"Ashton-Franklin Center CUSD 275",47052275026,26,{"$f":"IF(OR(Table1[[#This Row],[Type]]=0,Table1[[#This Row],[Type]]>=40),\"JA\",\"SD\")","v":"SD"},"Lee","47-052-2750-26",null,null,{"$f":"IFERROR(VLOOKUP(ROWS($J$2:J32),$A$2:$B$996,2,FALSE),\"\")","v":""}]
[{"$f":"IF(ISNUMBER(SEARCH(Cover!$H$13,Table1[[#This Row],[School District]])),MAX($A$1:A32)+1,0)","v":0},"Astoria CUSD 1",26029001026,26,{"$f":"IF(OR(Table1[[#This Row],[Type]]=0,Table1[[#This Row],[Type]]>=40),\"JA\",\"SD\")","v":"SD"},"Fulton","26-029-0010-26",null,null,{"$f":"IFERROR(VLOOKUP(ROWS($J$2:J33),$A$2:$B$996,2,FALSE),\"\")","v":""}]
[{"$f":"IF(ISNUMBER(SEARCH(Cover!$H$13,Table1[[#This Row],[School District]])),MAX($A$1:A33)+1,0)","v":0},"Athens CUSD 213",51065213026,26,{"$f":"IF(OR(Table1[[#This Row],[Type]]=0,Table1[[#This Row],[Type]]>=40),\"JA\",\"SD\")","v":"SD"},"Menard","51-065-2130-26",null,null,{"$f":"IFERROR(VLOOKUP(ROWS($J$2:J34),$A$2:$B$996,2,FALSE),\"\")","v":""}]
[{"$f":"IF(ISNUMBER(SEARCH(Cover!$H$13,Table1[[#This Row],[School District]])),MAX($A$1:A34)+1,0)","v":0},"Atwood Heights SD 125",7016125002,2,{"$f":"IF(OR(Table1[[#This Row],[Type]]=0,Table1[[#This Row],[Type]]>=40),\"JA\",\"SD\")","v":"SD"},"Cook","07-016-1250-02",null,null,{"$f":"IFERROR(VLOOKUP(ROWS($J$2:J35),$A$2:$B$996,2,FALSE),\"\")","v":""}]
[{"$f":"IF(ISNUMBER(SEARCH(Cover!$H$13,Table1[[#This Row],[School District]])),MAX($A$1:A35)+1,0)","v":0},"Auburn CUSD 10",51084010026,26,{"$f":"IF(OR(Table1[[#This Row],[Type]]=0,Table1[[#This Row],[Type]]>=40),\"JA\",\"SD\")","v":"SD"},"Sangamon","51-084-0100-26",null,null,{"$f":"IFERROR(VLOOKUP(ROWS($J$2:J36),$A$2:$B$996,2,FALSE),\"\")","v":""}]
[{"$f":"IF(ISNUMBER(SEARCH(Cover!$H$13,Table1[[#This Row],[School District]])),MAX($A$1:A36)+1,0)","v":0},"Aurora East USD 131",31045131022,22,{"$f":"IF(OR(Table1[[#This Row],[Type]]=0,Table1[[#This Row],[Type]]>=40),\"JA\",\"SD\")","v":"SD"},"Kane","31-045-1310-22",null,null,{"$f":"IFERROR(VLOOKUP(ROWS($J$2:J37),$A$2:$B$996,2,FALSE),\"\")","v":""}]
[{"$f":"IF(ISNUMBER(SEARCH(Cover!$H$13,Table1[[#This Row],[School District]])),MAX($A$1:A37)+1,0)","v":0},"Aurora West USD 129",31045129022,22,{"$f":"IF(OR(Table1[[#This Row],[Type]]=0,Table1[[#This Row],[Type]]>=40),\"JA\",\"SD\")","v":"SD"},"Kane","31-045-1290-22",null,null,{"$f":"IFERROR(VLOOKUP(ROWS($J$2:J38),$A$2:$B$996,2,FALSE),\"\")","v":""}]
[{"$f":"IF(ISNUMBER(SEARCH(Cover!$H$13,Table1[[#This Row],[School District]])),MAX($A$1:A38)+1,0)","v":0},"Aviston SD 21",13014021002,2,{"$f":"IF(OR(Table1[[#This Row],[Type]]=0,Table1[[#This Row],[Type]]>=40),\"JA\",\"SD\")","v":"SD"},"Clinton","13-014-0210-02",null,null,{"$f":"IFERROR(VLOOKUP(ROWS($J$2:J39),$A$2:$B$996,2,FALSE),\"\")","v":""}]
[{"$f":"IF(ISNUMBER(SEARCH(Cover!$H$13,Table1[[#This Row],[School District]])),MAX($A$1:A39)+1,0)","v":0},"Avoca SD 37",5016037002,2,{"$f":"IF(OR(Table1[[#This Row],[Type]]=0,Table1[[#This Row],[Type]]>=40),\"JA\",\"SD\")","v":"SD"},"Cook","05-016-0370-02",null,null,{"$f":"IFERROR(VLOOKUP(ROWS($J$2:J40),$A$2:$B$996,2,FALSE),\"\")","v":""}]
[{"$f":"IF(ISNUMBER(SEARCH(Cover!$H$13,Table1[[#This Row],[School District]])),MAX($A$1:A40)+1,0)","v":0},"Ball Chatham CUSD 5",51084005026,26,{"$f":"IF(OR(Table1[[#This Row],[Type]]=0,Table1[[#This Row],[Type]]>=40),\"JA\",\"SD\")","v":"SD"},"Sangamon","51-084-0050-26",null,null,{"$f":"IFERROR(VLOOKUP(ROWS($J$2:J41),$A$2:$B$996,2,FALSE),\"\")","v":""}]
[{"$f":"IF(ISNUMBER(SEARCH(Cover!$H$13,Table1[[#This Row],[School District]])),MAX($A$1:A41)+1,0)","v":0},"Bannockburn SD 106",34049106002,2,{"$f":"IF(OR(Table1[[#This Row],[Type]]=0,Table1[[#This Row],[Type]]>=40),\"JA\",\"SD\")","v":"SD"},"Lake","34-049-1060-02",null,null,{"$f":"IFERROR(VLOOKUP(ROWS($J$2:J42),$A$2:$B$996,2,FALSE),\"\")","v":""}]
[{"$f":"IF(ISNUMBER(SEARCH(Cover!$H$13,Table1[[#This Row],[School District]])),MAX($A$1:A42)+1,0)","v":0},"Barrington CUSD 220",34049220026,26,{"$f":"IF(OR(Table1[[#This Row],[Type]]=0,Table1[[#This Row],[Type]]>=40),\"JA\",\"SD\")","v":"SD"},"Cook/Lake/Kane/McHenry","34-049-2200-26",null,null,{"$f":"IFERROR(VLOOKUP(ROWS($J$2:J43),$A$2:$B$996,2,FALSE),\"\")","v":""}]
[{"$f":"IF(ISNUMBER(SEARCH(Cover!$H$13,Table1[[#This Row],[School District]])),MAX($A$1:A43)+1,0)","v":0},"Bartelso SD 57",13014057002,2,{"$f":"IF(OR(Table1[[#This Row],[Type]]=0,Table1[[#This Row],[Type]]>=40),\"JA\",\"SD\")","v":"SD"},"Clinton","13-014-0570-02",null,null,{"$f":"IFERROR(VLOOKUP(ROWS($J$2:J44),$A$2:$B$996,2,FALSE),\"\")","v":""}]
[{"$f":"IF(ISNUMBER(SEARCH(Cover!$H$13,Table1[[#This Row],[School District]])),MAX($A$1:A44)+1,0)","v":0},"Bartonville SD 66",48072066002,2,{"$f":"IF(OR(Table1[[#This Row],[Type]]=0,Table1[[#This Row],[Type]]>=40),\"JA\",\"SD\")","v":"SD"},"Peoria","48-072-0660-02",null,null,{"$f":"IFERROR(VLOOKUP(ROWS($J$2:J45),$A$2:$B$996,2,FALSE),\"\")","v":""}]
[{"$f":"IF(ISNUMBER(SEARCH(Cover!$H$13,Table1[[#This Row],[School District]])),MAX($A$1:A45)+1,0)","v":0},"Batavia USD 101",31045101022,22,{"$f":"IF(OR(Table1[[#This Row],[Type]]=0,Table1[[#This Row],[Type]]>=40),\"JA\",\"SD\")","v":"SD"},"Kane","31-045-1010-22",null,null,{"$f":"IFERROR(VLOOKUP(ROWS($J$2:J46),$A$2:$B$996,2,FALSE),\"\")","v":""}]
[{"$f":"IF(ISNUMBER(SEARCH(Cover!$H$13,Table1[[#This Row],[School District]])),MAX($A$1:A46)+1,0)","v":0},"Beach Park CCSD 3",34049003004,4,{"$f":"IF(OR(Table1[[#This Row],[Type]]=0,Table1[[#This Row],[Type]]>=40),\"JA\",\"SD\")","v":"SD"},"Lake","34-049-0030-04",null,null,{"$f":"IFERROR(VLOOKUP(ROWS($J$2:J47),$A$2:$B$996,2,FALSE),\"\")","v":""}]
[{"$f":"IF(ISNUMBER(SEARCH(Cover!$H$13,Table1[[#This Row],[School District]])),MAX($A$1:A47)+1,0)","v":0},"Beardstown CUSD 15",1009015026,26,{"$f":"IF(OR(Table1[[#This Row],[Type]]=0,Table1[[#This Row],[Type]]>=40),\"JA\",\"SD\")","v":"SD"},"Cass","01-009-0150-26",null,null,{"$f":"IFERROR(VLOOKUP(ROWS($J$2:J48),$A$2:$B$996,2,FALSE),\"\")","v":""}]
[{"$f":"IF(ISNUMBER(SEARCH(Cover!$H$13,Table1[[#This Row],[School District]])),MAX($A$1:A48)+1,0)","v":0},"Beecher City CUSD 20",3025020026,26,{"$f":"IF(OR(Table1[[#This Row],[Type]]=0,Table1[[#This Row],[Type]]>=40),\"JA\",\"SD\")","v":"SD"},"Effingham/Fayette/Shelby","03-025-0200-26",null,null,{"$f":"IFERROR(VLOOKUP(ROWS($J$2:J49),$A$2:$B$996,2,FALSE),\"\")","v":""}]
[{"$f":"IF(ISNUMBER(SEARCH(Cover!$H$13,Table1[[#This Row],[School District]])),MAX($A$1:A49)+1,0)","v":0},"Beecher CUSD 200U","56099200U26",26,{"$f":"IF(OR(Table1[[#This Row],[Type]]=0,Table1[[#This Row],[Type]]>=40),\"JA\",\"SD\")","v":"SD"},"Will","56-099-200U-26",null,null,{"$f":"IFERROR(VLOOKUP(ROWS($J$2:J50),$A$2:$B$996,2,FALSE),\"\")","v":""}]
[{"$f":"IF(ISNUMBER(SEARCH(Cover!$H$13,Table1[[#This Row],[School District]])),MAX($A$1:A50)+1,0)","v":0},"Belle Valley SD 119",50082119002,2,{"$f":"IF(OR(Table1[[#This Row],[Type]]=0,Table1[[#This Row],[Type]]>=40),\"JA\",\"SD\")","v":"SD"},"St. Clair","50-082-1190-02",null,null,{"$f":"IFERROR(VLOOKUP(ROWS($J$2:J51),$A$2:$B$996,2,FALSE),\"\")","v":""}]
[{"$f":"IF(ISNUMBER(SEARCH(Cover!$H$13,Table1[[#This Row],[School District]])),MAX($A$1:A51)+1,0)","v":0},"Belleville Area Spec Services",50082801060,60,{"$f":"IF(OR(Table1[[#This Row],[Type]]=0,Table1[[#This Row],[Type]]>=40),\"JA\",\"SD\")","v":"JA"},"St. Clair","50-082-8010-60",null,null,{"$f":"IFERROR(VLOOKUP(ROWS($J$2:J52),$A$2:$B$996,2,FALSE),\"\")","v":""}]
[{"$f":"IF(ISNUMBER(SEARCH(Cover!$H$13,Table1[[#This Row],[School District]])),MAX($A$1:A52)+1,0)","v":0},"Belleville SD 118",50082118002,2,{"$f":"IF(OR(Table1[[#This Row],[Type]]=0,Table1[[#This Row],[Type]]>=40),\"JA\",\"SD\")","v":"SD"},"St. Clair","50-082-1180-02",null,null,{"$f":"IFERROR(VLOOKUP(ROWS($J$2:J53),$A$2:$B$996,2,FALSE),\"\")","v":""}]
[{"$f":"IF(ISNUMBER(SEARCH(Cover!$H$13,Table1[[#This Row],[School District]])),MAX($A$1:A53)+1,0)","v":0},"Belleville Twp HSD 201",50082201017,17,{"$f":"IF(OR(Table1[[#This Row],[Type]]=0,Table1[[#This Row],[Type]]>=40),\"JA\",\"SD\")","v":"SD"},"St. Clair","50-082-2010-17",null,null,{"$f":"IFERROR(VLOOKUP(ROWS($J$2:J54),$A$2:$B$996,2,FALSE),\"\")","v":""}]
[{"$f":"IF(ISNUMBER(SEARCH(Cover!$H$13,Table1[[#This Row],[School District]])),MAX($A$1:A54)+1,0)","v":0},"Bellwood SD 88",6016088002,2,{"$f":"IF(OR(Table1[[#This Row],[Type]]=0,Table1[[#This Row],[Type]]>=40),\"JA\",\"SD\")","v":"SD"},"Cook","06-016-0880-02",null,null,{"$f":"IFERROR(VLOOKUP(ROWS($J$2:J55),$A$2:$B$996,2,FALSE),\"\")","v":""}]
[{"$f":"IF(ISNUMBER(SEARCH(Cover!$H$13,Table1[[#This Row],[School District]])),MAX($A$1:A55)+1,0)","v":0},"Belvidere CUSD 100",4004100026,26,{"$f":"IF(OR(Table1[[#This Row],[Type]]=0,Table1[[#This Row],[Type]]>=40),\"JA\",\"SD\")","v":"SD"},"Boone/McHenry/DeKalb","04-004-1000-26",null,null,{"$f":"IFERROR(VLOOKUP(ROWS($J$2:J56),$A$2:$B$996,2,FALSE),\"\")","v":""}]
[{"$f":"IF(ISNUMBER(SEARCH(Cover!$H$13,Table1[[#This Row],[School District]])),MAX($A$1:A56)+1,0)","v":0},"Bement CUSD 5",39074005026,26,{"$f":"IF(OR(Table1[[#This Row],[Type]]=0,Table1[[#This Row],[Type]]>=40),\"JA\",\"SD\")","v":"SD"},"Piatt","39-074-0050-26",null,null,{"$f":"IFERROR(VLOOKUP(ROWS($J$2:J57),$A$2:$B$996,2,FALSE),\"\")","v":""}]
[{"$f":"IF(ISNUMBER(SEARCH(Cover!$H$13,Table1[[#This Row],[School District]])),MAX($A$1:A57)+1,0)","v":0},"Benjamin SD 25",19022025002,2,{"$f":"IF(OR(Table1[[#This Row],[Type]]=0,Table1[[#This Row],[Type]]>=40),\"JA\",\"SD\")","v":"SD"},"DuPage","19-022-0250-02",null,null,{"$f":"IFERROR(VLOOKUP(ROWS($J$2:J58),$A$2:$B$996,2,FALSE),\"\")","v":""}]
[{"$f":"IF(ISNUMBER(SEARCH(Cover!$H$13,Table1[[#This Row],[School District]])),MAX($A$1:A58)+1,0)","v":0},"Bensenville SD 2",19022002002,2,{"$f":"IF(OR(Table1[[#This Row],[Type]]=0,Table1[[#This Row],[Type]]>=40),\"JA\",\"SD\")","v":"SD"},"Dupage","19-022-0020-02",null,null,{"$f":"IFERROR(VLOOKUP(ROWS($J$2:J59),$A$2:$B$996,2,FALSE),\"\")","v":""}]
[{"$f":"IF(ISNUMBER(SEARCH(Cover!$H$13,Table1[[#This Row],[School District]])),MAX($A$1:A59)+1,0)","v":0},"Benton CCSD 47",21028047004,4,{"$f":"IF(OR(Table1[[#This Row],[Type]]=0,Table1[[#This Row],[Type]]>=40),\"JA\",\"SD\")","v":"SD"},"Franklin","21-028-0470-04",null,null,{"$f":"IFERROR(VLOOKUP(ROWS($J$2:J60),$A$2:$B$996,2,FALSE),\"\")","v":""}]
[{"$f":"IF(ISNUMBER(SEARCH(Cover!$H$13,Table1[[#This Row],[School District]])),MAX($A$1:A60)+1,0)","v":0},"Benton Cons HSD 103",21028103013,13,{"$f":"IF(OR(Table1[[#This Row],[Type]]=0,Table1[[#This Row],[Type]]>=40),\"JA\",\"SD\")","v":"SD"},"Franklin","21-028-1030-13",null,null,{"$f":"IFERROR(VLOOKUP(ROWS($J$2:J61),$A$2:$B$996,2,FALSE),\"\")","v":""}]
[{"$f":"IF(ISNUMBER(SEARCH(Cover!$H$13,Table1[[#This Row],[School District]])),MAX($A$1:A61)+1,0)","v":0},"Berkeley SD 87",6016087002,2,{"$f":"IF(OR(Table1[[#This Row],[Type]]=0,Table1[[#This Row],[Type]]>=40),\"JA\",\"SD\")","v":"SD"},"Cook","06-016-0870-02",null,null,{"$f":"IFERROR(VLOOKUP(ROWS($J$2:J62),$A$2:$B$996,2,FALSE),\"\")","v":""}]
[{"$f":"IF(ISNUMBER(SEARCH(Cover!$H$13,Table1[[#This Row],[School District]])),MAX($A$1:A62)+1,0)","v":0},"Berwyn North SD 98",6016098002,2,{"$f":"IF(OR(Table1[[#This Row],[Type]]=0,Table1[[#This Row],[Type]]>=40),\"JA\",\"SD\")","v":"SD"},"Cook","06-016-0980-02",null,null,{"$f":"IFERROR(VLOOKUP(ROWS($J$2:J63),$A$2:$B$996,2,FALSE),\"\")","v":""}]
[{"$f":"IF(ISNUMBER(SEARCH(Cover!$H$13,Table1[[#This Row],[School District]])),MAX($A$1:A63)+1,0)","v":0},"Berwyn South SD 100",6016100002,2,{"$f":"IF(OR(Table1[[#This Row],[Type]]=0,Table1[[#This Row],[Type]]>=40),\"JA\",\"SD\")","v":"SD"},"Cook","06-016-1000-02",null,null,{"$f":"IFERROR(VLOOKUP(ROWS($J$2:J64),$A$2:$B$996,2,FALSE),\"\")","v":""}]
[{"$f":"IF(ISNUMBER(SEARCH(Cover!$H$13,Table1[[#This Row],[School District]])),MAX($A$1:A64)+1,0)","v":0},"Bethalto CUSD 8",41057008026,26,{"$f":"IF(OR(Table1[[#This Row],[Type]]=0,Table1[[#This Row],[Type]]>=40),\"JA\",\"SD\")","v":"SD"},"Madison","41-057-0080-26",null,null,{"$f":"IFERROR(VLOOKUP(ROWS($J$2:J65),$A$2:$B$996,2,FALSE),\"\")","v":""}]
[{"$f":"IF(ISNUMBER(SEARCH(Cover!$H$13,Table1[[#This Row],[School District]])),MAX($A$1:A65)+1,0)","v":0},"Bethel SD 82",13041082002,2,{"$f":"IF(OR(Table1[[#This Row],[Type]]=0,Table1[[#This Row],[Type]]>=40),\"JA\",\"SD\")","v":"SD"},"Jefferson","13-041-0820-02",null,null,{"$f":"IFERROR(VLOOKUP(ROWS($J$2:J66),$A$2:$B$996,2,FALSE),\"\")","v":""}]
[{"$f":"IF(ISNUMBER(SEARCH(Cover!$H$13,Table1[[#This Row],[School District]])),MAX($A$1:A66)+1,0)","v":0},"Bi-Cty Spec Ed Coop",47098000061,61,{"$f":"IF(OR(Table1[[#This Row],[Type]]=0,Table1[[#This Row],[Type]]>=40),\"JA\",\"SD\")","v":"JA"},"Whiteside","47-098-0000-61",null,null,{"$f":"IFERROR(VLOOKUP(ROWS($J$2:J67),$A$2:$B$996,2,FALSE),\"\")","v":""}]
[{"$f":"IF(ISNUMBER(SEARCH(Cover!$H$13,Table1[[#This Row],[School District]])),MAX($A$1:A67)+1,0)","v":0},"Big Hollow SD 38",34049038002,2,{"$f":"IF(OR(Table1[[#This Row],[Type]]=0,Table1[[#This Row],[Type]]>=40),\"JA\",\"SD\")","v":"SD"},"Lake","34-049-0380-02",null,null,{"$f":"IFERROR(VLOOKUP(ROWS($J$2:J68),$A$2:$B$996,2,FALSE),\"\")","v":""}]
[{"$f":"IF(ISNUMBER(SEARCH(Cover!$H$13,Table1[[#This Row],[School District]])),MAX($A$1:A68)+1,0)","v":0},"Bismarck Henning CUSD",54092001026,26,{"$f":"IF(OR(Table1[[#This Row],[Type]]=0,Table1[[#This Row],[Type]]>=40),\"JA\",\"SD\")","v":"SD"},"Vermilion","54-092-0010-26",null,null,{"$f":"IFERROR(VLOOKUP(ROWS($J$2:J69),$A$2:$B$996,2,FALSE),\"\")","v":""}]
[{"$f":"IF(ISNUMBER(SEARCH(Cover!$H$13,Table1[[#This Row],[School District]])),MAX($A$1:A69)+1,0)","v":0},"Bismarck Henning Rossville Alvin Coop HS",54092800080,80,{"$f":"IF(OR(Table1[[#This Row],[Type]]=0,Table1[[#This Row],[Type]]>=40),\"JA\",\"SD\")","v":"JA"},"Vermilion","54-092-8000-80",null,null,{"$f":"IFERROR(VLOOKUP(ROWS($J$2:J70),$A$2:$B$996,2,FALSE),\"\")","v":""}]
[{"$f":"IF(ISNUMBER(SEARCH(Cover!$H$13,Table1[[#This Row],[School District]])),MAX($A$1:A70)+1,0)","v":0},"Black Hawk Area Spec Ed Dist",49081865060,60,{"$f":"IF(OR(Table1[[#This Row],[Type]]=0,Table1[[#This Row],[Type]]>=40),\"JA\",\"SD\")","v":"JA"},"Rock Island","49-081-8650-60",null,null,{"$f":"IFERROR(VLOOKUP(ROWS($J$2:J71),$A$2:$B$996,2,FALSE),\"\")","v":""}]
[{"$f":"IF(ISNUMBER(SEARCH(Cover!$H$13,Table1[[#This Row],[School District]])),MAX($A$1:A71)+1,0)","v":0},"Bloom Twp HSD 206",7016206017,17,{"$f":"IF(OR(Table1[[#This Row],[Type]]=0,Table1[[#This Row],[Type]]>=40),\"JA\",\"SD\")","v":"SD"},"Cook/Will","07-016-2060-17",null,null,{"$f":"IFERROR(VLOOKUP(ROWS($J$2:J72),$A$2:$B$996,2,FALSE),\"\")","v":""}]
[{"$f":"IF(ISNUMBER(SEARCH(Cover!$H$13,Table1[[#This Row],[School District]])),MAX($A$1:A72)+1,0)","v":0},"Bloomingdale SD 13",19022013002,2,{"$f":"IF(OR(Table1[[#This Row],[Type]]=0,Table1[[#This Row],[Type]]>=40),\"JA\",\"SD\")","v":"SD"},"DuPage","19-022-0130-02",null,null,{"$f":"IFERROR(VLOOKUP(ROWS($J$2:J73),$A$2:$B$996,2,FALSE),\"\")","v":""}]
[{"$f":"IF(ISNUMBER(SEARCH(Cover!$H$13,Table1[[#This Row],[School District]])),MAX($A$1:A73)+1,0)","v":0},"Bloomington Area Career Ctr",17064087041,41,{"$f":"IF(OR(Table1[[#This Row],[Type]]=0,Table1[[#This Row],[Type]]>=40),\"JA\",\"SD\")","v":"JA"},"McLean","17-064-0870-41",null,null,{"$f":"IFERROR(VLOOKUP(ROWS($J$2:J74),$A$2:$B$996,2,FALSE),\"\")","v":""}]
[{"$f":"IF(ISNUMBER(SEARCH(Cover!$H$13,Table1[[#This Row],[School District]])),MAX($A$1:A74)+1,0)","v":0},"Bloomington SD 87",17064087025,25,{"$f":"IF(OR(Table1[[#This Row],[Type]]=0,Table1[[#This Row],[Type]]>=40),\"JA\",\"SD\")","v":"SD"},"McLean","17-064-0870-25",null,null,{"$f":"IFERROR(VLOOKUP(ROWS($J$2:J75),$A$2:$B$996,2,FALSE),\"\")","v":""}]
[{"$f":"IF(ISNUMBER(SEARCH(Cover!$H$13,Table1[[#This Row],[School District]])),MAX($A$1:A75)+1,0)","v":0},"Blue Ridge CUSD 18",17020018026,26,{"$f":"IF(OR(Table1[[#This Row],[Type]]=0,Table1[[#This Row],[Type]]>=40),\"JA\",\"SD\")","v":"SD"},"DeWitt","17-020-0180-26",null,null,{"$f":"IFERROR(VLOOKUP(ROWS($J$2:J76),$A$2:$B$996,2,FALSE),\"\")","v":""}]
[{"$f":"IF(ISNUMBER(SEARCH(Cover!$H$13,Table1[[#This Row],[School District]])),MAX($A$1:A76)+1,0)","v":0},"Bluford Unit School District 318",13041318027,27,{"$f":"IF(OR(Table1[[#This Row],[Type]]=0,Table1[[#This Row],[Type]]>=40),\"JA\",\"SD\")","v":"SD"},"Jefferson","13-041-3180-27",null,null,{"$f":"IFERROR(VLOOKUP(ROWS($J$2:J77),$A$2:$B$996,2,FALSE),\"\")","v":""}]
[{"$f":"IF(ISNUMBER(SEARCH(Cover!$H$13,Table1[[#This Row],[School District]])),MAX($A$1:A77)+1,0)","v":0},"BMP Tri Cty Spec Ed Coop",35059005061,61,{"$f":"IF(OR(Table1[[#This Row],[Type]]=0,Table1[[#This Row],[Type]]>=40),\"JA\",\"SD\")","v":"JA"},"Bureau","35-059-0050-61",null,null,{"$f":"IFERROR(VLOOKUP(ROWS($J$2:J78),$A$2:$B$996,2,FALSE),\"\")","v":""}]
[{"$f":"IF(ISNUMBER(SEARCH(Cover!$H$13,Table1[[#This Row],[School District]])),MAX($A$1:A78)+1,0)","v":0},"Bond County CUSD 2",3003002026,26,{"$f":"IF(OR(Table1[[#This Row],[Type]]=0,Table1[[#This Row],[Type]]>=40),\"JA\",\"SD\")","v":"SD"},"Bond/Montgomery","03-003-0020-26",null,null,{"$f":"IFERROR(VLOOKUP(ROWS($J$2:J79),$A$2:$B$996,2,FALSE),\"\")","v":""}]
[{"$f":"IF(ISNUMBER(SEARCH(Cover!$H$13,Table1[[#This Row],[School District]])),MAX($A$1:A79)+1,0)","v":0},"Bond Fayette Effingham EFE 410",3026741045,45,{"$f":"IF(OR(Table1[[#This Row],[Type]]=0,Table1[[#This Row],[Type]]>=40),\"JA\",\"SD\")","v":"JA"},"Bond/Christian/Effingham/Fayette/Montgomery","03-026-7410-45",null,null,{"$f":"IFERROR(VLOOKUP(ROWS($J$2:J80),$A$2:$B$996,2,FALSE),\"\")","v":""}]
[{"$f":"IF(ISNUMBER(SEARCH(Cover!$H$13,Table1[[#This Row],[School District]])),MAX($A$1:A80)+1,0)","v":0},"Bourbonnais SD 53",32046053002,2,{"$f":"IF(OR(Table1[[#This Row],[Type]]=0,Table1[[#This Row],[Type]]>=40),\"JA\",\"SD\")","v":"SD"},"Kankakee","32-046-0530-02",null,null,{"$f":"IFERROR(VLOOKUP(ROWS($J$2:J81),$A$2:$B$996,2,FALSE),\"\")","v":""}]
[{"$f":"IF(ISNUMBER(SEARCH(Cover!$H$13,Table1[[#This Row],[School District]])),MAX($A$1:A81)+1,0)","v":0},"Braceville SD 75",24032075002,2,{"$f":"IF(OR(Table1[[#This Row],[Type]]=0,Table1[[#This Row],[Type]]>=40),\"JA\",\"SD\")","v":"SD"},"Grundy","24-032-0750-02",null,null,{"$f":"IFERROR(VLOOKUP(ROWS($J$2:J82),$A$2:$B$996,2,FALSE),\"\")","v":""}]
[{"$f":"IF(ISNUMBER(SEARCH(Cover!$H$13,Table1[[#This Row],[School District]])),MAX($A$1:A82)+1,0)","v":0},"Bradford CUSD 1",28088001026,26,{"$f":"IF(OR(Table1[[#This Row],[Type]]=0,Table1[[#This Row],[Type]]>=40),\"JA\",\"SD\")","v":"SD"},"Stark/Bureau/Marshall","28-088-0010-26",null,null,{"$f":"IFERROR(VLOOKUP(ROWS($J$2:J83),$A$2:$B$996,2,FALSE),\"\")","v":""}]
[{"$f":"IF(ISNUMBER(SEARCH(Cover!$H$13,Table1[[#This Row],[School District]])),MAX($A$1:A83)+1,0)","v":0},"Bradley Bourbonnais CHSD 307",32046307016,16,{"$f":"IF(OR(Table1[[#This Row],[Type]]=0,Table1[[#This Row],[Type]]>=40),\"JA\",\"SD\")","v":"SD"},"Kankakee","32-046-3070-16",null,null,{"$f":"IFERROR(VLOOKUP(ROWS($J$2:J84),$A$2:$B$996,2,FALSE),\"\")","v":""}]
[{"$f":"IF(ISNUMBER(SEARCH(Cover!$H$13,Table1[[#This Row],[School District]])),MAX($A$1:A84)+1,0)","v":0},"Bradley SD 61",32046061002,2,{"$f":"IF(OR(Table1[[#This Row],[Type]]=0,Table1[[#This Row],[Type]]>=40),\"JA\",\"SD\")","v":"SD"},"Kankakee","32-046-0610-02",null,null,{"$f":"IFERROR(VLOOKUP(ROWS($J$2:J85),$A$2:$B$996,2,FALSE),\"\")","v":""}]
[{"$f":"IF(ISNUMBER(SEARCH(Cover!$H$13,Table1[[#This Row],[School District]])),MAX($A$1:A85)+1,0)","v":0},"Breese ESD 12",13014012004,4,{"$f":"IF(OR(Table1[[#This Row],[Type]]=0,Table1[[#This Row],[Type]]>=40),\"JA\",\"SD\")","v":"SD"},"Clinton","13-014-0120-04",null,null,{"$f":"IFERROR(VLOOKUP(ROWS($J$2:J86),$A$2:$B$996,2,FALSE),\"\")","v":""}]
[{"$f":"IF(ISNUMBER(SEARCH(Cover!$H$13,Table1[[#This Row],[School District]])),MAX($A$1:A86)+1,0)","v":0},"Bremen CHSD 228",7016228016,16,{"$f":"IF(OR(Table1[[#This Row],[Type]]=0,Table1[[#This Row],[Type]]>=40),\"JA\",\"SD\")","v":"SD"},"Cook","07-016-2280-16",null,null,{"$f":"IFERROR(VLOOKUP(ROWS($J$2:J87),$A$2:$B$996,2,FALSE),\"\")","v":""}]
[{"$f":"IF(ISNUMBER(SEARCH(Cover!$H$13,Table1[[#This Row],[School District]])),MAX($A$1:A87)+1,0)","v":0},"Brimfield CUSD 309",48072309026,26,{"$f":"IF(OR(Table1[[#This Row],[Type]]=0,Table1[[#This Row],[Type]]>=40),\"JA\",\"SD\")","v":"SD"},"Peoria","48-072-3090-26",null,null,{"$f":"IFERROR(VLOOKUP(ROWS($J$2:J88),$A$2:$B$996,2,FALSE),\"\")","v":""}]
[{"$f":"IF(ISNUMBER(SEARCH(Cover!$H$13,Table1[[#This Row],[School District]])),MAX($A$1:A88)+1,0)","v":0},"Brookfield Lagrange Park SD 95",6016095002,2,{"$f":"IF(OR(Table1[[#This Row],[Type]]=0,Table1[[#This Row],[Type]]>=40),\"JA\",\"SD\")","v":"SD"},"Cook","06-016-0950-02",null,null,{"$f":"IFERROR(VLOOKUP(ROWS($J$2:J89),$A$2:$B$996,2,FALSE),\"\")","v":""}]
[{"$f":"IF(ISNUMBER(SEARCH(Cover!$H$13,Table1[[#This Row],[School District]])),MAX($A$1:A89)+1,0)","v":0},"Brooklyn UD 188",50082188022,22,{"$f":"IF(OR(Table1[[#This Row],[Type]]=0,Table1[[#This Row],[Type]]>=40),\"JA\",\"SD\")","v":"SD"},"St. Clair","50-082-1880-22",null,null,{"$f":"IFERROR(VLOOKUP(ROWS($J$2:J90),$A$2:$B$996,2,FALSE),\"\")","v":""}]
[{"$f":"IF(ISNUMBER(SEARCH(Cover!$H$13,Table1[[#This Row],[School District]])),MAX($A$1:A90)+1,0)","v":0},"Brookwood SD 167",7016167002,2,{"$f":"IF(OR(Table1[[#This Row],[Type]]=0,Table1[[#This Row],[Type]]>=40),\"JA\",\"SD\")","v":"SD"},"Cook","07-016-1670-02",null,null,{"$f":"IFERROR(VLOOKUP(ROWS($J$2:J91),$A$2:$B$996,2,FALSE),\"\")","v":""}]
[{"$f":"IF(ISNUMBER(SEARCH(Cover!$H$13,Table1[[#This Row],[School District]])),MAX($A$1:A91)+1,0)","v":0},"Brown County CUSD 1",1005001026,26,{"$f":"IF(OR(Table1[[#This Row],[Type]]=0,Table1[[#This Row],[Type]]>=40),\"JA\",\"SD\")","v":"SD"},"Brown","01-005-0010-26",null,null,{"$f":"IFERROR(VLOOKUP(ROWS($J$2:J92),$A$2:$B$996,2,FALSE),\"\")","v":""}]
[{"$f":"IF(ISNUMBER(SEARCH(Cover!$H$13,Table1[[#This Row],[School District]])),MAX($A$1:A92)+1,0)","v":0},"Brownstown CUSD 201",3026201026,26,{"$f":"IF(OR(Table1[[#This Row],[Type]]=0,Table1[[#This Row],[Type]]>=40),\"JA\",\"SD\")","v":"SD"},"Fayette","03-026-2010-26",null,null,{"$f":"IFERROR(VLOOKUP(ROWS($J$2:J93),$A$2:$B$996,2,FALSE),\"\")","v":""}]
[{"$f":"IF(ISNUMBER(SEARCH(Cover!$H$13,Table1[[#This Row],[School District]])),MAX($A$1:A93)+1,0)","v":0},"Brussels CUSD 42",40007042026,26,{"$f":"IF(OR(Table1[[#This Row],[Type]]=0,Table1[[#This Row],[Type]]>=40),\"JA\",\"SD\")","v":"SD"},"Calhoun","40-007-0420-26",null,null,{"$f":"IFERROR(VLOOKUP(ROWS($J$2:J94),$A$2:$B$996,2,FALSE),\"\")","v":""}]
[{"$f":"IF(ISNUMBER(SEARCH(Cover!$H$13,Table1[[#This Row],[School District]])),MAX($A$1:A94)+1,0)","v":0},"Buncombe Cons SD 43",21044043003,3,{"$f":"IF(OR(Table1[[#This Row],[Type]]=0,Table1[[#This Row],[Type]]>=40),\"JA\",\"SD\")","v":"SD"},"Johnson","21-044-0430-03",null,null,{"$f":"IFERROR(VLOOKUP(ROWS($J$2:J95),$A$2:$B$996,2,FALSE),\"\")","v":""}]
[{"$f":"IF(ISNUMBER(SEARCH(Cover!$H$13,Table1[[#This Row],[School District]])),MAX($A$1:A95)+1,0)","v":0},"Bunker Hill CUSD 8",40056008026,26,{"$f":"IF(OR(Table1[[#This Row],[Type]]=0,Table1[[#This Row],[Type]]>=40),\"JA\",\"SD\")","v":"SD"},"Macoupin/Madison","40-056-0080-26",null,null,{"$f":"IFERROR(VLOOKUP(ROWS($J$2:J96),$A$2:$B$996,2,FALSE),\"\")","v":""}]
[{"$f":"IF(ISNUMBER(SEARCH(Cover!$H$13,Table1[[#This Row],[School District]])),MAX($A$1:A96)+1,0)","v":0},"Burbank SD 111",7016111002,2,{"$f":"IF(OR(Table1[[#This Row],[Type]]=0,Table1[[#This Row],[Type]]>=40),\"JA\",\"SD\")","v":"SD"},"Cook","07-016-1110-02",null,null,{"$f":"IFERROR(VLOOKUP(ROWS($J$2:J97),$A$2:$B$996,2,FALSE),\"\")","v":""}]
[{"$f":"IF(ISNUMBER(SEARCH(Cover!$H$13,Table1[[#This Row],[School District]])),MAX($A$1:A97)+1,0)","v":0},"Bureau Valley CUSD 340",28006340026,26,{"$f":"IF(OR(Table1[[#This Row],[Type]]=0,Table1[[#This Row],[Type]]>=40),\"JA\",\"SD\")","v":"SD"},"Bureau","28-006-3400-26",null,null,{"$f":"IFERROR(VLOOKUP(ROWS($J$2:J98),$A$2:$B$996,2,FALSE),\"\")","v":""}]
[{"$f":"IF(ISNUMBER(SEARCH(Cover!$H$13,Table1[[#This Row],[School District]])),MAX($A$1:A98)+1,0)","v":0},"Burnham SD 154-5",7016154502,2,{"$f":"IF(OR(Table1[[#This Row],[Type]]=0,Table1[[#This Row],[Type]]>=40),\"JA\",\"SD\")","v":"SD"},"Cook","07-016-1545-02",null,null,{"$f":"IFERROR(VLOOKUP(ROWS($J$2:J99),$A$2:$B$996,2,FALSE),\"\")","v":""}]
[{"$f":"IF(ISNUMBER(SEARCH(Cover!$H$13,Table1[[#This Row],[School District]])),MAX($A$1:A99)+1,0)","v":0},"Bushnell Prairie City CUSD 170",26062170026,26,{"$f":"IF(OR(Table1[[#This Row],[Type]]=0,Table1[[#This Row],[Type]]>=40),\"JA\",\"SD\")","v":"SD"},"McDonough","26-062-1700-26",null,null,{"$f":"IFERROR(VLOOKUP(ROWS($J$2:J100),$A$2:$B$996,2,FALSE),\"\")","v":""}]
[{"$f":"IF(ISNUMBER(SEARCH(Cover!$H$13,Table1[[#This Row],[School District]])),MAX($A$1:A100)+1,0)","v":0},"Butler SD 53",19022053002,2,{"$f":"IF(OR(Table1[[#This Row],[Type]]=0,Table1[[#This Row],[Type]]>=40),\"JA\",\"SD\")","v":"SD"},"DuPage","19-022-0530-02",null,null,{"$f":"IFERROR(VLOOKUP(ROWS($J$2:J101),$A$2:$B$996,2,FALSE),\"\")","v":""}]
[{"$f":"IF(ISNUMBER(SEARCH(Cover!$H$13,Table1[[#This Row],[School District]])),MAX($A$1:A101)+1,0)","v":0},"Byron CUSD 226",47071226026,26,{"$f":"IF(OR(Table1[[#This Row],[Type]]=0,Table1[[#This Row],[Type]]>=40),\"JA\",\"SD\")","v":"SD"},"Ogle","47-071-2260-26",null,null,{"$f":"IFERROR(VLOOKUP(ROWS($J$2:J102),$A$2:$B$996,2,FALSE),\"\")","v":""}]
[{"$f":"IF(ISNUMBER(SEARCH(Cover!$H$13,Table1[[#This Row],[School District]])),MAX($A$1:A102)+1,0)","v":0},"Cahokia CUSD 187",50082187026,26,{"$f":"IF(OR(Table1[[#This Row],[Type]]=0,Table1[[#This Row],[Type]]>=40),\"JA\",\"SD\")","v":"SD"},"Saint Clair","50-082-1870-26",null,null,{"$f":"IFERROR(VLOOKUP(ROWS($J$2:J103),$A$2:$B$996,2,FALSE),\"\")","v":""}]
[{"$f":"IF(ISNUMBER(SEARCH(Cover!$H$13,Table1[[#This Row],[School District]])),MAX($A$1:A103)+1,0)","v":0},"Cairo USD 1",30002001022,22,{"$f":"IF(OR(Table1[[#This Row],[Type]]=0,Table1[[#This Row],[Type]]>=40),\"JA\",\"SD\")","v":"SD"},"Alexander","30-002-0010-22",null,null,{"$f":"IFERROR(VLOOKUP(ROWS($J$2:J104),$A$2:$B$996,2,FALSE),\"\")","v":""}]
[{"$f":"IF(ISNUMBER(SEARCH(Cover!$H$13,Table1[[#This Row],[School District]])),MAX($A$1:A104)+1,0)","v":0},"Calhoun CUSD 40",40007040026,26,{"$f":"IF(OR(Table1[[#This Row],[Type]]=0,Table1[[#This Row],[Type]]>=40),\"JA\",\"SD\")","v":"SD"},"Calhoun/Greene","40-007-0400-26",null,null,{"$f":"IFERROR(VLOOKUP(ROWS($J$2:J105),$A$2:$B$996,2,FALSE),\"\")","v":""}]
[{"$f":"IF(ISNUMBER(SEARCH(Cover!$H$13,Table1[[#This Row],[School District]])),MAX($A$1:A105)+1,0)","v":0},"Calumet City SD 155",7016155002,2,{"$f":"IF(OR(Table1[[#This Row],[Type]]=0,Table1[[#This Row],[Type]]>=40),\"JA\",\"SD\")","v":"SD"},"Cook","07-016-1550-02",null,null,{"$f":"IFERROR(VLOOKUP(ROWS($J$2:J106),$A$2:$B$996,2,FALSE),\"\")","v":""}]
[{"$f":"IF(ISNUMBER(SEARCH(Cover!$H$13,Table1[[#This Row],[School District]])),MAX($A$1:A106)+1,0)","v":0},"Calumet Public SD 132",7016132002,2,{"$f":"IF(OR(Table1[[#This Row],[Type]]=0,Table1[[#This Row],[Type]]>=40),\"JA\",\"SD\")","v":"SD"},"Cook","07-016-1320-02",null,null,{"$f":"IFERROR(VLOOKUP(ROWS($J$2:J107),$A$2:$B$996,2,FALSE),\"\")","v":""}]
[{"$f":"IF(ISNUMBER(SEARCH(Cover!$H$13,Table1[[#This Row],[School District]])),MAX($A$1:A107)+1,0)","v":0},"Cambridge CUSD 227",28037227026,26,{"$f":"IF(OR(Table1[[#This Row],[Type]]=0,Table1[[#This Row],[Type]]>=40),\"JA\",\"SD\")","v":"SD"},"Henry","28-037-2270-26",null,null,{"$f":"IFERROR(VLOOKUP(ROWS($J$2:J108),$A$2:$B$996,2,FALSE),\"\")","v":""}]
[{"$f":"IF(ISNUMBER(SEARCH(Cover!$H$13,Table1[[#This Row],[School District]])),MAX($A$1:A108)+1,0)","v":0},"Canton Union SD 66",26029066025,25,{"$f":"IF(OR(Table1[[#This Row],[Type]]=0,Table1[[#This Row],[Type]]>=40),\"JA\",\"SD\")","v":"SD"},"Fulton","26-029-0660-25",null,null,{"$f":"IFERROR(VLOOKUP(ROWS($J$2:J109),$A$2:$B$996,2,FALSE),\"\")","v":""}]
[{"$f":"IF(ISNUMBER(SEARCH(Cover!$H$13,Table1[[#This Row],[School District]])),MAX($A$1:A109)+1,0)","v":0},"Capital Area Career Ctr",51084790040,40,{"$f":"IF(OR(Table1[[#This Row],[Type]]=0,Table1[[#This Row],[Type]]>=40),\"JA\",\"SD\")","v":"JA"},"Sangamon","51-084-7900-40",null,null,{"$f":"IFERROR(VLOOKUP(ROWS($J$2:J110),$A$2:$B$996,2,FALSE),\"\")","v":""}]
[{"$f":"IF(ISNUMBER(SEARCH(Cover!$H$13,Table1[[#This Row],[School District]])),MAX($A$1:A110)+1,0)","v":0},"Carbon Cliff-Barstow SD 36",49081036002,2,{"$f":"IF(OR(Table1[[#This Row],[Type]]=0,Table1[[#This Row],[Type]]>=40),\"JA\",\"SD\")","v":"SD"},"Rock Island","49-081-0360-02",null,null,{"$f":"IFERROR(VLOOKUP(ROWS($J$2:J111),$A$2:$B$996,2,FALSE),\"\")","v":""}]
[{"$f":"IF(ISNUMBER(SEARCH(Cover!$H$13,Table1[[#This Row],[School District]])),MAX($A$1:A111)+1,0)","v":0},"Carbondale CHSD 165",30039165016,16,{"$f":"IF(OR(Table1[[#This Row],[Type]]=0,Table1[[#This Row],[Type]]>=40),\"JA\",\"SD\")","v":"SD"},"Jackson/Williamson","30-039-1650-16",null,null,{"$f":"IFERROR(VLOOKUP(ROWS($J$2:J112),$A$2:$B$996,2,FALSE),\"\")","v":""}]
[{"$f":"IF(ISNUMBER(SEARCH(Cover!$H$13,Table1[[#This Row],[School District]])),MAX($A$1:A112)+1,0)","v":0},"Carbondale ESD 95",30039095002,2,{"$f":"IF(OR(Table1[[#This Row],[Type]]=0,Table1[[#This Row],[Type]]>=40),\"JA\",\"SD\")","v":"SD"},"Jackson","30-039-0950-02",null,null,{"$f":"IFERROR(VLOOKUP(ROWS($J$2:J113),$A$2:$B$996,2,FALSE),\"\")","v":""}]
[{"$f":"IF(ISNUMBER(SEARCH(Cover!$H$13,Table1[[#This Row],[School District]])),MAX($A$1:A113)+1,0)","v":0},"Career Ctr of Southern IL",45000000040,40,{"$f":"IF(OR(Table1[[#This Row],[Type]]=0,Table1[[#This Row],[Type]]>=40),\"JA\",\"SD\")","v":"JA"},"Monroe","45-000-0000-40",null,null,{"$f":"IFERROR(VLOOKUP(ROWS($J$2:J114),$A$2:$B$996,2,FALSE),\"\")","v":""}]
[{"$f":"IF(ISNUMBER(SEARCH(Cover!$H$13,Table1[[#This Row],[School District]])),MAX($A$1:A114)+1,0)","v":0},"Career Development System",7016228046,46,{"$f":"IF(OR(Table1[[#This Row],[Type]]=0,Table1[[#This Row],[Type]]>=40),\"JA\",\"SD\")","v":"JA"},"Cook","07-016-2280-46",null,null,{"$f":"IFERROR(VLOOKUP(ROWS($J$2:J115),$A$2:$B$996,2,FALSE),\"\")","v":""}]
[{"$f":"IF(ISNUMBER(SEARCH(Cover!$H$13,Table1[[#This Row],[School District]])),MAX($A$1:A115)+1,0)","v":0},"Career Ed Associates of North Central IL (CEANCI)",4000000046,46,{"$f":"IF(OR(Table1[[#This Row],[Type]]=0,Table1[[#This Row],[Type]]>=40),\"JA\",\"SD\")","v":"JA"},"Winnebago/Boone/Ogle","04-000-0000-46",null,null,{"$f":"IFERROR(VLOOKUP(ROWS($J$2:J116),$A$2:$B$996,2,FALSE),\"\")","v":""}]
[{"$f":"IF(ISNUMBER(SEARCH(Cover!$H$13,Table1[[#This Row],[School District]])),MAX($A$1:A116)+1,0)","v":0},"Career Preparation Network",7016790045,45,{"$f":"IF(OR(Table1[[#This Row],[Type]]=0,Table1[[#This Row],[Type]]>=40),\"JA\",\"SD\")","v":"JA"},"Cook","07-016-7900-45",null,null,{"$f":"IFERROR(VLOOKUP(ROWS($J$2:J117),$A$2:$B$996,2,FALSE),\"\")","v":""}]
[{"$f":"IF(ISNUMBER(SEARCH(Cover!$H$13,Table1[[#This Row],[School District]])),MAX($A$1:A117)+1,0)","v":0},"Carlinville CUSD 1",40056001026,26,{"$f":"IF(OR(Table1[[#This Row],[Type]]=0,Table1[[#This Row],[Type]]>=40),\"JA\",\"SD\")","v":"SD"},"Macoupin","40-056-0010-26",null,null,{"$f":"IFERROR(VLOOKUP(ROWS($J$2:J118),$A$2:$B$996,2,FALSE),\"\")","v":""}]
[{"$f":"IF(ISNUMBER(SEARCH(Cover!$H$13,Table1[[#This Row],[School District]])),MAX($A$1:A118)+1,0)","v":0},"Carlyle CUSD 1",13014001026,26,{"$f":"IF(OR(Table1[[#This Row],[Type]]=0,Table1[[#This Row],[Type]]>=40),\"JA\",\"SD\")","v":"SD"},"Clinton","13-014-0010-26",null,null,{"$f":"IFERROR(VLOOKUP(ROWS($J$2:J119),$A$2:$B$996,2,FALSE),\"\")","v":""}]
[{"$f":"IF(ISNUMBER(SEARCH(Cover!$H$13,Table1[[#This Row],[School District]])),MAX($A$1:A119)+1,0)","v":0},"Carmi-White County CUSD 5",20097005026,26,{"$f":"IF(OR(Table1[[#This Row],[Type]]=0,Table1[[#This Row],[Type]]>=40),\"JA\",\"SD\")","v":"SD"},"White","20-097-0050-26",null,null,{"$f":"IFERROR(VLOOKUP(ROWS($J$2:J120),$A$2:$B$996,2,FALSE),\"\")","v":""}]
[{"$f":"IF(ISNUMBER(SEARCH(Cover!$H$13,Table1[[#This Row],[School District]])),MAX($A$1:A120)+1,0)","v":0},"Carrier Mills-Stonefort CUSD 2",20083002026,26,{"$f":"IF(OR(Table1[[#This Row],[Type]]=0,Table1[[#This Row],[Type]]>=40),\"JA\",\"SD\")","v":"SD"},"Saline","20-083-0020-26",null,null,{"$f":"IFERROR(VLOOKUP(ROWS($J$2:J121),$A$2:$B$996,2,FALSE),\"\")","v":""}]
[{"$f":"IF(ISNUMBER(SEARCH(Cover!$H$13,Table1[[#This Row],[School District]])),MAX($A$1:A121)+1,0)","v":0},"Carrollton CUSD 1",40031001026,26,{"$f":"IF(OR(Table1[[#This Row],[Type]]=0,Table1[[#This Row],[Type]]>=40),\"JA\",\"SD\")","v":"SD"},"Greene","40-031-0010-26",null,null,{"$f":"IFERROR(VLOOKUP(ROWS($J$2:J122),$A$2:$B$996,2,FALSE),\"\")","v":""}]
[{"$f":"IF(ISNUMBER(SEARCH(Cover!$H$13,Table1[[#This Row],[School District]])),MAX($A$1:A122)+1,0)","v":0},"Carterville CUSD 5",21100005026,26,{"$f":"IF(OR(Table1[[#This Row],[Type]]=0,Table1[[#This Row],[Type]]>=40),\"JA\",\"SD\")","v":"SD"},"Williamson","21-100-0050-26",null,null,{"$f":"IFERROR(VLOOKUP(ROWS($J$2:J123),$A$2:$B$996,2,FALSE),\"\")","v":""}]
[{"$f":"IF(ISNUMBER(SEARCH(Cover!$H$13,Table1[[#This Row],[School District]])),MAX($A$1:A123)+1,0)","v":0},"Carthage ESD 317",26034317004,4,{"$f":"IF(OR(Table1[[#This Row],[Type]]=0,Table1[[#This Row],[Type]]>=40),\"JA\",\"SD\")","v":"SD"},"Hancock","26-034-3170-04",null,null,{"$f":"IFERROR(VLOOKUP(ROWS($J$2:J124),$A$2:$B$996,2,FALSE),\"\")","v":""}]
[{"$f":"IF(ISNUMBER(SEARCH(Cover!$H$13,Table1[[#This Row],[School District]])),MAX($A$1:A124)+1,0)","v":0},"Cary CCSD 26",44063026004,4,{"$f":"IF(OR(Table1[[#This Row],[Type]]=0,Table1[[#This Row],[Type]]>=40),\"JA\",\"SD\")","v":"SD"},"McHenry/Lake","44-063-0260-04",null,null,{"$f":"IFERROR(VLOOKUP(ROWS($J$2:J125),$A$2:$B$996,2,FALSE),\"\")","v":""}]
[{"$f":"IF(ISNUMBER(SEARCH(Cover!$H$13,Table1[[#This Row],[School District]])),MAX($A$1:A125)+1,0)","v":0},"Casey-Westfield CUSD 4C","11012004C26",26,{"$f":"IF(OR(Table1[[#This Row],[Type]]=0,Table1[[#This Row],[Type]]>=40),\"JA\",\"SD\")","v":"SD"},"Clark","11-012-004C-26",null,null,{"$f":"IFERROR(VLOOKUP(ROWS($J$2:J126),$A$2:$B$996,2,FALSE),\"\")","v":""}]
[{"$f":"IF(ISNUMBER(SEARCH(Cover!$H$13,Table1[[#This Row],[School District]])),MAX($A$1:A126)+1,0)","v":0},"Cass SD 63",19022063002,2,{"$f":"IF(OR(Table1[[#This Row],[Type]]=0,Table1[[#This Row],[Type]]>=40),\"JA\",\"SD\")","v":"SD"},"DuPage","19-022-0630-02",null,null,{"$f":"IFERROR(VLOOKUP(ROWS($J$2:J127),$A$2:$B$996,2,FALSE),\"\")","v":""}]
[{"$f":"IF(ISNUMBER(SEARCH(Cover!$H$13,Table1[[#This Row],[School District]])),MAX($A$1:A127)+1,0)","v":0},"CCSD 146",7016146004,4,{"$f":"IF(OR(Table1[[#This Row],[Type]]=0,Table1[[#This Row],[Type]]>=40),\"JA\",\"SD\")","v":"SD"},"Cook","07-016-1460-04",null,null,{"$f":"IFERROR(VLOOKUP(ROWS($J$2:J128),$A$2:$B$996,2,FALSE),\"\")","v":""}]
[{"$f":"IF(ISNUMBER(SEARCH(Cover!$H$13,Table1[[#This Row],[School District]])),MAX($A$1:A128)+1,0)","v":0},"CCSD 168",7016168004,4,{"$f":"IF(OR(Table1[[#This Row],[Type]]=0,Table1[[#This Row],[Type]]>=40),\"JA\",\"SD\")","v":"SD"},"Cook","07-016-1680-04",null,null,{"$f":"IFERROR(VLOOKUP(ROWS($J$2:J129),$A$2:$B$996,2,FALSE),\"\")","v":""}]
[{"$f":"IF(ISNUMBER(SEARCH(Cover!$H$13,Table1[[#This Row],[School District]])),MAX($A$1:A129)+1,0)","v":0},"CCSD 180",19022180004,4,{"$f":"IF(OR(Table1[[#This Row],[Type]]=0,Table1[[#This Row],[Type]]>=40),\"JA\",\"SD\")","v":"SD"},"DuPage","19-022-1800-04",null,null,{"$f":"IFERROR(VLOOKUP(ROWS($J$2:J130),$A$2:$B$996,2,FALSE),\"\")","v":""}]
[{"$f":"IF(ISNUMBER(SEARCH(Cover!$H$13,Table1[[#This Row],[School District]])),MAX($A$1:A130)+1,0)","v":0},"CCSD 204",30073204004,4,{"$f":"IF(OR(Table1[[#This Row],[Type]]=0,Table1[[#This Row],[Type]]>=40),\"JA\",\"SD\")","v":"SD"},"Perry","30-073-2040-04",null,null,{"$f":"IFERROR(VLOOKUP(ROWS($J$2:J131),$A$2:$B$996,2,FALSE),\"\")","v":""}]
[{"$f":"IF(ISNUMBER(SEARCH(Cover!$H$13,Table1[[#This Row],[School District]])),MAX($A$1:A131)+1,0)","v":0},"CCSD 62",5016062004,4,{"$f":"IF(OR(Table1[[#This Row],[Type]]=0,Table1[[#This Row],[Type]]>=40),\"JA\",\"SD\")","v":"SD"},"Cook","05-016-0620-04",null,null,{"$f":"IFERROR(VLOOKUP(ROWS($J$2:J132),$A$2:$B$996,2,FALSE),\"\")","v":""}]
[{"$f":"IF(ISNUMBER(SEARCH(Cover!$H$13,Table1[[#This Row],[School District]])),MAX($A$1:A132)+1,0)","v":0},"CCSD 89",19022089004,4,{"$f":"IF(OR(Table1[[#This Row],[Type]]=0,Table1[[#This Row],[Type]]>=40),\"JA\",\"SD\")","v":"SD"},"DuPage","19-022-0890-04",null,null,{"$f":"IFERROR(VLOOKUP(ROWS($J$2:J133),$A$2:$B$996,2,FALSE),\"\")","v":""}]
[{"$f":"IF(ISNUMBER(SEARCH(Cover!$H$13,Table1[[#This Row],[School District]])),MAX($A$1:A133)+1,0)","v":0},"CCSD 93",19022093004,4,{"$f":"IF(OR(Table1[[#This Row],[Type]]=0,Table1[[#This Row],[Type]]>=40),\"JA\",\"SD\")","v":"SD"},"DuPage","19-022-0930-04",null,null,{"$f":"IFERROR(VLOOKUP(ROWS($J$2:J134),$A$2:$B$996,2,FALSE),\"\")","v":""}]
[{"$f":"IF(ISNUMBER(SEARCH(Cover!$H$13,Table1[[#This Row],[School District]])),MAX($A$1:A134)+1,0)","v":0},"Center Cass SD 66",19022066002,2,{"$f":"IF(OR(Table1[[#This Row],[Type]]=0,Table1[[#This Row],[Type]]>=40),\"JA\",\"SD\")","v":"SD"},"DuPage","19-022-0660-02",null,null,{"$f":"IFERROR(VLOOKUP(ROWS($J$2:J135),$A$2:$B$996,2,FALSE),\"\")","v":""}]
[{"$f":"IF(ISNUMBER(SEARCH(Cover!$H$13,Table1[[#This Row],[School District]])),MAX($A$1:A135)+1,0)","v":0},"Central A & M CUD 21",11087021026,26,{"$f":"IF(OR(Table1[[#This Row],[Type]]=0,Table1[[#This Row],[Type]]>=40),\"JA\",\"SD\")","v":"SD"},"Shelby/Christian/Macon","11-087-0210-26",null,null,{"$f":"IFERROR(VLOOKUP(ROWS($J$2:J136),$A$2:$B$996,2,FALSE),\"\")","v":""}]
[{"$f":"IF(ISNUMBER(SEARCH(Cover!$H$13,Table1[[#This Row],[School District]])),MAX($A$1:A136)+1,0)","v":0},"Central CHSD 71",13014071016,16,{"$f":"IF(OR(Table1[[#This Row],[Type]]=0,Table1[[#This Row],[Type]]>=40),\"JA\",\"SD\")","v":"SD"},"Clinton","13-014-0710-16",null,null,{"$f":"IFERROR(VLOOKUP(ROWS($J$2:J137),$A$2:$B$996,2,FALSE),\"\")","v":""}]
[{"$f":"IF(ISNUMBER(SEARCH(Cover!$H$13,Table1[[#This Row],[School District]])),MAX($A$1:A137)+1,0)","v":0},"Central City SD 133",13058133002,2,{"$f":"IF(OR(Table1[[#This Row],[Type]]=0,Table1[[#This Row],[Type]]>=40),\"JA\",\"SD\")","v":"SD"},"Marion","13-058-1330-02",null,null,{"$f":"IFERROR(VLOOKUP(ROWS($J$2:J138),$A$2:$B$996,2,FALSE),\"\")","v":""}]
[{"$f":"IF(ISNUMBER(SEARCH(Cover!$H$13,Table1[[#This Row],[School District]])),MAX($A$1:A138)+1,0)","v":0},"Central CUSD 3",1001003026,26,{"$f":"IF(OR(Table1[[#This Row],[Type]]=0,Table1[[#This Row],[Type]]>=40),\"JA\",\"SD\")","v":"SD"},"Adams","01-001-0030-26",null,null,{"$f":"IFERROR(VLOOKUP(ROWS($J$2:J139),$A$2:$B$996,2,FALSE),\"\")","v":""}]
[{"$f":"IF(ISNUMBER(SEARCH(Cover!$H$13,Table1[[#This Row],[School District]])),MAX($A$1:A139)+1,0)","v":0},"Central CUSD 301",31045301026,26,{"$f":"IF(OR(Table1[[#This Row],[Type]]=0,Table1[[#This Row],[Type]]>=40),\"JA\",\"SD\")","v":"SD"},"Kane/DeKalb","31-045-3010-26",null,null,{"$f":"IFERROR(VLOOKUP(ROWS($J$2:J140),$A$2:$B$996,2,FALSE),\"\")","v":""}]
[{"$f":"IF(ISNUMBER(SEARCH(Cover!$H$13,Table1[[#This Row],[School District]])),MAX($A$1:A140)+1,0)","v":0},"Central CUSD 4",32038004026,26,{"$f":"IF(OR(Table1[[#This Row],[Type]]=0,Table1[[#This Row],[Type]]>=40),\"JA\",\"SD\")","v":"SD"},"Iroquois/Kankakee","32-038-0040-26",null,null,{"$f":"IFERROR(VLOOKUP(ROWS($J$2:J141),$A$2:$B$996,2,FALSE),\"\")","v":""}]
[{"$f":"IF(ISNUMBER(SEARCH(Cover!$H$13,Table1[[#This Row],[School District]])),MAX($A$1:A141)+1,0)","v":0},"Central IL Rural Region",40000000046,46,{"$f":"IF(OR(Table1[[#This Row],[Type]]=0,Table1[[#This Row],[Type]]>=40),\"JA\",\"SD\")","v":"JA"},"Calhoun/Greene/Jersey/Macoupin","40-000-0000-46",null,null,{"$f":"IFERROR(VLOOKUP(ROWS($J$2:J142),$A$2:$B$996,2,FALSE),\"\")","v":""}]
[{"$f":"IF(ISNUMBER(SEARCH(Cover!$H$13,Table1[[#This Row],[School District]])),MAX($A$1:A142)+1,0)","v":0},"Central IL Voc Ed Coop",53102721045,45,{"$f":"IF(OR(Table1[[#This Row],[Type]]=0,Table1[[#This Row],[Type]]>=40),\"JA\",\"SD\")","v":"JA"},"Woodford/Marshall","53-102-7210-45",null,null,{"$f":"IFERROR(VLOOKUP(ROWS($J$2:J143),$A$2:$B$996,2,FALSE),\"\")","v":""}]
[{"$f":"IF(ISNUMBER(SEARCH(Cover!$H$13,Table1[[#This Row],[School District]])),MAX($A$1:A143)+1,0)","v":0},"Central SD 104",50082104002,2,{"$f":"IF(OR(Table1[[#This Row],[Type]]=0,Table1[[#This Row],[Type]]>=40),\"JA\",\"SD\")","v":"SD"},"St. Clair","50-082-1040-02",null,null,{"$f":"IFERROR(VLOOKUP(ROWS($J$2:J144),$A$2:$B$996,2,FALSE),\"\")","v":""}]
[{"$f":"IF(ISNUMBER(SEARCH(Cover!$H$13,Table1[[#This Row],[School District]])),MAX($A$1:A144)+1,0)","v":0},"Central SD 51",53090051002,2,{"$f":"IF(OR(Table1[[#This Row],[Type]]=0,Table1[[#This Row],[Type]]>=40),\"JA\",\"SD\")","v":"SD"},"Tazewell","53-090-0510-02",null,null,{"$f":"IFERROR(VLOOKUP(ROWS($J$2:J145),$A$2:$B$996,2,FALSE),\"\")","v":""}]
[{"$f":"IF(ISNUMBER(SEARCH(Cover!$H$13,Table1[[#This Row],[School District]])),MAX($A$1:A145)+1,0)","v":0},"Central Stickney SD 110",7016110002,2,{"$f":"IF(OR(Table1[[#This Row],[Type]]=0,Table1[[#This Row],[Type]]>=40),\"JA\",\"SD\")","v":"SD"},"Cook","07-016-1100-02",null,null,{"$f":"IFERROR(VLOOKUP(ROWS($J$2:J146),$A$2:$B$996,2,FALSE),\"\")","v":""}]
[{"$f":"IF(ISNUMBER(SEARCH(Cover!$H$13,Table1[[#This Row],[School District]])),MAX($A$1:A146)+1,0)","v":0},"Centralia HSD 200",13058200017,17,{"$f":"IF(OR(Table1[[#This Row],[Type]]=0,Table1[[#This Row],[Type]]>=40),\"JA\",\"SD\")","v":"SD"},"Marion","13-058-2000-17",null,null,{"$f":"IFERROR(VLOOKUP(ROWS($J$2:J147),$A$2:$B$996,2,FALSE),\"\")","v":""}]
[{"$f":"IF(ISNUMBER(SEARCH(Cover!$H$13,Table1[[#This Row],[School District]])),MAX($A$1:A147)+1,0)","v":0},"Centralia SD 135",13058135002,2,{"$f":"IF(OR(Table1[[#This Row],[Type]]=0,Table1[[#This Row],[Type]]>=40),\"JA\",\"SD\")","v":"SD"},"Marion","13-058-1350-02",null,null,{"$f":"IFERROR(VLOOKUP(ROWS($J$2:J148),$A$2:$B$996,2,FALSE),\"\")","v":""}]
[{"$f":"IF(ISNUMBER(SEARCH(Cover!$H$13,Table1[[#This Row],[School District]])),MAX($A$1:A148)+1,0)","v":0},"Century CUSD 100",30077100026,26,{"$f":"IF(OR(Table1[[#This Row],[Type]]=0,Table1[[#This Row],[Type]]>=40),\"JA\",\"SD\")","v":"SD"},"Pulaski","30-077-1000-26",null,null,{"$f":"IFERROR(VLOOKUP(ROWS($J$2:J149),$A$2:$B$996,2,FALSE),\"\")","v":""}]
[{"$f":"IF(ISNUMBER(SEARCH(Cover!$H$13,Table1[[#This Row],[School District]])),MAX($A$1:A149)+1,0)","v":0},"Cerro Gordo CUSD 100",39074100026,26,{"$f":"IF(OR(Table1[[#This Row],[Type]]=0,Table1[[#This Row],[Type]]>=40),\"JA\",\"SD\")","v":"SD"},"Piatt/Macon/Moultrie","39-074-1000-26",null,null,{"$f":"IFERROR(VLOOKUP(ROWS($J$2:J150),$A$2:$B$996,2,FALSE),\"\")","v":""}]
[{"$f":"IF(ISNUMBER(SEARCH(Cover!$H$13,Table1[[#This Row],[School District]])),MAX($A$1:A150)+1,0)","v":0},"Chadwick-Milledgeville CUSD 399",8008399026,26,{"$f":"IF(OR(Table1[[#This Row],[Type]]=0,Table1[[#This Row],[Type]]>=40),\"JA\",\"SD\")","v":"SD"},"Carroll","08-008-3990-26",null,null,{"$f":"IFERROR(VLOOKUP(ROWS($J$2:J151),$A$2:$B$996,2,FALSE),\"\")","v":""}]
[{"$f":"IF(ISNUMBER(SEARCH(Cover!$H$13,Table1[[#This Row],[School District]])),MAX($A$1:A151)+1,0)","v":0},"Champaign CUSD 4",9010004026,26,{"$f":"IF(OR(Table1[[#This Row],[Type]]=0,Table1[[#This Row],[Type]]>=40),\"JA\",\"SD\")","v":"SD"},"Champaign","09-010-0040-26",null,null,{"$f":"IFERROR(VLOOKUP(ROWS($J$2:J152),$A$2:$B$996,2,FALSE),\"\")","v":""}]
[{"$f":"IF(ISNUMBER(SEARCH(Cover!$H$13,Table1[[#This Row],[School District]])),MAX($A$1:A152)+1,0)","v":0},"Chaney-Monge SD 88",56099088002,2,{"$f":"IF(OR(Table1[[#This Row],[Type]]=0,Table1[[#This Row],[Type]]>=40),\"JA\",\"SD\")","v":"SD"},"Will","56-099-0880-02",null,null,{"$f":"IFERROR(VLOOKUP(ROWS($J$2:J153),$A$2:$B$996,2,FALSE),\"\")","v":""}]
[{"$f":"IF(ISNUMBER(SEARCH(Cover!$H$13,Table1[[#This Row],[School District]])),MAX($A$1:A153)+1,0)","v":0},"Channahon SD 17",56099017002,2,{"$f":"IF(OR(Table1[[#This Row],[Type]]=0,Table1[[#This Row],[Type]]>=40),\"JA\",\"SD\")","v":"SD"},"Will","56-099-0170-02",null,null,{"$f":"IFERROR(VLOOKUP(ROWS($J$2:J154),$A$2:$B$996,2,FALSE),\"\")","v":""}]
[{"$f":"IF(ISNUMBER(SEARCH(Cover!$H$13,Table1[[#This Row],[School District]])),MAX($A$1:A154)+1,0)","v":0},"Charleston CUSD 1",11015001026,26,{"$f":"IF(OR(Table1[[#This Row],[Type]]=0,Table1[[#This Row],[Type]]>=40),\"JA\",\"SD\")","v":"SD"},"Coles","11-015-0010-26",null,null,{"$f":"IFERROR(VLOOKUP(ROWS($J$2:J155),$A$2:$B$996,2,FALSE),\"\")","v":""}]
[{"$f":"IF(ISNUMBER(SEARCH(Cover!$H$13,Table1[[#This Row],[School District]])),MAX($A$1:A155)+1,0)","v":0},"Chester CUSD 139",45079139026,26,{"$f":"IF(OR(Table1[[#This Row],[Type]]=0,Table1[[#This Row],[Type]]>=40),\"JA\",\"SD\")","v":"SD"},"Randolph","45-079-1390-26",null,null,{"$f":"IFERROR(VLOOKUP(ROWS($J$2:J156),$A$2:$B$996,2,FALSE),\"\")","v":""}]
[{"$f":"IF(ISNUMBER(SEARCH(Cover!$H$13,Table1[[#This Row],[School District]])),MAX($A$1:A156)+1,0)","v":0},"Chester N HSD 122",45079122019,19,{"$f":"IF(OR(Table1[[#This Row],[Type]]=0,Table1[[#This Row],[Type]]>=40),\"JA\",\"SD\")","v":"SD"},"Randolph","45-079-1220-19",null,null,{"$f":"IFERROR(VLOOKUP(ROWS($J$2:J157),$A$2:$B$996,2,FALSE),\"\")","v":""}]
[{"$f":"IF(ISNUMBER(SEARCH(Cover!$H$13,Table1[[#This Row],[School District]])),MAX($A$1:A157)+1,0)","v":0},"Chester-East Lincoln CCSD 61",17054061004,4,{"$f":"IF(OR(Table1[[#This Row],[Type]]=0,Table1[[#This Row],[Type]]>=40),\"JA\",\"SD\")","v":"SD"},"Logan","17-054-0610-04",null,null,{"$f":"IFERROR(VLOOKUP(ROWS($J$2:J158),$A$2:$B$996,2,FALSE),\"\")","v":""}]
[{"$f":"IF(ISNUMBER(SEARCH(Cover!$H$13,Table1[[#This Row],[School District]])),MAX($A$1:A158)+1,0)","v":0},"Chicago Heights SD 170",7016170002,2,{"$f":"IF(OR(Table1[[#This Row],[Type]]=0,Table1[[#This Row],[Type]]>=40),\"JA\",\"SD\")","v":"SD"},"Cook","07-016-1700-02",null,null,{"$f":"IFERROR(VLOOKUP(ROWS($J$2:J159),$A$2:$B$996,2,FALSE),\"\")","v":""}]
[{"$f":"IF(ISNUMBER(SEARCH(Cover!$H$13,Table1[[#This Row],[School District]])),MAX($A$1:A159)+1,0)","v":0},"Chicago Ridge SD 127-5",7016127502,2,{"$f":"IF(OR(Table1[[#This Row],[Type]]=0,Table1[[#This Row],[Type]]>=40),\"JA\",\"SD\")","v":"SD"},"Cook","07-016-1275-02",null,null,{"$f":"IFERROR(VLOOKUP(ROWS($J$2:J160),$A$2:$B$996,2,FALSE),\"\")","v":""}]
[{"$f":"IF(ISNUMBER(SEARCH(Cover!$H$13,Table1[[#This Row],[School District]])),MAX($A$1:A160)+1,0)","v":0},"Christopher USD 99",21028099026,26,{"$f":"IF(OR(Table1[[#This Row],[Type]]=0,Table1[[#This Row],[Type]]>=40),\"JA\",\"SD\")","v":"SD"},"Franklin","21-028-0990-26",null,null,{"$f":"IFERROR(VLOOKUP(ROWS($J$2:J161),$A$2:$B$996,2,FALSE),\"\")","v":""}]
[{"$f":"IF(ISNUMBER(SEARCH(Cover!$H$13,Table1[[#This Row],[School District]])),MAX($A$1:A161)+1,0)","v":0},"CHSD 117",34049117016,16,{"$f":"IF(OR(Table1[[#This Row],[Type]]=0,Table1[[#This Row],[Type]]>=40),\"JA\",\"SD\")","v":"SD"},"Lake","34-049-1170-16",null,null,{"$f":"IFERROR(VLOOKUP(ROWS($J$2:J162),$A$2:$B$996,2,FALSE),\"\")","v":""}]
[{"$f":"IF(ISNUMBER(SEARCH(Cover!$H$13,Table1[[#This Row],[School District]])),MAX($A$1:A162)+1,0)","v":0},"CHSD 128",34049128016,16,{"$f":"IF(OR(Table1[[#This Row],[Type]]=0,Table1[[#This Row],[Type]]>=40),\"JA\",\"SD\")","v":"SD"},"Lake","34-049-1280-16",null,null,{"$f":"IFERROR(VLOOKUP(ROWS($J$2:J163),$A$2:$B$996,2,FALSE),\"\")","v":""}]
[{"$f":"IF(ISNUMBER(SEARCH(Cover!$H$13,Table1[[#This Row],[School District]])),MAX($A$1:A163)+1,0)","v":0},"CHSD 155",44063155016,16,{"$f":"IF(OR(Table1[[#This Row],[Type]]=0,Table1[[#This Row],[Type]]>=40),\"JA\",\"SD\")","v":"SD"},"McHenry/Lake","44-063-1550-16",null,null,{"$f":"IFERROR(VLOOKUP(ROWS($J$2:J164),$A$2:$B$996,2,FALSE),\"\")","v":""}]
[{"$f":"IF(ISNUMBER(SEARCH(Cover!$H$13,Table1[[#This Row],[School District]])),MAX($A$1:A164)+1,0)","v":0},"CHSD 218",7016218016,16,{"$f":"IF(OR(Table1[[#This Row],[Type]]=0,Table1[[#This Row],[Type]]>=40),\"JA\",\"SD\")","v":"SD"},"Cook","07-016-2180-16",null,null,{"$f":"IFERROR(VLOOKUP(ROWS($J$2:J165),$A$2:$B$996,2,FALSE),\"\")","v":""}]
[{"$f":"IF(ISNUMBER(SEARCH(Cover!$H$13,Table1[[#This Row],[School District]])),MAX($A$1:A165)+1,0)","v":0},"CHSD 94",19022094016,16,{"$f":"IF(OR(Table1[[#This Row],[Type]]=0,Table1[[#This Row],[Type]]>=40),\"JA\",\"SD\")","v":"SD"},"DuPage","19-022-0940-16",null,null,{"$f":"IFERROR(VLOOKUP(ROWS($J$2:J166),$A$2:$B$996,2,FALSE),\"\")","v":""}]
[{"$f":"IF(ISNUMBER(SEARCH(Cover!$H$13,Table1[[#This Row],[School District]])),MAX($A$1:A166)+1,0)","v":0},"CHSD 99",19022099016,16,{"$f":"IF(OR(Table1[[#This Row],[Type]]=0,Table1[[#This Row],[Type]]>=40),\"JA\",\"SD\")","v":"SD"},"DuPage","19-022-0990-16",null,null,{"$f":"IFERROR(VLOOKUP(ROWS($J$2:J167),$A$2:$B$996,2,FALSE),\"\")","v":""}]
[{"$f":"IF(ISNUMBER(SEARCH(Cover!$H$13,Table1[[#This Row],[School District]])),MAX($A$1:A167)+1,0)","v":0},"Cicero SD 99",6016099002,2,{"$f":"IF(OR(Table1[[#This Row],[Type]]=0,Table1[[#This Row],[Type]]>=40),\"JA\",\"SD\")","v":"SD"},"Cook","06-016-0990-02",null,null,{"$f":"IFERROR(VLOOKUP(ROWS($J$2:J168),$A$2:$B$996,2,FALSE),\"\")","v":""}]
[{"$f":"IF(ISNUMBER(SEARCH(Cover!$H$13,Table1[[#This Row],[School District]])),MAX($A$1:A168)+1,0)","v":0},"Cissna Park CUSD 6",32038006026,26,{"$f":"IF(OR(Table1[[#This Row],[Type]]=0,Table1[[#This Row],[Type]]>=40),\"JA\",\"SD\")","v":"SD"},"Iroquois","32-038-0060-26",null,null,{"$f":"IFERROR(VLOOKUP(ROWS($J$2:J169),$A$2:$B$996,2,FALSE),\"\")","v":""}]
[{"$f":"IF(ISNUMBER(SEARCH(Cover!$H$13,Table1[[#This Row],[School District]])),MAX($A$1:A169)+1,0)","v":0},"City of Chicago SD 299",15016299025,25,{"$f":"IF(OR(Table1[[#This Row],[Type]]=0,Table1[[#This Row],[Type]]>=40),\"JA\",\"SD\")","v":"SD"},"Cook","15-016-2990-25",null,null,{"$f":"IFERROR(VLOOKUP(ROWS($J$2:J170),$A$2:$B$996,2,FALSE),\"\")","v":""}]
[{"$f":"IF(ISNUMBER(SEARCH(Cover!$H$13,Table1[[#This Row],[School District]])),MAX($A$1:A170)+1,0)","v":0},"Clay City CUSD 10",12013010026,26,{"$f":"IF(OR(Table1[[#This Row],[Type]]=0,Table1[[#This Row],[Type]]>=40),\"JA\",\"SD\")","v":"SD"},"Clay/Wayne/Richland","12-013-0100-26",null,null,{"$f":"IFERROR(VLOOKUP(ROWS($J$2:J171),$A$2:$B$996,2,FALSE),\"\")","v":""}]
[{"$f":"IF(ISNUMBER(SEARCH(Cover!$H$13,Table1[[#This Row],[School District]])),MAX($A$1:A171)+1,0)","v":0},"Clay-Jasper-Richland-North Wayne-RDS",12013035046,46,{"$f":"IF(OR(Table1[[#This Row],[Type]]=0,Table1[[#This Row],[Type]]>=40),\"JA\",\"SD\")","v":"JA"},"Clay/Jasper/Richland/Wayne","12-013-0350-46",null,null,{"$f":"IFERROR(VLOOKUP(ROWS($J$2:J172),$A$2:$B$996,2,FALSE),\"\")","v":""}]
[{"$f":"IF(ISNUMBER(SEARCH(Cover!$H$13,Table1[[#This Row],[School District]])),MAX($A$1:A172)+1,0)","v":0},"Clinton CUSD 15",17020015026,26,{"$f":"IF(OR(Table1[[#This Row],[Type]]=0,Table1[[#This Row],[Type]]>=40),\"JA\",\"SD\")","v":"SD"},"Dewitt","17-020-0150-26",null,null,{"$f":"IFERROR(VLOOKUP(ROWS($J$2:J173),$A$2:$B$996,2,FALSE),\"\")","v":""}]
[{"$f":"IF(ISNUMBER(SEARCH(Cover!$H$13,Table1[[#This Row],[School District]])),MAX($A$1:A173)+1,0)","v":0},"Coal City CUSD 1",24032001026,26,{"$f":"IF(OR(Table1[[#This Row],[Type]]=0,Table1[[#This Row],[Type]]>=40),\"JA\",\"SD\")","v":"SD"},"Grundy/Will","24-032-0010-26",null,null,{"$f":"IFERROR(VLOOKUP(ROWS($J$2:J174),$A$2:$B$996,2,FALSE),\"\")","v":""}]
[{"$f":"IF(ISNUMBER(SEARCH(Cover!$H$13,Table1[[#This Row],[School District]])),MAX($A$1:A174)+1,0)","v":0},"Cobden SUD 17",30091017022,22,{"$f":"IF(OR(Table1[[#This Row],[Type]]=0,Table1[[#This Row],[Type]]>=40),\"JA\",\"SD\")","v":"SD"},"Union","30-091-0170-22",null,null,{"$f":"IFERROR(VLOOKUP(ROWS($J$2:J175),$A$2:$B$996,2,FALSE),\"\")","v":""}]
[{"$f":"IF(ISNUMBER(SEARCH(Cover!$H$13,Table1[[#This Row],[School District]])),MAX($A$1:A175)+1,0)","v":0},"Collinsville Area Career Ctr",41057010041,41,{"$f":"IF(OR(Table1[[#This Row],[Type]]=0,Table1[[#This Row],[Type]]>=40),\"JA\",\"SD\")","v":"JA"},"Madison/St. Clair","41-057-0100-41",null,null,{"$f":"IFERROR(VLOOKUP(ROWS($J$2:J176),$A$2:$B$996,2,FALSE),\"\")","v":""}]
[{"$f":"IF(ISNUMBER(SEARCH(Cover!$H$13,Table1[[#This Row],[School District]])),MAX($A$1:A176)+1,0)","v":0},"Collinsville CUSD 10",41057010026,26,{"$f":"IF(OR(Table1[[#This Row],[Type]]=0,Table1[[#This Row],[Type]]>=40),\"JA\",\"SD\")","v":"SD"},"Maditon/St. Clair","41-057-0100-26",null,null,{"$f":"IFERROR(VLOOKUP(ROWS($J$2:J177),$A$2:$B$996,2,FALSE),\"\")","v":""}]
[{"$f":"IF(ISNUMBER(SEARCH(Cover!$H$13,Table1[[#This Row],[School District]])),MAX($A$1:A177)+1,0)","v":0},"Colona SD 190",28037190002,2,{"$f":"IF(OR(Table1[[#This Row],[Type]]=0,Table1[[#This Row],[Type]]>=40),\"JA\",\"SD\")","v":"SD"},"Henry","28-037-1900-02",null,null,{"$f":"IFERROR(VLOOKUP(ROWS($J$2:J178),$A$2:$B$996,2,FALSE),\"\")","v":""}]
[{"$f":"IF(ISNUMBER(SEARCH(Cover!$H$13,Table1[[#This Row],[School District]])),MAX($A$1:A178)+1,0)","v":0},"Columbia CUSD 4",45067004026,26,{"$f":"IF(OR(Table1[[#This Row],[Type]]=0,Table1[[#This Row],[Type]]>=40),\"JA\",\"SD\")","v":"SD"},"Monroe/St. Clair","45-067-0040-26",null,null,{"$f":"IFERROR(VLOOKUP(ROWS($J$2:J179),$A$2:$B$996,2,FALSE),\"\")","v":""}]
[{"$f":"IF(ISNUMBER(SEARCH(Cover!$H$13,Table1[[#This Row],[School District]])),MAX($A$1:A179)+1,0)","v":0},"Comm Cons SD 59",5016059004,4,{"$f":"IF(OR(Table1[[#This Row],[Type]]=0,Table1[[#This Row],[Type]]>=40),\"JA\",\"SD\")","v":"SD"},"Cook","05-016-0590-04",null,null,{"$f":"IFERROR(VLOOKUP(ROWS($J$2:J180),$A$2:$B$996,2,FALSE),\"\")","v":""}]
[{"$f":"IF(ISNUMBER(SEARCH(Cover!$H$13,Table1[[#This Row],[School District]])),MAX($A$1:A180)+1,0)","v":0},"Cons HSD 230",7016230013,13,{"$f":"IF(OR(Table1[[#This Row],[Type]]=0,Table1[[#This Row],[Type]]>=40),\"JA\",\"SD\")","v":"SD"},"Will","07-016-2300-13",null,null,{"$f":"IFERROR(VLOOKUP(ROWS($J$2:J181),$A$2:$B$996,2,FALSE),\"\")","v":""}]
[{"$f":"IF(ISNUMBER(SEARCH(Cover!$H$13,Table1[[#This Row],[School District]])),MAX($A$1:A181)+1,0)","v":0},"Cook County SD 130",7016130002,2,{"$f":"IF(OR(Table1[[#This Row],[Type]]=0,Table1[[#This Row],[Type]]>=40),\"JA\",\"SD\")","v":"SD"},"Cook","07-016-1300-02",null,null,{"$f":"IFERROR(VLOOKUP(ROWS($J$2:J182),$A$2:$B$996,2,FALSE),\"\")","v":""}]
[{"$f":"IF(ISNUMBER(SEARCH(Cover!$H$13,Table1[[#This Row],[School District]])),MAX($A$1:A182)+1,0)","v":0},"Coop Assoc for Spec Ed",19022015061,61,{"$f":"IF(OR(Table1[[#This Row],[Type]]=0,Table1[[#This Row],[Type]]>=40),\"JA\",\"SD\")","v":"JA"},"DuPage","19-022-0150-61",null,null,{"$f":"IFERROR(VLOOKUP(ROWS($J$2:J183),$A$2:$B$996,2,FALSE),\"\")","v":""}]
[{"$f":"IF(ISNUMBER(SEARCH(Cover!$H$13,Table1[[#This Row],[School District]])),MAX($A$1:A183)+1,0)","v":0},"Cornell CCSD 426",17053426004,4,{"$f":"IF(OR(Table1[[#This Row],[Type]]=0,Table1[[#This Row],[Type]]>=40),\"JA\",\"SD\")","v":"SD"},"Livingston","17-053-4260-04",null,null,{"$f":"IFERROR(VLOOKUP(ROWS($J$2:J184),$A$2:$B$996,2,FALSE),\"\")","v":""}]
[{"$f":"IF(ISNUMBER(SEARCH(Cover!$H$13,Table1[[#This Row],[School District]])),MAX($A$1:A184)+1,0)","v":0},"Coulterville USD 1",45079001022,22,{"$f":"IF(OR(Table1[[#This Row],[Type]]=0,Table1[[#This Row],[Type]]>=40),\"JA\",\"SD\")","v":"SD"},"Randolph","45-079-0010-22",null,null,{"$f":"IFERROR(VLOOKUP(ROWS($J$2:J185),$A$2:$B$996,2,FALSE),\"\")","v":""}]
[{"$f":"IF(ISNUMBER(SEARCH(Cover!$H$13,Table1[[#This Row],[School District]])),MAX($A$1:A185)+1,0)","v":0},"Country Club Hills SD 160",7016160002,2,{"$f":"IF(OR(Table1[[#This Row],[Type]]=0,Table1[[#This Row],[Type]]>=40),\"JA\",\"SD\")","v":"SD"},"Cook","07-016-1600-02",null,null,{"$f":"IFERROR(VLOOKUP(ROWS($J$2:J186),$A$2:$B$996,2,FALSE),\"\")","v":""}]
[{"$f":"IF(ISNUMBER(SEARCH(Cover!$H$13,Table1[[#This Row],[School District]])),MAX($A$1:A186)+1,0)","v":0},"County of Union Sch Dist No43",30091043004,4,{"$f":"IF(OR(Table1[[#This Row],[Type]]=0,Table1[[#This Row],[Type]]>=40),\"JA\",\"SD\")","v":"SD"},"Union","30-091-0430-04",null,null,{"$f":"IFERROR(VLOOKUP(ROWS($J$2:J187),$A$2:$B$996,2,FALSE),\"\")","v":""}]
[{"$f":"IF(ISNUMBER(SEARCH(Cover!$H$13,Table1[[#This Row],[School District]])),MAX($A$1:A187)+1,0)","v":0},"County of Winnebago SD 320",4101320026,26,{"$f":"IF(OR(Table1[[#This Row],[Type]]=0,Table1[[#This Row],[Type]]>=40),\"JA\",\"SD\")","v":"SD"},"Winnebago","04-101-3200-26",null,null,{"$f":"IFERROR(VLOOKUP(ROWS($J$2:J188),$A$2:$B$996,2,FALSE),\"\")","v":""}]
[{"$f":"IF(ISNUMBER(SEARCH(Cover!$H$13,Table1[[#This Row],[School District]])),MAX($A$1:A188)+1,0)","v":0},"County of Woodford School",53102122017,17,{"$f":"IF(OR(Table1[[#This Row],[Type]]=0,Table1[[#This Row],[Type]]>=40),\"JA\",\"SD\")","v":"SD"},"Woodford","53-102-1220-17",null,null,{"$f":"IFERROR(VLOOKUP(ROWS($J$2:J189),$A$2:$B$996,2,FALSE),\"\")","v":""}]
[{"$f":"IF(ISNUMBER(SEARCH(Cover!$H$13,Table1[[#This Row],[School District]])),MAX($A$1:A189)+1,0)","v":0},"Cowden-Herrick CUSD 3A","11087003A26",26,{"$f":"IF(OR(Table1[[#This Row],[Type]]=0,Table1[[#This Row],[Type]]>=40),\"JA\",\"SD\")","v":"SD"},"Shelby","11-087-003A-26",null,null,{"$f":"IFERROR(VLOOKUP(ROWS($J$2:J190),$A$2:$B$996,2,FALSE),\"\")","v":""}]
[{"$f":"IF(ISNUMBER(SEARCH(Cover!$H$13,Table1[[#This Row],[School District]])),MAX($A$1:A190)+1,0)","v":0},"Crab Orchard CUSD 3",21100003026,26,{"$f":"IF(OR(Table1[[#This Row],[Type]]=0,Table1[[#This Row],[Type]]>=40),\"JA\",\"SD\")","v":"SD"},"Williamson","21-100-0030-26",null,null,{"$f":"IFERROR(VLOOKUP(ROWS($J$2:J191),$A$2:$B$996,2,FALSE),\"\")","v":""}]
[{"$f":"IF(ISNUMBER(SEARCH(Cover!$H$13,Table1[[#This Row],[School District]])),MAX($A$1:A191)+1,0)","v":0},"Crescent Iroquois CUSD 249",32038249026,26,{"$f":"IF(OR(Table1[[#This Row],[Type]]=0,Table1[[#This Row],[Type]]>=40),\"JA\",\"SD\")","v":"SD"},"Iroquois","32-038-2490-26",null,null,{"$f":"IFERROR(VLOOKUP(ROWS($J$2:J192),$A$2:$B$996,2,FALSE),\"\")","v":""}]
[{"$f":"IF(ISNUMBER(SEARCH(Cover!$H$13,Table1[[#This Row],[School District]])),MAX($A$1:A192)+1,0)","v":0},"Creston CCSD 161",47071161004,4,{"$f":"IF(OR(Table1[[#This Row],[Type]]=0,Table1[[#This Row],[Type]]>=40),\"JA\",\"SD\")","v":"SD"},"Ogle","47-071-1610-04",null,null,{"$f":"IFERROR(VLOOKUP(ROWS($J$2:J193),$A$2:$B$996,2,FALSE),\"\")","v":""}]
[{"$f":"IF(ISNUMBER(SEARCH(Cover!$H$13,Table1[[#This Row],[School District]])),MAX($A$1:A193)+1,0)","v":0},"Crete Monee CUSD 201U","56099201U26",26,{"$f":"IF(OR(Table1[[#This Row],[Type]]=0,Table1[[#This Row],[Type]]>=40),\"JA\",\"SD\")","v":"SD"},"Will","56-099-201U-26",null,null,{"$f":"IFERROR(VLOOKUP(ROWS($J$2:J194),$A$2:$B$996,2,FALSE),\"\")","v":""}]
[{"$f":"IF(ISNUMBER(SEARCH(Cover!$H$13,Table1[[#This Row],[School District]])),MAX($A$1:A194)+1,0)","v":0},"Creve Coeur SD 76",53090076002,2,{"$f":"IF(OR(Table1[[#This Row],[Type]]=0,Table1[[#This Row],[Type]]>=40),\"JA\",\"SD\")","v":"SD"},"Tazewell","53-090-0760-02",null,null,{"$f":"IFERROR(VLOOKUP(ROWS($J$2:J195),$A$2:$B$996,2,FALSE),\"\")","v":""}]
[{"$f":"IF(ISNUMBER(SEARCH(Cover!$H$13,Table1[[#This Row],[School District]])),MAX($A$1:A195)+1,0)","v":0},"Crystal Lake CCSD 47",44063047004,4,{"$f":"IF(OR(Table1[[#This Row],[Type]]=0,Table1[[#This Row],[Type]]>=40),\"JA\",\"SD\")","v":"SD"},"McHenry","44-063-0470-04",null,null,{"$f":"IFERROR(VLOOKUP(ROWS($J$2:J196),$A$2:$B$996,2,FALSE),\"\")","v":""}]
[{"$f":"IF(ISNUMBER(SEARCH(Cover!$H$13,Table1[[#This Row],[School District]])),MAX($A$1:A196)+1,0)","v":0},"CTE Consortium",8089723045,45,{"$f":"IF(OR(Table1[[#This Row],[Type]]=0,Table1[[#This Row],[Type]]>=40),\"JA\",\"SD\")","v":"JA"},"Stephenson","08-089-7230-45",null,null,{"$f":"IFERROR(VLOOKUP(ROWS($J$2:J197),$A$2:$B$996,2,FALSE),\"\")","v":""}]
[{"$f":"IF(ISNUMBER(SEARCH(Cover!$H$13,Table1[[#This Row],[School District]])),MAX($A$1:A197)+1,0)","v":0},"Cumberland CUSD 77",11018077026,26,{"$f":"IF(OR(Table1[[#This Row],[Type]]=0,Table1[[#This Row],[Type]]>=40),\"JA\",\"SD\")","v":"SD"},"Cumberland/Jasper","11-018-0770-26",null,null,{"$f":"IFERROR(VLOOKUP(ROWS($J$2:J198),$A$2:$B$996,2,FALSE),\"\")","v":""}]
[{"$f":"IF(ISNUMBER(SEARCH(Cover!$H$13,Table1[[#This Row],[School District]])),MAX($A$1:A198)+1,0)","v":0},"CUSD 200",19022200026,26,{"$f":"IF(OR(Table1[[#This Row],[Type]]=0,Table1[[#This Row],[Type]]>=40),\"JA\",\"SD\")","v":"SD"},"DuPage","19-022-2000-26",null,null,{"$f":"IFERROR(VLOOKUP(ROWS($J$2:J199),$A$2:$B$996,2,FALSE),\"\")","v":""}]
[{"$f":"IF(ISNUMBER(SEARCH(Cover!$H$13,Table1[[#This Row],[School District]])),MAX($A$1:A199)+1,0)","v":0},"CUSD 201",19022201026,26,{"$f":"IF(OR(Table1[[#This Row],[Type]]=0,Table1[[#This Row],[Type]]>=40),\"JA\",\"SD\")","v":"SD"},"DuPage","19-022-2010-26",null,null,{"$f":"IFERROR(VLOOKUP(ROWS($J$2:J200),$A$2:$B$996,2,FALSE),\"\")","v":""}]
[{"$f":"IF(ISNUMBER(SEARCH(Cover!$H$13,Table1[[#This Row],[School District]])),MAX($A$1:A200)+1,0)","v":0},"CUSD 3 Fulton County",26029003026,26,{"$f":"IF(OR(Table1[[#This Row],[Type]]=0,Table1[[#This Row],[Type]]>=40),\"JA\",\"SD\")","v":"SD"},"Fulton","26-029-0030-26",null,null,{"$f":"IFERROR(VLOOKUP(ROWS($J$2:J201),$A$2:$B$996,2,FALSE),\"\")","v":""}]
[{"$f":"IF(ISNUMBER(SEARCH(Cover!$H$13,Table1[[#This Row],[School District]])),MAX($A$1:A201)+1,0)","v":0},"CUSD 300",31045300026,26,{"$f":"IF(OR(Table1[[#This Row],[Type]]=0,Table1[[#This Row],[Type]]>=40),\"JA\",\"SD\")","v":"SD"},"Kane/McHenry/Cook/DeKalb","31-045-3000-26",null,null,{"$f":"IFERROR(VLOOKUP(ROWS($J$2:J202),$A$2:$B$996,2,FALSE),\"\")","v":""}]
[{"$f":"IF(ISNUMBER(SEARCH(Cover!$H$13,Table1[[#This Row],[School District]])),MAX($A$1:A202)+1,0)","v":0},"CUSD 308",24047308026,26,{"$f":"IF(OR(Table1[[#This Row],[Type]]=0,Table1[[#This Row],[Type]]>=40),\"JA\",\"SD\")","v":"SD"},"Kendall","24-047-3080-26",null,null,{"$f":"IFERROR(VLOOKUP(ROWS($J$2:J203),$A$2:$B$996,2,FALSE),\"\")","v":""}]
[{"$f":"IF(ISNUMBER(SEARCH(Cover!$H$13,Table1[[#This Row],[School District]])),MAX($A$1:A203)+1,0)","v":0},"CUSD 4",1001004026,26,{"$f":"IF(OR(Table1[[#This Row],[Type]]=0,Table1[[#This Row],[Type]]>=40),\"JA\",\"SD\")","v":"SD"},"Adams/Hancock","01-001-0040-26",null,null,{"$f":"IFERROR(VLOOKUP(ROWS($J$2:J204),$A$2:$B$996,2,FALSE),\"\")","v":""}]
[{"$f":"IF(ISNUMBER(SEARCH(Cover!$H$13,Table1[[#This Row],[School District]])),MAX($A$1:A204)+1,0)","v":0},"Cypress SD 64",21044064002,2,{"$f":"IF(OR(Table1[[#This Row],[Type]]=0,Table1[[#This Row],[Type]]>=40),\"JA\",\"SD\")","v":"SD"},"Johnson","21-044-0640-02",null,null,{"$f":"IFERROR(VLOOKUP(ROWS($J$2:J205),$A$2:$B$996,2,FALSE),\"\")","v":""}]
[{"$f":"IF(ISNUMBER(SEARCH(Cover!$H$13,Table1[[#This Row],[School District]])),MAX($A$1:A205)+1,0)","v":0},"Dakota CUSD 201",8089201026,26,{"$f":"IF(OR(Table1[[#This Row],[Type]]=0,Table1[[#This Row],[Type]]>=40),\"JA\",\"SD\")","v":"SD"},"Stephenson","08-089-2010-26",null,null,{"$f":"IFERROR(VLOOKUP(ROWS($J$2:J206),$A$2:$B$996,2,FALSE),\"\")","v":""}]
[{"$f":"IF(ISNUMBER(SEARCH(Cover!$H$13,Table1[[#This Row],[School District]])),MAX($A$1:A206)+1,0)","v":0},"Dallas ESD 327",26034327004,4,{"$f":"IF(OR(Table1[[#This Row],[Type]]=0,Table1[[#This Row],[Type]]>=40),\"JA\",\"SD\")","v":"SD"},"Hancock/Henderson","26-034-3270-04",null,null,{"$f":"IFERROR(VLOOKUP(ROWS($J$2:J207),$A$2:$B$996,2,FALSE),\"\")","v":""}]
[{"$f":"IF(ISNUMBER(SEARCH(Cover!$H$13,Table1[[#This Row],[School District]])),MAX($A$1:A207)+1,0)","v":0},"Dalzell SD 98",28006098002,2,{"$f":"IF(OR(Table1[[#This Row],[Type]]=0,Table1[[#This Row],[Type]]>=40),\"JA\",\"SD\")","v":"SD"},"Bureau","28-006-0980-02",null,null,{"$f":"IFERROR(VLOOKUP(ROWS($J$2:J208),$A$2:$B$996,2,FALSE),\"\")","v":""}]
[{"$f":"IF(ISNUMBER(SEARCH(Cover!$H$13,Table1[[#This Row],[School District]])),MAX($A$1:A208)+1,0)","v":0},"Damiansville SD 62",13014062002,2,{"$f":"IF(OR(Table1[[#This Row],[Type]]=0,Table1[[#This Row],[Type]]>=40),\"JA\",\"SD\")","v":"SD"},"Clinton","13-014-0620-02",null,null,{"$f":"IFERROR(VLOOKUP(ROWS($J$2:J209),$A$2:$B$996,2,FALSE),\"\")","v":""}]
[{"$f":"IF(ISNUMBER(SEARCH(Cover!$H$13,Table1[[#This Row],[School District]])),MAX($A$1:A209)+1,0)","v":0},"Danville CCSD 118",54092118024,24,{"$f":"IF(OR(Table1[[#This Row],[Type]]=0,Table1[[#This Row],[Type]]>=40),\"JA\",\"SD\")","v":"SD"},"Vermilion","54-092-1180-24",null,null,{"$f":"IFERROR(VLOOKUP(ROWS($J$2:J210),$A$2:$B$996,2,FALSE),\"\")","v":""}]
[{"$f":"IF(ISNUMBER(SEARCH(Cover!$H$13,Table1[[#This Row],[School District]])),MAX($A$1:A210)+1,0)","v":0},"Darien SD 61",19022061002,2,{"$f":"IF(OR(Table1[[#This Row],[Type]]=0,Table1[[#This Row],[Type]]>=40),\"JA\",\"SD\")","v":"SD"},"DuPage","19-022-0610-02",null,null,{"$f":"IFERROR(VLOOKUP(ROWS($J$2:J211),$A$2:$B$996,2,FALSE),\"\")","v":""}]
[{"$f":"IF(ISNUMBER(SEARCH(Cover!$H$13,Table1[[#This Row],[School District]])),MAX($A$1:A211)+1,0)","v":0},"Decatur SD 61",39055061025,25,{"$f":"IF(OR(Table1[[#This Row],[Type]]=0,Table1[[#This Row],[Type]]>=40),\"JA\",\"SD\")","v":"SD"},"Macon","39-055-0610-25",null,null,{"$f":"IFERROR(VLOOKUP(ROWS($J$2:J212),$A$2:$B$996,2,FALSE),\"\")","v":""}]
[{"$f":"IF(ISNUMBER(SEARCH(Cover!$H$13,Table1[[#This Row],[School District]])),MAX($A$1:A212)+1,0)","v":0},"Deer Creek-Mackinaw CUSD 701",53090701026,26,{"$f":"IF(OR(Table1[[#This Row],[Type]]=0,Table1[[#This Row],[Type]]>=40),\"JA\",\"SD\")","v":"SD"},"Tazewell/Woodford","53-090-7010-26",null,null,{"$f":"IFERROR(VLOOKUP(ROWS($J$2:J213),$A$2:$B$996,2,FALSE),\"\")","v":""}]
[{"$f":"IF(ISNUMBER(SEARCH(Cover!$H$13,Table1[[#This Row],[School District]])),MAX($A$1:A213)+1,0)","v":0},"Deer Park CCSD 82",35050082004,4,{"$f":"IF(OR(Table1[[#This Row],[Type]]=0,Table1[[#This Row],[Type]]>=40),\"JA\",\"SD\")","v":"SD"},"LaSalle","35-050-0820-04",null,null,{"$f":"IFERROR(VLOOKUP(ROWS($J$2:J214),$A$2:$B$996,2,FALSE),\"\")","v":""}]
[{"$f":"IF(ISNUMBER(SEARCH(Cover!$H$13,Table1[[#This Row],[School District]])),MAX($A$1:A214)+1,0)","v":0},"Deerfield SD 109",34049109002,2,{"$f":"IF(OR(Table1[[#This Row],[Type]]=0,Table1[[#This Row],[Type]]>=40),\"JA\",\"SD\")","v":"SD"},"Lake","34-049-1090-02",null,null,{"$f":"IFERROR(VLOOKUP(ROWS($J$2:J215),$A$2:$B$996,2,FALSE),\"\")","v":""}]
[{"$f":"IF(ISNUMBER(SEARCH(Cover!$H$13,Table1[[#This Row],[School District]])),MAX($A$1:A215)+1,0)","v":0},"DeKalb CUSD 428",16019428026,26,{"$f":"IF(OR(Table1[[#This Row],[Type]]=0,Table1[[#This Row],[Type]]>=40),\"JA\",\"SD\")","v":"SD"},"DeKalb","16-019-4280-26",null,null,{"$f":"IFERROR(VLOOKUP(ROWS($J$2:J216),$A$2:$B$996,2,FALSE),\"\")","v":""}]
[{"$f":"IF(ISNUMBER(SEARCH(Cover!$H$13,Table1[[#This Row],[School District]])),MAX($A$1:A216)+1,0)","v":0},"Delabar CTE System",33094729045,45,{"$f":"IF(OR(Table1[[#This Row],[Type]]=0,Table1[[#This Row],[Type]]>=40),\"JA\",\"SD\")","v":"JA"},"Knox","33-094-7290-45",null,null,{"$f":"IFERROR(VLOOKUP(ROWS($J$2:J217),$A$2:$B$996,2,FALSE),\"\")","v":""}]
[{"$f":"IF(ISNUMBER(SEARCH(Cover!$H$13,Table1[[#This Row],[School District]])),MAX($A$1:A217)+1,0)","v":0},"Deland-Weldon CUSD 57",39074057026,26,{"$f":"IF(OR(Table1[[#This Row],[Type]]=0,Table1[[#This Row],[Type]]>=40),\"JA\",\"SD\")","v":"SD"},"Piatt","39-074-0570-26",null,null,{"$f":"IFERROR(VLOOKUP(ROWS($J$2:J218),$A$2:$B$996,2,FALSE),\"\")","v":""}]
[{"$f":"IF(ISNUMBER(SEARCH(Cover!$H$13,Table1[[#This Row],[School District]])),MAX($A$1:A218)+1,0)","v":0},"Delavan CUSD 703",53090703026,26,{"$f":"IF(OR(Table1[[#This Row],[Type]]=0,Table1[[#This Row],[Type]]>=40),\"JA\",\"SD\")","v":"SD"},"Tazewell","53-090-7030-26",null,null,{"$f":"IFERROR(VLOOKUP(ROWS($J$2:J219),$A$2:$B$996,2,FALSE),\"\")","v":""}]
[{"$f":"IF(ISNUMBER(SEARCH(Cover!$H$13,Table1[[#This Row],[School District]])),MAX($A$1:A219)+1,0)","v":0},"DePue USD 103",28006103022,22,{"$f":"IF(OR(Table1[[#This Row],[Type]]=0,Table1[[#This Row],[Type]]>=40),\"JA\",\"SD\")","v":"SD"},"Bureau","28-006-1030-22",null,null,{"$f":"IFERROR(VLOOKUP(ROWS($J$2:J220),$A$2:$B$996,2,FALSE),\"\")","v":""}]
[{"$f":"IF(ISNUMBER(SEARCH(Cover!$H$13,Table1[[#This Row],[School District]])),MAX($A$1:A220)+1,0)","v":0},"Des Plaines Valley EFE",6016212046,46,{"$f":"IF(OR(Table1[[#This Row],[Type]]=0,Table1[[#This Row],[Type]]>=40),\"JA\",\"SD\")","v":"JA"},"Cook","06-016-2120-46",null,null,{"$f":"IFERROR(VLOOKUP(ROWS($J$2:J221),$A$2:$B$996,2,FALSE),\"\")","v":""}]
[{"$f":"IF(ISNUMBER(SEARCH(Cover!$H$13,Table1[[#This Row],[School District]])),MAX($A$1:A221)+1,0)","v":0},"DeSoto Cons SD 86",30039086003,3,{"$f":"IF(OR(Table1[[#This Row],[Type]]=0,Table1[[#This Row],[Type]]>=40),\"JA\",\"SD\")","v":"SD"},"Jackson","30-039-0860-03",null,null,{"$f":"IFERROR(VLOOKUP(ROWS($J$2:J222),$A$2:$B$996,2,FALSE),\"\")","v":""}]
[{"$f":"IF(ISNUMBER(SEARCH(Cover!$H$13,Table1[[#This Row],[School District]])),MAX($A$1:A222)+1,0)","v":0},"Diamond Lake SD 76",34049076002,2,{"$f":"IF(OR(Table1[[#This Row],[Type]]=0,Table1[[#This Row],[Type]]>=40),\"JA\",\"SD\")","v":"SD"},"Lake","34-049-0760-02",null,null,{"$f":"IFERROR(VLOOKUP(ROWS($J$2:J223),$A$2:$B$996,2,FALSE),\"\")","v":""}]
[{"$f":"IF(ISNUMBER(SEARCH(Cover!$H$13,Table1[[#This Row],[School District]])),MAX($A$1:A223)+1,0)","v":0},"Dieterich CUSD 30",3025030026,26,{"$f":"IF(OR(Table1[[#This Row],[Type]]=0,Table1[[#This Row],[Type]]>=40),\"JA\",\"SD\")","v":"SD"},"Effingham","03-025-0300-26",null,null,{"$f":"IFERROR(VLOOKUP(ROWS($J$2:J224),$A$2:$B$996,2,FALSE),\"\")","v":""}]
[{"$f":"IF(ISNUMBER(SEARCH(Cover!$H$13,Table1[[#This Row],[School District]])),MAX($A$1:A224)+1,0)","v":0},"Dimmick CCSD 175",35050017504,4,{"$f":"IF(OR(Table1[[#This Row],[Type]]=0,Table1[[#This Row],[Type]]>=40),\"JA\",\"SD\")","v":"SD"},"LaSalle/Bureau","35-050-0175-04",null,null,{"$f":"IFERROR(VLOOKUP(ROWS($J$2:J225),$A$2:$B$996,2,FALSE),\"\")","v":""}]
[{"$f":"IF(ISNUMBER(SEARCH(Cover!$H$13,Table1[[#This Row],[School District]])),MAX($A$1:A225)+1,0)","v":0},"District 50 Schools",53090050002,2,{"$f":"IF(OR(Table1[[#This Row],[Type]]=0,Table1[[#This Row],[Type]]>=40),\"JA\",\"SD\")","v":"SD"},"Tazewell","53-090-0500-02",null,null,{"$f":"IFERROR(VLOOKUP(ROWS($J$2:J226),$A$2:$B$996,2,FALSE),\"\")","v":""}]
[{"$f":"IF(ISNUMBER(SEARCH(Cover!$H$13,Table1[[#This Row],[School District]])),MAX($A$1:A226)+1,0)","v":0},"Dixon USD 170",47052170022,22,{"$f":"IF(OR(Table1[[#This Row],[Type]]=0,Table1[[#This Row],[Type]]>=40),\"JA\",\"SD\")","v":"SD"},"Lee/Ogle","47-052-1700-22",null,null,{"$f":"IFERROR(VLOOKUP(ROWS($J$2:J227),$A$2:$B$996,2,FALSE),\"\")","v":""}]
[{"$f":"IF(ISNUMBER(SEARCH(Cover!$H$13,Table1[[#This Row],[School District]])),MAX($A$1:A227)+1,0)","v":0},"Dolton SD 148",7016148002,2,{"$f":"IF(OR(Table1[[#This Row],[Type]]=0,Table1[[#This Row],[Type]]>=40),\"JA\",\"SD\")","v":"SD"},"Cook","07-016-1480-02",null,null,{"$f":"IFERROR(VLOOKUP(ROWS($J$2:J228),$A$2:$B$996,2,FALSE),\"\")","v":""}]
[{"$f":"IF(ISNUMBER(SEARCH(Cover!$H$13,Table1[[#This Row],[School District]])),MAX($A$1:A228)+1,0)","v":0},"Dolton SD 149",7016149002,2,{"$f":"IF(OR(Table1[[#This Row],[Type]]=0,Table1[[#This Row],[Type]]>=40),\"JA\",\"SD\")","v":"SD"},"Cook","07-016-1490-02",null,null,{"$f":"IFERROR(VLOOKUP(ROWS($J$2:J229),$A$2:$B$996,2,FALSE),\"\")","v":""}]
[{"$f":"IF(ISNUMBER(SEARCH(Cover!$H$13,Table1[[#This Row],[School District]])),MAX($A$1:A229)+1,0)","v":0},"Dongola USD 66",30091066022,22,{"$f":"IF(OR(Table1[[#This Row],[Type]]=0,Table1[[#This Row],[Type]]>=40),\"JA\",\"SD\")","v":"SD"},"Union/Alexander/Pulaski","30-091-0660-22",null,null,{"$f":"IFERROR(VLOOKUP(ROWS($J$2:J230),$A$2:$B$996,2,FALSE),\"\")","v":""}]
[{"$f":"IF(ISNUMBER(SEARCH(Cover!$H$13,Table1[[#This Row],[School District]])),MAX($A$1:A230)+1,0)","v":0},"Donovan CUSD 3",32038003026,26,{"$f":"IF(OR(Table1[[#This Row],[Type]]=0,Table1[[#This Row],[Type]]>=40),\"JA\",\"SD\")","v":"SD"},"Iroquois","32-038-0030-26",null,null,{"$f":"IFERROR(VLOOKUP(ROWS($J$2:J231),$A$2:$B$996,2,FALSE),\"\")","v":""}]
[{"$f":"IF(ISNUMBER(SEARCH(Cover!$H$13,Table1[[#This Row],[School District]])),MAX($A$1:A231)+1,0)","v":0},"Downers Grove GSD 58",19022058002,2,{"$f":"IF(OR(Table1[[#This Row],[Type]]=0,Table1[[#This Row],[Type]]>=40),\"JA\",\"SD\")","v":"SD"},"Dupage","19-022-0580-02",null,null,{"$f":"IFERROR(VLOOKUP(ROWS($J$2:J232),$A$2:$B$996,2,FALSE),\"\")","v":""}]
[{"$f":"IF(ISNUMBER(SEARCH(Cover!$H$13,Table1[[#This Row],[School District]])),MAX($A$1:A232)+1,0)","v":0},"Du Quoin CUSD 300",30073300026,26,{"$f":"IF(OR(Table1[[#This Row],[Type]]=0,Table1[[#This Row],[Type]]>=40),\"JA\",\"SD\")","v":"SD"},"Perry","30-073-3000-26",null,null,{"$f":"IFERROR(VLOOKUP(ROWS($J$2:J233),$A$2:$B$996,2,FALSE),\"\")","v":""}]
[{"$f":"IF(ISNUMBER(SEARCH(Cover!$H$13,Table1[[#This Row],[School District]])),MAX($A$1:A233)+1,0)","v":0},"Dunlap CUSD 323",48072323026,26,{"$f":"IF(OR(Table1[[#This Row],[Type]]=0,Table1[[#This Row],[Type]]>=40),\"JA\",\"SD\")","v":"SD"},"Peoria","48-072-3230-26",null,null,{"$f":"IFERROR(VLOOKUP(ROWS($J$2:J234),$A$2:$B$996,2,FALSE),\"\")","v":""}]
[{"$f":"IF(ISNUMBER(SEARCH(Cover!$H$13,Table1[[#This Row],[School District]])),MAX($A$1:A234)+1,0)","v":0},"DuPage Area Occup Ed System (DAOES)",19022502046,46,{"$f":"IF(OR(Table1[[#This Row],[Type]]=0,Table1[[#This Row],[Type]]>=40),\"JA\",\"SD\")","v":"JA"},"DuPage","19-022-5020-46",null,null,{"$f":"IFERROR(VLOOKUP(ROWS($J$2:J235),$A$2:$B$996,2,FALSE),\"\")","v":""}]
[{"$f":"IF(ISNUMBER(SEARCH(Cover!$H$13,Table1[[#This Row],[School District]])),MAX($A$1:A235)+1,0)","v":0},"DuPage HSD 88",19022088016,16,{"$f":"IF(OR(Table1[[#This Row],[Type]]=0,Table1[[#This Row],[Type]]>=40),\"JA\",\"SD\")","v":"SD"},"DuPage","19-022-0880-16",null,null,{"$f":"IFERROR(VLOOKUP(ROWS($J$2:J236),$A$2:$B$996,2,FALSE),\"\")","v":""}]
[{"$f":"IF(ISNUMBER(SEARCH(Cover!$H$13,Table1[[#This Row],[School District]])),MAX($A$1:A236)+1,0)","v":0},"Dupo CUSD 196",50082196026,26,{"$f":"IF(OR(Table1[[#This Row],[Type]]=0,Table1[[#This Row],[Type]]>=40),\"JA\",\"SD\")","v":"SD"},"St. Clair","50-082-1960-26",null,null,{"$f":"IFERROR(VLOOKUP(ROWS($J$2:J237),$A$2:$B$996,2,FALSE),\"\")","v":""}]
[{"$f":"IF(ISNUMBER(SEARCH(Cover!$H$13,Table1[[#This Row],[School District]])),MAX($A$1:A237)+1,0)","v":0},"Durand CUSD 322",4101322026,26,{"$f":"IF(OR(Table1[[#This Row],[Type]]=0,Table1[[#This Row],[Type]]>=40),\"JA\",\"SD\")","v":"SD"},"Winnebago/Stephenson","04-101-3220-26",null,null,{"$f":"IFERROR(VLOOKUP(ROWS($J$2:J238),$A$2:$B$996,2,FALSE),\"\")","v":""}]
[{"$f":"IF(ISNUMBER(SEARCH(Cover!$H$13,Table1[[#This Row],[School District]])),MAX($A$1:A238)+1,0)","v":0},"Dwight Common SD 232",17053232002,2,{"$f":"IF(OR(Table1[[#This Row],[Type]]=0,Table1[[#This Row],[Type]]>=40),\"JA\",\"SD\")","v":"SD"},"Livingston","17-053-2320-02",null,null,{"$f":"IFERROR(VLOOKUP(ROWS($J$2:J239),$A$2:$B$996,2,FALSE),\"\")","v":""}]
[{"$f":"IF(ISNUMBER(SEARCH(Cover!$H$13,Table1[[#This Row],[School District]])),MAX($A$1:A239)+1,0)","v":0},"Dwight Twp HSD 230",17053230017,17,{"$f":"IF(OR(Table1[[#This Row],[Type]]=0,Table1[[#This Row],[Type]]>=40),\"JA\",\"SD\")","v":"SD"},"Livingston","17-053-2300-17",null,null,{"$f":"IFERROR(VLOOKUP(ROWS($J$2:J240),$A$2:$B$996,2,FALSE),\"\")","v":""}]
[{"$f":"IF(ISNUMBER(SEARCH(Cover!$H$13,Table1[[#This Row],[School District]])),MAX($A$1:A240)+1,0)","v":0},"Eagle Ridge Voc Del System",8000000046,46,{"$f":"IF(OR(Table1[[#This Row],[Type]]=0,Table1[[#This Row],[Type]]>=40),\"JA\",\"SD\")","v":"JA"},"Jo Daviess","08-000-0000-46",null,null,{"$f":"IFERROR(VLOOKUP(ROWS($J$2:J241),$A$2:$B$996,2,FALSE),\"\")","v":""}]
[{"$f":"IF(ISNUMBER(SEARCH(Cover!$H$13,Table1[[#This Row],[School District]])),MAX($A$1:A241)+1,0)","v":0},"Earlville CUSD 9",35050009026,26,{"$f":"IF(OR(Table1[[#This Row],[Type]]=0,Table1[[#This Row],[Type]]>=40),\"JA\",\"SD\")","v":"SD"},"LaSalle/DeKalb/Lee","35-050-0090-26",null,null,{"$f":"IFERROR(VLOOKUP(ROWS($J$2:J242),$A$2:$B$996,2,FALSE),\"\")","v":""}]
[{"$f":"IF(ISNUMBER(SEARCH(Cover!$H$13,Table1[[#This Row],[School District]])),MAX($A$1:A242)+1,0)","v":0},"East Alton SD 13",41057013002,2,{"$f":"IF(OR(Table1[[#This Row],[Type]]=0,Table1[[#This Row],[Type]]>=40),\"JA\",\"SD\")","v":"SD"},"Madison","41-057-0130-02",null,null,{"$f":"IFERROR(VLOOKUP(ROWS($J$2:J243),$A$2:$B$996,2,FALSE),\"\")","v":""}]
[{"$f":"IF(ISNUMBER(SEARCH(Cover!$H$13,Table1[[#This Row],[School District]])),MAX($A$1:A243)+1,0)","v":0},"East Alton-Wood River CHSD 14",41057014016,16,{"$f":"IF(OR(Table1[[#This Row],[Type]]=0,Table1[[#This Row],[Type]]>=40),\"JA\",\"SD\")","v":"SD"},"Madison","41-057-0140-16",null,null,{"$f":"IFERROR(VLOOKUP(ROWS($J$2:J244),$A$2:$B$996,2,FALSE),\"\")","v":""}]
[{"$f":"IF(ISNUMBER(SEARCH(Cover!$H$13,Table1[[#This Row],[School District]])),MAX($A$1:A244)+1,0)","v":0},"East Coloma - Nelson CESD 20",47098020002,2,{"$f":"IF(OR(Table1[[#This Row],[Type]]=0,Table1[[#This Row],[Type]]>=40),\"JA\",\"SD\")","v":"SD"},"Lee/Whiteside","47-098-0200-02",null,null,{"$f":"IFERROR(VLOOKUP(ROWS($J$2:J245),$A$2:$B$996,2,FALSE),\"\")","v":""}]
[{"$f":"IF(ISNUMBER(SEARCH(Cover!$H$13,Table1[[#This Row],[School District]])),MAX($A$1:A245)+1,0)","v":0},"East Dubuque USD 119",8043119022,22,{"$f":"IF(OR(Table1[[#This Row],[Type]]=0,Table1[[#This Row],[Type]]>=40),\"JA\",\"SD\")","v":"SD"},"Jo Daviess","08-043-1190-22",null,null,{"$f":"IFERROR(VLOOKUP(ROWS($J$2:J246),$A$2:$B$996,2,FALSE),\"\")","v":""}]
[{"$f":"IF(ISNUMBER(SEARCH(Cover!$H$13,Table1[[#This Row],[School District]])),MAX($A$1:A246)+1,0)","v":0},"East Maine SD 63",5016063002,2,{"$f":"IF(OR(Table1[[#This Row],[Type]]=0,Table1[[#This Row],[Type]]>=40),\"JA\",\"SD\")","v":"SD"},"Cook","05-016-0630-02",null,null,{"$f":"IFERROR(VLOOKUP(ROWS($J$2:J247),$A$2:$B$996,2,FALSE),\"\")","v":""}]
[{"$f":"IF(ISNUMBER(SEARCH(Cover!$H$13,Table1[[#This Row],[School District]])),MAX($A$1:A247)+1,0)","v":0},"East Moline SD 37",49081037002,2,{"$f":"IF(OR(Table1[[#This Row],[Type]]=0,Table1[[#This Row],[Type]]>=40),\"JA\",\"SD\")","v":"SD"},"Rock Island","49-081-0370-02",null,null,{"$f":"IFERROR(VLOOKUP(ROWS($J$2:J248),$A$2:$B$996,2,FALSE),\"\")","v":""}]
[{"$f":"IF(ISNUMBER(SEARCH(Cover!$H$13,Table1[[#This Row],[School District]])),MAX($A$1:A248)+1,0)","v":0},"East Peoria CHSD 309",53090309016,16,{"$f":"IF(OR(Table1[[#This Row],[Type]]=0,Table1[[#This Row],[Type]]>=40),\"JA\",\"SD\")","v":"SD"},"Tazewell","53-090-3090-16",null,null,{"$f":"IFERROR(VLOOKUP(ROWS($J$2:J249),$A$2:$B$996,2,FALSE),\"\")","v":""}]
[{"$f":"IF(ISNUMBER(SEARCH(Cover!$H$13,Table1[[#This Row],[School District]])),MAX($A$1:A249)+1,0)","v":0},"East Peoria SD 86",53090086002,2,{"$f":"IF(OR(Table1[[#This Row],[Type]]=0,Table1[[#This Row],[Type]]>=40),\"JA\",\"SD\")","v":"SD"},"Tazewell","53-090-0860-02",null,null,{"$f":"IFERROR(VLOOKUP(ROWS($J$2:J250),$A$2:$B$996,2,FALSE),\"\")","v":""}]
[{"$f":"IF(ISNUMBER(SEARCH(Cover!$H$13,Table1[[#This Row],[School District]])),MAX($A$1:A250)+1,0)","v":0},"East Prairie SD 73",5016073002,2,{"$f":"IF(OR(Table1[[#This Row],[Type]]=0,Table1[[#This Row],[Type]]>=40),\"JA\",\"SD\")","v":"SD"},"Cook","05-016-0730-02",null,null,{"$f":"IFERROR(VLOOKUP(ROWS($J$2:J251),$A$2:$B$996,2,FALSE),\"\")","v":""}]
[{"$f":"IF(ISNUMBER(SEARCH(Cover!$H$13,Table1[[#This Row],[School District]])),MAX($A$1:A251)+1,0)","v":0},"East St Louis Area Joint Agreement",50082189061,61,{"$f":"IF(OR(Table1[[#This Row],[Type]]=0,Table1[[#This Row],[Type]]>=40),\"JA\",\"SD\")","v":"JA"},"St. Clair","50-082-1890-61",null,null,{"$f":"IFERROR(VLOOKUP(ROWS($J$2:J252),$A$2:$B$996,2,FALSE),\"\")","v":""}]
[{"$f":"IF(ISNUMBER(SEARCH(Cover!$H$13,Table1[[#This Row],[School District]])),MAX($A$1:A252)+1,0)","v":0},"East St Louis Reg Voc System",50082747045,45,{"$f":"IF(OR(Table1[[#This Row],[Type]]=0,Table1[[#This Row],[Type]]>=40),\"JA\",\"SD\")","v":"JA"},"St. Clair","50-082-7470-45",null,null,{"$f":"IFERROR(VLOOKUP(ROWS($J$2:J253),$A$2:$B$996,2,FALSE),\"\")","v":""}]
[{"$f":"IF(ISNUMBER(SEARCH(Cover!$H$13,Table1[[#This Row],[School District]])),MAX($A$1:A253)+1,0)","v":0},"East St Louis SD 189",50082189022,22,{"$f":"IF(OR(Table1[[#This Row],[Type]]=0,Table1[[#This Row],[Type]]>=40),\"JA\",\"SD\")","v":"SD"},"St. Clair","50-082-1890-22",null,null,{"$f":"IFERROR(VLOOKUP(ROWS($J$2:J254),$A$2:$B$996,2,FALSE),\"\")","v":""}]
[{"$f":"IF(ISNUMBER(SEARCH(Cover!$H$13,Table1[[#This Row],[School District]])),MAX($A$1:A254)+1,0)","v":0},"Eastern IL Area of Spec Ed",11015801060,60,{"$f":"IF(OR(Table1[[#This Row],[Type]]=0,Table1[[#This Row],[Type]]>=40),\"JA\",\"SD\")","v":"JA"},"Coles","11-015-8010-60",null,null,{"$f":"IFERROR(VLOOKUP(ROWS($J$2:J255),$A$2:$B$996,2,FALSE),\"\")","v":""}]
[{"$f":"IF(ISNUMBER(SEARCH(Cover!$H$13,Table1[[#This Row],[School District]])),MAX($A$1:A255)+1,0)","v":0},"Eastern IL EFE System",11015735045,45,{"$f":"IF(OR(Table1[[#This Row],[Type]]=0,Table1[[#This Row],[Type]]>=40),\"JA\",\"SD\")","v":"JA"},"Coles","11-015-7350-45",null,null,{"$f":"IFERROR(VLOOKUP(ROWS($J$2:J256),$A$2:$B$996,2,FALSE),\"\")","v":""}]
[{"$f":"IF(ISNUMBER(SEARCH(Cover!$H$13,Table1[[#This Row],[School District]])),MAX($A$1:A256)+1,0)","v":0},"Eastland CUSD 308",8008308026,26,{"$f":"IF(OR(Table1[[#This Row],[Type]]=0,Table1[[#This Row],[Type]]>=40),\"JA\",\"SD\")","v":"SD"},"Carroll/Ogle/Stephenson","08-008-3080-26",null,null,{"$f":"IFERROR(VLOOKUP(ROWS($J$2:J257),$A$2:$B$996,2,FALSE),\"\")","v":""}]
[{"$f":"IF(ISNUMBER(SEARCH(Cover!$H$13,Table1[[#This Row],[School District]])),MAX($A$1:A257)+1,0)","v":0},"Edgar County CUD 6",11023006026,26,{"$f":"IF(OR(Table1[[#This Row],[Type]]=0,Table1[[#This Row],[Type]]>=40),\"JA\",\"SD\")","v":"SD"},"Edgar","11-023-0060-26",null,null,{"$f":"IFERROR(VLOOKUP(ROWS($J$2:J258),$A$2:$B$996,2,FALSE),\"\")","v":""}]
[{"$f":"IF(ISNUMBER(SEARCH(Cover!$H$13,Table1[[#This Row],[School District]])),MAX($A$1:A258)+1,0)","v":0},"Edinburg CUSD 4",3011004026,26,{"$f":"IF(OR(Table1[[#This Row],[Type]]=0,Table1[[#This Row],[Type]]>=40),\"JA\",\"SD\")","v":"SD"},"Christian/Sangamon","03-011-0040-26",null,null,{"$f":"IFERROR(VLOOKUP(ROWS($J$2:J259),$A$2:$B$996,2,FALSE),\"\")","v":""}]
[{"$f":"IF(ISNUMBER(SEARCH(Cover!$H$13,Table1[[#This Row],[School District]])),MAX($A$1:A259)+1,0)","v":0},"Edwards County CUSD 1",20024001026,26,{"$f":"IF(OR(Table1[[#This Row],[Type]]=0,Table1[[#This Row],[Type]]>=40),\"JA\",\"SD\")","v":"SD"},"Edwards","20-024-0010-26",null,null,{"$f":"IFERROR(VLOOKUP(ROWS($J$2:J260),$A$2:$B$996,2,FALSE),\"\")","v":""}]
[{"$f":"IF(ISNUMBER(SEARCH(Cover!$H$13,Table1[[#This Row],[School District]])),MAX($A$1:A260)+1,0)","v":0},"Edwardsville CUSD 7",41057007026,26,{"$f":"IF(OR(Table1[[#This Row],[Type]]=0,Table1[[#This Row],[Type]]>=40),\"JA\",\"SD\")","v":"SD"},"Madison","41-057-0070-26",null,null,{"$f":"IFERROR(VLOOKUP(ROWS($J$2:J261),$A$2:$B$996,2,FALSE),\"\")","v":""}]
[{"$f":"IF(ISNUMBER(SEARCH(Cover!$H$13,Table1[[#This Row],[School District]])),MAX($A$1:A261)+1,0)","v":0},"EFE System 330",9010008046,46,{"$f":"IF(OR(Table1[[#This Row],[Type]]=0,Table1[[#This Row],[Type]]>=40),\"JA\",\"SD\")","v":"JA"},"Champaign","09-010-0080-46",null,null,{"$f":"IFERROR(VLOOKUP(ROWS($J$2:J262),$A$2:$B$996,2,FALSE),\"\")","v":""}]
[{"$f":"IF(ISNUMBER(SEARCH(Cover!$H$13,Table1[[#This Row],[School District]])),MAX($A$1:A262)+1,0)","v":0},"Effingham CUSD 40",3025040026,26,{"$f":"IF(OR(Table1[[#This Row],[Type]]=0,Table1[[#This Row],[Type]]>=40),\"JA\",\"SD\")","v":"SD"},"Effingham","03-025-0400-26",null,null,{"$f":"IFERROR(VLOOKUP(ROWS($J$2:J263),$A$2:$B$996,2,FALSE),\"\")","v":""}]
[{"$f":"IF(ISNUMBER(SEARCH(Cover!$H$13,Table1[[#This Row],[School District]])),MAX($A$1:A263)+1,0)","v":0},"Egyptian CUSD 5",30002005026,26,{"$f":"IF(OR(Table1[[#This Row],[Type]]=0,Table1[[#This Row],[Type]]>=40),\"JA\",\"SD\")","v":"SD"},"Alexander","30-002-0050-26",null,null,{"$f":"IFERROR(VLOOKUP(ROWS($J$2:J264),$A$2:$B$996,2,FALSE),\"\")","v":""}]
[{"$f":"IF(ISNUMBER(SEARCH(Cover!$H$13,Table1[[#This Row],[School District]])),MAX($A$1:A264)+1,0)","v":0},"Eisenhower Coop",7016127561,61,{"$f":"IF(OR(Table1[[#This Row],[Type]]=0,Table1[[#This Row],[Type]]>=40),\"JA\",\"SD\")","v":"JA"},"Cook","07-016-1275-61",null,null,{"$f":"IFERROR(VLOOKUP(ROWS($J$2:J265),$A$2:$B$996,2,FALSE),\"\")","v":""}]
[{"$f":"IF(ISNUMBER(SEARCH(Cover!$H$13,Table1[[#This Row],[School District]])),MAX($A$1:A265)+1,0)","v":0},"El Paso-Gridley CUSD 11",53102011026,26,{"$f":"IF(OR(Table1[[#This Row],[Type]]=0,Table1[[#This Row],[Type]]>=40),\"JA\",\"SD\")","v":"SD"},"Woodford/McLean/Livingston","53-102-0110-26",null,null,{"$f":"IFERROR(VLOOKUP(ROWS($J$2:J266),$A$2:$B$996,2,FALSE),\"\")","v":""}]
[{"$f":"IF(ISNUMBER(SEARCH(Cover!$H$13,Table1[[#This Row],[School District]])),MAX($A$1:A266)+1,0)","v":0},"Eldorado CUSD 4",20083004026,26,{"$f":"IF(OR(Table1[[#This Row],[Type]]=0,Table1[[#This Row],[Type]]>=40),\"JA\",\"SD\")","v":"SD"},"Saline","20-083-0040-26",null,null,{"$f":"IFERROR(VLOOKUP(ROWS($J$2:J267),$A$2:$B$996,2,FALSE),\"\")","v":""}]
[{"$f":"IF(ISNUMBER(SEARCH(Cover!$H$13,Table1[[#This Row],[School District]])),MAX($A$1:A267)+1,0)","v":0},"Elmhurst SD 205",19022205026,26,{"$f":"IF(OR(Table1[[#This Row],[Type]]=0,Table1[[#This Row],[Type]]>=40),\"JA\",\"SD\")","v":"SD"},"DuPage/Cook","19-022-2050-26",null,null,{"$f":"IFERROR(VLOOKUP(ROWS($J$2:J268),$A$2:$B$996,2,FALSE),\"\")","v":""}]
[{"$f":"IF(ISNUMBER(SEARCH(Cover!$H$13,Table1[[#This Row],[School District]])),MAX($A$1:A268)+1,0)","v":0},"Elmwood CUSD 322",48072322026,26,{"$f":"IF(OR(Table1[[#This Row],[Type]]=0,Table1[[#This Row],[Type]]>=40),\"JA\",\"SD\")","v":"SD"},"Peoria/Knox","48-072-3220-26",null,null,{"$f":"IFERROR(VLOOKUP(ROWS($J$2:J269),$A$2:$B$996,2,FALSE),\"\")","v":""}]
[{"$f":"IF(ISNUMBER(SEARCH(Cover!$H$13,Table1[[#This Row],[School District]])),MAX($A$1:A269)+1,0)","v":0},"Elmwood Park CUSD 401",6016401026,26,{"$f":"IF(OR(Table1[[#This Row],[Type]]=0,Table1[[#This Row],[Type]]>=40),\"JA\",\"SD\")","v":"SD"},"Cook","06-016-4010-26",null,null,{"$f":"IFERROR(VLOOKUP(ROWS($J$2:J270),$A$2:$B$996,2,FALSE),\"\")","v":""}]
[{"$f":"IF(ISNUMBER(SEARCH(Cover!$H$13,Table1[[#This Row],[School District]])),MAX($A$1:A270)+1,0)","v":0},"Elverado CUSD 196",30039196026,26,{"$f":"IF(OR(Table1[[#This Row],[Type]]=0,Table1[[#This Row],[Type]]>=40),\"JA\",\"SD\")","v":"SD"},"Jackson","30-039-1960-26",null,null,{"$f":"IFERROR(VLOOKUP(ROWS($J$2:J271),$A$2:$B$996,2,FALSE),\"\")","v":""}]
[{"$f":"IF(ISNUMBER(SEARCH(Cover!$H$13,Table1[[#This Row],[School District]])),MAX($A$1:A271)+1,0)","v":0},"Elwood CCSD 203",56099203004,4,{"$f":"IF(OR(Table1[[#This Row],[Type]]=0,Table1[[#This Row],[Type]]>=40),\"JA\",\"SD\")","v":"SD"},"Will","56-099-2030-04",null,null,{"$f":"IFERROR(VLOOKUP(ROWS($J$2:J272),$A$2:$B$996,2,FALSE),\"\")","v":""}]
[{"$f":"IF(ISNUMBER(SEARCH(Cover!$H$13,Table1[[#This Row],[School District]])),MAX($A$1:A272)+1,0)","v":0},"Emmons SD 33",34049033002,2,{"$f":"IF(OR(Table1[[#This Row],[Type]]=0,Table1[[#This Row],[Type]]>=40),\"JA\",\"SD\")","v":"SD"},"Lake","34-049-0330-02",null,null,{"$f":"IFERROR(VLOOKUP(ROWS($J$2:J273),$A$2:$B$996,2,FALSE),\"\")","v":""}]
[{"$f":"IF(ISNUMBER(SEARCH(Cover!$H$13,Table1[[#This Row],[School District]])),MAX($A$1:A273)+1,0)","v":0},"Erie CUSD 1",47098001026,26,{"$f":"IF(OR(Table1[[#This Row],[Type]]=0,Table1[[#This Row],[Type]]>=40),\"JA\",\"SD\")","v":"SD"},"Whiteside/Rock Island/Henry","47-098-0010-26",null,null,{"$f":"IFERROR(VLOOKUP(ROWS($J$2:J274),$A$2:$B$996,2,FALSE),\"\")","v":""}]
[{"$f":"IF(ISNUMBER(SEARCH(Cover!$H$13,Table1[[#This Row],[School District]])),MAX($A$1:A274)+1,0)","v":0},"ESD 159",7016159002,2,{"$f":"IF(OR(Table1[[#This Row],[Type]]=0,Table1[[#This Row],[Type]]>=40),\"JA\",\"SD\")","v":"SD"},"Cook","07-016-1590-02",null,null,{"$f":"IFERROR(VLOOKUP(ROWS($J$2:J275),$A$2:$B$996,2,FALSE),\"\")","v":""}]
[{"$f":"IF(ISNUMBER(SEARCH(Cover!$H$13,Table1[[#This Row],[School District]])),MAX($A$1:A275)+1,0)","v":0},"Eswood CCSD 269",47071269004,4,{"$f":"IF(OR(Table1[[#This Row],[Type]]=0,Table1[[#This Row],[Type]]>=40),\"JA\",\"SD\")","v":"SD"},"Ogle/DeKalb","47-071-2690-04",null,null,{"$f":"IFERROR(VLOOKUP(ROWS($J$2:J276),$A$2:$B$996,2,FALSE),\"\")","v":""}]
[{"$f":"IF(ISNUMBER(SEARCH(Cover!$H$13,Table1[[#This Row],[School District]])),MAX($A$1:A276)+1,0)","v":0},"Eureka CUD 140",53102140026,26,{"$f":"IF(OR(Table1[[#This Row],[Type]]=0,Table1[[#This Row],[Type]]>=40),\"JA\",\"SD\")","v":"SD"},"Woodford/McLean/Tazewell","53-102-1400-26",null,null,{"$f":"IFERROR(VLOOKUP(ROWS($J$2:J277),$A$2:$B$996,2,FALSE),\"\")","v":""}]
[{"$f":"IF(ISNUMBER(SEARCH(Cover!$H$13,Table1[[#This Row],[School District]])),MAX($A$1:A277)+1,0)","v":0},"Evanston CCSD 65",5016065004,4,{"$f":"IF(OR(Table1[[#This Row],[Type]]=0,Table1[[#This Row],[Type]]>=40),\"JA\",\"SD\")","v":"SD"},"Cook","05-016-0650-04",null,null,{"$f":"IFERROR(VLOOKUP(ROWS($J$2:J278),$A$2:$B$996,2,FALSE),\"\")","v":""}]
[{"$f":"IF(ISNUMBER(SEARCH(Cover!$H$13,Table1[[#This Row],[School District]])),MAX($A$1:A278)+1,0)","v":0},"Evanston Dists 65/202 Joint Agreement",5016065061,61,{"$f":"IF(OR(Table1[[#This Row],[Type]]=0,Table1[[#This Row],[Type]]>=40),\"JA\",\"SD\")","v":"JA"},"Cook","05-016-0650-61",null,null,{"$f":"IFERROR(VLOOKUP(ROWS($J$2:J279),$A$2:$B$996,2,FALSE),\"\")","v":""}]
[{"$f":"IF(ISNUMBER(SEARCH(Cover!$H$13,Table1[[#This Row],[School District]])),MAX($A$1:A279)+1,0)","v":0},"Evanston Twp HSD 202",5016202017,17,{"$f":"IF(OR(Table1[[#This Row],[Type]]=0,Table1[[#This Row],[Type]]>=40),\"JA\",\"SD\")","v":"SD"},"Cook","05-016-2020-17",null,null,{"$f":"IFERROR(VLOOKUP(ROWS($J$2:J280),$A$2:$B$996,2,FALSE),\"\")","v":""}]
[{"$f":"IF(ISNUMBER(SEARCH(Cover!$H$13,Table1[[#This Row],[School District]])),MAX($A$1:A280)+1,0)","v":0},"Evergreen Park CHSD 231",7016231016,16,{"$f":"IF(OR(Table1[[#This Row],[Type]]=0,Table1[[#This Row],[Type]]>=40),\"JA\",\"SD\")","v":"SD"},"Cook","07-016-2310-16",null,null,{"$f":"IFERROR(VLOOKUP(ROWS($J$2:J281),$A$2:$B$996,2,FALSE),\"\")","v":""}]
[{"$f":"IF(ISNUMBER(SEARCH(Cover!$H$13,Table1[[#This Row],[School District]])),MAX($A$1:A281)+1,0)","v":0},"Evergreen Park ESD 124",7016124002,2,{"$f":"IF(OR(Table1[[#This Row],[Type]]=0,Table1[[#This Row],[Type]]>=40),\"JA\",\"SD\")","v":"SD"},"Cook","07-016-1240-02",null,null,{"$f":"IFERROR(VLOOKUP(ROWS($J$2:J282),$A$2:$B$996,2,FALSE),\"\")","v":""}]
[{"$f":"IF(ISNUMBER(SEARCH(Cover!$H$13,Table1[[#This Row],[School District]])),MAX($A$1:A282)+1,0)","v":0},"Ewing Northern CCSD 115",21028115004,4,{"$f":"IF(OR(Table1[[#This Row],[Type]]=0,Table1[[#This Row],[Type]]>=40),\"JA\",\"SD\")","v":"SD"},"Franklin","21-028-1150-04",null,null,{"$f":"IFERROR(VLOOKUP(ROWS($J$2:J283),$A$2:$B$996,2,FALSE),\"\")","v":""}]
[{"$f":"IF(ISNUMBER(SEARCH(Cover!$H$13,Table1[[#This Row],[School District]])),MAX($A$1:A283)+1,0)","v":0},"Exceptional Children Have Opportunities (ECHO)",7016150061,61,{"$f":"IF(OR(Table1[[#This Row],[Type]]=0,Table1[[#This Row],[Type]]>=40),\"JA\",\"SD\")","v":"JA"},"Cook","07-016-1500-61",null,null,{"$f":"IFERROR(VLOOKUP(ROWS($J$2:J284),$A$2:$B$996,2,FALSE),\"\")","v":""}]
[{"$f":"IF(ISNUMBER(SEARCH(Cover!$H$13,Table1[[#This Row],[School District]])),MAX($A$1:A284)+1,0)","v":0},"Exceptional Learners",34049801060,60,{"$f":"IF(OR(Table1[[#This Row],[Type]]=0,Table1[[#This Row],[Type]]>=40),\"JA\",\"SD\")","v":"JA"},"Lake","34-049-8010-60",null,null,{"$f":"IFERROR(VLOOKUP(ROWS($J$2:J285),$A$2:$B$996,2,FALSE),\"\")","v":""}]
[{"$f":"IF(ISNUMBER(SEARCH(Cover!$H$13,Table1[[#This Row],[School District]])),MAX($A$1:A285)+1,0)","v":0},"Fairfield Comm H S Dist 225",20096225016,16,{"$f":"IF(OR(Table1[[#This Row],[Type]]=0,Table1[[#This Row],[Type]]>=40),\"JA\",\"SD\")","v":"SD"},"Wayne","20-096-2250-16",null,null,{"$f":"IFERROR(VLOOKUP(ROWS($J$2:J286),$A$2:$B$996,2,FALSE),\"\")","v":""}]
[{"$f":"IF(ISNUMBER(SEARCH(Cover!$H$13,Table1[[#This Row],[School District]])),MAX($A$1:A286)+1,0)","v":0},"Fairfield PSD 112",20096112004,4,{"$f":"IF(OR(Table1[[#This Row],[Type]]=0,Table1[[#This Row],[Type]]>=40),\"JA\",\"SD\")","v":"SD"},"Wayne","20-096-1120-04",null,null,{"$f":"IFERROR(VLOOKUP(ROWS($J$2:J287),$A$2:$B$996,2,FALSE),\"\")","v":""}]
[{"$f":"IF(ISNUMBER(SEARCH(Cover!$H$13,Table1[[#This Row],[School District]])),MAX($A$1:A287)+1,0)","v":0},"Fairmont SD 89",56099089002,2,{"$f":"IF(OR(Table1[[#This Row],[Type]]=0,Table1[[#This Row],[Type]]>=40),\"JA\",\"SD\")","v":"SD"},"Will","56-099-0890-02",null,null,{"$f":"IFERROR(VLOOKUP(ROWS($J$2:J288),$A$2:$B$996,2,FALSE),\"\")","v":""}]
[{"$f":"IF(ISNUMBER(SEARCH(Cover!$H$13,Table1[[#This Row],[School District]])),MAX($A$1:A288)+1,0)","v":0},"Fairview SD 72",5016072002,2,{"$f":"IF(OR(Table1[[#This Row],[Type]]=0,Table1[[#This Row],[Type]]>=40),\"JA\",\"SD\")","v":"SD"},"Cook","05-016-0720-02",null,null,{"$f":"IFERROR(VLOOKUP(ROWS($J$2:J289),$A$2:$B$996,2,FALSE),\"\")","v":""}]
[{"$f":"IF(ISNUMBER(SEARCH(Cover!$H$13,Table1[[#This Row],[School District]])),MAX($A$1:A289)+1,0)","v":0},"Farmington Central CUSD 265",48072265026,26,{"$f":"IF(OR(Table1[[#This Row],[Type]]=0,Table1[[#This Row],[Type]]>=40),\"JA\",\"SD\")","v":"SD"},"Peoria","48-072-2650-26",null,null,{"$f":"IFERROR(VLOOKUP(ROWS($J$2:J290),$A$2:$B$996,2,FALSE),\"\")","v":""}]
[{"$f":"IF(ISNUMBER(SEARCH(Cover!$H$13,Table1[[#This Row],[School District]])),MAX($A$1:A290)+1,0)","v":0},"Farrington CCSD 99",13041099004,4,{"$f":"IF(OR(Table1[[#This Row],[Type]]=0,Table1[[#This Row],[Type]]>=40),\"JA\",\"SD\")","v":"SD"},"Jefferson","13-041-0990-04",null,null,{"$f":"IFERROR(VLOOKUP(ROWS($J$2:J291),$A$2:$B$996,2,FALSE),\"\")","v":""}]
[{"$f":"IF(ISNUMBER(SEARCH(Cover!$H$13,Table1[[#This Row],[School District]])),MAX($A$1:A291)+1,0)","v":0},"Fenton CHSD 100",19022100016,16,{"$f":"IF(OR(Table1[[#This Row],[Type]]=0,Table1[[#This Row],[Type]]>=40),\"JA\",\"SD\")","v":"SD"},"DuPage","19-022-1000-16",null,null,{"$f":"IFERROR(VLOOKUP(ROWS($J$2:J292),$A$2:$B$996,2,FALSE),\"\")","v":""}]
[{"$f":"IF(ISNUMBER(SEARCH(Cover!$H$13,Table1[[#This Row],[School District]])),MAX($A$1:A292)+1,0)","v":0},"Field CCSD 3",13041003004,4,{"$f":"IF(OR(Table1[[#This Row],[Type]]=0,Table1[[#This Row],[Type]]>=40),\"JA\",\"SD\")","v":"SD"},"Jefferson","13-041-0030-04",null,null,{"$f":"IFERROR(VLOOKUP(ROWS($J$2:J293),$A$2:$B$996,2,FALSE),\"\")","v":""}]
[{"$f":"IF(ISNUMBER(SEARCH(Cover!$H$13,Table1[[#This Row],[School District]])),MAX($A$1:A293)+1,0)","v":0},"Fieldcrest CUSD 6",53102006026,26,{"$f":"IF(OR(Table1[[#This Row],[Type]]=0,Table1[[#This Row],[Type]]>=40),\"JA\",\"SD\")","v":"SD"},"Woodford","53-102-0060-26",null,null,{"$f":"IFERROR(VLOOKUP(ROWS($J$2:J294),$A$2:$B$996,2,FALSE),\"\")","v":""}]
[{"$f":"IF(ISNUMBER(SEARCH(Cover!$H$13,Table1[[#This Row],[School District]])),MAX($A$1:A294)+1,0)","v":0},"Fisher CUSD 1",9010001026,26,{"$f":"IF(OR(Table1[[#This Row],[Type]]=0,Table1[[#This Row],[Type]]>=40),\"JA\",\"SD\")","v":"SD"},"Champaign","09-010-0010-26",null,null,{"$f":"IFERROR(VLOOKUP(ROWS($J$2:J295),$A$2:$B$996,2,FALSE),\"\")","v":""}]
[{"$f":"IF(ISNUMBER(SEARCH(Cover!$H$13,Table1[[#This Row],[School District]])),MAX($A$1:A295)+1,0)","v":0},"Five County Reg Voc Ctr",30002748040,40,{"$f":"IF(OR(Table1[[#This Row],[Type]]=0,Table1[[#This Row],[Type]]>=40),\"JA\",\"SD\")","v":"JA"},"Alexander","30-002-7480-40",null,null,{"$f":"IFERROR(VLOOKUP(ROWS($J$2:J296),$A$2:$B$996,2,FALSE),\"\")","v":""}]
[{"$f":"IF(ISNUMBER(SEARCH(Cover!$H$13,Table1[[#This Row],[School District]])),MAX($A$1:A296)+1,0)","v":0},"Five Cty Reg Voc System",30002748045,45,{"$f":"IF(OR(Table1[[#This Row],[Type]]=0,Table1[[#This Row],[Type]]>=40),\"JA\",\"SD\")","v":"JA"},"Alexander","30-002-7480-45",null,null,{"$f":"IFERROR(VLOOKUP(ROWS($J$2:J297),$A$2:$B$996,2,FALSE),\"\")","v":""}]
[{"$f":"IF(ISNUMBER(SEARCH(Cover!$H$13,Table1[[#This Row],[School District]])),MAX($A$1:A297)+1,0)","v":0},"Flanagan-Cornell Dist 74",17053074027,27,{"$f":"IF(OR(Table1[[#This Row],[Type]]=0,Table1[[#This Row],[Type]]>=40),\"JA\",\"SD\")","v":"SD"},"Livingston","17-053-0740-27",null,null,{"$f":"IFERROR(VLOOKUP(ROWS($J$2:J298),$A$2:$B$996,2,FALSE),\"\")","v":""}]
[{"$f":"IF(ISNUMBER(SEARCH(Cover!$H$13,Table1[[#This Row],[School District]])),MAX($A$1:A298)+1,0)","v":0},"Flora CUSD 35",12013035026,26,{"$f":"IF(OR(Table1[[#This Row],[Type]]=0,Table1[[#This Row],[Type]]>=40),\"JA\",\"SD\")","v":"SD"},"Clay","12-013-0350-26",null,null,{"$f":"IFERROR(VLOOKUP(ROWS($J$2:J299),$A$2:$B$996,2,FALSE),\"\")","v":""}]
[{"$f":"IF(ISNUMBER(SEARCH(Cover!$H$13,Table1[[#This Row],[School District]])),MAX($A$1:A299)+1,0)","v":0},"Flossmoor SD 161",7016161002,2,{"$f":"IF(OR(Table1[[#This Row],[Type]]=0,Table1[[#This Row],[Type]]>=40),\"JA\",\"SD\")","v":"SD"},"Cook","07-016-1610-02",null,null,{"$f":"IFERROR(VLOOKUP(ROWS($J$2:J300),$A$2:$B$996,2,FALSE),\"\")","v":""}]
[{"$f":"IF(ISNUMBER(SEARCH(Cover!$H$13,Table1[[#This Row],[School District]])),MAX($A$1:A300)+1,0)","v":0},"Ford Heights SD 169",7016169002,2,{"$f":"IF(OR(Table1[[#This Row],[Type]]=0,Table1[[#This Row],[Type]]>=40),\"JA\",\"SD\")","v":"SD"},"Cook","07-016-1690-02",null,null,{"$f":"IFERROR(VLOOKUP(ROWS($J$2:J301),$A$2:$B$996,2,FALSE),\"\")","v":""}]
[{"$f":"IF(ISNUMBER(SEARCH(Cover!$H$13,Table1[[#This Row],[School District]])),MAX($A$1:A301)+1,0)","v":0},"Ford Spec Ed Coop",9027005061,61,{"$f":"IF(OR(Table1[[#This Row],[Type]]=0,Table1[[#This Row],[Type]]>=40),\"JA\",\"SD\")","v":"JA"},"Ford","09-027-0050-61",null,null,{"$f":"IFERROR(VLOOKUP(ROWS($J$2:J302),$A$2:$B$996,2,FALSE),\"\")","v":""}]
[{"$f":"IF(ISNUMBER(SEARCH(Cover!$H$13,Table1[[#This Row],[School District]])),MAX($A$1:A302)+1,0)","v":0},"Forest Park SD 91",6016091002,2,{"$f":"IF(OR(Table1[[#This Row],[Type]]=0,Table1[[#This Row],[Type]]>=40),\"JA\",\"SD\")","v":"SD"},"Cook","06-016-0910-02",null,null,{"$f":"IFERROR(VLOOKUP(ROWS($J$2:J303),$A$2:$B$996,2,FALSE),\"\")","v":""}]
[{"$f":"IF(ISNUMBER(SEARCH(Cover!$H$13,Table1[[#This Row],[School District]])),MAX($A$1:A303)+1,0)","v":0},"Forest Ridge SD 142",7016142002,2,{"$f":"IF(OR(Table1[[#This Row],[Type]]=0,Table1[[#This Row],[Type]]>=40),\"JA\",\"SD\")","v":"SD"},"Cook","07-016-1420-02",null,null,{"$f":"IFERROR(VLOOKUP(ROWS($J$2:J304),$A$2:$B$996,2,FALSE),\"\")","v":""}]
[{"$f":"IF(ISNUMBER(SEARCH(Cover!$H$13,Table1[[#This Row],[School District]])),MAX($A$1:A304)+1,0)","v":0},"Forrestville Valley CUSD 221",47071221026,26,{"$f":"IF(OR(Table1[[#This Row],[Type]]=0,Table1[[#This Row],[Type]]>=40),\"JA\",\"SD\")","v":"SD"},"Ogle","47-071-2210-26",null,null,{"$f":"IFERROR(VLOOKUP(ROWS($J$2:J305),$A$2:$B$996,2,FALSE),\"\")","v":""}]
[{"$f":"IF(ISNUMBER(SEARCH(Cover!$H$13,Table1[[#This Row],[School District]])),MAX($A$1:A305)+1,0)","v":0},"Four Rivers Spec Ed Dist",1069801060,60,{"$f":"IF(OR(Table1[[#This Row],[Type]]=0,Table1[[#This Row],[Type]]>=40),\"JA\",\"SD\")","v":"JA"},"Brown/Calhoun/Cass/Greene/Macoupin/Morgan/Pike/Scott","01-069-8010-60",null,null,{"$f":"IFERROR(VLOOKUP(ROWS($J$2:J306),$A$2:$B$996,2,FALSE),\"\")","v":""}]
[{"$f":"IF(ISNUMBER(SEARCH(Cover!$H$13,Table1[[#This Row],[School District]])),MAX($A$1:A306)+1,0)","v":0},"Fox Lake GSD 114",34049114002,2,{"$f":"IF(OR(Table1[[#This Row],[Type]]=0,Table1[[#This Row],[Type]]>=40),\"JA\",\"SD\")","v":"SD"},"Lake","34-049-1140-02",null,null,{"$f":"IFERROR(VLOOKUP(ROWS($J$2:J307),$A$2:$B$996,2,FALSE),\"\")","v":""}]
[{"$f":"IF(ISNUMBER(SEARCH(Cover!$H$13,Table1[[#This Row],[School District]])),MAX($A$1:A307)+1,0)","v":0},"Fox River Grove Cons SD 3",44063003003,3,{"$f":"IF(OR(Table1[[#This Row],[Type]]=0,Table1[[#This Row],[Type]]>=40),\"JA\",\"SD\")","v":"SD"},"McHenry","44-063-0030-03",null,null,{"$f":"IFERROR(VLOOKUP(ROWS($J$2:J308),$A$2:$B$996,2,FALSE),\"\")","v":""}]
[{"$f":"IF(ISNUMBER(SEARCH(Cover!$H$13,Table1[[#This Row],[School District]])),MAX($A$1:A308)+1,0)","v":0},"Fox Valley Career Ctr",31045302041,41,{"$f":"IF(OR(Table1[[#This Row],[Type]]=0,Table1[[#This Row],[Type]]>=40),\"JA\",\"SD\")","v":"JA"},"Kane","31-045-3020-41",null,null,{"$f":"IFERROR(VLOOKUP(ROWS($J$2:J309),$A$2:$B$996,2,FALSE),\"\")","v":""}]
[{"$f":"IF(ISNUMBER(SEARCH(Cover!$H$13,Table1[[#This Row],[School District]])),MAX($A$1:A309)+1,0)","v":0},"Frankfort CCSD 157C","56099157C04",4,{"$f":"IF(OR(Table1[[#This Row],[Type]]=0,Table1[[#This Row],[Type]]>=40),\"JA\",\"SD\")","v":"SD"},"Will/Cook","56-099-157C-04",null,null,{"$f":"IFERROR(VLOOKUP(ROWS($J$2:J310),$A$2:$B$996,2,FALSE),\"\")","v":""}]
[{"$f":"IF(ISNUMBER(SEARCH(Cover!$H$13,Table1[[#This Row],[School District]])),MAX($A$1:A310)+1,0)","v":0},"Frankfort CUSD 168",21028168026,26,{"$f":"IF(OR(Table1[[#This Row],[Type]]=0,Table1[[#This Row],[Type]]>=40),\"JA\",\"SD\")","v":"SD"},"Franklin/Williamson","21-028-1680-26",null,null,{"$f":"IFERROR(VLOOKUP(ROWS($J$2:J311),$A$2:$B$996,2,FALSE),\"\")","v":""}]
[{"$f":"IF(ISNUMBER(SEARCH(Cover!$H$13,Table1[[#This Row],[School District]])),MAX($A$1:A311)+1,0)","v":0},"Franklin Cty Reg Del System",21000000046,46,{"$f":"IF(OR(Table1[[#This Row],[Type]]=0,Table1[[#This Row],[Type]]>=40),\"JA\",\"SD\")","v":"JA"},"Franklin","21-000-0000-46",null,null,{"$f":"IFERROR(VLOOKUP(ROWS($J$2:J312),$A$2:$B$996,2,FALSE),\"\")","v":""}]
[{"$f":"IF(ISNUMBER(SEARCH(Cover!$H$13,Table1[[#This Row],[School District]])),MAX($A$1:A312)+1,0)","v":0},"Franklin CUSD 1",1069001026,26,{"$f":"IF(OR(Table1[[#This Row],[Type]]=0,Table1[[#This Row],[Type]]>=40),\"JA\",\"SD\")","v":"SD"},"Morgan","01-069-0010-26",null,null,{"$f":"IFERROR(VLOOKUP(ROWS($J$2:J313),$A$2:$B$996,2,FALSE),\"\")","v":""}]
[{"$f":"IF(ISNUMBER(SEARCH(Cover!$H$13,Table1[[#This Row],[School District]])),MAX($A$1:A313)+1,0)","v":0},"Franklin Park SD 84",6016084002,2,{"$f":"IF(OR(Table1[[#This Row],[Type]]=0,Table1[[#This Row],[Type]]>=40),\"JA\",\"SD\")","v":"SD"},"Cook","06-016-0840-02",null,null,{"$f":"IFERROR(VLOOKUP(ROWS($J$2:J314),$A$2:$B$996,2,FALSE),\"\")","v":""}]
[{"$f":"IF(ISNUMBER(SEARCH(Cover!$H$13,Table1[[#This Row],[School District]])),MAX($A$1:A314)+1,0)","v":0},"Franklin-Jefferson Cty Spec Ed Dist",13041801060,60,{"$f":"IF(OR(Table1[[#This Row],[Type]]=0,Table1[[#This Row],[Type]]>=40),\"JA\",\"SD\")","v":"JA"},"Jefferson","13-041-8010-60",null,null,{"$f":"IFERROR(VLOOKUP(ROWS($J$2:J315),$A$2:$B$996,2,FALSE),\"\")","v":""}]
[{"$f":"IF(ISNUMBER(SEARCH(Cover!$H$13,Table1[[#This Row],[School District]])),MAX($A$1:A315)+1,0)","v":0},"Freeburg CCSD 70",50082070004,4,{"$f":"IF(OR(Table1[[#This Row],[Type]]=0,Table1[[#This Row],[Type]]>=40),\"JA\",\"SD\")","v":"SD"},"St. Clair","50-082-0700-04",null,null,{"$f":"IFERROR(VLOOKUP(ROWS($J$2:J316),$A$2:$B$996,2,FALSE),\"\")","v":""}]
[{"$f":"IF(ISNUMBER(SEARCH(Cover!$H$13,Table1[[#This Row],[School District]])),MAX($A$1:A316)+1,0)","v":0},"Freeburg CHSD 77",50082077016,16,{"$f":"IF(OR(Table1[[#This Row],[Type]]=0,Table1[[#This Row],[Type]]>=40),\"JA\",\"SD\")","v":"SD"},"St. Clair","50-082-0770-16",null,null,{"$f":"IFERROR(VLOOKUP(ROWS($J$2:J317),$A$2:$B$996,2,FALSE),\"\")","v":""}]
[{"$f":"IF(ISNUMBER(SEARCH(Cover!$H$13,Table1[[#This Row],[School District]])),MAX($A$1:A317)+1,0)","v":0},"Freeport SD 145",8089145022,22,{"$f":"IF(OR(Table1[[#This Row],[Type]]=0,Table1[[#This Row],[Type]]>=40),\"JA\",\"SD\")","v":"SD"},"Stephenson","08-089-1450-22",null,null,{"$f":"IFERROR(VLOOKUP(ROWS($J$2:J318),$A$2:$B$996,2,FALSE),\"\")","v":""}]
[{"$f":"IF(ISNUMBER(SEARCH(Cover!$H$13,Table1[[#This Row],[School District]])),MAX($A$1:A318)+1,0)","v":0},"Fremont SD 79",34049079002,2,{"$f":"IF(OR(Table1[[#This Row],[Type]]=0,Table1[[#This Row],[Type]]>=40),\"JA\",\"SD\")","v":"SD"},"Lake","34-049-0790-02",null,null,{"$f":"IFERROR(VLOOKUP(ROWS($J$2:J319),$A$2:$B$996,2,FALSE),\"\")","v":""}]
[{"$f":"IF(ISNUMBER(SEARCH(Cover!$H$13,Table1[[#This Row],[School District]])),MAX($A$1:A319)+1,0)","v":0},"Galatia CUSD 1",20083001026,26,{"$f":"IF(OR(Table1[[#This Row],[Type]]=0,Table1[[#This Row],[Type]]>=40),\"JA\",\"SD\")","v":"SD"},"Saline","20-083-0010-26",null,null,{"$f":"IFERROR(VLOOKUP(ROWS($J$2:J320),$A$2:$B$996,2,FALSE),\"\")","v":""}]
[{"$f":"IF(ISNUMBER(SEARCH(Cover!$H$13,Table1[[#This Row],[School District]])),MAX($A$1:A320)+1,0)","v":0},"Galena USD 120",8043120022,22,{"$f":"IF(OR(Table1[[#This Row],[Type]]=0,Table1[[#This Row],[Type]]>=40),\"JA\",\"SD\")","v":"SD"},"Jo Daviess","08-043-1200-22",null,null,{"$f":"IFERROR(VLOOKUP(ROWS($J$2:J321),$A$2:$B$996,2,FALSE),\"\")","v":""}]
[{"$f":"IF(ISNUMBER(SEARCH(Cover!$H$13,Table1[[#This Row],[School District]])),MAX($A$1:A321)+1,0)","v":0},"Galesburg Area Voc Ctr",33048205041,41,{"$f":"IF(OR(Table1[[#This Row],[Type]]=0,Table1[[#This Row],[Type]]>=40),\"JA\",\"SD\")","v":"JA"},"Knox/Warren","33-048-2050-41",null,null,{"$f":"IFERROR(VLOOKUP(ROWS($J$2:J322),$A$2:$B$996,2,FALSE),\"\")","v":""}]
[{"$f":"IF(ISNUMBER(SEARCH(Cover!$H$13,Table1[[#This Row],[School District]])),MAX($A$1:A322)+1,0)","v":0},"Galesburg CUSD 205",33048205026,26,{"$f":"IF(OR(Table1[[#This Row],[Type]]=0,Table1[[#This Row],[Type]]>=40),\"JA\",\"SD\")","v":"SD"},"Knox/Warren","33-048-2050-26",null,null,{"$f":"IFERROR(VLOOKUP(ROWS($J$2:J323),$A$2:$B$996,2,FALSE),\"\")","v":""}]
[{"$f":"IF(ISNUMBER(SEARCH(Cover!$H$13,Table1[[#This Row],[School District]])),MAX($A$1:A323)+1,0)","v":0},"Gallatin CUSD 7",20030007026,26,{"$f":"IF(OR(Table1[[#This Row],[Type]]=0,Table1[[#This Row],[Type]]>=40),\"JA\",\"SD\")","v":"SD"},"Gallatin","20-030-0070-26",null,null,{"$f":"IFERROR(VLOOKUP(ROWS($J$2:J324),$A$2:$B$996,2,FALSE),\"\")","v":""}]
[{"$f":"IF(ISNUMBER(SEARCH(Cover!$H$13,Table1[[#This Row],[School District]])),MAX($A$1:A324)+1,0)","v":0},"Galva CUSD 224",28037224026,26,{"$f":"IF(OR(Table1[[#This Row],[Type]]=0,Table1[[#This Row],[Type]]>=40),\"JA\",\"SD\")","v":"SD"},"Henry/Knox","28-037-2240-26",null,null,{"$f":"IFERROR(VLOOKUP(ROWS($J$2:J325),$A$2:$B$996,2,FALSE),\"\")","v":""}]
[{"$f":"IF(ISNUMBER(SEARCH(Cover!$H$13,Table1[[#This Row],[School District]])),MAX($A$1:A325)+1,0)","v":0},"Gardner CCSD 72C","24032072C04",4,{"$f":"IF(OR(Table1[[#This Row],[Type]]=0,Table1[[#This Row],[Type]]>=40),\"JA\",\"SD\")","v":"SD"},"Grundy","24-032-072C-04",null,null,{"$f":"IFERROR(VLOOKUP(ROWS($J$2:J326),$A$2:$B$996,2,FALSE),\"\")","v":""}]
[{"$f":"IF(ISNUMBER(SEARCH(Cover!$H$13,Table1[[#This Row],[School District]])),MAX($A$1:A326)+1,0)","v":0},"Gardner S Wilmington Twp HSD 73",24032073017,17,{"$f":"IF(OR(Table1[[#This Row],[Type]]=0,Table1[[#This Row],[Type]]>=40),\"JA\",\"SD\")","v":"SD"},"Grundy/Kankakee","24-032-0730-17",null,null,{"$f":"IFERROR(VLOOKUP(ROWS($J$2:J327),$A$2:$B$996,2,FALSE),\"\")","v":""}]
[{"$f":"IF(ISNUMBER(SEARCH(Cover!$H$13,Table1[[#This Row],[School District]])),MAX($A$1:A327)+1,0)","v":0},"Gavin SD 37",34049037002,2,{"$f":"IF(OR(Table1[[#This Row],[Type]]=0,Table1[[#This Row],[Type]]>=40),\"JA\",\"SD\")","v":"SD"},"Lake","34-049-0370-02",null,null,{"$f":"IFERROR(VLOOKUP(ROWS($J$2:J328),$A$2:$B$996,2,FALSE),\"\")","v":""}]
[{"$f":"IF(ISNUMBER(SEARCH(Cover!$H$13,Table1[[#This Row],[School District]])),MAX($A$1:A328)+1,0)","v":0},"Geff CCSD 14",20096014004,4,{"$f":"IF(OR(Table1[[#This Row],[Type]]=0,Table1[[#This Row],[Type]]>=40),\"JA\",\"SD\")","v":"SD"},"Wayne","20-096-0140-04",null,null,{"$f":"IFERROR(VLOOKUP(ROWS($J$2:J329),$A$2:$B$996,2,FALSE),\"\")","v":""}]
[{"$f":"IF(ISNUMBER(SEARCH(Cover!$H$13,Table1[[#This Row],[School District]])),MAX($A$1:A329)+1,0)","v":0},"Gen George Patton SD 133",7016133002,2,{"$f":"IF(OR(Table1[[#This Row],[Type]]=0,Table1[[#This Row],[Type]]>=40),\"JA\",\"SD\")","v":"SD"},"Cook","07-016-1330-02",null,null,{"$f":"IFERROR(VLOOKUP(ROWS($J$2:J330),$A$2:$B$996,2,FALSE),\"\")","v":""}]
[{"$f":"IF(ISNUMBER(SEARCH(Cover!$H$13,Table1[[#This Row],[School District]])),MAX($A$1:A330)+1,0)","v":0},"Geneseo CUSD 228",28037228026,26,{"$f":"IF(OR(Table1[[#This Row],[Type]]=0,Table1[[#This Row],[Type]]>=40),\"JA\",\"SD\")","v":"SD"},"Henry/Whiteside","28-037-2280-26",null,null,{"$f":"IFERROR(VLOOKUP(ROWS($J$2:J331),$A$2:$B$996,2,FALSE),\"\")","v":""}]
[{"$f":"IF(ISNUMBER(SEARCH(Cover!$H$13,Table1[[#This Row],[School District]])),MAX($A$1:A331)+1,0)","v":0},"Geneva CUSD 304",31045304026,26,{"$f":"IF(OR(Table1[[#This Row],[Type]]=0,Table1[[#This Row],[Type]]>=40),\"JA\",\"SD\")","v":"SD"},"Kane","31-045-3040-26",null,null,{"$f":"IFERROR(VLOOKUP(ROWS($J$2:J332),$A$2:$B$996,2,FALSE),\"\")","v":""}]
[{"$f":"IF(ISNUMBER(SEARCH(Cover!$H$13,Table1[[#This Row],[School District]])),MAX($A$1:A332)+1,0)","v":0},"Genoa Kingston CUSD 424",16019424026,26,{"$f":"IF(OR(Table1[[#This Row],[Type]]=0,Table1[[#This Row],[Type]]>=40),\"JA\",\"SD\")","v":"SD"},"Dekalb","16-019-4240-26",null,null,{"$f":"IFERROR(VLOOKUP(ROWS($J$2:J333),$A$2:$B$996,2,FALSE),\"\")","v":""}]
[{"$f":"IF(ISNUMBER(SEARCH(Cover!$H$13,Table1[[#This Row],[School District]])),MAX($A$1:A333)+1,0)","v":0},"Georgetown-Ridge Farm CUD 4",54092004026,26,{"$f":"IF(OR(Table1[[#This Row],[Type]]=0,Table1[[#This Row],[Type]]>=40),\"JA\",\"SD\")","v":"SD"},"Vermilion","54-092-0040-26",null,null,{"$f":"IFERROR(VLOOKUP(ROWS($J$2:J334),$A$2:$B$996,2,FALSE),\"\")","v":""}]
[{"$f":"IF(ISNUMBER(SEARCH(Cover!$H$13,Table1[[#This Row],[School District]])),MAX($A$1:A334)+1,0)","v":0},"Germantown Hills SD 69",53102069002,2,{"$f":"IF(OR(Table1[[#This Row],[Type]]=0,Table1[[#This Row],[Type]]>=40),\"JA\",\"SD\")","v":"SD"},"Woodford","53-102-0690-02",null,null,{"$f":"IFERROR(VLOOKUP(ROWS($J$2:J335),$A$2:$B$996,2,FALSE),\"\")","v":""}]
[{"$f":"IF(ISNUMBER(SEARCH(Cover!$H$13,Table1[[#This Row],[School District]])),MAX($A$1:A335)+1,0)","v":0},"Germantown SD 60",13014060002,2,{"$f":"IF(OR(Table1[[#This Row],[Type]]=0,Table1[[#This Row],[Type]]>=40),\"JA\",\"SD\")","v":"SD"},"Clinton","13-014-0600-02",null,null,{"$f":"IFERROR(VLOOKUP(ROWS($J$2:J336),$A$2:$B$996,2,FALSE),\"\")","v":""}]
[{"$f":"IF(ISNUMBER(SEARCH(Cover!$H$13,Table1[[#This Row],[School District]])),MAX($A$1:A336)+1,0)","v":0},"Giant City CCSD 130",30039130004,4,{"$f":"IF(OR(Table1[[#This Row],[Type]]=0,Table1[[#This Row],[Type]]>=40),\"JA\",\"SD\")","v":"SD"},"Jackson","30-039-1300-04",null,null,{"$f":"IFERROR(VLOOKUP(ROWS($J$2:J337),$A$2:$B$996,2,FALSE),\"\")","v":""}]
[{"$f":"IF(ISNUMBER(SEARCH(Cover!$H$13,Table1[[#This Row],[School District]])),MAX($A$1:A337)+1,0)","v":0},"Gibson City-Melvin-Sibley CUSD 5",9027005026,26,{"$f":"IF(OR(Table1[[#This Row],[Type]]=0,Table1[[#This Row],[Type]]>=40),\"JA\",\"SD\")","v":"SD"},"Ford","09-027-0050-26",null,null,{"$f":"IFERROR(VLOOKUP(ROWS($J$2:J338),$A$2:$B$996,2,FALSE),\"\")","v":""}]
[{"$f":"IF(ISNUMBER(SEARCH(Cover!$H$13,Table1[[#This Row],[School District]])),MAX($A$1:A338)+1,0)","v":0},"Gifford CCSD 188",9010188004,4,{"$f":"IF(OR(Table1[[#This Row],[Type]]=0,Table1[[#This Row],[Type]]>=40),\"JA\",\"SD\")","v":"SD"},"Champaign","09-010-1880-04",null,null,{"$f":"IFERROR(VLOOKUP(ROWS($J$2:J339),$A$2:$B$996,2,FALSE),\"\")","v":""}]
[{"$f":"IF(ISNUMBER(SEARCH(Cover!$H$13,Table1[[#This Row],[School District]])),MAX($A$1:A339)+1,0)","v":0},"Gillespie CUSD 7",40056007026,26,{"$f":"IF(OR(Table1[[#This Row],[Type]]=0,Table1[[#This Row],[Type]]>=40),\"JA\",\"SD\")","v":"SD"},"Macoupin","40-056-0070-26",null,null,{"$f":"IFERROR(VLOOKUP(ROWS($J$2:J340),$A$2:$B$996,2,FALSE),\"\")","v":""}]
[{"$f":"IF(ISNUMBER(SEARCH(Cover!$H$13,Table1[[#This Row],[School District]])),MAX($A$1:A340)+1,0)","v":0},"Glen Ellyn SD 41",19022041002,2,{"$f":"IF(OR(Table1[[#This Row],[Type]]=0,Table1[[#This Row],[Type]]>=40),\"JA\",\"SD\")","v":"SD"},"DuPage","19-022-0410-02",null,null,{"$f":"IFERROR(VLOOKUP(ROWS($J$2:J341),$A$2:$B$996,2,FALSE),\"\")","v":""}]
[{"$f":"IF(ISNUMBER(SEARCH(Cover!$H$13,Table1[[#This Row],[School District]])),MAX($A$1:A341)+1,0)","v":0},"Glenbard Twp HSD 87",19022087017,17,{"$f":"IF(OR(Table1[[#This Row],[Type]]=0,Table1[[#This Row],[Type]]>=40),\"JA\",\"SD\")","v":"SD"},"DuPage","19-022-0870-17",null,null,{"$f":"IFERROR(VLOOKUP(ROWS($J$2:J342),$A$2:$B$996,2,FALSE),\"\")","v":""}]
[{"$f":"IF(ISNUMBER(SEARCH(Cover!$H$13,Table1[[#This Row],[School District]])),MAX($A$1:A342)+1,0)","v":0},"Glencoe SD 35",5016035002,2,{"$f":"IF(OR(Table1[[#This Row],[Type]]=0,Table1[[#This Row],[Type]]>=40),\"JA\",\"SD\")","v":"SD"},"Cook","05-016-0350-02",null,null,{"$f":"IFERROR(VLOOKUP(ROWS($J$2:J343),$A$2:$B$996,2,FALSE),\"\")","v":""}]
[{"$f":"IF(ISNUMBER(SEARCH(Cover!$H$13,Table1[[#This Row],[School District]])),MAX($A$1:A343)+1,0)","v":0},"Glenview CCSD 34",5016034004,4,{"$f":"IF(OR(Table1[[#This Row],[Type]]=0,Table1[[#This Row],[Type]]>=40),\"JA\",\"SD\")","v":"SD"},"Cook","05-016-0340-04",null,null,{"$f":"IFERROR(VLOOKUP(ROWS($J$2:J344),$A$2:$B$996,2,FALSE),\"\")","v":""}]
[{"$f":"IF(ISNUMBER(SEARCH(Cover!$H$13,Table1[[#This Row],[School District]])),MAX($A$1:A344)+1,0)","v":0},"Golf ESD 67",5016067002,2,{"$f":"IF(OR(Table1[[#This Row],[Type]]=0,Table1[[#This Row],[Type]]>=40),\"JA\",\"SD\")","v":"SD"},"Cook","05-016-0670-02",null,null,{"$f":"IFERROR(VLOOKUP(ROWS($J$2:J345),$A$2:$B$996,2,FALSE),\"\")","v":""}]
[{"$f":"IF(ISNUMBER(SEARCH(Cover!$H$13,Table1[[#This Row],[School District]])),MAX($A$1:A345)+1,0)","v":0},"Goreville CUD 1",21044001026,26,{"$f":"IF(OR(Table1[[#This Row],[Type]]=0,Table1[[#This Row],[Type]]>=40),\"JA\",\"SD\")","v":"SD"},"Johnson","21-044-0010-26",null,null,{"$f":"IFERROR(VLOOKUP(ROWS($J$2:J346),$A$2:$B$996,2,FALSE),\"\")","v":""}]
[{"$f":"IF(ISNUMBER(SEARCH(Cover!$H$13,Table1[[#This Row],[School District]])),MAX($A$1:A346)+1,0)","v":0},"Gower SD 62",19022062002,2,{"$f":"IF(OR(Table1[[#This Row],[Type]]=0,Table1[[#This Row],[Type]]>=40),\"JA\",\"SD\")","v":"SD"},"DuPage","19-022-0620-02",null,null,{"$f":"IFERROR(VLOOKUP(ROWS($J$2:J347),$A$2:$B$996,2,FALSE),\"\")","v":""}]
[{"$f":"IF(ISNUMBER(SEARCH(Cover!$H$13,Table1[[#This Row],[School District]])),MAX($A$1:A347)+1,0)","v":0},"Grand Prairie CCSD 6",13041006004,4,{"$f":"IF(OR(Table1[[#This Row],[Type]]=0,Table1[[#This Row],[Type]]>=40),\"JA\",\"SD\")","v":"SD"},"Jefferson","13-041-0060-04",null,null,{"$f":"IFERROR(VLOOKUP(ROWS($J$2:J348),$A$2:$B$996,2,FALSE),\"\")","v":""}]
[{"$f":"IF(ISNUMBER(SEARCH(Cover!$H$13,Table1[[#This Row],[School District]])),MAX($A$1:A348)+1,0)","v":0},"Grand Ridge CCSD 95",35050095004,4,{"$f":"IF(OR(Table1[[#This Row],[Type]]=0,Table1[[#This Row],[Type]]>=40),\"JA\",\"SD\")","v":"SD"},"LaSalle","35-050-0950-04",null,null,{"$f":"IFERROR(VLOOKUP(ROWS($J$2:J349),$A$2:$B$996,2,FALSE),\"\")","v":""}]
[{"$f":"IF(ISNUMBER(SEARCH(Cover!$H$13,Table1[[#This Row],[School District]])),MAX($A$1:A349)+1,0)","v":0},"Granite City CUSD 9",41057009026,26,{"$f":"IF(OR(Table1[[#This Row],[Type]]=0,Table1[[#This Row],[Type]]>=40),\"JA\",\"SD\")","v":"SD"},"Madison","41-057-0090-26",null,null,{"$f":"IFERROR(VLOOKUP(ROWS($J$2:J350),$A$2:$B$996,2,FALSE),\"\")","v":""}]
[{"$f":"IF(ISNUMBER(SEARCH(Cover!$H$13,Table1[[#This Row],[School District]])),MAX($A$1:A350)+1,0)","v":0},"Grant CCSD 110",50082110004,4,{"$f":"IF(OR(Table1[[#This Row],[Type]]=0,Table1[[#This Row],[Type]]>=40),\"JA\",\"SD\")","v":"SD"},"St. Clair","50-082-1100-04",null,null,{"$f":"IFERROR(VLOOKUP(ROWS($J$2:J351),$A$2:$B$996,2,FALSE),\"\")","v":""}]
[{"$f":"IF(ISNUMBER(SEARCH(Cover!$H$13,Table1[[#This Row],[School District]])),MAX($A$1:A351)+1,0)","v":0},"Grant CHSD 124",34049124016,16,{"$f":"IF(OR(Table1[[#This Row],[Type]]=0,Table1[[#This Row],[Type]]>=40),\"JA\",\"SD\")","v":"SD"},"Lake","34-049-1240-16",null,null,{"$f":"IFERROR(VLOOKUP(ROWS($J$2:J352),$A$2:$B$996,2,FALSE),\"\")","v":""}]
[{"$f":"IF(ISNUMBER(SEARCH(Cover!$H$13,Table1[[#This Row],[School District]])),MAX($A$1:A352)+1,0)","v":0},"Grant Park CUSD 6",32046006026,26,{"$f":"IF(OR(Table1[[#This Row],[Type]]=0,Table1[[#This Row],[Type]]>=40),\"JA\",\"SD\")","v":"SD"},"Kankakee","32-046-0060-26",null,null,{"$f":"IFERROR(VLOOKUP(ROWS($J$2:J353),$A$2:$B$996,2,FALSE),\"\")","v":""}]
[{"$f":"IF(ISNUMBER(SEARCH(Cover!$H$13,Table1[[#This Row],[School District]])),MAX($A$1:A353)+1,0)","v":0},"Grass Lake SD 36",34049036002,2,{"$f":"IF(OR(Table1[[#This Row],[Type]]=0,Table1[[#This Row],[Type]]>=40),\"JA\",\"SD\")","v":"SD"},"Lake","34-049-0360-02",null,null,{"$f":"IFERROR(VLOOKUP(ROWS($J$2:J354),$A$2:$B$996,2,FALSE),\"\")","v":""}]
[{"$f":"IF(ISNUMBER(SEARCH(Cover!$H$13,Table1[[#This Row],[School District]])),MAX($A$1:A354)+1,0)","v":0},"Grayslake CCSD 46",34049046004,4,{"$f":"IF(OR(Table1[[#This Row],[Type]]=0,Table1[[#This Row],[Type]]>=40),\"JA\",\"SD\")","v":"SD"},"Lake","34-049-0460-04",null,null,{"$f":"IFERROR(VLOOKUP(ROWS($J$2:J355),$A$2:$B$996,2,FALSE),\"\")","v":""}]
[{"$f":"IF(ISNUMBER(SEARCH(Cover!$H$13,Table1[[#This Row],[School District]])),MAX($A$1:A355)+1,0)","v":0},"Grayslake CHSD 127",34049127016,16,{"$f":"IF(OR(Table1[[#This Row],[Type]]=0,Table1[[#This Row],[Type]]>=40),\"JA\",\"SD\")","v":"SD"},"Lake","34-049-1270-16",null,null,{"$f":"IFERROR(VLOOKUP(ROWS($J$2:J356),$A$2:$B$996,2,FALSE),\"\")","v":""}]
[{"$f":"IF(ISNUMBER(SEARCH(Cover!$H$13,Table1[[#This Row],[School District]])),MAX($A$1:A356)+1,0)","v":0},"Grayville CUSD 1",20097001026,26,{"$f":"IF(OR(Table1[[#This Row],[Type]]=0,Table1[[#This Row],[Type]]>=40),\"JA\",\"SD\")","v":"SD"},"White/Edwards/Wayne/Wabash","20-097-0010-26",null,null,{"$f":"IFERROR(VLOOKUP(ROWS($J$2:J357),$A$2:$B$996,2,FALSE),\"\")","v":""}]
[{"$f":"IF(ISNUMBER(SEARCH(Cover!$H$13,Table1[[#This Row],[School District]])),MAX($A$1:A357)+1,0)","v":0},"Greenfield CUSD 10",40031010026,26,{"$f":"IF(OR(Table1[[#This Row],[Type]]=0,Table1[[#This Row],[Type]]>=40),\"JA\",\"SD\")","v":"SD"},"Greene","40-031-0100-26",null,null,{"$f":"IFERROR(VLOOKUP(ROWS($J$2:J358),$A$2:$B$996,2,FALSE),\"\")","v":""}]
[{"$f":"IF(ISNUMBER(SEARCH(Cover!$H$13,Table1[[#This Row],[School District]])),MAX($A$1:A358)+1,0)","v":0},"Greenview CUSD 200",51065200026,26,{"$f":"IF(OR(Table1[[#This Row],[Type]]=0,Table1[[#This Row],[Type]]>=40),\"JA\",\"SD\")","v":"SD"},"Menard","51-065-2000-26",null,null,{"$f":"IFERROR(VLOOKUP(ROWS($J$2:J359),$A$2:$B$996,2,FALSE),\"\")","v":""}]
[{"$f":"IF(ISNUMBER(SEARCH(Cover!$H$13,Table1[[#This Row],[School District]])),MAX($A$1:A359)+1,0)","v":0},"Griggsville-Perry CUSD 4",1075004026,26,{"$f":"IF(OR(Table1[[#This Row],[Type]]=0,Table1[[#This Row],[Type]]>=40),\"JA\",\"SD\")","v":"SD"},"Pike","01-075-0040-26",null,null,{"$f":"IFERROR(VLOOKUP(ROWS($J$2:J360),$A$2:$B$996,2,FALSE),\"\")","v":""}]
[{"$f":"IF(ISNUMBER(SEARCH(Cover!$H$13,Table1[[#This Row],[School District]])),MAX($A$1:A360)+1,0)","v":0},"Grundy Area Voc Ctr",24032790040,40,{"$f":"IF(OR(Table1[[#This Row],[Type]]=0,Table1[[#This Row],[Type]]>=40),\"JA\",\"SD\")","v":"JA"},"Grundy","24-032-7900-40",null,null,{"$f":"IFERROR(VLOOKUP(ROWS($J$2:J361),$A$2:$B$996,2,FALSE),\"\")","v":""}]
[{"$f":"IF(ISNUMBER(SEARCH(Cover!$H$13,Table1[[#This Row],[School District]])),MAX($A$1:A361)+1,0)","v":0},"Grundy Cty Spec Ed Coop",24032101061,61,{"$f":"IF(OR(Table1[[#This Row],[Type]]=0,Table1[[#This Row],[Type]]>=40),\"JA\",\"SD\")","v":"JA"},"Grundy","24-032-1010-61",null,null,{"$f":"IFERROR(VLOOKUP(ROWS($J$2:J362),$A$2:$B$996,2,FALSE),\"\")","v":""}]
[{"$f":"IF(ISNUMBER(SEARCH(Cover!$H$13,Table1[[#This Row],[School District]])),MAX($A$1:A362)+1,0)","v":0},"Gurnee SD 56",34049056002,2,{"$f":"IF(OR(Table1[[#This Row],[Type]]=0,Table1[[#This Row],[Type]]>=40),\"JA\",\"SD\")","v":"SD"},"Lake","34-049-0560-02",null,null,{"$f":"IFERROR(VLOOKUP(ROWS($J$2:J363),$A$2:$B$996,2,FALSE),\"\")","v":""}]
[{"$f":"IF(ISNUMBER(SEARCH(Cover!$H$13,Table1[[#This Row],[School District]])),MAX($A$1:A363)+1,0)","v":0},"Hall HSD 502",28006502017,17,{"$f":"IF(OR(Table1[[#This Row],[Type]]=0,Table1[[#This Row],[Type]]>=40),\"JA\",\"SD\")","v":"SD"},"Bureau","28-006-5020-17",null,null,{"$f":"IFERROR(VLOOKUP(ROWS($J$2:J364),$A$2:$B$996,2,FALSE),\"\")","v":""}]
[{"$f":"IF(ISNUMBER(SEARCH(Cover!$H$13,Table1[[#This Row],[School District]])),MAX($A$1:A364)+1,0)","v":0},"Hamilton CCSD 328",26034328024,24,{"$f":"IF(OR(Table1[[#This Row],[Type]]=0,Table1[[#This Row],[Type]]>=40),\"JA\",\"SD\")","v":"SD"},"Hancock","26-034-3280-24",null,null,{"$f":"IFERROR(VLOOKUP(ROWS($J$2:J365),$A$2:$B$996,2,FALSE),\"\")","v":""}]
[{"$f":"IF(ISNUMBER(SEARCH(Cover!$H$13,Table1[[#This Row],[School District]])),MAX($A$1:A365)+1,0)","v":0},"Hamilton Co CUSD 10",20033010026,26,{"$f":"IF(OR(Table1[[#This Row],[Type]]=0,Table1[[#This Row],[Type]]>=40),\"JA\",\"SD\")","v":"SD"},"Hamilton","20-033-0100-26",null,null,{"$f":"IFERROR(VLOOKUP(ROWS($J$2:J366),$A$2:$B$996,2,FALSE),\"\")","v":""}]
[{"$f":"IF(ISNUMBER(SEARCH(Cover!$H$13,Table1[[#This Row],[School District]])),MAX($A$1:A366)+1,0)","v":0},"Hampton SD 29",49081029002,2,{"$f":"IF(OR(Table1[[#This Row],[Type]]=0,Table1[[#This Row],[Type]]>=40),\"JA\",\"SD\")","v":"SD"},"Rock Island","49-081-0290-02",null,null,{"$f":"IFERROR(VLOOKUP(ROWS($J$2:J367),$A$2:$B$996,2,FALSE),\"\")","v":""}]
[{"$f":"IF(ISNUMBER(SEARCH(Cover!$H$13,Table1[[#This Row],[School District]])),MAX($A$1:A367)+1,0)","v":0},"Hardin County CUSD 1",20035001026,26,{"$f":"IF(OR(Table1[[#This Row],[Type]]=0,Table1[[#This Row],[Type]]>=40),\"JA\",\"SD\")","v":"SD"},"Hardin/Gallatin","20-035-0010-26",null,null,{"$f":"IFERROR(VLOOKUP(ROWS($J$2:J368),$A$2:$B$996,2,FALSE),\"\")","v":""}]
[{"$f":"IF(ISNUMBER(SEARCH(Cover!$H$13,Table1[[#This Row],[School District]])),MAX($A$1:A368)+1,0)","v":0},"Harlem UD 122",4101122022,22,{"$f":"IF(OR(Table1[[#This Row],[Type]]=0,Table1[[#This Row],[Type]]>=40),\"JA\",\"SD\")","v":"SD"},"Winnebago","04-101-1220-22",null,null,{"$f":"IFERROR(VLOOKUP(ROWS($J$2:J369),$A$2:$B$996,2,FALSE),\"\")","v":""}]
[{"$f":"IF(ISNUMBER(SEARCH(Cover!$H$13,Table1[[#This Row],[School District]])),MAX($A$1:A369)+1,0)","v":0},"Harmony Emge SD 175",50082175002,2,{"$f":"IF(OR(Table1[[#This Row],[Type]]=0,Table1[[#This Row],[Type]]>=40),\"JA\",\"SD\")","v":"SD"},"St. Clair","50-082-1750-02",null,null,{"$f":"IFERROR(VLOOKUP(ROWS($J$2:J370),$A$2:$B$996,2,FALSE),\"\")","v":""}]
[{"$f":"IF(ISNUMBER(SEARCH(Cover!$H$13,Table1[[#This Row],[School District]])),MAX($A$1:A370)+1,0)","v":0},"Harrisburg CUSD 3",20083003026,26,{"$f":"IF(OR(Table1[[#This Row],[Type]]=0,Table1[[#This Row],[Type]]>=40),\"JA\",\"SD\")","v":"SD"},"Saline","20-083-0030-26",null,null,{"$f":"IFERROR(VLOOKUP(ROWS($J$2:J371),$A$2:$B$996,2,FALSE),\"\")","v":""}]
[{"$f":"IF(ISNUMBER(SEARCH(Cover!$H$13,Table1[[#This Row],[School District]])),MAX($A$1:A371)+1,0)","v":0},"Harrison SD 36",44063036002,2,{"$f":"IF(OR(Table1[[#This Row],[Type]]=0,Table1[[#This Row],[Type]]>=40),\"JA\",\"SD\")","v":"SD"},"McHenry","44-063-0360-02",null,null,{"$f":"IFERROR(VLOOKUP(ROWS($J$2:J372),$A$2:$B$996,2,FALSE),\"\")","v":""}]
[{"$f":"IF(ISNUMBER(SEARCH(Cover!$H$13,Table1[[#This Row],[School District]])),MAX($A$1:A372)+1,0)","v":0},"Hartsburg Emden CUSD 21",17054021026,26,{"$f":"IF(OR(Table1[[#This Row],[Type]]=0,Table1[[#This Row],[Type]]>=40),\"JA\",\"SD\")","v":"SD"},"Logan","17-054-0210-26",null,null,{"$f":"IFERROR(VLOOKUP(ROWS($J$2:J373),$A$2:$B$996,2,FALSE),\"\")","v":""}]
[{"$f":"IF(ISNUMBER(SEARCH(Cover!$H$13,Table1[[#This Row],[School District]])),MAX($A$1:A373)+1,0)","v":0},"Harvard CUSD 50",44063050026,26,{"$f":"IF(OR(Table1[[#This Row],[Type]]=0,Table1[[#This Row],[Type]]>=40),\"JA\",\"SD\")","v":"SD"},"McHenry","44-063-0500-26",null,null,{"$f":"IFERROR(VLOOKUP(ROWS($J$2:J374),$A$2:$B$996,2,FALSE),\"\")","v":""}]
[{"$f":"IF(ISNUMBER(SEARCH(Cover!$H$13,Table1[[#This Row],[School District]])),MAX($A$1:A374)+1,0)","v":0},"Harvey SD 152",7016152002,2,{"$f":"IF(OR(Table1[[#This Row],[Type]]=0,Table1[[#This Row],[Type]]>=40),\"JA\",\"SD\")","v":"SD"},"Cook","07-016-1520-02",null,null,{"$f":"IFERROR(VLOOKUP(ROWS($J$2:J375),$A$2:$B$996,2,FALSE),\"\")","v":""}]
[{"$f":"IF(ISNUMBER(SEARCH(Cover!$H$13,Table1[[#This Row],[School District]])),MAX($A$1:A375)+1,0)","v":0},"Havana CUSD 126",53060126026,26,{"$f":"IF(OR(Table1[[#This Row],[Type]]=0,Table1[[#This Row],[Type]]>=40),\"JA\",\"SD\")","v":"SD"},"Mason","53-060-1260-26",null,null,{"$f":"IFERROR(VLOOKUP(ROWS($J$2:J376),$A$2:$B$996,2,FALSE),\"\")","v":""}]
[{"$f":"IF(ISNUMBER(SEARCH(Cover!$H$13,Table1[[#This Row],[School District]])),MAX($A$1:A376)+1,0)","v":0},"Hawthorn CCSD 73",34049073004,4,{"$f":"IF(OR(Table1[[#This Row],[Type]]=0,Table1[[#This Row],[Type]]>=40),\"JA\",\"SD\")","v":"SD"},"Lake","34-049-0730-04",null,null,{"$f":"IFERROR(VLOOKUP(ROWS($J$2:J377),$A$2:$B$996,2,FALSE),\"\")","v":""}]
[{"$f":"IF(ISNUMBER(SEARCH(Cover!$H$13,Table1[[#This Row],[School District]])),MAX($A$1:A377)+1,0)","v":0},"Hazel Crest SD 152-5",7016152502,2,{"$f":"IF(OR(Table1[[#This Row],[Type]]=0,Table1[[#This Row],[Type]]>=40),\"JA\",\"SD\")","v":"SD"},"Cook","07-016-1525-02",null,null,{"$f":"IFERROR(VLOOKUP(ROWS($J$2:J378),$A$2:$B$996,2,FALSE),\"\")","v":""}]
[{"$f":"IF(ISNUMBER(SEARCH(Cover!$H$13,Table1[[#This Row],[School District]])),MAX($A$1:A378)+1,0)","v":0},"Heart of IL Low Incidence (HILIA)",17064000063,63,{"$f":"IF(OR(Table1[[#This Row],[Type]]=0,Table1[[#This Row],[Type]]>=40),\"JA\",\"SD\")","v":"JA"},"DeWitt/Livingston/Logan/McLean","17-064-0000-63",null,null,{"$f":"IFERROR(VLOOKUP(ROWS($J$2:J379),$A$2:$B$996,2,FALSE),\"\")","v":""}]
[{"$f":"IF(ISNUMBER(SEARCH(Cover!$H$13,Table1[[#This Row],[School District]])),MAX($A$1:A379)+1,0)","v":0},"Heartland Region",39000000046,46,{"$f":"IF(OR(Table1[[#This Row],[Type]]=0,Table1[[#This Row],[Type]]>=40),\"JA\",\"SD\")","v":"JA"},"Macon/Piatt","39-000-0000-46",null,null,{"$f":"IFERROR(VLOOKUP(ROWS($J$2:J380),$A$2:$B$996,2,FALSE),\"\")","v":""}]
[{"$f":"IF(ISNUMBER(SEARCH(Cover!$H$13,Table1[[#This Row],[School District]])),MAX($A$1:A380)+1,0)","v":0},"Heartland Technical Academy",39055061041,41,{"$f":"IF(OR(Table1[[#This Row],[Type]]=0,Table1[[#This Row],[Type]]>=40),\"JA\",\"SD\")","v":"JA"},"Macon/Piatt","39-055-0610-41",null,null,{"$f":"IFERROR(VLOOKUP(ROWS($J$2:J381),$A$2:$B$996,2,FALSE),\"\")","v":""}]
[{"$f":"IF(ISNUMBER(SEARCH(Cover!$H$13,Table1[[#This Row],[School District]])),MAX($A$1:A381)+1,0)","v":0},"Henry-Senachwine CUSD 5",35059005026,26,{"$f":"IF(OR(Table1[[#This Row],[Type]]=0,Table1[[#This Row],[Type]]>=40),\"JA\",\"SD\")","v":"SD"},"Marshall","35-059-0050-26",null,null,{"$f":"IFERROR(VLOOKUP(ROWS($J$2:J382),$A$2:$B$996,2,FALSE),\"\")","v":""}]
[{"$f":"IF(ISNUMBER(SEARCH(Cover!$H$13,Table1[[#This Row],[School District]])),MAX($A$1:A382)+1,0)","v":0},"Henry-Stark Cty Spec Ed Dist",28037801060,60,{"$f":"IF(OR(Table1[[#This Row],[Type]]=0,Table1[[#This Row],[Type]]>=40),\"JA\",\"SD\")","v":"JA"},"Henry","28-037-8010-60",null,null,{"$f":"IFERROR(VLOOKUP(ROWS($J$2:J383),$A$2:$B$996,2,FALSE),\"\")","v":""}]
[{"$f":"IF(ISNUMBER(SEARCH(Cover!$H$13,Table1[[#This Row],[School District]])),MAX($A$1:A383)+1,0)","v":0},"Heritage CUSD 8",9010008026,26,{"$f":"IF(OR(Table1[[#This Row],[Type]]=0,Table1[[#This Row],[Type]]>=40),\"JA\",\"SD\")","v":"SD"},"Champaign/Douglas/Ford/Vermilion","09-010-0080-26",null,null,{"$f":"IFERROR(VLOOKUP(ROWS($J$2:J384),$A$2:$B$996,2,FALSE),\"\")","v":""}]
[{"$f":"IF(ISNUMBER(SEARCH(Cover!$H$13,Table1[[#This Row],[School District]])),MAX($A$1:A384)+1,0)","v":0},"Herrin CUSD 4",21100004026,26,{"$f":"IF(OR(Table1[[#This Row],[Type]]=0,Table1[[#This Row],[Type]]>=40),\"JA\",\"SD\")","v":"SD"},"Williamson","21-100-0040-26",null,null,{"$f":"IFERROR(VLOOKUP(ROWS($J$2:J385),$A$2:$B$996,2,FALSE),\"\")","v":""}]
[{"$f":"IF(ISNUMBER(SEARCH(Cover!$H$13,Table1[[#This Row],[School District]])),MAX($A$1:A385)+1,0)","v":0},"Herscher CUSD 2",32046002026,26,{"$f":"IF(OR(Table1[[#This Row],[Type]]=0,Table1[[#This Row],[Type]]>=40),\"JA\",\"SD\")","v":"SD"},"Kankakee","32-046-0020-26",null,null,{"$f":"IFERROR(VLOOKUP(ROWS($J$2:J386),$A$2:$B$996,2,FALSE),\"\")","v":""}]
[{"$f":"IF(ISNUMBER(SEARCH(Cover!$H$13,Table1[[#This Row],[School District]])),MAX($A$1:A386)+1,0)","v":0},"Heyworth CUSD 4",17064004026,26,{"$f":"IF(OR(Table1[[#This Row],[Type]]=0,Table1[[#This Row],[Type]]>=40),\"JA\",\"SD\")","v":"SD"},"McLean","17-064-0040-26",null,null,{"$f":"IFERROR(VLOOKUP(ROWS($J$2:J387),$A$2:$B$996,2,FALSE),\"\")","v":""}]
[{"$f":"IF(ISNUMBER(SEARCH(Cover!$H$13,Table1[[#This Row],[School District]])),MAX($A$1:A387)+1,0)","v":0},"Hiawatha CUSD 426",16019426026,26,{"$f":"IF(OR(Table1[[#This Row],[Type]]=0,Table1[[#This Row],[Type]]>=40),\"JA\",\"SD\")","v":"SD"},"DeKalb/Ogle/Boone/Winnebago","16-019-4260-26",null,null,{"$f":"IFERROR(VLOOKUP(ROWS($J$2:J388),$A$2:$B$996,2,FALSE),\"\")","v":""}]
[{"$f":"IF(ISNUMBER(SEARCH(Cover!$H$13,Table1[[#This Row],[School District]])),MAX($A$1:A388)+1,0)","v":0},"High Mount SD 116",50082116002,2,{"$f":"IF(OR(Table1[[#This Row],[Type]]=0,Table1[[#This Row],[Type]]>=40),\"JA\",\"SD\")","v":"SD"},"St. Clair","50-082-1160-02",null,null,{"$f":"IFERROR(VLOOKUP(ROWS($J$2:J389),$A$2:$B$996,2,FALSE),\"\")","v":""}]
[{"$f":"IF(ISNUMBER(SEARCH(Cover!$H$13,Table1[[#This Row],[School District]])),MAX($A$1:A389)+1,0)","v":0},"Highland CUSD 5",41057005026,26,{"$f":"IF(OR(Table1[[#This Row],[Type]]=0,Table1[[#This Row],[Type]]>=40),\"JA\",\"SD\")","v":"SD"},"Bond/Madison/Montgemery","41-057-0050-26",null,null,{"$f":"IFERROR(VLOOKUP(ROWS($J$2:J390),$A$2:$B$996,2,FALSE),\"\")","v":""}]
[{"$f":"IF(ISNUMBER(SEARCH(Cover!$H$13,Table1[[#This Row],[School District]])),MAX($A$1:A390)+1,0)","v":0},"Hillsboro CUSD 3",3068003026,26,{"$f":"IF(OR(Table1[[#This Row],[Type]]=0,Table1[[#This Row],[Type]]>=40),\"JA\",\"SD\")","v":"SD"},"Montgomery","03-068-0030-26",null,null,{"$f":"IFERROR(VLOOKUP(ROWS($J$2:J391),$A$2:$B$996,2,FALSE),\"\")","v":""}]
[{"$f":"IF(ISNUMBER(SEARCH(Cover!$H$13,Table1[[#This Row],[School District]])),MAX($A$1:A391)+1,0)","v":0},"Hillside SD 93",6016093002,2,{"$f":"IF(OR(Table1[[#This Row],[Type]]=0,Table1[[#This Row],[Type]]>=40),\"JA\",\"SD\")","v":"SD"},"Cook","06-016-0930-02",null,null,{"$f":"IFERROR(VLOOKUP(ROWS($J$2:J392),$A$2:$B$996,2,FALSE),\"\")","v":""}]
[{"$f":"IF(ISNUMBER(SEARCH(Cover!$H$13,Table1[[#This Row],[School District]])),MAX($A$1:A392)+1,0)","v":0},"Hinckley Big Rock CUSD 429",16019429026,26,{"$f":"IF(OR(Table1[[#This Row],[Type]]=0,Table1[[#This Row],[Type]]>=40),\"JA\",\"SD\")","v":"SD"},"DeKalb/Kane/Kendall","16-019-4290-26",null,null,{"$f":"IFERROR(VLOOKUP(ROWS($J$2:J393),$A$2:$B$996,2,FALSE),\"\")","v":""}]
[{"$f":"IF(ISNUMBER(SEARCH(Cover!$H$13,Table1[[#This Row],[School District]])),MAX($A$1:A393)+1,0)","v":0},"Hinsdale CCSD 181",19022181004,4,{"$f":"IF(OR(Table1[[#This Row],[Type]]=0,Table1[[#This Row],[Type]]>=40),\"JA\",\"SD\")","v":"SD"},"DuPage/Cook","19-022-1810-04",null,null,{"$f":"IFERROR(VLOOKUP(ROWS($J$2:J394),$A$2:$B$996,2,FALSE),\"\")","v":""}]
[{"$f":"IF(ISNUMBER(SEARCH(Cover!$H$13,Table1[[#This Row],[School District]])),MAX($A$1:A394)+1,0)","v":0},"Hinsdale Twp HSD 86",19022086017,17,{"$f":"IF(OR(Table1[[#This Row],[Type]]=0,Table1[[#This Row],[Type]]>=40),\"JA\",\"SD\")","v":"SD"},"DuPage","19-022-0860-17",null,null,{"$f":"IFERROR(VLOOKUP(ROWS($J$2:J395),$A$2:$B$996,2,FALSE),\"\")","v":""}]
[{"$f":"IF(ISNUMBER(SEARCH(Cover!$H$13,Table1[[#This Row],[School District]])),MAX($A$1:A395)+1,0)","v":0},"Hollis Cons SD 328",48072328003,3,{"$f":"IF(OR(Table1[[#This Row],[Type]]=0,Table1[[#This Row],[Type]]>=40),\"JA\",\"SD\")","v":"SD"},"Peoria","48-072-3280-03",null,null,{"$f":"IFERROR(VLOOKUP(ROWS($J$2:J396),$A$2:$B$996,2,FALSE),\"\")","v":""}]
[{"$f":"IF(ISNUMBER(SEARCH(Cover!$H$13,Table1[[#This Row],[School District]])),MAX($A$1:A396)+1,0)","v":0},"Homer CCSD 33C","56099033C04",4,{"$f":"IF(OR(Table1[[#This Row],[Type]]=0,Table1[[#This Row],[Type]]>=40),\"JA\",\"SD\")","v":"SD"},"Will","56-099-033C-04",null,null,{"$f":"IFERROR(VLOOKUP(ROWS($J$2:J397),$A$2:$B$996,2,FALSE),\"\")","v":""}]
[{"$f":"IF(ISNUMBER(SEARCH(Cover!$H$13,Table1[[#This Row],[School District]])),MAX($A$1:A397)+1,0)","v":0},"Homewood Flossmoor CHSD 233",7016233016,16,{"$f":"IF(OR(Table1[[#This Row],[Type]]=0,Table1[[#This Row],[Type]]>=40),\"JA\",\"SD\")","v":"SD"},"Cook","07-016-2330-16",null,null,{"$f":"IFERROR(VLOOKUP(ROWS($J$2:J398),$A$2:$B$996,2,FALSE),\"\")","v":""}]
[{"$f":"IF(ISNUMBER(SEARCH(Cover!$H$13,Table1[[#This Row],[School District]])),MAX($A$1:A398)+1,0)","v":0},"Homewood SD 153",7016153002,2,{"$f":"IF(OR(Table1[[#This Row],[Type]]=0,Table1[[#This Row],[Type]]>=40),\"JA\",\"SD\")","v":"SD"},"Cook","07-016-1530-02",null,null,{"$f":"IFERROR(VLOOKUP(ROWS($J$2:J399),$A$2:$B$996,2,FALSE),\"\")","v":""}]
[{"$f":"IF(ISNUMBER(SEARCH(Cover!$H$13,Table1[[#This Row],[School District]])),MAX($A$1:A399)+1,0)","v":0},"Hononegah CHD 207",4101207016,16,{"$f":"IF(OR(Table1[[#This Row],[Type]]=0,Table1[[#This Row],[Type]]>=40),\"JA\",\"SD\")","v":"SD"},"Winnebago/Boone","04-101-2070-16",null,null,{"$f":"IFERROR(VLOOKUP(ROWS($J$2:J400),$A$2:$B$996,2,FALSE),\"\")","v":""}]
[{"$f":"IF(ISNUMBER(SEARCH(Cover!$H$13,Table1[[#This Row],[School District]])),MAX($A$1:A400)+1,0)","v":0},"Hoopeston Area CUSD 11",54092011026,26,{"$f":"IF(OR(Table1[[#This Row],[Type]]=0,Table1[[#This Row],[Type]]>=40),\"JA\",\"SD\")","v":"SD"},"Vermilion","54-092-0110-26",null,null,{"$f":"IFERROR(VLOOKUP(ROWS($J$2:J401),$A$2:$B$996,2,FALSE),\"\")","v":""}]
[{"$f":"IF(ISNUMBER(SEARCH(Cover!$H$13,Table1[[#This Row],[School District]])),MAX($A$1:A401)+1,0)","v":0},"Hoover-Schrum Memorial SD 157",7016157002,2,{"$f":"IF(OR(Table1[[#This Row],[Type]]=0,Table1[[#This Row],[Type]]>=40),\"JA\",\"SD\")","v":"SD"},"Cook","07-016-1570-02",null,null,{"$f":"IFERROR(VLOOKUP(ROWS($J$2:J402),$A$2:$B$996,2,FALSE),\"\")","v":""}]
[{"$f":"IF(ISNUMBER(SEARCH(Cover!$H$13,Table1[[#This Row],[School District]])),MAX($A$1:A402)+1,0)","v":0},"Huntley Community School District 158",44063158022,22,{"$f":"IF(OR(Table1[[#This Row],[Type]]=0,Table1[[#This Row],[Type]]>=40),\"JA\",\"SD\")","v":"SD"},"McHenry/Kane","44-063-1580-22",null,null,{"$f":"IFERROR(VLOOKUP(ROWS($J$2:J403),$A$2:$B$996,2,FALSE),\"\")","v":""}]
[{"$f":"IF(ISNUMBER(SEARCH(Cover!$H$13,Table1[[#This Row],[School District]])),MAX($A$1:A403)+1,0)","v":0},"Hutsonville CUSD 1",12017001026,26,{"$f":"IF(OR(Table1[[#This Row],[Type]]=0,Table1[[#This Row],[Type]]>=40),\"JA\",\"SD\")","v":"SD"},"Crawford","12-017-0010-26",null,null,{"$f":"IFERROR(VLOOKUP(ROWS($J$2:J404),$A$2:$B$996,2,FALSE),\"\")","v":""}]
[{"$f":"IF(ISNUMBER(SEARCH(Cover!$H$13,Table1[[#This Row],[School District]])),MAX($A$1:A404)+1,0)","v":0},"IL Spec Ed Charter Coop",15016225061,61,{"$f":"IF(OR(Table1[[#This Row],[Type]]=0,Table1[[#This Row],[Type]]>=40),\"JA\",\"SD\")","v":"JA"},"Cook","15-016-2250-61",null,null,{"$f":"IFERROR(VLOOKUP(ROWS($J$2:J405),$A$2:$B$996,2,FALSE),\"\")","v":""}]
[{"$f":"IF(ISNUMBER(SEARCH(Cover!$H$13,Table1[[#This Row],[School District]])),MAX($A$1:A405)+1,0)","v":0},"Il Valley Central USD 321",48072321026,26,{"$f":"IF(OR(Table1[[#This Row],[Type]]=0,Table1[[#This Row],[Type]]>=40),\"JA\",\"SD\")","v":"SD"},"Peoria/Marshall","48-072-3210-26",null,null,{"$f":"IFERROR(VLOOKUP(ROWS($J$2:J406),$A$2:$B$996,2,FALSE),\"\")","v":""}]
[{"$f":"IF(ISNUMBER(SEARCH(Cover!$H$13,Table1[[#This Row],[School District]])),MAX($A$1:A406)+1,0)","v":0},"Illini Bluffs CUSD 327",48072327026,26,{"$f":"IF(OR(Table1[[#This Row],[Type]]=0,Table1[[#This Row],[Type]]>=40),\"JA\",\"SD\")","v":"SD"},"Peoria/Fulton","48-072-3270-26",null,null,{"$f":"IFERROR(VLOOKUP(ROWS($J$2:J407),$A$2:$B$996,2,FALSE),\"\")","v":""}]
[{"$f":"IF(ISNUMBER(SEARCH(Cover!$H$13,Table1[[#This Row],[School District]])),MAX($A$1:A407)+1,0)","v":0},"Illini Central CUSD 189",53060189026,26,{"$f":"IF(OR(Table1[[#This Row],[Type]]=0,Table1[[#This Row],[Type]]>=40),\"JA\",\"SD\")","v":"SD"},"Mason","53-060-1890-26",null,null,{"$f":"IFERROR(VLOOKUP(ROWS($J$2:J408),$A$2:$B$996,2,FALSE),\"\")","v":""}]
[{"$f":"IF(ISNUMBER(SEARCH(Cover!$H$13,Table1[[#This Row],[School District]])),MAX($A$1:A408)+1,0)","v":0},"Illini West H S Dist 307",26034307016,16,{"$f":"IF(OR(Table1[[#This Row],[Type]]=0,Table1[[#This Row],[Type]]>=40),\"JA\",\"SD\")","v":"SD"},"Hancock","26-034-3070-16",null,null,{"$f":"IFERROR(VLOOKUP(ROWS($J$2:J409),$A$2:$B$996,2,FALSE),\"\")","v":""}]
[{"$f":"IF(ISNUMBER(SEARCH(Cover!$H$13,Table1[[#This Row],[School District]])),MAX($A$1:A409)+1,0)","v":0},"Indian Creek CUSD 425",16019425026,26,{"$f":"IF(OR(Table1[[#This Row],[Type]]=0,Table1[[#This Row],[Type]]>=40),\"JA\",\"SD\")","v":"SD"},"DeKalb","16-019-4250-26",null,null,{"$f":"IFERROR(VLOOKUP(ROWS($J$2:J410),$A$2:$B$996,2,FALSE),\"\")","v":""}]
[{"$f":"IF(ISNUMBER(SEARCH(Cover!$H$13,Table1[[#This Row],[School District]])),MAX($A$1:A410)+1,0)","v":0},"Indian Prairie CUSD 204",19022204026,26,{"$f":"IF(OR(Table1[[#This Row],[Type]]=0,Table1[[#This Row],[Type]]>=40),\"JA\",\"SD\")","v":"SD"},"DuPage","19-022-2040-26",null,null,{"$f":"IFERROR(VLOOKUP(ROWS($J$2:J411),$A$2:$B$996,2,FALSE),\"\")","v":""}]
[{"$f":"IF(ISNUMBER(SEARCH(Cover!$H$13,Table1[[#This Row],[School District]])),MAX($A$1:A411)+1,0)","v":0},"Indian Springs SD 109",7016109002,2,{"$f":"IF(OR(Table1[[#This Row],[Type]]=0,Table1[[#This Row],[Type]]>=40),\"JA\",\"SD\")","v":"SD"},"Cook","07-016-1090-02",null,null,{"$f":"IFERROR(VLOOKUP(ROWS($J$2:J412),$A$2:$B$996,2,FALSE),\"\")","v":""}]
[{"$f":"IF(ISNUMBER(SEARCH(Cover!$H$13,Table1[[#This Row],[School District]])),MAX($A$1:A412)+1,0)","v":0},"Indian Valley Area Voc Ctr",16019430040,40,{"$f":"IF(OR(Table1[[#This Row],[Type]]=0,Table1[[#This Row],[Type]]>=40),\"JA\",\"SD\")","v":"JA"},"DeKalb","16-019-4300-40",null,null,{"$f":"IFERROR(VLOOKUP(ROWS($J$2:J413),$A$2:$B$996,2,FALSE),\"\")","v":""}]
[{"$f":"IF(ISNUMBER(SEARCH(Cover!$H$13,Table1[[#This Row],[School District]])),MAX($A$1:A413)+1,0)","v":0},"Iroquois Area Reg Del System",32000000047,47,{"$f":"IF(OR(Table1[[#This Row],[Type]]=0,Table1[[#This Row],[Type]]>=40),\"JA\",\"SD\")","v":"JA"},"Iroquois","32-000-0000-47",null,null,{"$f":"IFERROR(VLOOKUP(ROWS($J$2:J414),$A$2:$B$996,2,FALSE),\"\")","v":""}]
[{"$f":"IF(ISNUMBER(SEARCH(Cover!$H$13,Table1[[#This Row],[School District]])),MAX($A$1:A414)+1,0)","v":0},"Iroquois County CUSD 9",32038009026,26,{"$f":"IF(OR(Table1[[#This Row],[Type]]=0,Table1[[#This Row],[Type]]>=40),\"JA\",\"SD\")","v":"SD"},"Iroquois","32-038-0090-26",null,null,{"$f":"IFERROR(VLOOKUP(ROWS($J$2:J415),$A$2:$B$996,2,FALSE),\"\")","v":""}]
[{"$f":"IF(ISNUMBER(SEARCH(Cover!$H$13,Table1[[#This Row],[School District]])),MAX($A$1:A415)+1,0)","v":0},"Iroquois Spec Ed",32038801060,60,{"$f":"IF(OR(Table1[[#This Row],[Type]]=0,Table1[[#This Row],[Type]]>=40),\"JA\",\"SD\")","v":"JA"},"Iroquois","32-038-8010-60",null,null,{"$f":"IFERROR(VLOOKUP(ROWS($J$2:J416),$A$2:$B$996,2,FALSE),\"\")","v":""}]
[{"$f":"IF(ISNUMBER(SEARCH(Cover!$H$13,Table1[[#This Row],[School District]])),MAX($A$1:A416)+1,0)","v":0},"Iroquois West CUSD 10",32038010026,26,{"$f":"IF(OR(Table1[[#This Row],[Type]]=0,Table1[[#This Row],[Type]]>=40),\"JA\",\"SD\")","v":"SD"},"Iroquois","32-038-0100-26",null,null,{"$f":"IFERROR(VLOOKUP(ROWS($J$2:J417),$A$2:$B$996,2,FALSE),\"\")","v":""}]
[{"$f":"IF(ISNUMBER(SEARCH(Cover!$H$13,Table1[[#This Row],[School District]])),MAX($A$1:A417)+1,0)","v":0},"Irvington CCSD 11",13095011004,4,{"$f":"IF(OR(Table1[[#This Row],[Type]]=0,Table1[[#This Row],[Type]]>=40),\"JA\",\"SD\")","v":"SD"},"Washington","13-095-0110-04",null,null,{"$f":"IFERROR(VLOOKUP(ROWS($J$2:J418),$A$2:$B$996,2,FALSE),\"\")","v":""}]
[{"$f":"IF(ISNUMBER(SEARCH(Cover!$H$13,Table1[[#This Row],[School District]])),MAX($A$1:A418)+1,0)","v":0},"Itasca SD 10",19022010002,2,{"$f":"IF(OR(Table1[[#This Row],[Type]]=0,Table1[[#This Row],[Type]]>=40),\"JA\",\"SD\")","v":"SD"},"DuPage","19-022-0100-02",null,null,{"$f":"IFERROR(VLOOKUP(ROWS($J$2:J419),$A$2:$B$996,2,FALSE),\"\")","v":""}]
[{"$f":"IF(ISNUMBER(SEARCH(Cover!$H$13,Table1[[#This Row],[School District]])),MAX($A$1:A419)+1,0)","v":0},"Iuka CCSD 7",13058007004,4,{"$f":"IF(OR(Table1[[#This Row],[Type]]=0,Table1[[#This Row],[Type]]>=40),\"JA\",\"SD\")","v":"SD"},"Marion","13-058-0070-04",null,null,{"$f":"IFERROR(VLOOKUP(ROWS($J$2:J420),$A$2:$B$996,2,FALSE),\"\")","v":""}]
[{"$f":"IF(ISNUMBER(SEARCH(Cover!$H$13,Table1[[#This Row],[School District]])),MAX($A$1:A420)+1,0)","v":0},"J S Morton HSD 201",6016201017,17,{"$f":"IF(OR(Table1[[#This Row],[Type]]=0,Table1[[#This Row],[Type]]>=40),\"JA\",\"SD\")","v":"SD"},"Cook","06-016-2010-17",null,null,{"$f":"IFERROR(VLOOKUP(ROWS($J$2:J421),$A$2:$B$996,2,FALSE),\"\")","v":""}]
[{"$f":"IF(ISNUMBER(SEARCH(Cover!$H$13,Table1[[#This Row],[School District]])),MAX($A$1:A421)+1,0)","v":0},"Jackson-Perry Cty Reg Del System",30000000046,46,{"$f":"IF(OR(Table1[[#This Row],[Type]]=0,Table1[[#This Row],[Type]]>=40),\"JA\",\"SD\")","v":"JA"},"Jackson/Perry","30-000-0000-46",null,null,{"$f":"IFERROR(VLOOKUP(ROWS($J$2:J422),$A$2:$B$996,2,FALSE),\"\")","v":""}]
[{"$f":"IF(ISNUMBER(SEARCH(Cover!$H$13,Table1[[#This Row],[School District]])),MAX($A$1:A422)+1,0)","v":0},"Jacksonville SD 117",1069117022,22,{"$f":"IF(OR(Table1[[#This Row],[Type]]=0,Table1[[#This Row],[Type]]>=40),\"JA\",\"SD\")","v":"SD"},"Morgan/Greene","01-069-1170-22",null,null,{"$f":"IFERROR(VLOOKUP(ROWS($J$2:J423),$A$2:$B$996,2,FALSE),\"\")","v":""}]
[{"$f":"IF(ISNUMBER(SEARCH(Cover!$H$13,Table1[[#This Row],[School District]])),MAX($A$1:A423)+1,0)","v":0},"Jamp Spec Ed Services",30077801060,60,{"$f":"IF(OR(Table1[[#This Row],[Type]]=0,Table1[[#This Row],[Type]]>=40),\"JA\",\"SD\")","v":"JA"},"Pulaski","30-077-8010-60",null,null,{"$f":"IFERROR(VLOOKUP(ROWS($J$2:J424),$A$2:$B$996,2,FALSE),\"\")","v":""}]
[{"$f":"IF(ISNUMBER(SEARCH(Cover!$H$13,Table1[[#This Row],[School District]])),MAX($A$1:A424)+1,0)","v":0},"Jasper CCSD 17",20096017004,4,{"$f":"IF(OR(Table1[[#This Row],[Type]]=0,Table1[[#This Row],[Type]]>=40),\"JA\",\"SD\")","v":"SD"},"Wayne","20-096-0170-04",null,null,{"$f":"IFERROR(VLOOKUP(ROWS($J$2:J425),$A$2:$B$996,2,FALSE),\"\")","v":""}]
[{"$f":"IF(ISNUMBER(SEARCH(Cover!$H$13,Table1[[#This Row],[School District]])),MAX($A$1:A425)+1,0)","v":0},"Jasper County CUD 1",12040001026,26,{"$f":"IF(OR(Table1[[#This Row],[Type]]=0,Table1[[#This Row],[Type]]>=40),\"JA\",\"SD\")","v":"SD"},"Jasper","12-040-0010-26",null,null,{"$f":"IFERROR(VLOOKUP(ROWS($J$2:J426),$A$2:$B$996,2,FALSE),\"\")","v":""}]
[{"$f":"IF(ISNUMBER(SEARCH(Cover!$H$13,Table1[[#This Row],[School District]])),MAX($A$1:A426)+1,0)","v":0},"Jersey CUSD 100",40042100026,26,{"$f":"IF(OR(Table1[[#This Row],[Type]]=0,Table1[[#This Row],[Type]]>=40),\"JA\",\"SD\")","v":"SD"},"Jersey","40-042-1000-26",null,null,{"$f":"IFERROR(VLOOKUP(ROWS($J$2:J427),$A$2:$B$996,2,FALSE),\"\")","v":""}]
[{"$f":"IF(ISNUMBER(SEARCH(Cover!$H$13,Table1[[#This Row],[School District]])),MAX($A$1:A427)+1,0)","v":0},"Jo Daviess Carroll CTE Academy",8043790040,40,{"$f":"IF(OR(Table1[[#This Row],[Type]]=0,Table1[[#This Row],[Type]]>=40),\"JA\",\"SD\")","v":"JA"},"Jo Daviess","08-043-7900-40",null,null,{"$f":"IFERROR(VLOOKUP(ROWS($J$2:J428),$A$2:$B$996,2,FALSE),\"\")","v":""}]
[{"$f":"IF(ISNUMBER(SEARCH(Cover!$H$13,Table1[[#This Row],[School District]])),MAX($A$1:A428)+1,0)","v":0},"Johnsburg CUSD 12",44063012026,26,{"$f":"IF(OR(Table1[[#This Row],[Type]]=0,Table1[[#This Row],[Type]]>=40),\"JA\",\"SD\")","v":"SD"},"McHenry","44-063-0120-26",null,null,{"$f":"IFERROR(VLOOKUP(ROWS($J$2:J429),$A$2:$B$996,2,FALSE),\"\")","v":""}]
[{"$f":"IF(ISNUMBER(SEARCH(Cover!$H$13,Table1[[#This Row],[School District]])),MAX($A$1:A429)+1,0)","v":0},"Johnston City CUSD 1",21100001026,26,{"$f":"IF(OR(Table1[[#This Row],[Type]]=0,Table1[[#This Row],[Type]]>=40),\"JA\",\"SD\")","v":"SD"},"Williamson","21-100-0010-26",null,null,{"$f":"IFERROR(VLOOKUP(ROWS($J$2:J430),$A$2:$B$996,2,FALSE),\"\")","v":""}]
[{"$f":"IF(ISNUMBER(SEARCH(Cover!$H$13,Table1[[#This Row],[School District]])),MAX($A$1:A430)+1,0)","v":0},"Joliet PSD 86",56099086005,5,{"$f":"IF(OR(Table1[[#This Row],[Type]]=0,Table1[[#This Row],[Type]]>=40),\"JA\",\"SD\")","v":"SD"},"Will","56-099-0860-05",null,null,{"$f":"IFERROR(VLOOKUP(ROWS($J$2:J431),$A$2:$B$996,2,FALSE),\"\")","v":""}]
[{"$f":"IF(ISNUMBER(SEARCH(Cover!$H$13,Table1[[#This Row],[School District]])),MAX($A$1:A431)+1,0)","v":0},"Joliet Twp HSD 204",56099204017,17,{"$f":"IF(OR(Table1[[#This Row],[Type]]=0,Table1[[#This Row],[Type]]>=40),\"JA\",\"SD\")","v":"SD"},"Will","56-099-2040-17",null,null,{"$f":"IFERROR(VLOOKUP(ROWS($J$2:J432),$A$2:$B$996,2,FALSE),\"\")","v":""}]
[{"$f":"IF(ISNUMBER(SEARCH(Cover!$H$13,Table1[[#This Row],[School District]])),MAX($A$1:A432)+1,0)","v":0},"Joppa-Maple Grove UD 38",21061038026,26,{"$f":"IF(OR(Table1[[#This Row],[Type]]=0,Table1[[#This Row],[Type]]>=40),\"JA\",\"SD\")","v":"SD"},"Massac","21-061-0380-26",null,null,{"$f":"IFERROR(VLOOKUP(ROWS($J$2:J433),$A$2:$B$996,2,FALSE),\"\")","v":""}]
[{"$f":"IF(ISNUMBER(SEARCH(Cover!$H$13,Table1[[#This Row],[School District]])),MAX($A$1:A433)+1,0)","v":0},"Kaneland CUSD 302",31045302026,26,{"$f":"IF(OR(Table1[[#This Row],[Type]]=0,Table1[[#This Row],[Type]]>=40),\"JA\",\"SD\")","v":"SD"},"Kane","31-045-3020-26",null,null,{"$f":"IFERROR(VLOOKUP(ROWS($J$2:J434),$A$2:$B$996,2,FALSE),\"\")","v":""}]
[{"$f":"IF(ISNUMBER(SEARCH(Cover!$H$13,Table1[[#This Row],[School District]])),MAX($A$1:A434)+1,0)","v":0},"Kankakee Area Career Ctr",32000000040,40,{"$f":"IF(OR(Table1[[#This Row],[Type]]=0,Table1[[#This Row],[Type]]>=40),\"JA\",\"SD\")","v":"JA"},"Kankakee","32-000-0000-40",null,null,{"$f":"IFERROR(VLOOKUP(ROWS($J$2:J435),$A$2:$B$996,2,FALSE),\"\")","v":""}]
[{"$f":"IF(ISNUMBER(SEARCH(Cover!$H$13,Table1[[#This Row],[School District]])),MAX($A$1:A435)+1,0)","v":0},"Kankakee Area Reg Voc Ed System",32000000046,46,{"$f":"IF(OR(Table1[[#This Row],[Type]]=0,Table1[[#This Row],[Type]]>=40),\"JA\",\"SD\")","v":"JA"},"Kankakee","32-000-0000-46",null,null,{"$f":"IFERROR(VLOOKUP(ROWS($J$2:J436),$A$2:$B$996,2,FALSE),\"\")","v":""}]
[{"$f":"IF(ISNUMBER(SEARCH(Cover!$H$13,Table1[[#This Row],[School District]])),MAX($A$1:A436)+1,0)","v":0},"Kankakee Area Spec Ed Coop",32046850060,60,{"$f":"IF(OR(Table1[[#This Row],[Type]]=0,Table1[[#This Row],[Type]]>=40),\"JA\",\"SD\")","v":"JA"},"Kankakee","32-046-8500-60",null,null,{"$f":"IFERROR(VLOOKUP(ROWS($J$2:J437),$A$2:$B$996,2,FALSE),\"\")","v":""}]
[{"$f":"IF(ISNUMBER(SEARCH(Cover!$H$13,Table1[[#This Row],[School District]])),MAX($A$1:A437)+1,0)","v":0},"Kankakee SD 111",32046111025,25,{"$f":"IF(OR(Table1[[#This Row],[Type]]=0,Table1[[#This Row],[Type]]>=40),\"JA\",\"SD\")","v":"SD"},"Kankakee","32-046-1110-25",null,null,{"$f":"IFERROR(VLOOKUP(ROWS($J$2:J438),$A$2:$B$996,2,FALSE),\"\")","v":""}]
[{"$f":"IF(ISNUMBER(SEARCH(Cover!$H$13,Table1[[#This Row],[School District]])),MAX($A$1:A438)+1,0)","v":0},"Kansas CUSD 3",11023003026,26,{"$f":"IF(OR(Table1[[#This Row],[Type]]=0,Table1[[#This Row],[Type]]>=40),\"JA\",\"SD\")","v":"SD"},"Edgar","11-023-0030-26",null,null,{"$f":"IFERROR(VLOOKUP(ROWS($J$2:J439),$A$2:$B$996,2,FALSE),\"\")","v":""}]
[{"$f":"IF(ISNUMBER(SEARCH(Cover!$H$13,Table1[[#This Row],[School District]])),MAX($A$1:A439)+1,0)","v":0},"Kaskaskia Spec Ed Dist",13058801060,60,{"$f":"IF(OR(Table1[[#This Row],[Type]]=0,Table1[[#This Row],[Type]]>=40),\"JA\",\"SD\")","v":"JA"},"Marion","13-058-8010-60",null,null,{"$f":"IFERROR(VLOOKUP(ROWS($J$2:J440),$A$2:$B$996,2,FALSE),\"\")","v":""}]
[{"$f":"IF(ISNUMBER(SEARCH(Cover!$H$13,Table1[[#This Row],[School District]])),MAX($A$1:A440)+1,0)","v":0},"Keeneyville SD 20",19022020002,2,{"$f":"IF(OR(Table1[[#This Row],[Type]]=0,Table1[[#This Row],[Type]]>=40),\"JA\",\"SD\")","v":"SD"},"DuPage","19-022-0200-02",null,null,{"$f":"IFERROR(VLOOKUP(ROWS($J$2:J441),$A$2:$B$996,2,FALSE),\"\")","v":""}]
[{"$f":"IF(ISNUMBER(SEARCH(Cover!$H$13,Table1[[#This Row],[School District]])),MAX($A$1:A441)+1,0)","v":0},"Kell Cons SD 2",13058002003,3,{"$f":"IF(OR(Table1[[#This Row],[Type]]=0,Table1[[#This Row],[Type]]>=40),\"JA\",\"SD\")","v":"SD"},"Marion","13-058-0020-03",null,null,{"$f":"IFERROR(VLOOKUP(ROWS($J$2:J442),$A$2:$B$996,2,FALSE),\"\")","v":""}]
[{"$f":"IF(ISNUMBER(SEARCH(Cover!$H$13,Table1[[#This Row],[School District]])),MAX($A$1:A442)+1,0)","v":0},"Kenilworth SD 38",5016038002,2,{"$f":"IF(OR(Table1[[#This Row],[Type]]=0,Table1[[#This Row],[Type]]>=40),\"JA\",\"SD\")","v":"SD"},"Cook","05-016-0380-02",null,null,{"$f":"IFERROR(VLOOKUP(ROWS($J$2:J443),$A$2:$B$996,2,FALSE),\"\")","v":""}]
[{"$f":"IF(ISNUMBER(SEARCH(Cover!$H$13,Table1[[#This Row],[School District]])),MAX($A$1:A443)+1,0)","v":0},"Kewanee CUSD 229",28037229026,26,{"$f":"IF(OR(Table1[[#This Row],[Type]]=0,Table1[[#This Row],[Type]]>=40),\"JA\",\"SD\")","v":"SD"},"Henry","28-037-2290-26",null,null,{"$f":"IFERROR(VLOOKUP(ROWS($J$2:J444),$A$2:$B$996,2,FALSE),\"\")","v":""}]
[{"$f":"IF(ISNUMBER(SEARCH(Cover!$H$13,Table1[[#This Row],[School District]])),MAX($A$1:A444)+1,0)","v":0},"Kildeer Countryside CCSD 96",34049096004,4,{"$f":"IF(OR(Table1[[#This Row],[Type]]=0,Table1[[#This Row],[Type]]>=40),\"JA\",\"SD\")","v":"SD"},"Lake","34-049-0960-04",null,null,{"$f":"IFERROR(VLOOKUP(ROWS($J$2:J445),$A$2:$B$996,2,FALSE),\"\")","v":""}]
[{"$f":"IF(ISNUMBER(SEARCH(Cover!$H$13,Table1[[#This Row],[School District]])),MAX($A$1:A445)+1,0)","v":0},"Kings Cons SD 144",47071144003,3,{"$f":"IF(OR(Table1[[#This Row],[Type]]=0,Table1[[#This Row],[Type]]>=40),\"JA\",\"SD\")","v":"SD"},"Ogle","47-071-1440-03",null,null,{"$f":"IFERROR(VLOOKUP(ROWS($J$2:J446),$A$2:$B$996,2,FALSE),\"\")","v":""}]
[{"$f":"IF(ISNUMBER(SEARCH(Cover!$H$13,Table1[[#This Row],[School District]])),MAX($A$1:A446)+1,0)","v":0},"Kinnikinnick CCSD 131",4101131004,4,{"$f":"IF(OR(Table1[[#This Row],[Type]]=0,Table1[[#This Row],[Type]]>=40),\"JA\",\"SD\")","v":"SD"},"Boone/Winnebago","04-101-1310-04",null,null,{"$f":"IFERROR(VLOOKUP(ROWS($J$2:J447),$A$2:$B$996,2,FALSE),\"\")","v":""}]
[{"$f":"IF(ISNUMBER(SEARCH(Cover!$H$13,Table1[[#This Row],[School District]])),MAX($A$1:A447)+1,0)","v":0},"Kirby SD 140",7016140002,2,{"$f":"IF(OR(Table1[[#This Row],[Type]]=0,Table1[[#This Row],[Type]]>=40),\"JA\",\"SD\")","v":"SD"},"Cook","07-016-1400-02",null,null,{"$f":"IFERROR(VLOOKUP(ROWS($J$2:J448),$A$2:$B$996,2,FALSE),\"\")","v":""}]
[{"$f":"IF(ISNUMBER(SEARCH(Cover!$H$13,Table1[[#This Row],[School District]])),MAX($A$1:A448)+1,0)","v":0},"Kishwaukee Ed Consortium",16000000046,46,{"$f":"IF(OR(Table1[[#This Row],[Type]]=0,Table1[[#This Row],[Type]]>=40),\"JA\",\"SD\")","v":"JA"},"DeKalb","16-000-0000-46",null,null,{"$f":"IFERROR(VLOOKUP(ROWS($J$2:J449),$A$2:$B$996,2,FALSE),\"\")","v":""}]
[{"$f":"IF(ISNUMBER(SEARCH(Cover!$H$13,Table1[[#This Row],[School District]])),MAX($A$1:A449)+1,0)","v":0},"Knox Warren Spec Ed Dists",33048801060,60,{"$f":"IF(OR(Table1[[#This Row],[Type]]=0,Table1[[#This Row],[Type]]>=40),\"JA\",\"SD\")","v":"JA"},"Knox/Warren","33-048-8010-60",null,null,{"$f":"IFERROR(VLOOKUP(ROWS($J$2:J450),$A$2:$B$996,2,FALSE),\"\")","v":""}]
[{"$f":"IF(ISNUMBER(SEARCH(Cover!$H$13,Table1[[#This Row],[School District]])),MAX($A$1:A450)+1,0)","v":0},"Knoxville CUSD 202",33048202026,26,{"$f":"IF(OR(Table1[[#This Row],[Type]]=0,Table1[[#This Row],[Type]]>=40),\"JA\",\"SD\")","v":"SD"},"Knox","33-048-2020-26",null,null,{"$f":"IFERROR(VLOOKUP(ROWS($J$2:J451),$A$2:$B$996,2,FALSE),\"\")","v":""}]
[{"$f":"IF(ISNUMBER(SEARCH(Cover!$H$13,Table1[[#This Row],[School District]])),MAX($A$1:A451)+1,0)","v":0},"Komarek SD 94",6016094002,2,{"$f":"IF(OR(Table1[[#This Row],[Type]]=0,Table1[[#This Row],[Type]]>=40),\"JA\",\"SD\")","v":"SD"},"Cook","06-016-0940-02",null,null,{"$f":"IFERROR(VLOOKUP(ROWS($J$2:J452),$A$2:$B$996,2,FALSE),\"\")","v":""}]
[{"$f":"IF(ISNUMBER(SEARCH(Cover!$H$13,Table1[[#This Row],[School District]])),MAX($A$1:A452)+1,0)","v":0},"La Grange SD 102",6016102002,2,{"$f":"IF(OR(Table1[[#This Row],[Type]]=0,Table1[[#This Row],[Type]]>=40),\"JA\",\"SD\")","v":"SD"},"Cook","06-016-1020-02",null,null,{"$f":"IFERROR(VLOOKUP(ROWS($J$2:J453),$A$2:$B$996,2,FALSE),\"\")","v":""}]
[{"$f":"IF(ISNUMBER(SEARCH(Cover!$H$13,Table1[[#This Row],[School District]])),MAX($A$1:A453)+1,0)","v":0},"La Grange SD 105 South",6016105002,2,{"$f":"IF(OR(Table1[[#This Row],[Type]]=0,Table1[[#This Row],[Type]]>=40),\"JA\",\"SD\")","v":"SD"},"Cook","06-016-1050-02",null,null,{"$f":"IFERROR(VLOOKUP(ROWS($J$2:J454),$A$2:$B$996,2,FALSE),\"\")","v":""}]
[{"$f":"IF(ISNUMBER(SEARCH(Cover!$H$13,Table1[[#This Row],[School District]])),MAX($A$1:A454)+1,0)","v":0},"La Harpe CSD 347",26034347004,4,{"$f":"IF(OR(Table1[[#This Row],[Type]]=0,Table1[[#This Row],[Type]]>=40),\"JA\",\"SD\")","v":"SD"},"Hancock/Henderson/McDonough","26-034-3470-04",null,null,{"$f":"IFERROR(VLOOKUP(ROWS($J$2:J455),$A$2:$B$996,2,FALSE),\"\")","v":""}]
[{"$f":"IF(ISNUMBER(SEARCH(Cover!$H$13,Table1[[#This Row],[School District]])),MAX($A$1:A455)+1,0)","v":0},"La Moille CUSD 303",28006303026,26,{"$f":"IF(OR(Table1[[#This Row],[Type]]=0,Table1[[#This Row],[Type]]>=40),\"JA\",\"SD\")","v":"SD"},"Bureau/Lee","28-006-3030-26",null,null,{"$f":"IFERROR(VLOOKUP(ROWS($J$2:J456),$A$2:$B$996,2,FALSE),\"\")","v":""}]
[{"$f":"IF(ISNUMBER(SEARCH(Cover!$H$13,Table1[[#This Row],[School District]])),MAX($A$1:A456)+1,0)","v":0},"La Salle ESD 122",35050122002,2,{"$f":"IF(OR(Table1[[#This Row],[Type]]=0,Table1[[#This Row],[Type]]>=40),\"JA\",\"SD\")","v":"SD"},"La Salle","35-050-1220-02",null,null,{"$f":"IFERROR(VLOOKUP(ROWS($J$2:J457),$A$2:$B$996,2,FALSE),\"\")","v":""}]
[{"$f":"IF(ISNUMBER(SEARCH(Cover!$H$13,Table1[[#This Row],[School District]])),MAX($A$1:A457)+1,0)","v":0},"La Salle-Peru Area Career Ctr",35050120040,40,{"$f":"IF(OR(Table1[[#This Row],[Type]]=0,Table1[[#This Row],[Type]]>=40),\"JA\",\"SD\")","v":"JA"},"LaSalle","35-050-1200-40",null,null,{"$f":"IFERROR(VLOOKUP(ROWS($J$2:J458),$A$2:$B$996,2,FALSE),\"\")","v":""}]
[{"$f":"IF(ISNUMBER(SEARCH(Cover!$H$13,Table1[[#This Row],[School District]])),MAX($A$1:A458)+1,0)","v":0},"La Salle-Peru Twp HSD 120",35050120017,17,{"$f":"IF(OR(Table1[[#This Row],[Type]]=0,Table1[[#This Row],[Type]]>=40),\"JA\",\"SD\")","v":"SD"},"LaSalle/Bureau","35-050-1200-17",null,null,{"$f":"IFERROR(VLOOKUP(ROWS($J$2:J459),$A$2:$B$996,2,FALSE),\"\")","v":""}]
[{"$f":"IF(ISNUMBER(SEARCH(Cover!$H$13,Table1[[#This Row],[School District]])),MAX($A$1:A459)+1,0)","v":0},"Ladd CCSD 94",28006094004,4,{"$f":"IF(OR(Table1[[#This Row],[Type]]=0,Table1[[#This Row],[Type]]>=40),\"JA\",\"SD\")","v":"SD"},"Bureau","28-006-0940-04",null,null,{"$f":"IFERROR(VLOOKUP(ROWS($J$2:J460),$A$2:$B$996,2,FALSE),\"\")","v":""}]
[{"$f":"IF(ISNUMBER(SEARCH(Cover!$H$13,Table1[[#This Row],[School District]])),MAX($A$1:A460)+1,0)","v":0},"LaGrange Area Dept Spec Ed (LADSE)",6016204061,61,{"$f":"IF(OR(Table1[[#This Row],[Type]]=0,Table1[[#This Row],[Type]]>=40),\"JA\",\"SD\")","v":"JA"},"Cook","06-016-2040-61",null,null,{"$f":"IFERROR(VLOOKUP(ROWS($J$2:J461),$A$2:$B$996,2,FALSE),\"\")","v":""}]
[{"$f":"IF(ISNUMBER(SEARCH(Cover!$H$13,Table1[[#This Row],[School District]])),MAX($A$1:A461)+1,0)","v":0},"LaGrange Highlands SD 106",6016106002,2,{"$f":"IF(OR(Table1[[#This Row],[Type]]=0,Table1[[#This Row],[Type]]>=40),\"JA\",\"SD\")","v":"SD"},"Cook","06-016-1060-02",null,null,{"$f":"IFERROR(VLOOKUP(ROWS($J$2:J462),$A$2:$B$996,2,FALSE),\"\")","v":""}]
[{"$f":"IF(ISNUMBER(SEARCH(Cover!$H$13,Table1[[#This Row],[School District]])),MAX($A$1:A462)+1,0)","v":0},"Lake Bluff ESD 65",34049065002,2,{"$f":"IF(OR(Table1[[#This Row],[Type]]=0,Table1[[#This Row],[Type]]>=40),\"JA\",\"SD\")","v":"SD"},"Lake","34-049-0650-02",null,null,{"$f":"IFERROR(VLOOKUP(ROWS($J$2:J463),$A$2:$B$996,2,FALSE),\"\")","v":""}]
[{"$f":"IF(ISNUMBER(SEARCH(Cover!$H$13,Table1[[#This Row],[School District]])),MAX($A$1:A463)+1,0)","v":0},"Lake Cty Area Voc System",34049790046,46,{"$f":"IF(OR(Table1[[#This Row],[Type]]=0,Table1[[#This Row],[Type]]>=40),\"JA\",\"SD\")","v":"JA"},"Lake","34-049-7900-46",null,null,{"$f":"IFERROR(VLOOKUP(ROWS($J$2:J464),$A$2:$B$996,2,FALSE),\"\")","v":""}]
[{"$f":"IF(ISNUMBER(SEARCH(Cover!$H$13,Table1[[#This Row],[School District]])),MAX($A$1:A464)+1,0)","v":0},"Lake Cty High Schools Tech Campus",34049790040,40,{"$f":"IF(OR(Table1[[#This Row],[Type]]=0,Table1[[#This Row],[Type]]>=40),\"JA\",\"SD\")","v":"JA"},"Lake","34-049-7900-40",null,null,{"$f":"IFERROR(VLOOKUP(ROWS($J$2:J465),$A$2:$B$996,2,FALSE),\"\")","v":""}]
[{"$f":"IF(ISNUMBER(SEARCH(Cover!$H$13,Table1[[#This Row],[School District]])),MAX($A$1:A465)+1,0)","v":0},"Lake Forest CHSD 115",34049115016,16,{"$f":"IF(OR(Table1[[#This Row],[Type]]=0,Table1[[#This Row],[Type]]>=40),\"JA\",\"SD\")","v":"SD"},"Lake","34-049-1150-16",null,null,{"$f":"IFERROR(VLOOKUP(ROWS($J$2:J466),$A$2:$B$996,2,FALSE),\"\")","v":""}]
[{"$f":"IF(ISNUMBER(SEARCH(Cover!$H$13,Table1[[#This Row],[School District]])),MAX($A$1:A466)+1,0)","v":0},"Lake Forest SD 67",34049067005,5,{"$f":"IF(OR(Table1[[#This Row],[Type]]=0,Table1[[#This Row],[Type]]>=40),\"JA\",\"SD\")","v":"SD"},"Lake","34-049-0670-05",null,null,{"$f":"IFERROR(VLOOKUP(ROWS($J$2:J467),$A$2:$B$996,2,FALSE),\"\")","v":""}]
[{"$f":"IF(ISNUMBER(SEARCH(Cover!$H$13,Table1[[#This Row],[School District]])),MAX($A$1:A467)+1,0)","v":0},"Lake Park CHSD 108",19022108016,16,{"$f":"IF(OR(Table1[[#This Row],[Type]]=0,Table1[[#This Row],[Type]]>=40),\"JA\",\"SD\")","v":"SD"},"DuPage","19-022-1080-16",null,null,{"$f":"IFERROR(VLOOKUP(ROWS($J$2:J468),$A$2:$B$996,2,FALSE),\"\")","v":""}]
[{"$f":"IF(ISNUMBER(SEARCH(Cover!$H$13,Table1[[#This Row],[School District]])),MAX($A$1:A468)+1,0)","v":0},"Lake Villa CCSD 41",34049041004,4,{"$f":"IF(OR(Table1[[#This Row],[Type]]=0,Table1[[#This Row],[Type]]>=40),\"JA\",\"SD\")","v":"SD"},"Lake","34-049-0410-04",null,null,{"$f":"IFERROR(VLOOKUP(ROWS($J$2:J469),$A$2:$B$996,2,FALSE),\"\")","v":""}]
[{"$f":"IF(ISNUMBER(SEARCH(Cover!$H$13,Table1[[#This Row],[School District]])),MAX($A$1:A469)+1,0)","v":0},"Lake Zurich CUSD 95",34049095026,26,{"$f":"IF(OR(Table1[[#This Row],[Type]]=0,Table1[[#This Row],[Type]]>=40),\"JA\",\"SD\")","v":"SD"},"Lake","34-049-0950-26",null,null,{"$f":"IFERROR(VLOOKUP(ROWS($J$2:J470),$A$2:$B$996,2,FALSE),\"\")","v":""}]
[{"$f":"IF(ISNUMBER(SEARCH(Cover!$H$13,Table1[[#This Row],[School District]])),MAX($A$1:A470)+1,0)","v":0},"Lansing SD 158",7016158002,2,{"$f":"IF(OR(Table1[[#This Row],[Type]]=0,Table1[[#This Row],[Type]]>=40),\"JA\",\"SD\")","v":"SD"},"Cook","07-016-1580-02",null,null,{"$f":"IFERROR(VLOOKUP(ROWS($J$2:J471),$A$2:$B$996,2,FALSE),\"\")","v":""}]
[{"$f":"IF(ISNUMBER(SEARCH(Cover!$H$13,Table1[[#This Row],[School District]])),MAX($A$1:A471)+1,0)","v":0},"Laraway CCSD 70C","56099070C04",4,{"$f":"IF(OR(Table1[[#This Row],[Type]]=0,Table1[[#This Row],[Type]]>=40),\"JA\",\"SD\")","v":"SD"},"Will","56-099-070C-04",null,null,{"$f":"IFERROR(VLOOKUP(ROWS($J$2:J472),$A$2:$B$996,2,FALSE),\"\")","v":""}]
[{"$f":"IF(ISNUMBER(SEARCH(Cover!$H$13,Table1[[#This Row],[School District]])),MAX($A$1:A472)+1,0)","v":0},"LaSalle Putnam Alliance",35050000061,61,{"$f":"IF(OR(Table1[[#This Row],[Type]]=0,Table1[[#This Row],[Type]]>=40),\"JA\",\"SD\")","v":"JA"},"LaSalle","35-050-0000-61",null,null,{"$f":"IFERROR(VLOOKUP(ROWS($J$2:J473),$A$2:$B$996,2,FALSE),\"\")","v":""}]
[{"$f":"IF(ISNUMBER(SEARCH(Cover!$H$13,Table1[[#This Row],[School District]])),MAX($A$1:A473)+1,0)","v":0},"Lawrence County CUD 20",12051020026,26,{"$f":"IF(OR(Table1[[#This Row],[Type]]=0,Table1[[#This Row],[Type]]>=40),\"JA\",\"SD\")","v":"SD"},"Lawrence/Crawford","12-051-0200-26",null,null,{"$f":"IFERROR(VLOOKUP(ROWS($J$2:J474),$A$2:$B$996,2,FALSE),\"\")","v":""}]
[{"$f":"IF(ISNUMBER(SEARCH(Cover!$H$13,Table1[[#This Row],[School District]])),MAX($A$1:A474)+1,0)","v":0},"Lebanon CUSD 9",50082009026,26,{"$f":"IF(OR(Table1[[#This Row],[Type]]=0,Table1[[#This Row],[Type]]>=40),\"JA\",\"SD\")","v":"SD"},"St. Clair","50-082-0090-26",null,null,{"$f":"IFERROR(VLOOKUP(ROWS($J$2:J475),$A$2:$B$996,2,FALSE),\"\")","v":""}]
[{"$f":"IF(ISNUMBER(SEARCH(Cover!$H$13,Table1[[#This Row],[School District]])),MAX($A$1:A475)+1,0)","v":0},"Lee Cty Spec Ed Assoc (LCSEA)",47052170061,61,{"$f":"IF(OR(Table1[[#This Row],[Type]]=0,Table1[[#This Row],[Type]]>=40),\"JA\",\"SD\")","v":"JA"},"Lee","47-052-1700-61",null,null,{"$f":"IFERROR(VLOOKUP(ROWS($J$2:J476),$A$2:$B$996,2,FALSE),\"\")","v":""}]
[{"$f":"IF(ISNUMBER(SEARCH(Cover!$H$13,Table1[[#This Row],[School District]])),MAX($A$1:A476)+1,0)","v":0},"Leland CUSD 1",35050001026,26,{"$f":"IF(OR(Table1[[#This Row],[Type]]=0,Table1[[#This Row],[Type]]>=40),\"JA\",\"SD\")","v":"SD"},"LaSalle/DeKalb","35-050-0010-26",null,null,{"$f":"IFERROR(VLOOKUP(ROWS($J$2:J477),$A$2:$B$996,2,FALSE),\"\")","v":""}]
[{"$f":"IF(ISNUMBER(SEARCH(Cover!$H$13,Table1[[#This Row],[School District]])),MAX($A$1:A477)+1,0)","v":0},"Lemont Twp HSD 210",7016210017,17,{"$f":"IF(OR(Table1[[#This Row],[Type]]=0,Table1[[#This Row],[Type]]>=40),\"JA\",\"SD\")","v":"SD"},"Cook","07-016-2100-17",null,null,{"$f":"IFERROR(VLOOKUP(ROWS($J$2:J478),$A$2:$B$996,2,FALSE),\"\")","v":""}]
[{"$f":"IF(ISNUMBER(SEARCH(Cover!$H$13,Table1[[#This Row],[School District]])),MAX($A$1:A478)+1,0)","v":0},"Lemont-Bromberek CSD 113A","07016113A02",2,{"$f":"IF(OR(Table1[[#This Row],[Type]]=0,Table1[[#This Row],[Type]]>=40),\"JA\",\"SD\")","v":"SD"},"Cook/DuPage","07-016-113A-02",null,null,{"$f":"IFERROR(VLOOKUP(ROWS($J$2:J479),$A$2:$B$996,2,FALSE),\"\")","v":""}]
[{"$f":"IF(ISNUMBER(SEARCH(Cover!$H$13,Table1[[#This Row],[School District]])),MAX($A$1:A479)+1,0)","v":0},"Lena Winslow CUSD 202",8089202026,26,{"$f":"IF(OR(Table1[[#This Row],[Type]]=0,Table1[[#This Row],[Type]]>=40),\"JA\",\"SD\")","v":"SD"},"Stephenson","08-089-2020-26",null,null,{"$f":"IFERROR(VLOOKUP(ROWS($J$2:J480),$A$2:$B$996,2,FALSE),\"\")","v":""}]
[{"$f":"IF(ISNUMBER(SEARCH(Cover!$H$13,Table1[[#This Row],[School District]])),MAX($A$1:A480)+1,0)","v":0},"LeRoy CUSD 2",17064002026,26,{"$f":"IF(OR(Table1[[#This Row],[Type]]=0,Table1[[#This Row],[Type]]>=40),\"JA\",\"SD\")","v":"SD"},"McLean","17-064-0020-26",null,null,{"$f":"IFERROR(VLOOKUP(ROWS($J$2:J481),$A$2:$B$996,2,FALSE),\"\")","v":""}]
[{"$f":"IF(ISNUMBER(SEARCH(Cover!$H$13,Table1[[#This Row],[School District]])),MAX($A$1:A481)+1,0)","v":0},"Lewistown CUSD 97",26029097026,26,{"$f":"IF(OR(Table1[[#This Row],[Type]]=0,Table1[[#This Row],[Type]]>=40),\"JA\",\"SD\")","v":"SD"},"Fulton","26-029-0970-26",null,null,{"$f":"IFERROR(VLOOKUP(ROWS($J$2:J482),$A$2:$B$996,2,FALSE),\"\")","v":""}]
[{"$f":"IF(ISNUMBER(SEARCH(Cover!$H$13,Table1[[#This Row],[School District]])),MAX($A$1:A482)+1,0)","v":0},"Lexington CUSD 7",17064007026,26,{"$f":"IF(OR(Table1[[#This Row],[Type]]=0,Table1[[#This Row],[Type]]>=40),\"JA\",\"SD\")","v":"SD"},"McLean","17-064-0070-26",null,null,{"$f":"IFERROR(VLOOKUP(ROWS($J$2:J483),$A$2:$B$996,2,FALSE),\"\")","v":""}]
[{"$f":"IF(ISNUMBER(SEARCH(Cover!$H$13,Table1[[#This Row],[School District]])),MAX($A$1:A483)+1,0)","v":0},"Leyden Area Spec Ed Coop (LASEC)",6016083061,61,{"$f":"IF(OR(Table1[[#This Row],[Type]]=0,Table1[[#This Row],[Type]]>=40),\"JA\",\"SD\")","v":"JA"},"Cook","06-016-0830-61",null,null,{"$f":"IFERROR(VLOOKUP(ROWS($J$2:J484),$A$2:$B$996,2,FALSE),\"\")","v":""}]
[{"$f":"IF(ISNUMBER(SEARCH(Cover!$H$13,Table1[[#This Row],[School District]])),MAX($A$1:A484)+1,0)","v":0},"Leyden CHSD 212",6016212016,16,{"$f":"IF(OR(Table1[[#This Row],[Type]]=0,Table1[[#This Row],[Type]]>=40),\"JA\",\"SD\")","v":"SD"},"Cook","06-016-2120-16",null,null,{"$f":"IFERROR(VLOOKUP(ROWS($J$2:J485),$A$2:$B$996,2,FALSE),\"\")","v":""}]
[{"$f":"IF(ISNUMBER(SEARCH(Cover!$H$13,Table1[[#This Row],[School District]])),MAX($A$1:A485)+1,0)","v":0},"Liberty CUSD 2",1001002026,26,{"$f":"IF(OR(Table1[[#This Row],[Type]]=0,Table1[[#This Row],[Type]]>=40),\"JA\",\"SD\")","v":"SD"},"Adams","01-001-0020-26",null,null,{"$f":"IFERROR(VLOOKUP(ROWS($J$2:J486),$A$2:$B$996,2,FALSE),\"\")","v":""}]
[{"$f":"IF(ISNUMBER(SEARCH(Cover!$H$13,Table1[[#This Row],[School District]])),MAX($A$1:A486)+1,0)","v":0},"Libertyville SD 70",34049070002,2,{"$f":"IF(OR(Table1[[#This Row],[Type]]=0,Table1[[#This Row],[Type]]>=40),\"JA\",\"SD\")","v":"SD"},"Lake","34-049-0700-02",null,null,{"$f":"IFERROR(VLOOKUP(ROWS($J$2:J487),$A$2:$B$996,2,FALSE),\"\")","v":""}]
[{"$f":"IF(ISNUMBER(SEARCH(Cover!$H$13,Table1[[#This Row],[School District]])),MAX($A$1:A487)+1,0)","v":0},"Lick Creek CCSD 16",30091016004,4,{"$f":"IF(OR(Table1[[#This Row],[Type]]=0,Table1[[#This Row],[Type]]>=40),\"JA\",\"SD\")","v":"SD"},"Union","30-091-0160-04",null,null,{"$f":"IFERROR(VLOOKUP(ROWS($J$2:J488),$A$2:$B$996,2,FALSE),\"\")","v":""}]
[{"$f":"IF(ISNUMBER(SEARCH(Cover!$H$13,Table1[[#This Row],[School District]])),MAX($A$1:A488)+1,0)","v":0},"Limestone CHSD 310",48072310016,16,{"$f":"IF(OR(Table1[[#This Row],[Type]]=0,Table1[[#This Row],[Type]]>=40),\"JA\",\"SD\")","v":"SD"},"Peoria","48-072-3100-16",null,null,{"$f":"IFERROR(VLOOKUP(ROWS($J$2:J489),$A$2:$B$996,2,FALSE),\"\")","v":""}]
[{"$f":"IF(ISNUMBER(SEARCH(Cover!$H$13,Table1[[#This Row],[School District]])),MAX($A$1:A489)+1,0)","v":0},"Limestone Walters CCSD 316",48072316004,4,{"$f":"IF(OR(Table1[[#This Row],[Type]]=0,Table1[[#This Row],[Type]]>=40),\"JA\",\"SD\")","v":"SD"},"Peoria","48-072-3160-04",null,null,{"$f":"IFERROR(VLOOKUP(ROWS($J$2:J490),$A$2:$B$996,2,FALSE),\"\")","v":""}]
[{"$f":"IF(ISNUMBER(SEARCH(Cover!$H$13,Table1[[#This Row],[School District]])),MAX($A$1:A490)+1,0)","v":0},"Lincoln CHSD 404",17054404016,16,{"$f":"IF(OR(Table1[[#This Row],[Type]]=0,Table1[[#This Row],[Type]]>=40),\"JA\",\"SD\")","v":"SD"},"Logan","17-054-4040-16",null,null,{"$f":"IFERROR(VLOOKUP(ROWS($J$2:J491),$A$2:$B$996,2,FALSE),\"\")","v":""}]
[{"$f":"IF(ISNUMBER(SEARCH(Cover!$H$13,Table1[[#This Row],[School District]])),MAX($A$1:A491)+1,0)","v":0},"Lincoln ESD 156",7016156002,2,{"$f":"IF(OR(Table1[[#This Row],[Type]]=0,Table1[[#This Row],[Type]]>=40),\"JA\",\"SD\")","v":"SD"},"Cook","07-016-1560-02",null,null,{"$f":"IFERROR(VLOOKUP(ROWS($J$2:J492),$A$2:$B$996,2,FALSE),\"\")","v":""}]
[{"$f":"IF(ISNUMBER(SEARCH(Cover!$H$13,Table1[[#This Row],[School District]])),MAX($A$1:A492)+1,0)","v":0},"Lincoln ESD 27",17054027002,2,{"$f":"IF(OR(Table1[[#This Row],[Type]]=0,Table1[[#This Row],[Type]]>=40),\"JA\",\"SD\")","v":"SD"},"Logan","17-054-0270-02",null,null,{"$f":"IFERROR(VLOOKUP(ROWS($J$2:J493),$A$2:$B$996,2,FALSE),\"\")","v":""}]
[{"$f":"IF(ISNUMBER(SEARCH(Cover!$H$13,Table1[[#This Row],[School District]])),MAX($A$1:A493)+1,0)","v":0},"Lincoln Way CHSD 210",56099210016,16,{"$f":"IF(OR(Table1[[#This Row],[Type]]=0,Table1[[#This Row],[Type]]>=40),\"JA\",\"SD\")","v":"SD"},"Will/Cook","56-099-2100-16",null,null,{"$f":"IFERROR(VLOOKUP(ROWS($J$2:J494),$A$2:$B$996,2,FALSE),\"\")","v":""}]
[{"$f":"IF(ISNUMBER(SEARCH(Cover!$H$13,Table1[[#This Row],[School District]])),MAX($A$1:A494)+1,0)","v":0},"Lincolnland Reg Del System",17054404046,46,{"$f":"IF(OR(Table1[[#This Row],[Type]]=0,Table1[[#This Row],[Type]]>=40),\"JA\",\"SD\")","v":"JA"},"Logan/Menard/Macon/Sangamon","17-054-4040-46",null,null,{"$f":"IFERROR(VLOOKUP(ROWS($J$2:J495),$A$2:$B$996,2,FALSE),\"\")","v":""}]
[{"$f":"IF(ISNUMBER(SEARCH(Cover!$H$13,Table1[[#This Row],[School District]])),MAX($A$1:A495)+1,0)","v":0},"Lincolnland Technical Ed Ctr",17054404041,41,{"$f":"IF(OR(Table1[[#This Row],[Type]]=0,Table1[[#This Row],[Type]]>=40),\"JA\",\"SD\")","v":"JA"},"Logan/Menard/Mason/Sangamon","17-054-4040-41",null,null,{"$f":"IFERROR(VLOOKUP(ROWS($J$2:J496),$A$2:$B$996,2,FALSE),\"\")","v":""}]
[{"$f":"IF(ISNUMBER(SEARCH(Cover!$H$13,Table1[[#This Row],[School District]])),MAX($A$1:A496)+1,0)","v":0},"Lincolnshire-Prairieview SD 103",34049103002,2,{"$f":"IF(OR(Table1[[#This Row],[Type]]=0,Table1[[#This Row],[Type]]>=40),\"JA\",\"SD\")","v":"SD"},"Lake","34-049-1030-02",null,null,{"$f":"IFERROR(VLOOKUP(ROWS($J$2:J497),$A$2:$B$996,2,FALSE),\"\")","v":""}]
[{"$f":"IF(ISNUMBER(SEARCH(Cover!$H$13,Table1[[#This Row],[School District]])),MAX($A$1:A497)+1,0)","v":0},"Lincoln-Way Area Spec Ed Joint Agreement Dist",56099843060,60,{"$f":"IF(OR(Table1[[#This Row],[Type]]=0,Table1[[#This Row],[Type]]>=40),\"JA\",\"SD\")","v":"JA"},"Will","56-099-8430-60",null,null,{"$f":"IFERROR(VLOOKUP(ROWS($J$2:J498),$A$2:$B$996,2,FALSE),\"\")","v":""}]
[{"$f":"IF(ISNUMBER(SEARCH(Cover!$H$13,Table1[[#This Row],[School District]])),MAX($A$1:A498)+1,0)","v":0},"Lincolnwood SD 74",5016074002,2,{"$f":"IF(OR(Table1[[#This Row],[Type]]=0,Table1[[#This Row],[Type]]>=40),\"JA\",\"SD\")","v":"SD"},"Cook","05-016-0740-02",null,null,{"$f":"IFERROR(VLOOKUP(ROWS($J$2:J499),$A$2:$B$996,2,FALSE),\"\")","v":""}]
[{"$f":"IF(ISNUMBER(SEARCH(Cover!$H$13,Table1[[#This Row],[School District]])),MAX($A$1:A499)+1,0)","v":0},"Lindop SD 92",6016092002,2,{"$f":"IF(OR(Table1[[#This Row],[Type]]=0,Table1[[#This Row],[Type]]>=40),\"JA\",\"SD\")","v":"SD"},"Cook","06-016-0920-02",null,null,{"$f":"IFERROR(VLOOKUP(ROWS($J$2:J500),$A$2:$B$996,2,FALSE),\"\")","v":""}]
[{"$f":"IF(ISNUMBER(SEARCH(Cover!$H$13,Table1[[#This Row],[School District]])),MAX($A$1:A500)+1,0)","v":0},"Lisbon CCSD 90",24047090004,4,{"$f":"IF(OR(Table1[[#This Row],[Type]]=0,Table1[[#This Row],[Type]]>=40),\"JA\",\"SD\")","v":"SD"},"Kendall/Grundy","24-047-0900-04",null,null,{"$f":"IFERROR(VLOOKUP(ROWS($J$2:J501),$A$2:$B$996,2,FALSE),\"\")","v":""}]
[{"$f":"IF(ISNUMBER(SEARCH(Cover!$H$13,Table1[[#This Row],[School District]])),MAX($A$1:A501)+1,0)","v":0},"Lisle CUSD 202",19022202026,26,{"$f":"IF(OR(Table1[[#This Row],[Type]]=0,Table1[[#This Row],[Type]]>=40),\"JA\",\"SD\")","v":"SD"},"DuPage","19-022-2020-26",null,null,{"$f":"IFERROR(VLOOKUP(ROWS($J$2:J502),$A$2:$B$996,2,FALSE),\"\")","v":""}]
[{"$f":"IF(ISNUMBER(SEARCH(Cover!$H$13,Table1[[#This Row],[School District]])),MAX($A$1:A502)+1,0)","v":0},"Litchfield CUSD 12",3068012026,26,{"$f":"IF(OR(Table1[[#This Row],[Type]]=0,Table1[[#This Row],[Type]]>=40),\"JA\",\"SD\")","v":"SD"},"Montgomery/Macoupin","03-068-0120-26",null,null,{"$f":"IFERROR(VLOOKUP(ROWS($J$2:J503),$A$2:$B$996,2,FALSE),\"\")","v":""}]
[{"$f":"IF(ISNUMBER(SEARCH(Cover!$H$13,Table1[[#This Row],[School District]])),MAX($A$1:A503)+1,0)","v":0},"Livingston Area Career Ctr",17053090041,41,{"$f":"IF(OR(Table1[[#This Row],[Type]]=0,Table1[[#This Row],[Type]]>=40),\"JA\",\"SD\")","v":"JA"},"Livingston","17-053-0900-41",null,null,{"$f":"IFERROR(VLOOKUP(ROWS($J$2:J504),$A$2:$B$996,2,FALSE),\"\")","v":""}]
[{"$f":"IF(ISNUMBER(SEARCH(Cover!$H$13,Table1[[#This Row],[School District]])),MAX($A$1:A504)+1,0)","v":0},"Livingston Area EFE",17053090046,46,{"$f":"IF(OR(Table1[[#This Row],[Type]]=0,Table1[[#This Row],[Type]]>=40),\"JA\",\"SD\")","v":"JA"},"Livingston","17-053-0900-46",null,null,{"$f":"IFERROR(VLOOKUP(ROWS($J$2:J505),$A$2:$B$996,2,FALSE),\"\")","v":""}]
[{"$f":"IF(ISNUMBER(SEARCH(Cover!$H$13,Table1[[#This Row],[School District]])),MAX($A$1:A505)+1,0)","v":0},"Livingston Cty Spec Services Unit",17053000061,61,{"$f":"IF(OR(Table1[[#This Row],[Type]]=0,Table1[[#This Row],[Type]]>=40),\"JA\",\"SD\")","v":"JA"},"Livingston","17-053-0000-61",null,null,{"$f":"IFERROR(VLOOKUP(ROWS($J$2:J506),$A$2:$B$996,2,FALSE),\"\")","v":""}]
[{"$f":"IF(ISNUMBER(SEARCH(Cover!$H$13,Table1[[#This Row],[School District]])),MAX($A$1:A506)+1,0)","v":0},"Lockport Area Spec Ed Coop",56099088061,61,{"$f":"IF(OR(Table1[[#This Row],[Type]]=0,Table1[[#This Row],[Type]]>=40),\"JA\",\"SD\")","v":"JA"},"Will","56-099-0880-61",null,null,{"$f":"IFERROR(VLOOKUP(ROWS($J$2:J507),$A$2:$B$996,2,FALSE),\"\")","v":""}]
[{"$f":"IF(ISNUMBER(SEARCH(Cover!$H$13,Table1[[#This Row],[School District]])),MAX($A$1:A507)+1,0)","v":0},"Lockport SD 91",56099091002,2,{"$f":"IF(OR(Table1[[#This Row],[Type]]=0,Table1[[#This Row],[Type]]>=40),\"JA\",\"SD\")","v":"SD"},"Will","56-099-0910-02",null,null,{"$f":"IFERROR(VLOOKUP(ROWS($J$2:J508),$A$2:$B$996,2,FALSE),\"\")","v":""}]
[{"$f":"IF(ISNUMBER(SEARCH(Cover!$H$13,Table1[[#This Row],[School District]])),MAX($A$1:A508)+1,0)","v":0},"Lockport Twp HSD 205",56099205017,17,{"$f":"IF(OR(Table1[[#This Row],[Type]]=0,Table1[[#This Row],[Type]]>=40),\"JA\",\"SD\")","v":"SD"},"Will","56-099-2050-17",null,null,{"$f":"IFERROR(VLOOKUP(ROWS($J$2:J509),$A$2:$B$996,2,FALSE),\"\")","v":""}]
[{"$f":"IF(ISNUMBER(SEARCH(Cover!$H$13,Table1[[#This Row],[School District]])),MAX($A$1:A509)+1,0)","v":0},"Lombard SD 44",19022044002,2,{"$f":"IF(OR(Table1[[#This Row],[Type]]=0,Table1[[#This Row],[Type]]>=40),\"JA\",\"SD\")","v":"SD"},"DuPage","19-022-0440-02",null,null,{"$f":"IFERROR(VLOOKUP(ROWS($J$2:J510),$A$2:$B$996,2,FALSE),\"\")","v":""}]
[{"$f":"IF(ISNUMBER(SEARCH(Cover!$H$13,Table1[[#This Row],[School District]])),MAX($A$1:A510)+1,0)","v":0},"Lostant CUSD 425",35050425026,26,{"$f":"IF(OR(Table1[[#This Row],[Type]]=0,Table1[[#This Row],[Type]]>=40),\"JA\",\"SD\")","v":"SD"},"LaSalle","35-050-4250-26",null,null,{"$f":"IFERROR(VLOOKUP(ROWS($J$2:J511),$A$2:$B$996,2,FALSE),\"\")","v":""}]
[{"$f":"IF(ISNUMBER(SEARCH(Cover!$H$13,Table1[[#This Row],[School District]])),MAX($A$1:A511)+1,0)","v":0},"Lowpoint-Washburn CUSD 21",53102021026,26,{"$f":"IF(OR(Table1[[#This Row],[Type]]=0,Table1[[#This Row],[Type]]>=40),\"JA\",\"SD\")","v":"SD"},"Woodford/Marshall","53-102-0210-26",null,null,{"$f":"IFERROR(VLOOKUP(ROWS($J$2:J512),$A$2:$B$996,2,FALSE),\"\")","v":""}]
[{"$f":"IF(ISNUMBER(SEARCH(Cover!$H$13,Table1[[#This Row],[School District]])),MAX($A$1:A512)+1,0)","v":0},"Ludlow CCSD 142",9010142004,4,{"$f":"IF(OR(Table1[[#This Row],[Type]]=0,Table1[[#This Row],[Type]]>=40),\"JA\",\"SD\")","v":"SD"},"Champaign","09-010-1420-04",null,null,{"$f":"IFERROR(VLOOKUP(ROWS($J$2:J513),$A$2:$B$996,2,FALSE),\"\")","v":""}]
[{"$f":"IF(ISNUMBER(SEARCH(Cover!$H$13,Table1[[#This Row],[School District]])),MAX($A$1:A513)+1,0)","v":0},"Lyons SD 103",6016103002,2,{"$f":"IF(OR(Table1[[#This Row],[Type]]=0,Table1[[#This Row],[Type]]>=40),\"JA\",\"SD\")","v":"SD"},"Cook","06-016-1030-02",null,null,{"$f":"IFERROR(VLOOKUP(ROWS($J$2:J514),$A$2:$B$996,2,FALSE),\"\")","v":""}]
[{"$f":"IF(ISNUMBER(SEARCH(Cover!$H$13,Table1[[#This Row],[School District]])),MAX($A$1:A514)+1,0)","v":0},"Lyons Twp HSD 204",6016204017,17,{"$f":"IF(OR(Table1[[#This Row],[Type]]=0,Table1[[#This Row],[Type]]>=40),\"JA\",\"SD\")","v":"SD"},"Cook","06-016-2040-17",null,null,{"$f":"IFERROR(VLOOKUP(ROWS($J$2:J515),$A$2:$B$996,2,FALSE),\"\")","v":""}]
[{"$f":"IF(ISNUMBER(SEARCH(Cover!$H$13,Table1[[#This Row],[School District]])),MAX($A$1:A515)+1,0)","v":0},"Macomb CUSD 185",26062185026,26,{"$f":"IF(OR(Table1[[#This Row],[Type]]=0,Table1[[#This Row],[Type]]>=40),\"JA\",\"SD\")","v":"SD"},"McDonough","26-062-1850-26",null,null,{"$f":"IFERROR(VLOOKUP(ROWS($J$2:J516),$A$2:$B$996,2,FALSE),\"\")","v":""}]
[{"$f":"IF(ISNUMBER(SEARCH(Cover!$H$13,Table1[[#This Row],[School District]])),MAX($A$1:A516)+1,0)","v":0},"Macon-Piatt Spec Ed Joint Agreement",39055061061,61,{"$f":"IF(OR(Table1[[#This Row],[Type]]=0,Table1[[#This Row],[Type]]>=40),\"JA\",\"SD\")","v":"JA"},"Macon/Piatt","39-055-0610-61",null,null,{"$f":"IFERROR(VLOOKUP(ROWS($J$2:J517),$A$2:$B$996,2,FALSE),\"\")","v":""}]
[{"$f":"IF(ISNUMBER(SEARCH(Cover!$H$13,Table1[[#This Row],[School District]])),MAX($A$1:A517)+1,0)","v":0},"Madison Cty CTE System",41057745045,45,{"$f":"IF(OR(Table1[[#This Row],[Type]]=0,Table1[[#This Row],[Type]]>=40),\"JA\",\"SD\")","v":"JA"},"Madison","41-057-7450-45",null,null,{"$f":"IFERROR(VLOOKUP(ROWS($J$2:J518),$A$2:$B$996,2,FALSE),\"\")","v":""}]
[{"$f":"IF(ISNUMBER(SEARCH(Cover!$H$13,Table1[[#This Row],[School District]])),MAX($A$1:A518)+1,0)","v":0},"Madison Cty Reg I Spec Ed Coop",41057009061,61,{"$f":"IF(OR(Table1[[#This Row],[Type]]=0,Table1[[#This Row],[Type]]>=40),\"JA\",\"SD\")","v":"JA"},"Madison","41-057-0090-61",null,null,{"$f":"IFERROR(VLOOKUP(ROWS($J$2:J519),$A$2:$B$996,2,FALSE),\"\")","v":""}]
[{"$f":"IF(ISNUMBER(SEARCH(Cover!$H$13,Table1[[#This Row],[School District]])),MAX($A$1:A519)+1,0)","v":0},"Madison Cty Voc Adj Counseling",41057000063,63,{"$f":"IF(OR(Table1[[#This Row],[Type]]=0,Table1[[#This Row],[Type]]>=40),\"JA\",\"SD\")","v":"JA"},"Madison","41-057-0000-63",null,null,{"$f":"IFERROR(VLOOKUP(ROWS($J$2:J520),$A$2:$B$996,2,FALSE),\"\")","v":""}]
[{"$f":"IF(ISNUMBER(SEARCH(Cover!$H$13,Table1[[#This Row],[School District]])),MAX($A$1:A520)+1,0)","v":0},"Madison CUSD 12",41057012026,26,{"$f":"IF(OR(Table1[[#This Row],[Type]]=0,Table1[[#This Row],[Type]]>=40),\"JA\",\"SD\")","v":"SD"},"Madison","41-057-0120-26",null,null,{"$f":"IFERROR(VLOOKUP(ROWS($J$2:J521),$A$2:$B$996,2,FALSE),\"\")","v":""}]
[{"$f":"IF(ISNUMBER(SEARCH(Cover!$H$13,Table1[[#This Row],[School District]])),MAX($A$1:A521)+1,0)","v":0},"Maercker SD 60",19022060002,2,{"$f":"IF(OR(Table1[[#This Row],[Type]]=0,Table1[[#This Row],[Type]]>=40),\"JA\",\"SD\")","v":"SD"},"DuPage","19-022-0600-02",null,null,{"$f":"IFERROR(VLOOKUP(ROWS($J$2:J522),$A$2:$B$996,2,FALSE),\"\")","v":""}]
[{"$f":"IF(ISNUMBER(SEARCH(Cover!$H$13,Table1[[#This Row],[School District]])),MAX($A$1:A522)+1,0)","v":0},"Mahomet-Seymour CUSD 3",9010003026,26,{"$f":"IF(OR(Table1[[#This Row],[Type]]=0,Table1[[#This Row],[Type]]>=40),\"JA\",\"SD\")","v":"SD"},"Champaign","09-010-0030-26",null,null,{"$f":"IFERROR(VLOOKUP(ROWS($J$2:J523),$A$2:$B$996,2,FALSE),\"\")","v":""}]
[{"$f":"IF(ISNUMBER(SEARCH(Cover!$H$13,Table1[[#This Row],[School District]])),MAX($A$1:A523)+1,0)","v":0},"Maine Township HSD 207",5016207017,17,{"$f":"IF(OR(Table1[[#This Row],[Type]]=0,Table1[[#This Row],[Type]]>=40),\"JA\",\"SD\")","v":"SD"},"Cook","05-016-2070-17",null,null,{"$f":"IFERROR(VLOOKUP(ROWS($J$2:J524),$A$2:$B$996,2,FALSE),\"\")","v":""}]
[{"$f":"IF(ISNUMBER(SEARCH(Cover!$H$13,Table1[[#This Row],[School District]])),MAX($A$1:A524)+1,0)","v":0},"Malden CCSD 84",28006084004,4,{"$f":"IF(OR(Table1[[#This Row],[Type]]=0,Table1[[#This Row],[Type]]>=40),\"JA\",\"SD\")","v":"SD"},"Bureau","28-006-0840-04",null,null,{"$f":"IFERROR(VLOOKUP(ROWS($J$2:J525),$A$2:$B$996,2,FALSE),\"\")","v":""}]
[{"$f":"IF(ISNUMBER(SEARCH(Cover!$H$13,Table1[[#This Row],[School District]])),MAX($A$1:A525)+1,0)","v":0},"Manhattan SD 114",56099114002,2,{"$f":"IF(OR(Table1[[#This Row],[Type]]=0,Table1[[#This Row],[Type]]>=40),\"JA\",\"SD\")","v":"SD"},"Will","56-099-1140-02",null,null,{"$f":"IFERROR(VLOOKUP(ROWS($J$2:J526),$A$2:$B$996,2,FALSE),\"\")","v":""}]
[{"$f":"IF(ISNUMBER(SEARCH(Cover!$H$13,Table1[[#This Row],[School District]])),MAX($A$1:A526)+1,0)","v":0},"Mannheim SD 83",6016083002,2,{"$f":"IF(OR(Table1[[#This Row],[Type]]=0,Table1[[#This Row],[Type]]>=40),\"JA\",\"SD\")","v":"SD"},"Cook","06-016-0830-02",null,null,{"$f":"IFERROR(VLOOKUP(ROWS($J$2:J527),$A$2:$B$996,2,FALSE),\"\")","v":""}]
[{"$f":"IF(ISNUMBER(SEARCH(Cover!$H$13,Table1[[#This Row],[School District]])),MAX($A$1:A527)+1,0)","v":0},"Manteno CUSD 5",32046005026,26,{"$f":"IF(OR(Table1[[#This Row],[Type]]=0,Table1[[#This Row],[Type]]>=40),\"JA\",\"SD\")","v":"SD"},"Kankakee/Will","32-046-0050-26",null,null,{"$f":"IFERROR(VLOOKUP(ROWS($J$2:J528),$A$2:$B$996,2,FALSE),\"\")","v":""}]
[{"$f":"IF(ISNUMBER(SEARCH(Cover!$H$13,Table1[[#This Row],[School District]])),MAX($A$1:A528)+1,0)","v":0},"Marengo CHSD 154",44063154016,16,{"$f":"IF(OR(Table1[[#This Row],[Type]]=0,Table1[[#This Row],[Type]]>=40),\"JA\",\"SD\")","v":"SD"},"McHenry","44-063-1540-16",null,null,{"$f":"IFERROR(VLOOKUP(ROWS($J$2:J529),$A$2:$B$996,2,FALSE),\"\")","v":""}]
[{"$f":"IF(ISNUMBER(SEARCH(Cover!$H$13,Table1[[#This Row],[School District]])),MAX($A$1:A529)+1,0)","v":0},"Marengo-Union E Cons D 165",44063165003,3,{"$f":"IF(OR(Table1[[#This Row],[Type]]=0,Table1[[#This Row],[Type]]>=40),\"JA\",\"SD\")","v":"SD"},"McHenry","44-063-1650-03",null,null,{"$f":"IFERROR(VLOOKUP(ROWS($J$2:J530),$A$2:$B$996,2,FALSE),\"\")","v":""}]
[{"$f":"IF(ISNUMBER(SEARCH(Cover!$H$13,Table1[[#This Row],[School District]])),MAX($A$1:A530)+1,0)","v":0},"Marion CUSD 2",21100002026,26,{"$f":"IF(OR(Table1[[#This Row],[Type]]=0,Table1[[#This Row],[Type]]>=40),\"JA\",\"SD\")","v":"SD"},"Williamson/Johnson","21-100-0020-26",null,null,{"$f":"IFERROR(VLOOKUP(ROWS($J$2:J531),$A$2:$B$996,2,FALSE),\"\")","v":""}]
[{"$f":"IF(ISNUMBER(SEARCH(Cover!$H$13,Table1[[#This Row],[School District]])),MAX($A$1:A531)+1,0)","v":0},"Marion-Clinton-Washington Cty CTE",13000000046,46,{"$f":"IF(OR(Table1[[#This Row],[Type]]=0,Table1[[#This Row],[Type]]>=40),\"JA\",\"SD\")","v":"JA"},"Marion","13-000-0000-46",null,null,{"$f":"IFERROR(VLOOKUP(ROWS($J$2:J532),$A$2:$B$996,2,FALSE),\"\")","v":""}]
[{"$f":"IF(ISNUMBER(SEARCH(Cover!$H$13,Table1[[#This Row],[School District]])),MAX($A$1:A532)+1,0)","v":0},"Marissa CUSD 40",50082040026,26,{"$f":"IF(OR(Table1[[#This Row],[Type]]=0,Table1[[#This Row],[Type]]>=40),\"JA\",\"SD\")","v":"SD"},"St. Clair","50-082-0400-26",null,null,{"$f":"IFERROR(VLOOKUP(ROWS($J$2:J533),$A$2:$B$996,2,FALSE),\"\")","v":""}]
[{"$f":"IF(ISNUMBER(SEARCH(Cover!$H$13,Table1[[#This Row],[School District]])),MAX($A$1:A533)+1,0)","v":0},"Maroa Forsyth CUSD 2",39055002026,26,{"$f":"IF(OR(Table1[[#This Row],[Type]]=0,Table1[[#This Row],[Type]]>=40),\"JA\",\"SD\")","v":"SD"},"Macon/DeWitt","39-055-0020-26",null,null,{"$f":"IFERROR(VLOOKUP(ROWS($J$2:J534),$A$2:$B$996,2,FALSE),\"\")","v":""}]
[{"$f":"IF(ISNUMBER(SEARCH(Cover!$H$13,Table1[[#This Row],[School District]])),MAX($A$1:A534)+1,0)","v":0},"Marquardt SD 15",19022015002,2,{"$f":"IF(OR(Table1[[#This Row],[Type]]=0,Table1[[#This Row],[Type]]>=40),\"JA\",\"SD\")","v":"SD"},"DuPage","19-022-0150-02",null,null,{"$f":"IFERROR(VLOOKUP(ROWS($J$2:J535),$A$2:$B$996,2,FALSE),\"\")","v":""}]
[{"$f":"IF(ISNUMBER(SEARCH(Cover!$H$13,Table1[[#This Row],[School District]])),MAX($A$1:A535)+1,0)","v":0},"Marseilles ESD 150",35050150002,2,{"$f":"IF(OR(Table1[[#This Row],[Type]]=0,Table1[[#This Row],[Type]]>=40),\"JA\",\"SD\")","v":"SD"},"LaSalle","35-050-1500-02",null,null,{"$f":"IFERROR(VLOOKUP(ROWS($J$2:J536),$A$2:$B$996,2,FALSE),\"\")","v":""}]
[{"$f":"IF(ISNUMBER(SEARCH(Cover!$H$13,Table1[[#This Row],[School District]])),MAX($A$1:A536)+1,0)","v":0},"Marshall CUSD 2C","11012002C26",26,{"$f":"IF(OR(Table1[[#This Row],[Type]]=0,Table1[[#This Row],[Type]]>=40),\"JA\",\"SD\")","v":"SD"},"Clark","11-012-002C-26",null,null,{"$f":"IFERROR(VLOOKUP(ROWS($J$2:J537),$A$2:$B$996,2,FALSE),\"\")","v":""}]
[{"$f":"IF(ISNUMBER(SEARCH(Cover!$H$13,Table1[[#This Row],[School District]])),MAX($A$1:A537)+1,0)","v":0},"Martinsville CUSD 3C","11012003C26",26,{"$f":"IF(OR(Table1[[#This Row],[Type]]=0,Table1[[#This Row],[Type]]>=40),\"JA\",\"SD\")","v":"SD"},"Clark","11-012-003C-26",null,null,{"$f":"IFERROR(VLOOKUP(ROWS($J$2:J538),$A$2:$B$996,2,FALSE),\"\")","v":""}]
[{"$f":"IF(ISNUMBER(SEARCH(Cover!$H$13,Table1[[#This Row],[School District]])),MAX($A$1:A538)+1,0)","v":0},"Mascoutah CUD 19",50082019026,26,{"$f":"IF(OR(Table1[[#This Row],[Type]]=0,Table1[[#This Row],[Type]]>=40),\"JA\",\"SD\")","v":"SD"},"St. Clair","50-082-0190-26",null,null,{"$f":"IFERROR(VLOOKUP(ROWS($J$2:J539),$A$2:$B$996,2,FALSE),\"\")","v":""}]
[{"$f":"IF(ISNUMBER(SEARCH(Cover!$H$13,Table1[[#This Row],[School District]])),MAX($A$1:A539)+1,0)","v":0},"Massac UD 1",21061001026,26,{"$f":"IF(OR(Table1[[#This Row],[Type]]=0,Table1[[#This Row],[Type]]>=40),\"JA\",\"SD\")","v":"SD"},"Massac","21-061-0010-26",null,null,{"$f":"IFERROR(VLOOKUP(ROWS($J$2:J540),$A$2:$B$996,2,FALSE),\"\")","v":""}]
[{"$f":"IF(ISNUMBER(SEARCH(Cover!$H$13,Table1[[#This Row],[School District]])),MAX($A$1:A540)+1,0)","v":0},"Matteson ESD 162",7016162002,2,{"$f":"IF(OR(Table1[[#This Row],[Type]]=0,Table1[[#This Row],[Type]]>=40),\"JA\",\"SD\")","v":"SD"},"Cook","07-016-1620-02",null,null,{"$f":"IFERROR(VLOOKUP(ROWS($J$2:J541),$A$2:$B$996,2,FALSE),\"\")","v":""}]
[{"$f":"IF(ISNUMBER(SEARCH(Cover!$H$13,Table1[[#This Row],[School District]])),MAX($A$1:A541)+1,0)","v":0},"Mattoon CUSD 2",11015002026,26,{"$f":"IF(OR(Table1[[#This Row],[Type]]=0,Table1[[#This Row],[Type]]>=40),\"JA\",\"SD\")","v":"SD"},"Coles/Cumberland/Moultrie/Shelby","11-015-0020-26",null,null,{"$f":"IFERROR(VLOOKUP(ROWS($J$2:J542),$A$2:$B$996,2,FALSE),\"\")","v":""}]
[{"$f":"IF(ISNUMBER(SEARCH(Cover!$H$13,Table1[[#This Row],[School District]])),MAX($A$1:A542)+1,0)","v":0},"Maywood-Melrose Park-Broadview 89",6016089002,2,{"$f":"IF(OR(Table1[[#This Row],[Type]]=0,Table1[[#This Row],[Type]]>=40),\"JA\",\"SD\")","v":"SD"},"Cook","06-016-0890-02",null,null,{"$f":"IFERROR(VLOOKUP(ROWS($J$2:J543),$A$2:$B$996,2,FALSE),\"\")","v":""}]
[{"$f":"IF(ISNUMBER(SEARCH(Cover!$H$13,Table1[[#This Row],[School District]])),MAX($A$1:A543)+1,0)","v":0},"Mazon-Verona-Kinsman ESD 2C","24032002C02",2,{"$f":"IF(OR(Table1[[#This Row],[Type]]=0,Table1[[#This Row],[Type]]>=40),\"JA\",\"SD\")","v":"SD"},"Grundy","24-032-002C-02",null,null,{"$f":"IFERROR(VLOOKUP(ROWS($J$2:J544),$A$2:$B$996,2,FALSE),\"\")","v":""}]
[{"$f":"IF(ISNUMBER(SEARCH(Cover!$H$13,Table1[[#This Row],[School District]])),MAX($A$1:A544)+1,0)","v":0},"McClellan CCSD 12",13041012004,4,{"$f":"IF(OR(Table1[[#This Row],[Type]]=0,Table1[[#This Row],[Type]]>=40),\"JA\",\"SD\")","v":"SD"},"Jefferson","13-041-0120-04",null,null,{"$f":"IFERROR(VLOOKUP(ROWS($J$2:J545),$A$2:$B$996,2,FALSE),\"\")","v":""}]
[{"$f":"IF(ISNUMBER(SEARCH(Cover!$H$13,Table1[[#This Row],[School District]])),MAX($A$1:A545)+1,0)","v":0},"McHenry CCSD 15",44063015004,4,{"$f":"IF(OR(Table1[[#This Row],[Type]]=0,Table1[[#This Row],[Type]]>=40),\"JA\",\"SD\")","v":"SD"},"McHenry/Lake","44-063-0150-04",null,null,{"$f":"IFERROR(VLOOKUP(ROWS($J$2:J546),$A$2:$B$996,2,FALSE),\"\")","v":""}]
[{"$f":"IF(ISNUMBER(SEARCH(Cover!$H$13,Table1[[#This Row],[School District]])),MAX($A$1:A546)+1,0)","v":0},"McHenry CHSD 156",44063156016,16,{"$f":"IF(OR(Table1[[#This Row],[Type]]=0,Table1[[#This Row],[Type]]>=40),\"JA\",\"SD\")","v":"SD"},"McHenry","44-063-1560-16",null,null,{"$f":"IFERROR(VLOOKUP(ROWS($J$2:J547),$A$2:$B$996,2,FALSE),\"\")","v":""}]
[{"$f":"IF(ISNUMBER(SEARCH(Cover!$H$13,Table1[[#This Row],[School District]])),MAX($A$1:A547)+1,0)","v":0},"McHenry Cty Coop for Employ Ed",44000000046,46,{"$f":"IF(OR(Table1[[#This Row],[Type]]=0,Table1[[#This Row],[Type]]>=40),\"JA\",\"SD\")","v":"JA"},"McHenry","44-000-0000-46",null,null,{"$f":"IFERROR(VLOOKUP(ROWS($J$2:J548),$A$2:$B$996,2,FALSE),\"\")","v":""}]
[{"$f":"IF(ISNUMBER(SEARCH(Cover!$H$13,Table1[[#This Row],[School District]])),MAX($A$1:A548)+1,0)","v":0},"McLean County USD 5",17064005026,26,{"$f":"IF(OR(Table1[[#This Row],[Type]]=0,Table1[[#This Row],[Type]]>=40),\"JA\",\"SD\")","v":"SD"},"McLean/Woodford","17-064-0050-26",null,null,{"$f":"IFERROR(VLOOKUP(ROWS($J$2:J549),$A$2:$B$996,2,FALSE),\"\")","v":""}]
[{"$f":"IF(ISNUMBER(SEARCH(Cover!$H$13,Table1[[#This Row],[School District]])),MAX($A$1:A549)+1,0)","v":0},"McLean-Dewitt Reg Voc System",17064087046,46,{"$f":"IF(OR(Table1[[#This Row],[Type]]=0,Table1[[#This Row],[Type]]>=40),\"JA\",\"SD\")","v":"JA"},"McLean","17-064-0870-46",null,null,{"$f":"IFERROR(VLOOKUP(ROWS($J$2:J550),$A$2:$B$996,2,FALSE),\"\")","v":""}]
[{"$f":"IF(ISNUMBER(SEARCH(Cover!$H$13,Table1[[#This Row],[School District]])),MAX($A$1:A550)+1,0)","v":0},"Medinah SD 11",19022011002,2,{"$f":"IF(OR(Table1[[#This Row],[Type]]=0,Table1[[#This Row],[Type]]>=40),\"JA\",\"SD\")","v":"SD"},"DuPage","19-022-0110-02",null,null,{"$f":"IFERROR(VLOOKUP(ROWS($J$2:J551),$A$2:$B$996,2,FALSE),\"\")","v":""}]
[{"$f":"IF(ISNUMBER(SEARCH(Cover!$H$13,Table1[[#This Row],[School District]])),MAX($A$1:A551)+1,0)","v":0},"Mendota CCSD 289",35050289004,4,{"$f":"IF(OR(Table1[[#This Row],[Type]]=0,Table1[[#This Row],[Type]]>=40),\"JA\",\"SD\")","v":"SD"},"LaSalle","35-050-2890-04",null,null,{"$f":"IFERROR(VLOOKUP(ROWS($J$2:J552),$A$2:$B$996,2,FALSE),\"\")","v":""}]
[{"$f":"IF(ISNUMBER(SEARCH(Cover!$H$13,Table1[[#This Row],[School District]])),MAX($A$1:A552)+1,0)","v":0},"Mendota Twp HSD 280",35050280017,17,{"$f":"IF(OR(Table1[[#This Row],[Type]]=0,Table1[[#This Row],[Type]]>=40),\"JA\",\"SD\")","v":"SD"},"LaSalle","35-050-2800-17",null,null,{"$f":"IFERROR(VLOOKUP(ROWS($J$2:J553),$A$2:$B$996,2,FALSE),\"\")","v":""}]
[{"$f":"IF(ISNUMBER(SEARCH(Cover!$H$13,Table1[[#This Row],[School District]])),MAX($A$1:A553)+1,0)","v":0},"Mercer County School District 404",33066404026,26,{"$f":"IF(OR(Table1[[#This Row],[Type]]=0,Table1[[#This Row],[Type]]>=40),\"JA\",\"SD\")","v":"SD"},"Mercer","33-066-4040-26",null,null,{"$f":"IFERROR(VLOOKUP(ROWS($J$2:J554),$A$2:$B$996,2,FALSE),\"\")","v":""}]
[{"$f":"IF(ISNUMBER(SEARCH(Cover!$H$13,Table1[[#This Row],[School District]])),MAX($A$1:A554)+1,0)","v":0},"Meredosia-Chambersburg CUSD 11",1069011026,26,{"$f":"IF(OR(Table1[[#This Row],[Type]]=0,Table1[[#This Row],[Type]]>=40),\"JA\",\"SD\")","v":"SD"},"Morgan","01-069-0110-26",null,null,{"$f":"IFERROR(VLOOKUP(ROWS($J$2:J555),$A$2:$B$996,2,FALSE),\"\")","v":""}]
[{"$f":"IF(ISNUMBER(SEARCH(Cover!$H$13,Table1[[#This Row],[School District]])),MAX($A$1:A555)+1,0)","v":0},"Meridian CUSD 101",30077101026,26,{"$f":"IF(OR(Table1[[#This Row],[Type]]=0,Table1[[#This Row],[Type]]>=40),\"JA\",\"SD\")","v":"SD"},"Pulaski","30-077-1010-26",null,null,{"$f":"IFERROR(VLOOKUP(ROWS($J$2:J556),$A$2:$B$996,2,FALSE),\"\")","v":""}]
[{"$f":"IF(ISNUMBER(SEARCH(Cover!$H$13,Table1[[#This Row],[School District]])),MAX($A$1:A556)+1,0)","v":0},"Meridian CUSD 15",39055015026,26,{"$f":"IF(OR(Table1[[#This Row],[Type]]=0,Table1[[#This Row],[Type]]>=40),\"JA\",\"SD\")","v":"SD"},"Macon","39-055-0150-26",null,null,{"$f":"IFERROR(VLOOKUP(ROWS($J$2:J557),$A$2:$B$996,2,FALSE),\"\")","v":""}]
[{"$f":"IF(ISNUMBER(SEARCH(Cover!$H$13,Table1[[#This Row],[School District]])),MAX($A$1:A557)+1,0)","v":0},"Meridian CUSD 223",47071223026,26,{"$f":"IF(OR(Table1[[#This Row],[Type]]=0,Table1[[#This Row],[Type]]>=40),\"JA\",\"SD\")","v":"SD"},"Ogle","47-071-2230-26",null,null,{"$f":"IFERROR(VLOOKUP(ROWS($J$2:J558),$A$2:$B$996,2,FALSE),\"\")","v":""}]
[{"$f":"IF(ISNUMBER(SEARCH(Cover!$H$13,Table1[[#This Row],[School District]])),MAX($A$1:A558)+1,0)","v":0},"Metamora CCSD 1",53102001004,4,{"$f":"IF(OR(Table1[[#This Row],[Type]]=0,Table1[[#This Row],[Type]]>=40),\"JA\",\"SD\")","v":"SD"},"Woodford","53-102-0010-04",null,null,{"$f":"IFERROR(VLOOKUP(ROWS($J$2:J559),$A$2:$B$996,2,FALSE),\"\")","v":""}]
[{"$f":"IF(ISNUMBER(SEARCH(Cover!$H$13,Table1[[#This Row],[School District]])),MAX($A$1:A559)+1,0)","v":0},"Midland CUSD 7",35059007026,26,{"$f":"IF(OR(Table1[[#This Row],[Type]]=0,Table1[[#This Row],[Type]]>=40),\"JA\",\"SD\")","v":"SD"},"Marshall","35-059-0070-26",null,null,{"$f":"IFERROR(VLOOKUP(ROWS($J$2:J560),$A$2:$B$996,2,FALSE),\"\")","v":""}]
[{"$f":"IF(ISNUMBER(SEARCH(Cover!$H$13,Table1[[#This Row],[School District]])),MAX($A$1:A560)+1,0)","v":0},"Midlothian SD 143",7016143002,2,{"$f":"IF(OR(Table1[[#This Row],[Type]]=0,Table1[[#This Row],[Type]]>=40),\"JA\",\"SD\")","v":"SD"},"Cook","07-016-1430-02",null,null,{"$f":"IFERROR(VLOOKUP(ROWS($J$2:J561),$A$2:$B$996,2,FALSE),\"\")","v":""}]
[{"$f":"IF(ISNUMBER(SEARCH(Cover!$H$13,Table1[[#This Row],[School District]])),MAX($A$1:A561)+1,0)","v":0},"Mid-State Spec Ed Joint Agreement",3011801060,60,{"$f":"IF(OR(Table1[[#This Row],[Type]]=0,Table1[[#This Row],[Type]]>=40),\"JA\",\"SD\")","v":"JA"},"Christian","03-011-8010-60",null,null,{"$f":"IFERROR(VLOOKUP(ROWS($J$2:J562),$A$2:$B$996,2,FALSE),\"\")","v":""}]
[{"$f":"IF(ISNUMBER(SEARCH(Cover!$H$13,Table1[[#This Row],[School District]])),MAX($A$1:A562)+1,0)","v":0},"Mid-Valley Spec Ed Coop",31045303061,61,{"$f":"IF(OR(Table1[[#This Row],[Type]]=0,Table1[[#This Row],[Type]]>=40),\"JA\",\"SD\")","v":"JA"},"Kane","31-045-3030-61",null,null,{"$f":"IFERROR(VLOOKUP(ROWS($J$2:J563),$A$2:$B$996,2,FALSE),\"\")","v":""}]
[{"$f":"IF(ISNUMBER(SEARCH(Cover!$H$13,Table1[[#This Row],[School District]])),MAX($A$1:A563)+1,0)","v":0},"Midwest Central CUSD 191",53060191026,26,{"$f":"IF(OR(Table1[[#This Row],[Type]]=0,Table1[[#This Row],[Type]]>=40),\"JA\",\"SD\")","v":"SD"},"Mason/Tazewell","53-060-1910-26",null,null,{"$f":"IFERROR(VLOOKUP(ROWS($J$2:J564),$A$2:$B$996,2,FALSE),\"\")","v":""}]
[{"$f":"IF(ISNUMBER(SEARCH(Cover!$H$13,Table1[[#This Row],[School District]])),MAX($A$1:A564)+1,0)","v":0},"Milford Area Public Schools District 124",32038124026,26,{"$f":"IF(OR(Table1[[#This Row],[Type]]=0,Table1[[#This Row],[Type]]>=40),\"JA\",\"SD\")","v":"SD"},"Iroquois","32-038-1240-26",null,null,{"$f":"IFERROR(VLOOKUP(ROWS($J$2:J565),$A$2:$B$996,2,FALSE),\"\")","v":""}]
[{"$f":"IF(ISNUMBER(SEARCH(Cover!$H$13,Table1[[#This Row],[School District]])),MAX($A$1:A565)+1,0)","v":0},"Millburn CCSD 24",34049024004,4,{"$f":"IF(OR(Table1[[#This Row],[Type]]=0,Table1[[#This Row],[Type]]>=40),\"JA\",\"SD\")","v":"SD"},"Lake","34-049-0240-04",null,null,{"$f":"IFERROR(VLOOKUP(ROWS($J$2:J566),$A$2:$B$996,2,FALSE),\"\")","v":""}]
[{"$f":"IF(ISNUMBER(SEARCH(Cover!$H$13,Table1[[#This Row],[School District]])),MAX($A$1:A566)+1,0)","v":0},"Miller Twp CCSD 210",35050210004,4,{"$f":"IF(OR(Table1[[#This Row],[Type]]=0,Table1[[#This Row],[Type]]>=40),\"JA\",\"SD\")","v":"SD"},"LaSalle/Grundy","35-050-2100-04",null,null,{"$f":"IFERROR(VLOOKUP(ROWS($J$2:J567),$A$2:$B$996,2,FALSE),\"\")","v":""}]
[{"$f":"IF(ISNUMBER(SEARCH(Cover!$H$13,Table1[[#This Row],[School District]])),MAX($A$1:A567)+1,0)","v":0},"Millstadt CCSD 160",50082160004,4,{"$f":"IF(OR(Table1[[#This Row],[Type]]=0,Table1[[#This Row],[Type]]>=40),\"JA\",\"SD\")","v":"SD"},"St. Clair","50-082-1600-04",null,null,{"$f":"IFERROR(VLOOKUP(ROWS($J$2:J568),$A$2:$B$996,2,FALSE),\"\")","v":""}]
[{"$f":"IF(ISNUMBER(SEARCH(Cover!$H$13,Table1[[#This Row],[School District]])),MAX($A$1:A568)+1,0)","v":0},"Minooka CCSD 201",24032201004,4,{"$f":"IF(OR(Table1[[#This Row],[Type]]=0,Table1[[#This Row],[Type]]>=40),\"JA\",\"SD\")","v":"SD"},"Grundy/Kendall/Will","24-032-2010-04",null,null,{"$f":"IFERROR(VLOOKUP(ROWS($J$2:J569),$A$2:$B$996,2,FALSE),\"\")","v":""}]
[{"$f":"IF(ISNUMBER(SEARCH(Cover!$H$13,Table1[[#This Row],[School District]])),MAX($A$1:A569)+1,0)","v":0},"Minooka CHSD 111",24032111016,16,{"$f":"IF(OR(Table1[[#This Row],[Type]]=0,Table1[[#This Row],[Type]]>=40),\"JA\",\"SD\")","v":"SD"},"Grundy","24-032-1110-16",null,null,{"$f":"IFERROR(VLOOKUP(ROWS($J$2:J570),$A$2:$B$996,2,FALSE),\"\")","v":""}]
[{"$f":"IF(ISNUMBER(SEARCH(Cover!$H$13,Table1[[#This Row],[School District]])),MAX($A$1:A570)+1,0)","v":0},"Mokena SD 159",56099159002,2,{"$f":"IF(OR(Table1[[#This Row],[Type]]=0,Table1[[#This Row],[Type]]>=40),\"JA\",\"SD\")","v":"SD"},"Will","56-099-1590-02",null,null,{"$f":"IFERROR(VLOOKUP(ROWS($J$2:J571),$A$2:$B$996,2,FALSE),\"\")","v":""}]
[{"$f":"IF(ISNUMBER(SEARCH(Cover!$H$13,Table1[[#This Row],[School District]])),MAX($A$1:A571)+1,0)","v":0},"Moline-Coal Valley CUSD 40",49081040022,22,{"$f":"IF(OR(Table1[[#This Row],[Type]]=0,Table1[[#This Row],[Type]]>=40),\"JA\",\"SD\")","v":"SD"},"Rock Island","49-081-0400-22",null,null,{"$f":"IFERROR(VLOOKUP(ROWS($J$2:J572),$A$2:$B$996,2,FALSE),\"\")","v":""}]
[{"$f":"IF(ISNUMBER(SEARCH(Cover!$H$13,Table1[[#This Row],[School District]])),MAX($A$1:A572)+1,0)","v":0},"Momence CUSD 1",32046001026,26,{"$f":"IF(OR(Table1[[#This Row],[Type]]=0,Table1[[#This Row],[Type]]>=40),\"JA\",\"SD\")","v":"SD"},"Kankakee","32-046-0010-26",null,null,{"$f":"IFERROR(VLOOKUP(ROWS($J$2:J573),$A$2:$B$996,2,FALSE),\"\")","v":""}]
[{"$f":"IF(ISNUMBER(SEARCH(Cover!$H$13,Table1[[#This Row],[School District]])),MAX($A$1:A573)+1,0)","v":0},"Monmouth-Roseville CUSD 238",33094238026,26,{"$f":"IF(OR(Table1[[#This Row],[Type]]=0,Table1[[#This Row],[Type]]>=40),\"JA\",\"SD\")","v":"SD"},"Warren","33-094-2380-26",null,null,{"$f":"IFERROR(VLOOKUP(ROWS($J$2:J574),$A$2:$B$996,2,FALSE),\"\")","v":""}]
[{"$f":"IF(ISNUMBER(SEARCH(Cover!$H$13,Table1[[#This Row],[School District]])),MAX($A$1:A574)+1,0)","v":0},"Monroe SD 70",48072070002,2,{"$f":"IF(OR(Table1[[#This Row],[Type]]=0,Table1[[#This Row],[Type]]>=40),\"JA\",\"SD\")","v":"SD"},"Peoria","48-072-0700-02",null,null,{"$f":"IFERROR(VLOOKUP(ROWS($J$2:J575),$A$2:$B$996,2,FALSE),\"\")","v":""}]
[{"$f":"IF(ISNUMBER(SEARCH(Cover!$H$13,Table1[[#This Row],[School District]])),MAX($A$1:A575)+1,0)","v":0},"Monticello CUSD 25",39074025026,26,{"$f":"IF(OR(Table1[[#This Row],[Type]]=0,Table1[[#This Row],[Type]]>=40),\"JA\",\"SD\")","v":"SD"},"Piatt","39-074-0250-26",null,null,{"$f":"IFERROR(VLOOKUP(ROWS($J$2:J576),$A$2:$B$996,2,FALSE),\"\")","v":""}]
[{"$f":"IF(ISNUMBER(SEARCH(Cover!$H$13,Table1[[#This Row],[School District]])),MAX($A$1:A576)+1,0)","v":0},"Montmorency CCSD 145",47098145004,4,{"$f":"IF(OR(Table1[[#This Row],[Type]]=0,Table1[[#This Row],[Type]]>=40),\"JA\",\"SD\")","v":"SD"},"Whiteside","47-098-1450-04",null,null,{"$f":"IFERROR(VLOOKUP(ROWS($J$2:J577),$A$2:$B$996,2,FALSE),\"\")","v":""}]
[{"$f":"IF(ISNUMBER(SEARCH(Cover!$H$13,Table1[[#This Row],[School District]])),MAX($A$1:A577)+1,0)","v":0},"Moraine Area Career System",7016218046,46,{"$f":"IF(OR(Table1[[#This Row],[Type]]=0,Table1[[#This Row],[Type]]>=40),\"JA\",\"SD\")","v":"JA"},"Cook","07-016-2180-46",null,null,{"$f":"IFERROR(VLOOKUP(ROWS($J$2:J578),$A$2:$B$996,2,FALSE),\"\")","v":""}]
[{"$f":"IF(ISNUMBER(SEARCH(Cover!$H$13,Table1[[#This Row],[School District]])),MAX($A$1:A578)+1,0)","v":0},"Morris CHSD 101",24032101016,16,{"$f":"IF(OR(Table1[[#This Row],[Type]]=0,Table1[[#This Row],[Type]]>=40),\"JA\",\"SD\")","v":"SD"},"Grundy","24-032-1010-16",null,null,{"$f":"IFERROR(VLOOKUP(ROWS($J$2:J579),$A$2:$B$996,2,FALSE),\"\")","v":""}]
[{"$f":"IF(ISNUMBER(SEARCH(Cover!$H$13,Table1[[#This Row],[School District]])),MAX($A$1:A579)+1,0)","v":0},"Morris SD 54",24032054002,2,{"$f":"IF(OR(Table1[[#This Row],[Type]]=0,Table1[[#This Row],[Type]]>=40),\"JA\",\"SD\")","v":"SD"},"Grundy","24-032-0540-02",null,null,{"$f":"IFERROR(VLOOKUP(ROWS($J$2:J580),$A$2:$B$996,2,FALSE),\"\")","v":""}]
[{"$f":"IF(ISNUMBER(SEARCH(Cover!$H$13,Table1[[#This Row],[School District]])),MAX($A$1:A580)+1,0)","v":0},"Morrison CUSD 6",47098006026,26,{"$f":"IF(OR(Table1[[#This Row],[Type]]=0,Table1[[#This Row],[Type]]>=40),\"JA\",\"SD\")","v":"SD"},"Whiteside","47-098-0060-26",null,null,{"$f":"IFERROR(VLOOKUP(ROWS($J$2:J581),$A$2:$B$996,2,FALSE),\"\")","v":""}]
[{"$f":"IF(ISNUMBER(SEARCH(Cover!$H$13,Table1[[#This Row],[School District]])),MAX($A$1:A581)+1,0)","v":0},"Morrisonville CUSD 1",3011001026,26,{"$f":"IF(OR(Table1[[#This Row],[Type]]=0,Table1[[#This Row],[Type]]>=40),\"JA\",\"SD\")","v":"SD"},"Christian/Montgomery","03-011-0010-26",null,null,{"$f":"IFERROR(VLOOKUP(ROWS($J$2:J582),$A$2:$B$996,2,FALSE),\"\")","v":""}]
[{"$f":"IF(ISNUMBER(SEARCH(Cover!$H$13,Table1[[#This Row],[School District]])),MAX($A$1:A582)+1,0)","v":0},"Morton CUSD 709",53090709026,26,{"$f":"IF(OR(Table1[[#This Row],[Type]]=0,Table1[[#This Row],[Type]]>=40),\"JA\",\"SD\")","v":"SD"},"Tazewell","53-090-7090-26",null,null,{"$f":"IFERROR(VLOOKUP(ROWS($J$2:J583),$A$2:$B$996,2,FALSE),\"\")","v":""}]
[{"$f":"IF(ISNUMBER(SEARCH(Cover!$H$13,Table1[[#This Row],[School District]])),MAX($A$1:A583)+1,0)","v":0},"Morton Grove SD 70",5016070002,2,{"$f":"IF(OR(Table1[[#This Row],[Type]]=0,Table1[[#This Row],[Type]]>=40),\"JA\",\"SD\")","v":"SD"},"Cook","05-016-0700-02",null,null,{"$f":"IFERROR(VLOOKUP(ROWS($J$2:J584),$A$2:$B$996,2,FALSE),\"\")","v":""}]
[{"$f":"IF(ISNUMBER(SEARCH(Cover!$H$13,Table1[[#This Row],[School District]])),MAX($A$1:A584)+1,0)","v":0},"Mount Olive CUSD 5",40056005026,26,{"$f":"IF(OR(Table1[[#This Row],[Type]]=0,Table1[[#This Row],[Type]]>=40),\"JA\",\"SD\")","v":"SD"},"Macoupin/Montgomery","40-056-0050-26",null,null,{"$f":"IFERROR(VLOOKUP(ROWS($J$2:J585),$A$2:$B$996,2,FALSE),\"\")","v":""}]
[{"$f":"IF(ISNUMBER(SEARCH(Cover!$H$13,Table1[[#This Row],[School District]])),MAX($A$1:A585)+1,0)","v":0},"Mount Prospect SD 57",5016057002,2,{"$f":"IF(OR(Table1[[#This Row],[Type]]=0,Table1[[#This Row],[Type]]>=40),\"JA\",\"SD\")","v":"SD"},"Cook","05-016-0570-02",null,null,{"$f":"IFERROR(VLOOKUP(ROWS($J$2:J586),$A$2:$B$996,2,FALSE),\"\")","v":""}]
[{"$f":"IF(ISNUMBER(SEARCH(Cover!$H$13,Table1[[#This Row],[School District]])),MAX($A$1:A586)+1,0)","v":0},"Mount Vernon SD 80",13041080002,2,{"$f":"IF(OR(Table1[[#This Row],[Type]]=0,Table1[[#This Row],[Type]]>=40),\"JA\",\"SD\")","v":"SD"},"Jefferson","13-041-0800-02",null,null,{"$f":"IFERROR(VLOOKUP(ROWS($J$2:J587),$A$2:$B$996,2,FALSE),\"\")","v":""}]
[{"$f":"IF(ISNUMBER(SEARCH(Cover!$H$13,Table1[[#This Row],[School District]])),MAX($A$1:A587)+1,0)","v":0},"Mt Pulaski CUSD 23",17054023026,26,{"$f":"IF(OR(Table1[[#This Row],[Type]]=0,Table1[[#This Row],[Type]]>=40),\"JA\",\"SD\")","v":"SD"},"Logan","17-054-0230-26",null,null,{"$f":"IFERROR(VLOOKUP(ROWS($J$2:J588),$A$2:$B$996,2,FALSE),\"\")","v":""}]
[{"$f":"IF(ISNUMBER(SEARCH(Cover!$H$13,Table1[[#This Row],[School District]])),MAX($A$1:A588)+1,0)","v":0},"Mt Vernon Area Career Ctr",13000000041,41,{"$f":"IF(OR(Table1[[#This Row],[Type]]=0,Table1[[#This Row],[Type]]>=40),\"JA\",\"SD\")","v":"JA"},"Jefferson","13-000-0000-41",null,null,{"$f":"IFERROR(VLOOKUP(ROWS($J$2:J589),$A$2:$B$996,2,FALSE),\"\")","v":""}]
[{"$f":"IF(ISNUMBER(SEARCH(Cover!$H$13,Table1[[#This Row],[School District]])),MAX($A$1:A589)+1,0)","v":0},"Mt Vernon Twp HSD 201",13041201017,17,{"$f":"IF(OR(Table1[[#This Row],[Type]]=0,Table1[[#This Row],[Type]]>=40),\"JA\",\"SD\")","v":"SD"},"Jefferson","13-041-2010-17",null,null,{"$f":"IFERROR(VLOOKUP(ROWS($J$2:J590),$A$2:$B$996,2,FALSE),\"\")","v":""}]
[{"$f":"IF(ISNUMBER(SEARCH(Cover!$H$13,Table1[[#This Row],[School District]])),MAX($A$1:A590)+1,0)","v":0},"Mt Zion CUSD 3",39055003026,26,{"$f":"IF(OR(Table1[[#This Row],[Type]]=0,Table1[[#This Row],[Type]]>=40),\"JA\",\"SD\")","v":"SD"},"Macon","39-055-0030-26",null,null,{"$f":"IFERROR(VLOOKUP(ROWS($J$2:J591),$A$2:$B$996,2,FALSE),\"\")","v":""}]
[{"$f":"IF(ISNUMBER(SEARCH(Cover!$H$13,Table1[[#This Row],[School District]])),MAX($A$1:A591)+1,0)","v":0},"Mulberry Grove CUSD 1",3003001026,26,{"$f":"IF(OR(Table1[[#This Row],[Type]]=0,Table1[[#This Row],[Type]]>=40),\"JA\",\"SD\")","v":"SD"},"Bond","03-003-0010-26",null,null,{"$f":"IFERROR(VLOOKUP(ROWS($J$2:J592),$A$2:$B$996,2,FALSE),\"\")","v":""}]
[{"$f":"IF(ISNUMBER(SEARCH(Cover!$H$13,Table1[[#This Row],[School District]])),MAX($A$1:A592)+1,0)","v":0},"Mundelein Cons HSD 120",34049120013,13,{"$f":"IF(OR(Table1[[#This Row],[Type]]=0,Table1[[#This Row],[Type]]>=40),\"JA\",\"SD\")","v":"SD"},"Lake","34-049-1200-13",null,null,{"$f":"IFERROR(VLOOKUP(ROWS($J$2:J593),$A$2:$B$996,2,FALSE),\"\")","v":""}]
[{"$f":"IF(ISNUMBER(SEARCH(Cover!$H$13,Table1[[#This Row],[School District]])),MAX($A$1:A593)+1,0)","v":0},"Mundelein ESD 75",34049075002,2,{"$f":"IF(OR(Table1[[#This Row],[Type]]=0,Table1[[#This Row],[Type]]>=40),\"JA\",\"SD\")","v":"SD"},"Lake","34-049-0750-02",null,null,{"$f":"IFERROR(VLOOKUP(ROWS($J$2:J594),$A$2:$B$996,2,FALSE),\"\")","v":""}]
[{"$f":"IF(ISNUMBER(SEARCH(Cover!$H$13,Table1[[#This Row],[School District]])),MAX($A$1:A594)+1,0)","v":0},"Murphysboro CUSD 186",30039186026,26,{"$f":"IF(OR(Table1[[#This Row],[Type]]=0,Table1[[#This Row],[Type]]>=40),\"JA\",\"SD\")","v":"SD"},"Jackson","30-039-1860-26",null,null,{"$f":"IFERROR(VLOOKUP(ROWS($J$2:J595),$A$2:$B$996,2,FALSE),\"\")","v":""}]
[{"$f":"IF(ISNUMBER(SEARCH(Cover!$H$13,Table1[[#This Row],[School District]])),MAX($A$1:A595)+1,0)","v":0},"N Pekin & Marquette Hght SD 102",53090102002,2,{"$f":"IF(OR(Table1[[#This Row],[Type]]=0,Table1[[#This Row],[Type]]>=40),\"JA\",\"SD\")","v":"SD"},"Tazewell","53-090-1020-02",null,null,{"$f":"IFERROR(VLOOKUP(ROWS($J$2:J596),$A$2:$B$996,2,FALSE),\"\")","v":""}]
[{"$f":"IF(ISNUMBER(SEARCH(Cover!$H$13,Table1[[#This Row],[School District]])),MAX($A$1:A596)+1,0)","v":0},"Naperville CUSD 203",19022203026,26,{"$f":"IF(OR(Table1[[#This Row],[Type]]=0,Table1[[#This Row],[Type]]>=40),\"JA\",\"SD\")","v":"SD"},"DuPage/Will","19-022-2030-26",null,null,{"$f":"IFERROR(VLOOKUP(ROWS($J$2:J597),$A$2:$B$996,2,FALSE),\"\")","v":""}]
[{"$f":"IF(ISNUMBER(SEARCH(Cover!$H$13,Table1[[#This Row],[School District]])),MAX($A$1:A597)+1,0)","v":0},"Nashville CCSD 49",13095049004,4,{"$f":"IF(OR(Table1[[#This Row],[Type]]=0,Table1[[#This Row],[Type]]>=40),\"JA\",\"SD\")","v":"SD"},"Washington","13-095-0490-04",null,null,{"$f":"IFERROR(VLOOKUP(ROWS($J$2:J598),$A$2:$B$996,2,FALSE),\"\")","v":""}]
[{"$f":"IF(ISNUMBER(SEARCH(Cover!$H$13,Table1[[#This Row],[School District]])),MAX($A$1:A598)+1,0)","v":0},"Nashville CHSD 99",13095099016,16,{"$f":"IF(OR(Table1[[#This Row],[Type]]=0,Table1[[#This Row],[Type]]>=40),\"JA\",\"SD\")","v":"SD"},"Washington/Jefferson/Perry","13-095-0990-16",null,null,{"$f":"IFERROR(VLOOKUP(ROWS($J$2:J599),$A$2:$B$996,2,FALSE),\"\")","v":""}]
[{"$f":"IF(ISNUMBER(SEARCH(Cover!$H$13,Table1[[#This Row],[School District]])),MAX($A$1:A599)+1,0)","v":0},"Nauvoo-Colusa CUSD 325",26034325026,26,{"$f":"IF(OR(Table1[[#This Row],[Type]]=0,Table1[[#This Row],[Type]]>=40),\"JA\",\"SD\")","v":"SD"},"Hancock","26-034-3250-26",null,null,{"$f":"IFERROR(VLOOKUP(ROWS($J$2:J600),$A$2:$B$996,2,FALSE),\"\")","v":""}]
[{"$f":"IF(ISNUMBER(SEARCH(Cover!$H$13,Table1[[#This Row],[School District]])),MAX($A$1:A600)+1,0)","v":0},"Neoga CUSD 3",11018003026,26,{"$f":"IF(OR(Table1[[#This Row],[Type]]=0,Table1[[#This Row],[Type]]>=40),\"JA\",\"SD\")","v":"SD"},"Cumberland","11-018-0030-26",null,null,{"$f":"IFERROR(VLOOKUP(ROWS($J$2:J601),$A$2:$B$996,2,FALSE),\"\")","v":""}]
[{"$f":"IF(ISNUMBER(SEARCH(Cover!$H$13,Table1[[#This Row],[School District]])),MAX($A$1:A601)+1,0)","v":0},"Nettle Creek CCSD 24C","24032024C04",4,{"$f":"IF(OR(Table1[[#This Row],[Type]]=0,Table1[[#This Row],[Type]]>=40),\"JA\",\"SD\")","v":"SD"},"Grundy","24-032-024C-04",null,null,{"$f":"IFERROR(VLOOKUP(ROWS($J$2:J602),$A$2:$B$996,2,FALSE),\"\")","v":""}]
[{"$f":"IF(ISNUMBER(SEARCH(Cover!$H$13,Table1[[#This Row],[School District]])),MAX($A$1:A602)+1,0)","v":0},"New Athens CUSD 60",50082060026,26,{"$f":"IF(OR(Table1[[#This Row],[Type]]=0,Table1[[#This Row],[Type]]>=40),\"JA\",\"SD\")","v":"SD"},"St. Clair","50-082-0600-26",null,null,{"$f":"IFERROR(VLOOKUP(ROWS($J$2:J603),$A$2:$B$996,2,FALSE),\"\")","v":""}]
[{"$f":"IF(ISNUMBER(SEARCH(Cover!$H$13,Table1[[#This Row],[School District]])),MAX($A$1:A603)+1,0)","v":0},"New Berlin CUSD 16",51084016026,26,{"$f":"IF(OR(Table1[[#This Row],[Type]]=0,Table1[[#This Row],[Type]]>=40),\"JA\",\"SD\")","v":"SD"},"Sangamon/Morgan","51-084-0160-26",null,null,{"$f":"IFERROR(VLOOKUP(ROWS($J$2:J604),$A$2:$B$996,2,FALSE),\"\")","v":""}]
[{"$f":"IF(ISNUMBER(SEARCH(Cover!$H$13,Table1[[#This Row],[School District]])),MAX($A$1:A604)+1,0)","v":0},"New Holland-Middletown ED 88",17054088002,2,{"$f":"IF(OR(Table1[[#This Row],[Type]]=0,Table1[[#This Row],[Type]]>=40),\"JA\",\"SD\")","v":"SD"},"Logan/Mason/Menard","17-054-0880-02",null,null,{"$f":"IFERROR(VLOOKUP(ROWS($J$2:J605),$A$2:$B$996,2,FALSE),\"\")","v":""}]
[{"$f":"IF(ISNUMBER(SEARCH(Cover!$H$13,Table1[[#This Row],[School District]])),MAX($A$1:A605)+1,0)","v":0},"New Hope CCSD 6",20096006004,4,{"$f":"IF(OR(Table1[[#This Row],[Type]]=0,Table1[[#This Row],[Type]]>=40),\"JA\",\"SD\")","v":"SD"},"Wayne/White","20-096-0060-04",null,null,{"$f":"IFERROR(VLOOKUP(ROWS($J$2:J606),$A$2:$B$996,2,FALSE),\"\")","v":""}]
[{"$f":"IF(ISNUMBER(SEARCH(Cover!$H$13,Table1[[#This Row],[School District]])),MAX($A$1:A606)+1,0)","v":0},"New Lenox SD 122",56099122002,2,{"$f":"IF(OR(Table1[[#This Row],[Type]]=0,Table1[[#This Row],[Type]]>=40),\"JA\",\"SD\")","v":"SD"},"Will","56-099-1220-02",null,null,{"$f":"IFERROR(VLOOKUP(ROWS($J$2:J607),$A$2:$B$996,2,FALSE),\"\")","v":""}]
[{"$f":"IF(ISNUMBER(SEARCH(Cover!$H$13,Table1[[#This Row],[School District]])),MAX($A$1:A607)+1,0)","v":0},"New Simpson Hill SD 32",21044032003,3,{"$f":"IF(OR(Table1[[#This Row],[Type]]=0,Table1[[#This Row],[Type]]>=40),\"JA\",\"SD\")","v":"SD"},"Johnson/Williamson","21-044-0320-03",null,null,{"$f":"IFERROR(VLOOKUP(ROWS($J$2:J608),$A$2:$B$996,2,FALSE),\"\")","v":""}]
[{"$f":"IF(ISNUMBER(SEARCH(Cover!$H$13,Table1[[#This Row],[School District]])),MAX($A$1:A608)+1,0)","v":0},"New Trier Twp HSD 203",5016203017,17,{"$f":"IF(OR(Table1[[#This Row],[Type]]=0,Table1[[#This Row],[Type]]>=40),\"JA\",\"SD\")","v":"SD"},"Cook","05-016-2030-17",null,null,{"$f":"IFERROR(VLOOKUP(ROWS($J$2:J609),$A$2:$B$996,2,FALSE),\"\")","v":""}]
[{"$f":"IF(ISNUMBER(SEARCH(Cover!$H$13,Table1[[#This Row],[School District]])),MAX($A$1:A609)+1,0)","v":0},"Newark CCSD 66",24047066004,4,{"$f":"IF(OR(Table1[[#This Row],[Type]]=0,Table1[[#This Row],[Type]]>=40),\"JA\",\"SD\")","v":"SD"},"Kendall/LaSalle","24-047-0660-04",null,null,{"$f":"IFERROR(VLOOKUP(ROWS($J$2:J610),$A$2:$B$996,2,FALSE),\"\")","v":""}]
[{"$f":"IF(ISNUMBER(SEARCH(Cover!$H$13,Table1[[#This Row],[School District]])),MAX($A$1:A610)+1,0)","v":0},"Newark CHSD 18",24047018016,16,{"$f":"IF(OR(Table1[[#This Row],[Type]]=0,Table1[[#This Row],[Type]]>=40),\"JA\",\"SD\")","v":"SD"},"Kendall/Grundy/LaSalle","24-047-0180-16",null,null,{"$f":"IFERROR(VLOOKUP(ROWS($J$2:J611),$A$2:$B$996,2,FALSE),\"\")","v":""}]
[{"$f":"IF(ISNUMBER(SEARCH(Cover!$H$13,Table1[[#This Row],[School District]])),MAX($A$1:A611)+1,0)","v":0},"Niles ESD 71",5016071002,2,{"$f":"IF(OR(Table1[[#This Row],[Type]]=0,Table1[[#This Row],[Type]]>=40),\"JA\",\"SD\")","v":"SD"},"Cook","05-016-0710-02",null,null,{"$f":"IFERROR(VLOOKUP(ROWS($J$2:J612),$A$2:$B$996,2,FALSE),\"\")","v":""}]
[{"$f":"IF(ISNUMBER(SEARCH(Cover!$H$13,Table1[[#This Row],[School District]])),MAX($A$1:A612)+1,0)","v":0},"Niles Twp Dist for Spec Ed",5016807060,60,{"$f":"IF(OR(Table1[[#This Row],[Type]]=0,Table1[[#This Row],[Type]]>=40),\"JA\",\"SD\")","v":"JA"},"Cook","05-016-8070-60",null,null,{"$f":"IFERROR(VLOOKUP(ROWS($J$2:J613),$A$2:$B$996,2,FALSE),\"\")","v":""}]
[{"$f":"IF(ISNUMBER(SEARCH(Cover!$H$13,Table1[[#This Row],[School District]])),MAX($A$1:A613)+1,0)","v":0},"Niles Twp HSD 219",5016219017,17,{"$f":"IF(OR(Table1[[#This Row],[Type]]=0,Table1[[#This Row],[Type]]>=40),\"JA\",\"SD\")","v":"SD"},"Cook","05-016-2190-17",null,null,{"$f":"IFERROR(VLOOKUP(ROWS($J$2:J614),$A$2:$B$996,2,FALSE),\"\")","v":""}]
[{"$f":"IF(ISNUMBER(SEARCH(Cover!$H$13,Table1[[#This Row],[School District]])),MAX($A$1:A614)+1,0)","v":0},"Nippersink SD 2",44063002003,3,{"$f":"IF(OR(Table1[[#This Row],[Type]]=0,Table1[[#This Row],[Type]]>=40),\"JA\",\"SD\")","v":"SD"},"McHenry/Lake","44-063-0020-03",null,null,{"$f":"IFERROR(VLOOKUP(ROWS($J$2:J615),$A$2:$B$996,2,FALSE),\"\")","v":""}]
[{"$f":"IF(ISNUMBER(SEARCH(Cover!$H$13,Table1[[#This Row],[School District]])),MAX($A$1:A615)+1,0)","v":0},"Nokomis CUSD 22",3068022026,26,{"$f":"IF(OR(Table1[[#This Row],[Type]]=0,Table1[[#This Row],[Type]]>=40),\"JA\",\"SD\")","v":"SD"},"Montgomery/Christian/Fayette","03-068-0220-26",null,null,{"$f":"IFERROR(VLOOKUP(ROWS($J$2:J616),$A$2:$B$996,2,FALSE),\"\")","v":""}]
[{"$f":"IF(ISNUMBER(SEARCH(Cover!$H$13,Table1[[#This Row],[School District]])),MAX($A$1:A616)+1,0)","v":0},"Norridge SD 80",6016080002,2,{"$f":"IF(OR(Table1[[#This Row],[Type]]=0,Table1[[#This Row],[Type]]>=40),\"JA\",\"SD\")","v":"SD"},"Cook","06-016-0800-02",null,null,{"$f":"IFERROR(VLOOKUP(ROWS($J$2:J617),$A$2:$B$996,2,FALSE),\"\")","v":""}]
[{"$f":"IF(ISNUMBER(SEARCH(Cover!$H$13,Table1[[#This Row],[School District]])),MAX($A$1:A617)+1,0)","v":0},"Norris City-Omaha-Enfield CUSD 3",20097003026,26,{"$f":"IF(OR(Table1[[#This Row],[Type]]=0,Table1[[#This Row],[Type]]>=40),\"JA\",\"SD\")","v":"SD"},"White/Hamilton/Gallatin","20-097-0030-26",null,null,{"$f":"IFERROR(VLOOKUP(ROWS($J$2:J618),$A$2:$B$996,2,FALSE),\"\")","v":""}]
[{"$f":"IF(ISNUMBER(SEARCH(Cover!$H$13,Table1[[#This Row],[School District]])),MAX($A$1:A618)+1,0)","v":0},"North Boone CUSD 200",4004200026,26,{"$f":"IF(OR(Table1[[#This Row],[Type]]=0,Table1[[#This Row],[Type]]>=40),\"JA\",\"SD\")","v":"SD"},"Boone","04-004-2000-26",null,null,{"$f":"IFERROR(VLOOKUP(ROWS($J$2:J619),$A$2:$B$996,2,FALSE),\"\")","v":""}]
[{"$f":"IF(ISNUMBER(SEARCH(Cover!$H$13,Table1[[#This Row],[School District]])),MAX($A$1:A619)+1,0)","v":0},"North Chicago SD 187",34049187026,26,{"$f":"IF(OR(Table1[[#This Row],[Type]]=0,Table1[[#This Row],[Type]]>=40),\"JA\",\"SD\")","v":"SD"},"Lake","34-049-1870-26",null,null,{"$f":"IFERROR(VLOOKUP(ROWS($J$2:J620),$A$2:$B$996,2,FALSE),\"\")","v":""}]
[{"$f":"IF(ISNUMBER(SEARCH(Cover!$H$13,Table1[[#This Row],[School District]])),MAX($A$1:A620)+1,0)","v":0},"North Clay CUSD 25",12013025026,26,{"$f":"IF(OR(Table1[[#This Row],[Type]]=0,Table1[[#This Row],[Type]]>=40),\"JA\",\"SD\")","v":"SD"},"Clay","12-013-0250-26",null,null,{"$f":"IFERROR(VLOOKUP(ROWS($J$2:J621),$A$2:$B$996,2,FALSE),\"\")","v":""}]
[{"$f":"IF(ISNUMBER(SEARCH(Cover!$H$13,Table1[[#This Row],[School District]])),MAX($A$1:A621)+1,0)","v":0},"North DuPage Spec Ed Coop",19022802060,60,{"$f":"IF(OR(Table1[[#This Row],[Type]]=0,Table1[[#This Row],[Type]]>=40),\"JA\",\"SD\")","v":"JA"},"Dupage","19-022-8020-60",null,null,{"$f":"IFERROR(VLOOKUP(ROWS($J$2:J622),$A$2:$B$996,2,FALSE),\"\")","v":""}]
[{"$f":"IF(ISNUMBER(SEARCH(Cover!$H$13,Table1[[#This Row],[School District]])),MAX($A$1:A622)+1,0)","v":0},"North Greene CUSD 3",40031003026,26,{"$f":"IF(OR(Table1[[#This Row],[Type]]=0,Table1[[#This Row],[Type]]>=40),\"JA\",\"SD\")","v":"SD"},"Greene/Scott","40-031-0030-26",null,null,{"$f":"IFERROR(VLOOKUP(ROWS($J$2:J623),$A$2:$B$996,2,FALSE),\"\")","v":""}]
[{"$f":"IF(ISNUMBER(SEARCH(Cover!$H$13,Table1[[#This Row],[School District]])),MAX($A$1:A623)+1,0)","v":0},"North Mac CUSD 34",40056034026,26,{"$f":"IF(OR(Table1[[#This Row],[Type]]=0,Table1[[#This Row],[Type]]>=40),\"JA\",\"SD\")","v":"SD"},"Macoupin","40-056-0340-26",null,null,{"$f":"IFERROR(VLOOKUP(ROWS($J$2:J624),$A$2:$B$996,2,FALSE),\"\")","v":""}]
[{"$f":"IF(ISNUMBER(SEARCH(Cover!$H$13,Table1[[#This Row],[School District]])),MAX($A$1:A624)+1,0)","v":0},"North Palos SD 117",7016117002,2,{"$f":"IF(OR(Table1[[#This Row],[Type]]=0,Table1[[#This Row],[Type]]>=40),\"JA\",\"SD\")","v":"SD"},"Cook","07-016-1170-02",null,null,{"$f":"IFERROR(VLOOKUP(ROWS($J$2:J625),$A$2:$B$996,2,FALSE),\"\")","v":""}]
[{"$f":"IF(ISNUMBER(SEARCH(Cover!$H$13,Table1[[#This Row],[School District]])),MAX($A$1:A625)+1,0)","v":0},"North Shore SD 112",34049112002,2,{"$f":"IF(OR(Table1[[#This Row],[Type]]=0,Table1[[#This Row],[Type]]>=40),\"JA\",\"SD\")","v":"SD"},"Lake","34-049-1120-02",null,null,{"$f":"IFERROR(VLOOKUP(ROWS($J$2:J626),$A$2:$B$996,2,FALSE),\"\")","v":""}]
[{"$f":"IF(ISNUMBER(SEARCH(Cover!$H$13,Table1[[#This Row],[School District]])),MAX($A$1:A626)+1,0)","v":0},"North Suburban Ed Reg for Voc (NSERV)",5016207046,46,{"$f":"IF(OR(Table1[[#This Row],[Type]]=0,Table1[[#This Row],[Type]]>=40),\"JA\",\"SD\")","v":"JA"},"Cook","05-016-2070-46",null,null,{"$f":"IFERROR(VLOOKUP(ROWS($J$2:J627),$A$2:$B$996,2,FALSE),\"\")","v":""}]
[{"$f":"IF(ISNUMBER(SEARCH(Cover!$H$13,Table1[[#This Row],[School District]])),MAX($A$1:A627)+1,0)","v":0},"North Wamac SD 186",13014186002,2,{"$f":"IF(OR(Table1[[#This Row],[Type]]=0,Table1[[#This Row],[Type]]>=40),\"JA\",\"SD\")","v":"SD"},"Clinton","13-014-1860-02",null,null,{"$f":"IFERROR(VLOOKUP(ROWS($J$2:J628),$A$2:$B$996,2,FALSE),\"\")","v":""}]
[{"$f":"IF(ISNUMBER(SEARCH(Cover!$H$13,Table1[[#This Row],[School District]])),MAX($A$1:A628)+1,0)","v":0},"North Wayne CUSD 200",20096200026,26,{"$f":"IF(OR(Table1[[#This Row],[Type]]=0,Table1[[#This Row],[Type]]>=40),\"JA\",\"SD\")","v":"SD"},"Wayne","20-096-2000-26",null,null,{"$f":"IFERROR(VLOOKUP(ROWS($J$2:J629),$A$2:$B$996,2,FALSE),\"\")","v":""}]
[{"$f":"IF(ISNUMBER(SEARCH(Cover!$H$13,Table1[[#This Row],[School District]])),MAX($A$1:A629)+1,0)","v":0},"Northbrook ESD 27",5016027002,2,{"$f":"IF(OR(Table1[[#This Row],[Type]]=0,Table1[[#This Row],[Type]]>=40),\"JA\",\"SD\")","v":"SD"},"Cook","05-016-0270-02",null,null,{"$f":"IFERROR(VLOOKUP(ROWS($J$2:J630),$A$2:$B$996,2,FALSE),\"\")","v":""}]
[{"$f":"IF(ISNUMBER(SEARCH(Cover!$H$13,Table1[[#This Row],[School District]])),MAX($A$1:A630)+1,0)","v":0},"Northbrook SD 28",5016028002,2,{"$f":"IF(OR(Table1[[#This Row],[Type]]=0,Table1[[#This Row],[Type]]>=40),\"JA\",\"SD\")","v":"SD"},"Cook","05-016-0280-02",null,null,{"$f":"IFERROR(VLOOKUP(ROWS($J$2:J631),$A$2:$B$996,2,FALSE),\"\")","v":""}]
[{"$f":"IF(ISNUMBER(SEARCH(Cover!$H$13,Table1[[#This Row],[School District]])),MAX($A$1:A631)+1,0)","v":0},"Northbrook/Glenview SD 30",5016030002,2,{"$f":"IF(OR(Table1[[#This Row],[Type]]=0,Table1[[#This Row],[Type]]>=40),\"JA\",\"SD\")","v":"SD"},"Cook","05-016-0300-02",null,null,{"$f":"IFERROR(VLOOKUP(ROWS($J$2:J632),$A$2:$B$996,2,FALSE),\"\")","v":""}]
[{"$f":"IF(ISNUMBER(SEARCH(Cover!$H$13,Table1[[#This Row],[School District]])),MAX($A$1:A632)+1,0)","v":0},"Northern Kane Cty Reg Voc System",31045301046,46,{"$f":"IF(OR(Table1[[#This Row],[Type]]=0,Table1[[#This Row],[Type]]>=40),\"JA\",\"SD\")","v":"JA"},"Kane","31-045-3010-46",null,null,{"$f":"IFERROR(VLOOKUP(ROWS($J$2:J633),$A$2:$B$996,2,FALSE),\"\")","v":""}]
[{"$f":"IF(ISNUMBER(SEARCH(Cover!$H$13,Table1[[#This Row],[School District]])),MAX($A$1:A633)+1,0)","v":0},"Northern Suburban Spec Ed Dist",34049804060,60,{"$f":"IF(OR(Table1[[#This Row],[Type]]=0,Table1[[#This Row],[Type]]>=40),\"JA\",\"SD\")","v":"JA"},"Lake","34-049-8040-60",null,null,{"$f":"IFERROR(VLOOKUP(ROWS($J$2:J634),$A$2:$B$996,2,FALSE),\"\")","v":""}]
[{"$f":"IF(ISNUMBER(SEARCH(Cover!$H$13,Table1[[#This Row],[School District]])),MAX($A$1:A634)+1,0)","v":0},"Northfield Twp HSD 225",5016225017,17,{"$f":"IF(OR(Table1[[#This Row],[Type]]=0,Table1[[#This Row],[Type]]>=40),\"JA\",\"SD\")","v":"SD"},"Cook","05-016-2250-17",null,null,{"$f":"IFERROR(VLOOKUP(ROWS($J$2:J635),$A$2:$B$996,2,FALSE),\"\")","v":""}]
[{"$f":"IF(ISNUMBER(SEARCH(Cover!$H$13,Table1[[#This Row],[School District]])),MAX($A$1:A635)+1,0)","v":0},"Northwest Ed Council for Student Success",5016214046,46,{"$f":"IF(OR(Table1[[#This Row],[Type]]=0,Table1[[#This Row],[Type]]>=40),\"JA\",\"SD\")","v":"JA"},"Cook","05-016-2140-46",null,null,{"$f":"IFERROR(VLOOKUP(ROWS($J$2:J636),$A$2:$B$996,2,FALSE),\"\")","v":""}]
[{"$f":"IF(ISNUMBER(SEARCH(Cover!$H$13,Table1[[#This Row],[School District]])),MAX($A$1:A636)+1,0)","v":0},"Northwest Spec Ed Coop",8043210061,61,{"$f":"IF(OR(Table1[[#This Row],[Type]]=0,Table1[[#This Row],[Type]]>=40),\"JA\",\"SD\")","v":"JA"},"Jo Daviess","08-043-2100-61",null,null,{"$f":"IFERROR(VLOOKUP(ROWS($J$2:J637),$A$2:$B$996,2,FALSE),\"\")","v":""}]
[{"$f":"IF(ISNUMBER(SEARCH(Cover!$H$13,Table1[[#This Row],[School District]])),MAX($A$1:A637)+1,0)","v":0},"Northwest Suburban Spec Ed Org (NSSEO)",5016805060,60,{"$f":"IF(OR(Table1[[#This Row],[Type]]=0,Table1[[#This Row],[Type]]>=40),\"JA\",\"SD\")","v":"JA"},"Cook","05-016-8050-60",null,null,{"$f":"IFERROR(VLOOKUP(ROWS($J$2:J638),$A$2:$B$996,2,FALSE),\"\")","v":""}]
[{"$f":"IF(ISNUMBER(SEARCH(Cover!$H$13,Table1[[#This Row],[School District]])),MAX($A$1:A638)+1,0)","v":0},"Northwestern CUSD 2",40056002026,26,{"$f":"IF(OR(Table1[[#This Row],[Type]]=0,Table1[[#This Row],[Type]]>=40),\"JA\",\"SD\")","v":"SD"},"Macoupin","40-056-0020-26",null,null,{"$f":"IFERROR(VLOOKUP(ROWS($J$2:J639),$A$2:$B$996,2,FALSE),\"\")","v":""}]
[{"$f":"IF(ISNUMBER(SEARCH(Cover!$H$13,Table1[[#This Row],[School District]])),MAX($A$1:A639)+1,0)","v":0},"Northwestern IL Assoc",16019427061,61,{"$f":"IF(OR(Table1[[#This Row],[Type]]=0,Table1[[#This Row],[Type]]>=40),\"JA\",\"SD\")","v":"JA"},"DeKalb","16-019-4270-61",null,null,{"$f":"IFERROR(VLOOKUP(ROWS($J$2:J640),$A$2:$B$996,2,FALSE),\"\")","v":""}]
[{"$f":"IF(ISNUMBER(SEARCH(Cover!$H$13,Table1[[#This Row],[School District]])),MAX($A$1:A640)+1,0)","v":0},"Norwood ESD 63",48072063002,2,{"$f":"IF(OR(Table1[[#This Row],[Type]]=0,Table1[[#This Row],[Type]]>=40),\"JA\",\"SD\")","v":"SD"},"Peoria","48-072-0630-02",null,null,{"$f":"IFERROR(VLOOKUP(ROWS($J$2:J641),$A$2:$B$996,2,FALSE),\"\")","v":""}]
[{"$f":"IF(ISNUMBER(SEARCH(Cover!$H$13,Table1[[#This Row],[School District]])),MAX($A$1:A641)+1,0)","v":0},"NPT Spec Ed Coop",3011802060,60,{"$f":"IF(OR(Table1[[#This Row],[Type]]=0,Table1[[#This Row],[Type]]>=40),\"JA\",\"SD\")","v":"JA"},"Christian","03-011-8020-60",null,null,{"$f":"IFERROR(VLOOKUP(ROWS($J$2:J642),$A$2:$B$996,2,FALSE),\"\")","v":""}]
[{"$f":"IF(ISNUMBER(SEARCH(Cover!$H$13,Table1[[#This Row],[School District]])),MAX($A$1:A642)+1,0)","v":0},"O Fallon CCSD 90",50082090004,4,{"$f":"IF(OR(Table1[[#This Row],[Type]]=0,Table1[[#This Row],[Type]]>=40),\"JA\",\"SD\")","v":"SD"},"St. Clair","50-082-0900-04",null,null,{"$f":"IFERROR(VLOOKUP(ROWS($J$2:J643),$A$2:$B$996,2,FALSE),\"\")","v":""}]
[{"$f":"IF(ISNUMBER(SEARCH(Cover!$H$13,Table1[[#This Row],[School District]])),MAX($A$1:A643)+1,0)","v":0},"O Fallon Twp HSD 203",50082203017,17,{"$f":"IF(OR(Table1[[#This Row],[Type]]=0,Table1[[#This Row],[Type]]>=40),\"JA\",\"SD\")","v":"SD"},"St. Clair","50-082-2030-17",null,null,{"$f":"IFERROR(VLOOKUP(ROWS($J$2:J644),$A$2:$B$996,2,FALSE),\"\")","v":""}]
[{"$f":"IF(ISNUMBER(SEARCH(Cover!$H$13,Table1[[#This Row],[School District]])),MAX($A$1:A644)+1,0)","v":0},"Oak Grove SD 68  Bartonville",48072068002,2,{"$f":"IF(OR(Table1[[#This Row],[Type]]=0,Table1[[#This Row],[Type]]>=40),\"JA\",\"SD\")","v":"SD"},"Peoria","48-072-0680-02",null,null,{"$f":"IFERROR(VLOOKUP(ROWS($J$2:J645),$A$2:$B$996,2,FALSE),\"\")","v":""}]
[{"$f":"IF(ISNUMBER(SEARCH(Cover!$H$13,Table1[[#This Row],[School District]])),MAX($A$1:A645)+1,0)","v":0},"Oak Grove SD 68 Green Oaks",34049068002,2,{"$f":"IF(OR(Table1[[#This Row],[Type]]=0,Table1[[#This Row],[Type]]>=40),\"JA\",\"SD\")","v":"SD"},"Lake","34-049-0680-02",null,null,{"$f":"IFERROR(VLOOKUP(ROWS($J$2:J646),$A$2:$B$996,2,FALSE),\"\")","v":""}]
[{"$f":"IF(ISNUMBER(SEARCH(Cover!$H$13,Table1[[#This Row],[School District]])),MAX($A$1:A646)+1,0)","v":0},"Oak Lawn CHSD 229",7016229016,16,{"$f":"IF(OR(Table1[[#This Row],[Type]]=0,Table1[[#This Row],[Type]]>=40),\"JA\",\"SD\")","v":"SD"},"Cook","07-016-2290-16",null,null,{"$f":"IFERROR(VLOOKUP(ROWS($J$2:J647),$A$2:$B$996,2,FALSE),\"\")","v":""}]
[{"$f":"IF(ISNUMBER(SEARCH(Cover!$H$13,Table1[[#This Row],[School District]])),MAX($A$1:A647)+1,0)","v":0},"Oak Lawn-Hometown SD 123",7016123002,2,{"$f":"IF(OR(Table1[[#This Row],[Type]]=0,Table1[[#This Row],[Type]]>=40),\"JA\",\"SD\")","v":"SD"},"Cook","07-016-1230-02",null,null,{"$f":"IFERROR(VLOOKUP(ROWS($J$2:J648),$A$2:$B$996,2,FALSE),\"\")","v":""}]
[{"$f":"IF(ISNUMBER(SEARCH(Cover!$H$13,Table1[[#This Row],[School District]])),MAX($A$1:A648)+1,0)","v":0},"Oak Park - River Forest SD 200",6016200013,13,{"$f":"IF(OR(Table1[[#This Row],[Type]]=0,Table1[[#This Row],[Type]]>=40),\"JA\",\"SD\")","v":"SD"},"Cook","06-016-2000-13",null,null,{"$f":"IFERROR(VLOOKUP(ROWS($J$2:J649),$A$2:$B$996,2,FALSE),\"\")","v":""}]
[{"$f":"IF(ISNUMBER(SEARCH(Cover!$H$13,Table1[[#This Row],[School District]])),MAX($A$1:A649)+1,0)","v":0},"Oak Park ESD 97",6016097002,2,{"$f":"IF(OR(Table1[[#This Row],[Type]]=0,Table1[[#This Row],[Type]]>=40),\"JA\",\"SD\")","v":"SD"},"Cook","06-016-0970-02",null,null,{"$f":"IFERROR(VLOOKUP(ROWS($J$2:J650),$A$2:$B$996,2,FALSE),\"\")","v":""}]
[{"$f":"IF(ISNUMBER(SEARCH(Cover!$H$13,Table1[[#This Row],[School District]])),MAX($A$1:A650)+1,0)","v":0},"Oakdale CCSD 1",13095001004,4,{"$f":"IF(OR(Table1[[#This Row],[Type]]=0,Table1[[#This Row],[Type]]>=40),\"JA\",\"SD\")","v":"SD"},"Washington","13-095-0010-04",null,null,{"$f":"IFERROR(VLOOKUP(ROWS($J$2:J651),$A$2:$B$996,2,FALSE),\"\")","v":""}]
[{"$f":"IF(ISNUMBER(SEARCH(Cover!$H$13,Table1[[#This Row],[School District]])),MAX($A$1:A651)+1,0)","v":0},"Oakland CUSD 5",11015005026,26,{"$f":"IF(OR(Table1[[#This Row],[Type]]=0,Table1[[#This Row],[Type]]>=40),\"JA\",\"SD\")","v":"SD"},"Cole","11-015-0050-26",null,null,{"$f":"IFERROR(VLOOKUP(ROWS($J$2:J652),$A$2:$B$996,2,FALSE),\"\")","v":""}]
[{"$f":"IF(ISNUMBER(SEARCH(Cover!$H$13,Table1[[#This Row],[School District]])),MAX($A$1:A652)+1,0)","v":0},"Oakwood CUSD 76",54092076026,26,{"$f":"IF(OR(Table1[[#This Row],[Type]]=0,Table1[[#This Row],[Type]]>=40),\"JA\",\"SD\")","v":"SD"},"Vermilion","54-092-0760-26",null,null,{"$f":"IFERROR(VLOOKUP(ROWS($J$2:J653),$A$2:$B$996,2,FALSE),\"\")","v":""}]
[{"$f":"IF(ISNUMBER(SEARCH(Cover!$H$13,Table1[[#This Row],[School District]])),MAX($A$1:A653)+1,0)","v":0},"Oblong CUSD 4",12017004026,26,{"$f":"IF(OR(Table1[[#This Row],[Type]]=0,Table1[[#This Row],[Type]]>=40),\"JA\",\"SD\")","v":"SD"},"Crawford","12-017-0040-26",null,null,{"$f":"IFERROR(VLOOKUP(ROWS($J$2:J654),$A$2:$B$996,2,FALSE),\"\")","v":""}]
[{"$f":"IF(ISNUMBER(SEARCH(Cover!$H$13,Table1[[#This Row],[School District]])),MAX($A$1:A654)+1,0)","v":0},"Odell CCSD 435",17053435004,4,{"$f":"IF(OR(Table1[[#This Row],[Type]]=0,Table1[[#This Row],[Type]]>=40),\"JA\",\"SD\")","v":"SD"},"Livingston","17-053-4350-04",null,null,{"$f":"IFERROR(VLOOKUP(ROWS($J$2:J655),$A$2:$B$996,2,FALSE),\"\")","v":""}]
[{"$f":"IF(ISNUMBER(SEARCH(Cover!$H$13,Table1[[#This Row],[School District]])),MAX($A$1:A655)+1,0)","v":0},"Odin PSD 722",13058722026,26,{"$f":"IF(OR(Table1[[#This Row],[Type]]=0,Table1[[#This Row],[Type]]>=40),\"JA\",\"SD\")","v":"SD"},"Marion","13-058-7220-26",null,null,{"$f":"IFERROR(VLOOKUP(ROWS($J$2:J656),$A$2:$B$996,2,FALSE),\"\")","v":""}]
[{"$f":"IF(ISNUMBER(SEARCH(Cover!$H$13,Table1[[#This Row],[School District]])),MAX($A$1:A656)+1,0)","v":0},"Ogle Cty Ed Coop",47071801060,60,{"$f":"IF(OR(Table1[[#This Row],[Type]]=0,Table1[[#This Row],[Type]]>=40),\"JA\",\"SD\")","v":"JA"},"Ogle","47-071-8010-60",null,null,{"$f":"IFERROR(VLOOKUP(ROWS($J$2:J657),$A$2:$B$996,2,FALSE),\"\")","v":""}]
[{"$f":"IF(ISNUMBER(SEARCH(Cover!$H$13,Table1[[#This Row],[School District]])),MAX($A$1:A657)+1,0)","v":0},"Oglesby ESD 125",35050125002,2,{"$f":"IF(OR(Table1[[#This Row],[Type]]=0,Table1[[#This Row],[Type]]>=40),\"JA\",\"SD\")","v":"SD"},"LaSalle","35-050-1250-02",null,null,{"$f":"IFERROR(VLOOKUP(ROWS($J$2:J658),$A$2:$B$996,2,FALSE),\"\")","v":""}]
[{"$f":"IF(ISNUMBER(SEARCH(Cover!$H$13,Table1[[#This Row],[School District]])),MAX($A$1:A658)+1,0)","v":0},"Ohio & Wabash Valley Reg Voc System",20000000046,46,{"$f":"IF(OR(Table1[[#This Row],[Type]]=0,Table1[[#This Row],[Type]]>=40),\"JA\",\"SD\")","v":"JA"},"Edwards/Gallatin/Harind/Pope/Saline/Wabash/Wayne/White","20-000-0000-46",null,null,{"$f":"IFERROR(VLOOKUP(ROWS($J$2:J659),$A$2:$B$996,2,FALSE),\"\")","v":""}]
[{"$f":"IF(ISNUMBER(SEARCH(Cover!$H$13,Table1[[#This Row],[School District]])),MAX($A$1:A659)+1,0)","v":0},"Ohio CCSD 17",28006017004,4,{"$f":"IF(OR(Table1[[#This Row],[Type]]=0,Table1[[#This Row],[Type]]>=40),\"JA\",\"SD\")","v":"SD"},"Bureau","28-006-0170-04",null,null,{"$f":"IFERROR(VLOOKUP(ROWS($J$2:J660),$A$2:$B$996,2,FALSE),\"\")","v":""}]
[{"$f":"IF(ISNUMBER(SEARCH(Cover!$H$13,Table1[[#This Row],[School District]])),MAX($A$1:A660)+1,0)","v":0},"Ohio CHSD 505",28006505016,16,{"$f":"IF(OR(Table1[[#This Row],[Type]]=0,Table1[[#This Row],[Type]]>=40),\"JA\",\"SD\")","v":"SD"},"Bureau","28-006-5050-16",null,null,{"$f":"IFERROR(VLOOKUP(ROWS($J$2:J661),$A$2:$B$996,2,FALSE),\"\")","v":""}]
[{"$f":"IF(ISNUMBER(SEARCH(Cover!$H$13,Table1[[#This Row],[School District]])),MAX($A$1:A661)+1,0)","v":0},"Okaw Area Voc Ctr",3026203041,41,{"$f":"IF(OR(Table1[[#This Row],[Type]]=0,Table1[[#This Row],[Type]]>=40),\"JA\",\"SD\")","v":"JA"},"Fayette/Montgomery","03-026-2030-41",null,null,{"$f":"IFERROR(VLOOKUP(ROWS($J$2:J662),$A$2:$B$996,2,FALSE),\"\")","v":""}]
[{"$f":"IF(ISNUMBER(SEARCH(Cover!$H$13,Table1[[#This Row],[School District]])),MAX($A$1:A662)+1,0)","v":0},"Okaw Reg Voc System",45000000046,46,{"$f":"IF(OR(Table1[[#This Row],[Type]]=0,Table1[[#This Row],[Type]]>=40),\"JA\",\"SD\")","v":"JA"},"Monroe/Randolph/St. Clair","45-000-0000-46",null,null,{"$f":"IFERROR(VLOOKUP(ROWS($J$2:J663),$A$2:$B$996,2,FALSE),\"\")","v":""}]
[{"$f":"IF(ISNUMBER(SEARCH(Cover!$H$13,Table1[[#This Row],[School District]])),MAX($A$1:A663)+1,0)","v":0},"Okaw Valley CUSD 302",11070302026,26,{"$f":"IF(OR(Table1[[#This Row],[Type]]=0,Table1[[#This Row],[Type]]>=40),\"JA\",\"SD\")","v":"SD"},"Macon/Moultrie/Shelby","11-070-3020-26",null,null,{"$f":"IFERROR(VLOOKUP(ROWS($J$2:J664),$A$2:$B$996,2,FALSE),\"\")","v":""}]
[{"$f":"IF(ISNUMBER(SEARCH(Cover!$H$13,Table1[[#This Row],[School District]])),MAX($A$1:A664)+1,0)","v":0},"Olympia CUSD 16",17064016026,26,{"$f":"IF(OR(Table1[[#This Row],[Type]]=0,Table1[[#This Row],[Type]]>=40),\"JA\",\"SD\")","v":"SD"},"McLean/Tazewell/Logan/DeWitt","17-064-0160-26",null,null,{"$f":"IFERROR(VLOOKUP(ROWS($J$2:J665),$A$2:$B$996,2,FALSE),\"\")","v":""}]
[{"$f":"IF(ISNUMBER(SEARCH(Cover!$H$13,Table1[[#This Row],[School District]])),MAX($A$1:A665)+1,0)","v":0},"Opdyke-Belle-Rive CCSD 5",13041005004,4,{"$f":"IF(OR(Table1[[#This Row],[Type]]=0,Table1[[#This Row],[Type]]>=40),\"JA\",\"SD\")","v":"SD"},"Jefferson","13-041-0050-04",null,null,{"$f":"IFERROR(VLOOKUP(ROWS($J$2:J666),$A$2:$B$996,2,FALSE),\"\")","v":""}]
[{"$f":"IF(ISNUMBER(SEARCH(Cover!$H$13,Table1[[#This Row],[School District]])),MAX($A$1:A666)+1,0)","v":0},"Orangeville CUSD 203",8089203026,26,{"$f":"IF(OR(Table1[[#This Row],[Type]]=0,Table1[[#This Row],[Type]]>=40),\"JA\",\"SD\")","v":"SD"},"Stephenson","08-089-2030-26",null,null,{"$f":"IFERROR(VLOOKUP(ROWS($J$2:J667),$A$2:$B$996,2,FALSE),\"\")","v":""}]
[{"$f":"IF(ISNUMBER(SEARCH(Cover!$H$13,Table1[[#This Row],[School District]])),MAX($A$1:A667)+1,0)","v":0},"Oregon CUSD 220",47071220026,26,{"$f":"IF(OR(Table1[[#This Row],[Type]]=0,Table1[[#This Row],[Type]]>=40),\"JA\",\"SD\")","v":"SD"},"Ogle","47-071-2200-26",null,null,{"$f":"IFERROR(VLOOKUP(ROWS($J$2:J668),$A$2:$B$996,2,FALSE),\"\")","v":""}]
[{"$f":"IF(ISNUMBER(SEARCH(Cover!$H$13,Table1[[#This Row],[School District]])),MAX($A$1:A668)+1,0)","v":0},"Orion CUSD 223",28037223026,26,{"$f":"IF(OR(Table1[[#This Row],[Type]]=0,Table1[[#This Row],[Type]]>=40),\"JA\",\"SD\")","v":"SD"},"Henry/Rock Island","28-037-2230-26",null,null,{"$f":"IFERROR(VLOOKUP(ROWS($J$2:J669),$A$2:$B$996,2,FALSE),\"\")","v":""}]
[{"$f":"IF(ISNUMBER(SEARCH(Cover!$H$13,Table1[[#This Row],[School District]])),MAX($A$1:A669)+1,0)","v":0},"Orland SD 135",7016135002,2,{"$f":"IF(OR(Table1[[#This Row],[Type]]=0,Table1[[#This Row],[Type]]>=40),\"JA\",\"SD\")","v":"SD"},"Cook","07-016-1350-02",null,null,{"$f":"IFERROR(VLOOKUP(ROWS($J$2:J670),$A$2:$B$996,2,FALSE),\"\")","v":""}]
[{"$f":"IF(ISNUMBER(SEARCH(Cover!$H$13,Table1[[#This Row],[School District]])),MAX($A$1:A670)+1,0)","v":0},"Ottawa ESD 141",35050141002,2,{"$f":"IF(OR(Table1[[#This Row],[Type]]=0,Table1[[#This Row],[Type]]>=40),\"JA\",\"SD\")","v":"SD"},"LaSalle","35-050-1410-02",null,null,{"$f":"IFERROR(VLOOKUP(ROWS($J$2:J671),$A$2:$B$996,2,FALSE),\"\")","v":""}]
[{"$f":"IF(ISNUMBER(SEARCH(Cover!$H$13,Table1[[#This Row],[School District]])),MAX($A$1:A671)+1,0)","v":0},"Ottawa Twp HSD 140",35050140017,17,{"$f":"IF(OR(Table1[[#This Row],[Type]]=0,Table1[[#This Row],[Type]]>=40),\"JA\",\"SD\")","v":"SD"},"LaSalle","35-050-1400-17",null,null,{"$f":"IFERROR(VLOOKUP(ROWS($J$2:J672),$A$2:$B$996,2,FALSE),\"\")","v":""}]
[{"$f":"IF(ISNUMBER(SEARCH(Cover!$H$13,Table1[[#This Row],[School District]])),MAX($A$1:A672)+1,0)","v":0},"Palatine CCSD 15",5016015004,4,{"$f":"IF(OR(Table1[[#This Row],[Type]]=0,Table1[[#This Row],[Type]]>=40),\"JA\",\"SD\")","v":"SD"},"Cook","05-016-0150-04",null,null,{"$f":"IFERROR(VLOOKUP(ROWS($J$2:J673),$A$2:$B$996,2,FALSE),\"\")","v":""}]
[{"$f":"IF(ISNUMBER(SEARCH(Cover!$H$13,Table1[[#This Row],[School District]])),MAX($A$1:A673)+1,0)","v":0},"Palestine CUSD 3",12017003026,26,{"$f":"IF(OR(Table1[[#This Row],[Type]]=0,Table1[[#This Row],[Type]]>=40),\"JA\",\"SD\")","v":"SD"},"Crawford","12-017-0030-26",null,null,{"$f":"IFERROR(VLOOKUP(ROWS($J$2:J674),$A$2:$B$996,2,FALSE),\"\")","v":""}]
[{"$f":"IF(ISNUMBER(SEARCH(Cover!$H$13,Table1[[#This Row],[School District]])),MAX($A$1:A674)+1,0)","v":0},"Palos CCSD 118",7016118004,4,{"$f":"IF(OR(Table1[[#This Row],[Type]]=0,Table1[[#This Row],[Type]]>=40),\"JA\",\"SD\")","v":"SD"},"Cook","07-016-1180-04",null,null,{"$f":"IFERROR(VLOOKUP(ROWS($J$2:J675),$A$2:$B$996,2,FALSE),\"\")","v":""}]
[{"$f":"IF(ISNUMBER(SEARCH(Cover!$H$13,Table1[[#This Row],[School District]])),MAX($A$1:A675)+1,0)","v":0},"Palos Heights SD 128",7016128002,2,{"$f":"IF(OR(Table1[[#This Row],[Type]]=0,Table1[[#This Row],[Type]]>=40),\"JA\",\"SD\")","v":"SD"},"Cook","07-016-1280-02",null,null,{"$f":"IFERROR(VLOOKUP(ROWS($J$2:J676),$A$2:$B$996,2,FALSE),\"\")","v":""}]
[{"$f":"IF(ISNUMBER(SEARCH(Cover!$H$13,Table1[[#This Row],[School District]])),MAX($A$1:A676)+1,0)","v":0},"Pana CUSD 8",3011008026,26,{"$f":"IF(OR(Table1[[#This Row],[Type]]=0,Table1[[#This Row],[Type]]>=40),\"JA\",\"SD\")","v":"SD"},"Christian/Shelby/Montgomery","03-011-0080-26",null,null,{"$f":"IFERROR(VLOOKUP(ROWS($J$2:J677),$A$2:$B$996,2,FALSE),\"\")","v":""}]
[{"$f":"IF(ISNUMBER(SEARCH(Cover!$H$13,Table1[[#This Row],[School District]])),MAX($A$1:A677)+1,0)","v":0},"Panhandle CUSD 2",3068002026,26,{"$f":"IF(OR(Table1[[#This Row],[Type]]=0,Table1[[#This Row],[Type]]>=40),\"JA\",\"SD\")","v":"SD"},"Montgomery/Macoupin/Christian","03-068-0020-26",null,null,{"$f":"IFERROR(VLOOKUP(ROWS($J$2:J678),$A$2:$B$996,2,FALSE),\"\")","v":""}]
[{"$f":"IF(ISNUMBER(SEARCH(Cover!$H$13,Table1[[#This Row],[School District]])),MAX($A$1:A678)+1,0)","v":0},"Paris CUSD 4",11023004026,26,{"$f":"IF(OR(Table1[[#This Row],[Type]]=0,Table1[[#This Row],[Type]]>=40),\"JA\",\"SD\")","v":"SD"},"Edgar","11-023-0040-26",null,null,{"$f":"IFERROR(VLOOKUP(ROWS($J$2:J679),$A$2:$B$996,2,FALSE),\"\")","v":""}]
[{"$f":"IF(ISNUMBER(SEARCH(Cover!$H$13,Table1[[#This Row],[School District]])),MAX($A$1:A679)+1,0)","v":0},"Paris-Union SD 95",11023095025,25,{"$f":"IF(OR(Table1[[#This Row],[Type]]=0,Table1[[#This Row],[Type]]>=40),\"JA\",\"SD\")","v":"SD"},"Edgar","11-023-0950-25",null,null,{"$f":"IFERROR(VLOOKUP(ROWS($J$2:J680),$A$2:$B$996,2,FALSE),\"\")","v":""}]
[{"$f":"IF(ISNUMBER(SEARCH(Cover!$H$13,Table1[[#This Row],[School District]])),MAX($A$1:A680)+1,0)","v":0},"Park Forest SD 163",7016163002,2,{"$f":"IF(OR(Table1[[#This Row],[Type]]=0,Table1[[#This Row],[Type]]>=40),\"JA\",\"SD\")","v":"SD"},"Cook","07-016-1630-02",null,null,{"$f":"IFERROR(VLOOKUP(ROWS($J$2:J681),$A$2:$B$996,2,FALSE),\"\")","v":""}]
[{"$f":"IF(ISNUMBER(SEARCH(Cover!$H$13,Table1[[#This Row],[School District]])),MAX($A$1:A681)+1,0)","v":0},"Park Ridge CCSD 64",5016064004,4,{"$f":"IF(OR(Table1[[#This Row],[Type]]=0,Table1[[#This Row],[Type]]>=40),\"JA\",\"SD\")","v":"SD"},"Cook","05-016-0640-04",null,null,{"$f":"IFERROR(VLOOKUP(ROWS($J$2:J682),$A$2:$B$996,2,FALSE),\"\")","v":""}]
[{"$f":"IF(ISNUMBER(SEARCH(Cover!$H$13,Table1[[#This Row],[School District]])),MAX($A$1:A682)+1,0)","v":0},"Patoka CUSD 100",13058100026,26,{"$f":"IF(OR(Table1[[#This Row],[Type]]=0,Table1[[#This Row],[Type]]>=40),\"JA\",\"SD\")","v":"SD"},"Marion/Fayette/Clinton","13-058-1000-26",null,null,{"$f":"IFERROR(VLOOKUP(ROWS($J$2:J683),$A$2:$B$996,2,FALSE),\"\")","v":""}]
[{"$f":"IF(ISNUMBER(SEARCH(Cover!$H$13,Table1[[#This Row],[School District]])),MAX($A$1:A683)+1,0)","v":0},"Paw Paw CUSD 271",47052271026,26,{"$f":"IF(OR(Table1[[#This Row],[Type]]=0,Table1[[#This Row],[Type]]>=40),\"JA\",\"SD\")","v":"SD"},"Lee","47-052-2710-26",null,null,{"$f":"IFERROR(VLOOKUP(ROWS($J$2:J684),$A$2:$B$996,2,FALSE),\"\")","v":""}]
[{"$f":"IF(ISNUMBER(SEARCH(Cover!$H$13,Table1[[#This Row],[School District]])),MAX($A$1:A684)+1,0)","v":0},"Pawnee CUSD 11",51084011026,26,{"$f":"IF(OR(Table1[[#This Row],[Type]]=0,Table1[[#This Row],[Type]]>=40),\"JA\",\"SD\")","v":"SD"},"Sangamon/Christian/Mont.","51-084-0110-26",null,null,{"$f":"IFERROR(VLOOKUP(ROWS($J$2:J685),$A$2:$B$996,2,FALSE),\"\")","v":""}]
[{"$f":"IF(ISNUMBER(SEARCH(Cover!$H$13,Table1[[#This Row],[School District]])),MAX($A$1:A685)+1,0)","v":0},"Paxton-Buckley-Loda CUD 10",9027010026,26,{"$f":"IF(OR(Table1[[#This Row],[Type]]=0,Table1[[#This Row],[Type]]>=40),\"JA\",\"SD\")","v":"SD"},"Ford","09-027-0100-26",null,null,{"$f":"IFERROR(VLOOKUP(ROWS($J$2:J686),$A$2:$B$996,2,FALSE),\"\")","v":""}]
[{"$f":"IF(ISNUMBER(SEARCH(Cover!$H$13,Table1[[#This Row],[School District]])),MAX($A$1:A686)+1,0)","v":0},"Payson CUSD 1",1001001026,26,{"$f":"IF(OR(Table1[[#This Row],[Type]]=0,Table1[[#This Row],[Type]]>=40),\"JA\",\"SD\")","v":"SD"},"Adams","01-001-0010-26",null,null,{"$f":"IFERROR(VLOOKUP(ROWS($J$2:J687),$A$2:$B$996,2,FALSE),\"\")","v":""}]
[{"$f":"IF(ISNUMBER(SEARCH(Cover!$H$13,Table1[[#This Row],[School District]])),MAX($A$1:A687)+1,0)","v":0},"Pearl City CUSD 200",8089200026,26,{"$f":"IF(OR(Table1[[#This Row],[Type]]=0,Table1[[#This Row],[Type]]>=40),\"JA\",\"SD\")","v":"SD"},"Stephenson/Jo Daviess/Carroll","08-089-2000-26",null,null,{"$f":"IFERROR(VLOOKUP(ROWS($J$2:J688),$A$2:$B$996,2,FALSE),\"\")","v":""}]
[{"$f":"IF(ISNUMBER(SEARCH(Cover!$H$13,Table1[[#This Row],[School District]])),MAX($A$1:A688)+1,0)","v":0},"Pecatonica CUSD 321",4101321026,26,{"$f":"IF(OR(Table1[[#This Row],[Type]]=0,Table1[[#This Row],[Type]]>=40),\"JA\",\"SD\")","v":"SD"},"Winnebago","04-101-3210-26",null,null,{"$f":"IFERROR(VLOOKUP(ROWS($J$2:J689),$A$2:$B$996,2,FALSE),\"\")","v":""}]
[{"$f":"IF(ISNUMBER(SEARCH(Cover!$H$13,Table1[[#This Row],[School District]])),MAX($A$1:A689)+1,0)","v":0},"Pekin CSD 303",53090303016,16,{"$f":"IF(OR(Table1[[#This Row],[Type]]=0,Table1[[#This Row],[Type]]>=40),\"JA\",\"SD\")","v":"SD"},"Tazewell","53-090-3030-16",null,null,{"$f":"IFERROR(VLOOKUP(ROWS($J$2:J690),$A$2:$B$996,2,FALSE),\"\")","v":""}]
[{"$f":"IF(ISNUMBER(SEARCH(Cover!$H$13,Table1[[#This Row],[School District]])),MAX($A$1:A690)+1,0)","v":0},"Pekin PSD 108",53090108002,2,{"$f":"IF(OR(Table1[[#This Row],[Type]]=0,Table1[[#This Row],[Type]]>=40),\"JA\",\"SD\")","v":"SD"},"Tazewell","53-090-1080-02",null,null,{"$f":"IFERROR(VLOOKUP(ROWS($J$2:J691),$A$2:$B$996,2,FALSE),\"\")","v":""}]
[{"$f":"IF(ISNUMBER(SEARCH(Cover!$H$13,Table1[[#This Row],[School District]])),MAX($A$1:A691)+1,0)","v":0},"Pembroke CCSD 259",32046259004,4,{"$f":"IF(OR(Table1[[#This Row],[Type]]=0,Table1[[#This Row],[Type]]>=40),\"JA\",\"SD\")","v":"SD"},"Kankakee","32-046-2590-04",null,null,{"$f":"IFERROR(VLOOKUP(ROWS($J$2:J692),$A$2:$B$996,2,FALSE),\"\")","v":""}]
[{"$f":"IF(ISNUMBER(SEARCH(Cover!$H$13,Table1[[#This Row],[School District]])),MAX($A$1:A692)+1,0)","v":0},"Pennoyer SD 79",6016079002,2,{"$f":"IF(OR(Table1[[#This Row],[Type]]=0,Table1[[#This Row],[Type]]>=40),\"JA\",\"SD\")","v":"SD"},"Cook","06-016-0790-02",null,null,{"$f":"IFERROR(VLOOKUP(ROWS($J$2:J693),$A$2:$B$996,2,FALSE),\"\")","v":""}]
[{"$f":"IF(ISNUMBER(SEARCH(Cover!$H$13,Table1[[#This Row],[School District]])),MAX($A$1:A693)+1,0)","v":0},"Peoria Ed Reg for Empl Training (PERFECT)",48000000046,46,{"$f":"IF(OR(Table1[[#This Row],[Type]]=0,Table1[[#This Row],[Type]]>=40),\"JA\",\"SD\")","v":"JA"},"Peoria","48-000-0000-46",null,null,{"$f":"IFERROR(VLOOKUP(ROWS($J$2:J694),$A$2:$B$996,2,FALSE),\"\")","v":""}]
[{"$f":"IF(ISNUMBER(SEARCH(Cover!$H$13,Table1[[#This Row],[School District]])),MAX($A$1:A694)+1,0)","v":0},"Peoria Heights CUSD 325",48072325026,26,{"$f":"IF(OR(Table1[[#This Row],[Type]]=0,Table1[[#This Row],[Type]]>=40),\"JA\",\"SD\")","v":"SD"},"Peoria","48-072-3250-26",null,null,{"$f":"IFERROR(VLOOKUP(ROWS($J$2:J695),$A$2:$B$996,2,FALSE),\"\")","v":""}]
[{"$f":"IF(ISNUMBER(SEARCH(Cover!$H$13,Table1[[#This Row],[School District]])),MAX($A$1:A695)+1,0)","v":0},"Peoria SD 150",48072150025,25,{"$f":"IF(OR(Table1[[#This Row],[Type]]=0,Table1[[#This Row],[Type]]>=40),\"JA\",\"SD\")","v":"SD"},"Peoria","48-072-1500-25",null,null,{"$f":"IFERROR(VLOOKUP(ROWS($J$2:J696),$A$2:$B$996,2,FALSE),\"\")","v":""}]
[{"$f":"IF(ISNUMBER(SEARCH(Cover!$H$13,Table1[[#This Row],[School District]])),MAX($A$1:A696)+1,0)","v":0},"Peotone CUSD 207U","56099207U26",26,{"$f":"IF(OR(Table1[[#This Row],[Type]]=0,Table1[[#This Row],[Type]]>=40),\"JA\",\"SD\")","v":"SD"},"Will/Kankakee","56-099-207U-26",null,null,{"$f":"IFERROR(VLOOKUP(ROWS($J$2:J697),$A$2:$B$996,2,FALSE),\"\")","v":""}]
[{"$f":"IF(ISNUMBER(SEARCH(Cover!$H$13,Table1[[#This Row],[School District]])),MAX($A$1:A697)+1,0)","v":0},"Perandoe Spec Ed Dist",45079132061,61,{"$f":"IF(OR(Table1[[#This Row],[Type]]=0,Table1[[#This Row],[Type]]>=40),\"JA\",\"SD\")","v":"JA"},"Randolph","45-079-1320-61",null,null,{"$f":"IFERROR(VLOOKUP(ROWS($J$2:J698),$A$2:$B$996,2,FALSE),\"\")","v":""}]
[{"$f":"IF(ISNUMBER(SEARCH(Cover!$H$13,Table1[[#This Row],[School District]])),MAX($A$1:A698)+1,0)","v":0},"Peru ESD 124",35050124002,2,{"$f":"IF(OR(Table1[[#This Row],[Type]]=0,Table1[[#This Row],[Type]]>=40),\"JA\",\"SD\")","v":"SD"},"LaSalle","35-050-1240-02",null,null,{"$f":"IFERROR(VLOOKUP(ROWS($J$2:J699),$A$2:$B$996,2,FALSE),\"\")","v":""}]
[{"$f":"IF(ISNUMBER(SEARCH(Cover!$H$13,Table1[[#This Row],[School District]])),MAX($A$1:A699)+1,0)","v":0},"Pikeland CUSD 10",1075010026,26,{"$f":"IF(OR(Table1[[#This Row],[Type]]=0,Table1[[#This Row],[Type]]>=40),\"JA\",\"SD\")","v":"SD"},"Pike/Calhoun","01-075-0100-26",null,null,{"$f":"IFERROR(VLOOKUP(ROWS($J$2:J700),$A$2:$B$996,2,FALSE),\"\")","v":""}]
[{"$f":"IF(ISNUMBER(SEARCH(Cover!$H$13,Table1[[#This Row],[School District]])),MAX($A$1:A700)+1,0)","v":0},"Pinckneyville CHSD 101",30073101016,16,{"$f":"IF(OR(Table1[[#This Row],[Type]]=0,Table1[[#This Row],[Type]]>=40),\"JA\",\"SD\")","v":"SD"},"Perry","30-073-1010-16",null,null,{"$f":"IFERROR(VLOOKUP(ROWS($J$2:J701),$A$2:$B$996,2,FALSE),\"\")","v":""}]
[{"$f":"IF(ISNUMBER(SEARCH(Cover!$H$13,Table1[[#This Row],[School District]])),MAX($A$1:A701)+1,0)","v":0},"Pinckneyville SD 50",30073050002,2,{"$f":"IF(OR(Table1[[#This Row],[Type]]=0,Table1[[#This Row],[Type]]>=40),\"JA\",\"SD\")","v":"SD"},"Perry/Washington","30-073-0500-02",null,null,{"$f":"IFERROR(VLOOKUP(ROWS($J$2:J702),$A$2:$B$996,2,FALSE),\"\")","v":""}]
[{"$f":"IF(ISNUMBER(SEARCH(Cover!$H$13,Table1[[#This Row],[School District]])),MAX($A$1:A702)+1,0)","v":0},"Plainfield SD 202",56099202022,22,{"$f":"IF(OR(Table1[[#This Row],[Type]]=0,Table1[[#This Row],[Type]]>=40),\"JA\",\"SD\")","v":"SD"},"Will/Kendall","56-099-2020-22",null,null,{"$f":"IFERROR(VLOOKUP(ROWS($J$2:J703),$A$2:$B$996,2,FALSE),\"\")","v":""}]
[{"$f":"IF(ISNUMBER(SEARCH(Cover!$H$13,Table1[[#This Row],[School District]])),MAX($A$1:A703)+1,0)","v":0},"Plano Area Spec Ed Coop (PASEC)",24047088061,61,{"$f":"IF(OR(Table1[[#This Row],[Type]]=0,Table1[[#This Row],[Type]]>=40),\"JA\",\"SD\")","v":"JA"},"Kendall","24-047-0880-61",null,null,{"$f":"IFERROR(VLOOKUP(ROWS($J$2:J704),$A$2:$B$996,2,FALSE),\"\")","v":""}]
[{"$f":"IF(ISNUMBER(SEARCH(Cover!$H$13,Table1[[#This Row],[School District]])),MAX($A$1:A704)+1,0)","v":0},"Plano CUSD 88",24047088026,26,{"$f":"IF(OR(Table1[[#This Row],[Type]]=0,Table1[[#This Row],[Type]]>=40),\"JA\",\"SD\")","v":"SD"},"Kendall","24-047-0880-26",null,null,{"$f":"IFERROR(VLOOKUP(ROWS($J$2:J705),$A$2:$B$996,2,FALSE),\"\")","v":""}]
[{"$f":"IF(ISNUMBER(SEARCH(Cover!$H$13,Table1[[#This Row],[School District]])),MAX($A$1:A705)+1,0)","v":0},"Pleasant Hill CUSD 3",1075003026,26,{"$f":"IF(OR(Table1[[#This Row],[Type]]=0,Table1[[#This Row],[Type]]>=40),\"JA\",\"SD\")","v":"SD"},"Pike","01-075-0030-26",null,null,{"$f":"IFERROR(VLOOKUP(ROWS($J$2:J706),$A$2:$B$996,2,FALSE),\"\")","v":""}]
[{"$f":"IF(ISNUMBER(SEARCH(Cover!$H$13,Table1[[#This Row],[School District]])),MAX($A$1:A706)+1,0)","v":0},"Pleasant Hill SD 69",48072069002,2,{"$f":"IF(OR(Table1[[#This Row],[Type]]=0,Table1[[#This Row],[Type]]>=40),\"JA\",\"SD\")","v":"SD"},"Peoria","48-072-0690-02",null,null,{"$f":"IFERROR(VLOOKUP(ROWS($J$2:J707),$A$2:$B$996,2,FALSE),\"\")","v":""}]
[{"$f":"IF(ISNUMBER(SEARCH(Cover!$H$13,Table1[[#This Row],[School District]])),MAX($A$1:A707)+1,0)","v":0},"Pleasant Plains CUSD 8",51084008026,26,{"$f":"IF(OR(Table1[[#This Row],[Type]]=0,Table1[[#This Row],[Type]]>=40),\"JA\",\"SD\")","v":"SD"},"Sangamon","51-084-0080-26",null,null,{"$f":"IFERROR(VLOOKUP(ROWS($J$2:J708),$A$2:$B$996,2,FALSE),\"\")","v":""}]
[{"$f":"IF(ISNUMBER(SEARCH(Cover!$H$13,Table1[[#This Row],[School District]])),MAX($A$1:A708)+1,0)","v":0},"Pleasant Valley SD 62",48072062002,2,{"$f":"IF(OR(Table1[[#This Row],[Type]]=0,Table1[[#This Row],[Type]]>=40),\"JA\",\"SD\")","v":"SD"},"Peoria","48-072-0620-02",null,null,{"$f":"IFERROR(VLOOKUP(ROWS($J$2:J709),$A$2:$B$996,2,FALSE),\"\")","v":""}]
[{"$f":"IF(ISNUMBER(SEARCH(Cover!$H$13,Table1[[#This Row],[School District]])),MAX($A$1:A709)+1,0)","v":0},"Pleasantdale SD 107",6016107002,2,{"$f":"IF(OR(Table1[[#This Row],[Type]]=0,Table1[[#This Row],[Type]]>=40),\"JA\",\"SD\")","v":"SD"},"Cook","06-016-1070-02",null,null,{"$f":"IFERROR(VLOOKUP(ROWS($J$2:J710),$A$2:$B$996,2,FALSE),\"\")","v":""}]
[{"$f":"IF(ISNUMBER(SEARCH(Cover!$H$13,Table1[[#This Row],[School District]])),MAX($A$1:A710)+1,0)","v":0},"Polo CUSD 222",47071222026,26,{"$f":"IF(OR(Table1[[#This Row],[Type]]=0,Table1[[#This Row],[Type]]>=40),\"JA\",\"SD\")","v":"SD"},"Lee/Ogle/Whiteside","47-071-2220-26",null,null,{"$f":"IFERROR(VLOOKUP(ROWS($J$2:J711),$A$2:$B$996,2,FALSE),\"\")","v":""}]
[{"$f":"IF(ISNUMBER(SEARCH(Cover!$H$13,Table1[[#This Row],[School District]])),MAX($A$1:A711)+1,0)","v":0},"Pontiac CCSD 429",17053429004,4,{"$f":"IF(OR(Table1[[#This Row],[Type]]=0,Table1[[#This Row],[Type]]>=40),\"JA\",\"SD\")","v":"SD"},"Livingston","17-053-4290-04",null,null,{"$f":"IFERROR(VLOOKUP(ROWS($J$2:J712),$A$2:$B$996,2,FALSE),\"\")","v":""}]
[{"$f":"IF(ISNUMBER(SEARCH(Cover!$H$13,Table1[[#This Row],[School District]])),MAX($A$1:A712)+1,0)","v":0},"Pontiac Twp HSD 90",17053090017,17,{"$f":"IF(OR(Table1[[#This Row],[Type]]=0,Table1[[#This Row],[Type]]>=40),\"JA\",\"SD\")","v":"SD"},"Livingston","17-053-0900-17",null,null,{"$f":"IFERROR(VLOOKUP(ROWS($J$2:J713),$A$2:$B$996,2,FALSE),\"\")","v":""}]
[{"$f":"IF(ISNUMBER(SEARCH(Cover!$H$13,Table1[[#This Row],[School District]])),MAX($A$1:A713)+1,0)","v":0},"Pontiac-W Holliday SD 105",50082105002,2,{"$f":"IF(OR(Table1[[#This Row],[Type]]=0,Table1[[#This Row],[Type]]>=40),\"JA\",\"SD\")","v":"SD"},"St. Clair","50-082-1050-02",null,null,{"$f":"IFERROR(VLOOKUP(ROWS($J$2:J714),$A$2:$B$996,2,FALSE),\"\")","v":""}]
[{"$f":"IF(ISNUMBER(SEARCH(Cover!$H$13,Table1[[#This Row],[School District]])),MAX($A$1:A714)+1,0)","v":0},"Pope Co CUD 1",20076001026,26,{"$f":"IF(OR(Table1[[#This Row],[Type]]=0,Table1[[#This Row],[Type]]>=40),\"JA\",\"SD\")","v":"SD"},"Pope","20-076-0010-26",null,null,{"$f":"IFERROR(VLOOKUP(ROWS($J$2:J715),$A$2:$B$996,2,FALSE),\"\")","v":""}]
[{"$f":"IF(ISNUMBER(SEARCH(Cover!$H$13,Table1[[#This Row],[School District]])),MAX($A$1:A715)+1,0)","v":0},"Porta CUSD 202",51065202026,26,{"$f":"IF(OR(Table1[[#This Row],[Type]]=0,Table1[[#This Row],[Type]]>=40),\"JA\",\"SD\")","v":"SD"},"Menard/Cass/Sangamon","51-065-2020-26",null,null,{"$f":"IFERROR(VLOOKUP(ROWS($J$2:J716),$A$2:$B$996,2,FALSE),\"\")","v":""}]
[{"$f":"IF(ISNUMBER(SEARCH(Cover!$H$13,Table1[[#This Row],[School District]])),MAX($A$1:A716)+1,0)","v":0},"Posen-Robbins ESD 143-5",7016143502,2,{"$f":"IF(OR(Table1[[#This Row],[Type]]=0,Table1[[#This Row],[Type]]>=40),\"JA\",\"SD\")","v":"SD"},"Cook","07-016-1435-02",null,null,{"$f":"IFERROR(VLOOKUP(ROWS($J$2:J717),$A$2:$B$996,2,FALSE),\"\")","v":""}]
[{"$f":"IF(ISNUMBER(SEARCH(Cover!$H$13,Table1[[#This Row],[School District]])),MAX($A$1:A717)+1,0)","v":0},"Potomac CUSD 10",54092010026,26,{"$f":"IF(OR(Table1[[#This Row],[Type]]=0,Table1[[#This Row],[Type]]>=40),\"JA\",\"SD\")","v":"SD"},"Vermilion","54-092-0100-26",null,null,{"$f":"IFERROR(VLOOKUP(ROWS($J$2:J718),$A$2:$B$996,2,FALSE),\"\")","v":""}]
[{"$f":"IF(ISNUMBER(SEARCH(Cover!$H$13,Table1[[#This Row],[School District]])),MAX($A$1:A718)+1,0)","v":0},"Prairie Central CUSD 8",17053008026,26,{"$f":"IF(OR(Table1[[#This Row],[Type]]=0,Table1[[#This Row],[Type]]>=40),\"JA\",\"SD\")","v":"SD"},"Livingston/McLean/Ford","17-053-0080-26",null,null,{"$f":"IFERROR(VLOOKUP(ROWS($J$2:J719),$A$2:$B$996,2,FALSE),\"\")","v":""}]
[{"$f":"IF(ISNUMBER(SEARCH(Cover!$H$13,Table1[[#This Row],[School District]])),MAX($A$1:A719)+1,0)","v":0},"Prairie Du Rocher CCSD 134",45079134004,4,{"$f":"IF(OR(Table1[[#This Row],[Type]]=0,Table1[[#This Row],[Type]]>=40),\"JA\",\"SD\")","v":"SD"},"Randolph","45-079-1340-04",null,null,{"$f":"IFERROR(VLOOKUP(ROWS($J$2:J720),$A$2:$B$996,2,FALSE),\"\")","v":""}]
[{"$f":"IF(ISNUMBER(SEARCH(Cover!$H$13,Table1[[#This Row],[School District]])),MAX($A$1:A720)+1,0)","v":0},"Prairie Grove CSD 46",44063046003,3,{"$f":"IF(OR(Table1[[#This Row],[Type]]=0,Table1[[#This Row],[Type]]>=40),\"JA\",\"SD\")","v":"SD"},"McHenry","44-063-0460-03",null,null,{"$f":"IFERROR(VLOOKUP(ROWS($J$2:J721),$A$2:$B$996,2,FALSE),\"\")","v":""}]
[{"$f":"IF(ISNUMBER(SEARCH(Cover!$H$13,Table1[[#This Row],[School District]])),MAX($A$1:A721)+1,0)","v":0},"Prairie Hill CCSD 133",4101133004,4,{"$f":"IF(OR(Table1[[#This Row],[Type]]=0,Table1[[#This Row],[Type]]>=40),\"JA\",\"SD\")","v":"SD"},"Winnebago","04-101-1330-04",null,null,{"$f":"IFERROR(VLOOKUP(ROWS($J$2:J722),$A$2:$B$996,2,FALSE),\"\")","v":""}]
[{"$f":"IF(ISNUMBER(SEARCH(Cover!$H$13,Table1[[#This Row],[School District]])),MAX($A$1:A722)+1,0)","v":0},"Prairie-Hills ESD 144",7016144002,2,{"$f":"IF(OR(Table1[[#This Row],[Type]]=0,Table1[[#This Row],[Type]]>=40),\"JA\",\"SD\")","v":"SD"},"Cook","07-016-1440-02",null,null,{"$f":"IFERROR(VLOOKUP(ROWS($J$2:J723),$A$2:$B$996,2,FALSE),\"\")","v":""}]
[{"$f":"IF(ISNUMBER(SEARCH(Cover!$H$13,Table1[[#This Row],[School District]])),MAX($A$1:A723)+1,0)","v":0},"Prairieview-Ogden CCSD 197",9010197004,4,{"$f":"IF(OR(Table1[[#This Row],[Type]]=0,Table1[[#This Row],[Type]]>=40),\"JA\",\"SD\")","v":"SD"},"Champaign/Vermilion","09-010-1970-04",null,null,{"$f":"IFERROR(VLOOKUP(ROWS($J$2:J724),$A$2:$B$996,2,FALSE),\"\")","v":""}]
[{"$f":"IF(ISNUMBER(SEARCH(Cover!$H$13,Table1[[#This Row],[School District]])),MAX($A$1:A724)+1,0)","v":0},"Princeton ESD 115",28006115002,2,{"$f":"IF(OR(Table1[[#This Row],[Type]]=0,Table1[[#This Row],[Type]]>=40),\"JA\",\"SD\")","v":"SD"},"Bureau","28-006-1150-02",null,null,{"$f":"IFERROR(VLOOKUP(ROWS($J$2:J725),$A$2:$B$996,2,FALSE),\"\")","v":""}]
[{"$f":"IF(ISNUMBER(SEARCH(Cover!$H$13,Table1[[#This Row],[School District]])),MAX($A$1:A725)+1,0)","v":0},"Princeton HSD 500",28006500015,15,{"$f":"IF(OR(Table1[[#This Row],[Type]]=0,Table1[[#This Row],[Type]]>=40),\"JA\",\"SD\")","v":"SD"},"Bureau","28-006-5000-15",null,null,{"$f":"IFERROR(VLOOKUP(ROWS($J$2:J726),$A$2:$B$996,2,FALSE),\"\")","v":""}]
[{"$f":"IF(ISNUMBER(SEARCH(Cover!$H$13,Table1[[#This Row],[School District]])),MAX($A$1:A726)+1,0)","v":0},"Princeville CUSD 326",48072326026,26,{"$f":"IF(OR(Table1[[#This Row],[Type]]=0,Table1[[#This Row],[Type]]>=40),\"JA\",\"SD\")","v":"SD"},"Peoria/Stark/Marshall","48-072-3260-26",null,null,{"$f":"IFERROR(VLOOKUP(ROWS($J$2:J727),$A$2:$B$996,2,FALSE),\"\")","v":""}]
[{"$f":"IF(ISNUMBER(SEARCH(Cover!$H$13,Table1[[#This Row],[School District]])),MAX($A$1:A727)+1,0)","v":0},"Prophetstown-Lyndon-Tampico CUSD3",47098003026,26,{"$f":"IF(OR(Table1[[#This Row],[Type]]=0,Table1[[#This Row],[Type]]>=40),\"JA\",\"SD\")","v":"SD"},"Whiteside","47-098-0030-26",null,null,{"$f":"IFERROR(VLOOKUP(ROWS($J$2:J728),$A$2:$B$996,2,FALSE),\"\")","v":""}]
[{"$f":"IF(ISNUMBER(SEARCH(Cover!$H$13,Table1[[#This Row],[School District]])),MAX($A$1:A728)+1,0)","v":0},"Prospect Heights SD 23",5016023002,2,{"$f":"IF(OR(Table1[[#This Row],[Type]]=0,Table1[[#This Row],[Type]]>=40),\"JA\",\"SD\")","v":"SD"},"Cook","05-016-0230-02",null,null,{"$f":"IFERROR(VLOOKUP(ROWS($J$2:J729),$A$2:$B$996,2,FALSE),\"\")","v":""}]
[{"$f":"IF(ISNUMBER(SEARCH(Cover!$H$13,Table1[[#This Row],[School District]])),MAX($A$1:A729)+1,0)","v":0},"Proviso Area Exceptional Child",6016803060,60,{"$f":"IF(OR(Table1[[#This Row],[Type]]=0,Table1[[#This Row],[Type]]>=40),\"JA\",\"SD\")","v":"JA"},"Cook","06-016-8030-60",null,null,{"$f":"IFERROR(VLOOKUP(ROWS($J$2:J730),$A$2:$B$996,2,FALSE),\"\")","v":""}]
[{"$f":"IF(ISNUMBER(SEARCH(Cover!$H$13,Table1[[#This Row],[School District]])),MAX($A$1:A730)+1,0)","v":0},"Proviso Twp HSD 209",6016209017,17,{"$f":"IF(OR(Table1[[#This Row],[Type]]=0,Table1[[#This Row],[Type]]>=40),\"JA\",\"SD\")","v":"SD"},"Cook","06-016-2090-17",null,null,{"$f":"IFERROR(VLOOKUP(ROWS($J$2:J731),$A$2:$B$996,2,FALSE),\"\")","v":""}]
[{"$f":"IF(ISNUMBER(SEARCH(Cover!$H$13,Table1[[#This Row],[School District]])),MAX($A$1:A731)+1,0)","v":0},"Putnam County CUSD 535",35078535026,26,{"$f":"IF(OR(Table1[[#This Row],[Type]]=0,Table1[[#This Row],[Type]]>=40),\"JA\",\"SD\")","v":"SD"},"Putnam","35-078-5350-26",null,null,{"$f":"IFERROR(VLOOKUP(ROWS($J$2:J732),$A$2:$B$996,2,FALSE),\"\")","v":""}]
[{"$f":"IF(ISNUMBER(SEARCH(Cover!$H$13,Table1[[#This Row],[School District]])),MAX($A$1:A732)+1,0)","v":0},"Quad City CTE Cons",49081030046,46,{"$f":"IF(OR(Table1[[#This Row],[Type]]=0,Table1[[#This Row],[Type]]>=40),\"JA\",\"SD\")","v":"JA"},"Rock Island","49-081-0300-46",null,null,{"$f":"IFERROR(VLOOKUP(ROWS($J$2:J733),$A$2:$B$996,2,FALSE),\"\")","v":""}]
[{"$f":"IF(ISNUMBER(SEARCH(Cover!$H$13,Table1[[#This Row],[School District]])),MAX($A$1:A733)+1,0)","v":0},"Queen Bee SD 16",19022016002,2,{"$f":"IF(OR(Table1[[#This Row],[Type]]=0,Table1[[#This Row],[Type]]>=40),\"JA\",\"SD\")","v":"SD"},"DuPage","19-022-0160-02",null,null,{"$f":"IFERROR(VLOOKUP(ROWS($J$2:J734),$A$2:$B$996,2,FALSE),\"\")","v":""}]
[{"$f":"IF(ISNUMBER(SEARCH(Cover!$H$13,Table1[[#This Row],[School District]])),MAX($A$1:A734)+1,0)","v":0},"Quincy Area Voc Ctr",1001172041,41,{"$f":"IF(OR(Table1[[#This Row],[Type]]=0,Table1[[#This Row],[Type]]>=40),\"JA\",\"SD\")","v":"JA"},"Adams","01-001-1720-41",null,null,{"$f":"IFERROR(VLOOKUP(ROWS($J$2:J735),$A$2:$B$996,2,FALSE),\"\")","v":""}]
[{"$f":"IF(ISNUMBER(SEARCH(Cover!$H$13,Table1[[#This Row],[School District]])),MAX($A$1:A735)+1,0)","v":0},"Quincy SD 172",1001172022,22,{"$f":"IF(OR(Table1[[#This Row],[Type]]=0,Table1[[#This Row],[Type]]>=40),\"JA\",\"SD\")","v":"SD"},"Adams","01-001-1720-22",null,null,{"$f":"IFERROR(VLOOKUP(ROWS($J$2:J736),$A$2:$B$996,2,FALSE),\"\")","v":""}]
[{"$f":"IF(ISNUMBER(SEARCH(Cover!$H$13,Table1[[#This Row],[School District]])),MAX($A$1:A736)+1,0)","v":0},"R O W V A CUSD 208",33048208026,26,{"$f":"IF(OR(Table1[[#This Row],[Type]]=0,Table1[[#This Row],[Type]]>=40),\"JA\",\"SD\")","v":"SD"},"Knox","33-048-2080-26",null,null,{"$f":"IFERROR(VLOOKUP(ROWS($J$2:J737),$A$2:$B$996,2,FALSE),\"\")","v":""}]
[{"$f":"IF(ISNUMBER(SEARCH(Cover!$H$13,Table1[[#This Row],[School District]])),MAX($A$1:A737)+1,0)","v":0},"Raccoon Cons SD 1",13058001003,3,{"$f":"IF(OR(Table1[[#This Row],[Type]]=0,Table1[[#This Row],[Type]]>=40),\"JA\",\"SD\")","v":"SD"},"Marion","13-058-0010-03",null,null,{"$f":"IFERROR(VLOOKUP(ROWS($J$2:J738),$A$2:$B$996,2,FALSE),\"\")","v":""}]
[{"$f":"IF(ISNUMBER(SEARCH(Cover!$H$13,Table1[[#This Row],[School District]])),MAX($A$1:A738)+1,0)","v":0},"Ramsey CUSD 204",3026204026,26,{"$f":"IF(OR(Table1[[#This Row],[Type]]=0,Table1[[#This Row],[Type]]>=40),\"JA\",\"SD\")","v":"SD"},"Fayette","03-026-2040-26",null,null,{"$f":"IFERROR(VLOOKUP(ROWS($J$2:J739),$A$2:$B$996,2,FALSE),\"\")","v":""}]
[{"$f":"IF(ISNUMBER(SEARCH(Cover!$H$13,Table1[[#This Row],[School District]])),MAX($A$1:A739)+1,0)","v":0},"Rankin CSD 98",53090098002,2,{"$f":"IF(OR(Table1[[#This Row],[Type]]=0,Table1[[#This Row],[Type]]>=40),\"JA\",\"SD\")","v":"SD"},"Tazewell","53-090-0980-02",null,null,{"$f":"IFERROR(VLOOKUP(ROWS($J$2:J740),$A$2:$B$996,2,FALSE),\"\")","v":""}]
[{"$f":"IF(ISNUMBER(SEARCH(Cover!$H$13,Table1[[#This Row],[School District]])),MAX($A$1:A740)+1,0)","v":0},"Rantoul City SD 137",9010137002,2,{"$f":"IF(OR(Table1[[#This Row],[Type]]=0,Table1[[#This Row],[Type]]>=40),\"JA\",\"SD\")","v":"SD"},"Champaign","09-010-1370-02",null,null,{"$f":"IFERROR(VLOOKUP(ROWS($J$2:J741),$A$2:$B$996,2,FALSE),\"\")","v":""}]
[{"$f":"IF(ISNUMBER(SEARCH(Cover!$H$13,Table1[[#This Row],[School District]])),MAX($A$1:A741)+1,0)","v":0},"Rantoul Township HSD 193",9010193017,17,{"$f":"IF(OR(Table1[[#This Row],[Type]]=0,Table1[[#This Row],[Type]]>=40),\"JA\",\"SD\")","v":"SD"},"Champaign","09-010-1930-17",null,null,{"$f":"IFERROR(VLOOKUP(ROWS($J$2:J742),$A$2:$B$996,2,FALSE),\"\")","v":""}]
[{"$f":"IF(ISNUMBER(SEARCH(Cover!$H$13,Table1[[#This Row],[School District]])),MAX($A$1:A742)+1,0)","v":0},"Reavis Twp HSD 220",7016220017,17,{"$f":"IF(OR(Table1[[#This Row],[Type]]=0,Table1[[#This Row],[Type]]>=40),\"JA\",\"SD\")","v":"SD"},"Cook","07-016-2200-17",null,null,{"$f":"IFERROR(VLOOKUP(ROWS($J$2:J743),$A$2:$B$996,2,FALSE),\"\")","v":""}]
[{"$f":"IF(ISNUMBER(SEARCH(Cover!$H$13,Table1[[#This Row],[School District]])),MAX($A$1:A743)+1,0)","v":0},"Red Bud CUSD 132",45079132026,26,{"$f":"IF(OR(Table1[[#This Row],[Type]]=0,Table1[[#This Row],[Type]]>=40),\"JA\",\"SD\")","v":"SD"},"Randolph","45-079-1320-26",null,null,{"$f":"IFERROR(VLOOKUP(ROWS($J$2:J744),$A$2:$B$996,2,FALSE),\"\")","v":""}]
[{"$f":"IF(ISNUMBER(SEARCH(Cover!$H$13,Table1[[#This Row],[School District]])),MAX($A$1:A744)+1,0)","v":0},"Red Hill CUSD 10",12051010026,26,{"$f":"IF(OR(Table1[[#This Row],[Type]]=0,Table1[[#This Row],[Type]]>=40),\"JA\",\"SD\")","v":"SD"},"Lawrence/Crawford","12-051-0100-26",null,null,{"$f":"IFERROR(VLOOKUP(ROWS($J$2:J745),$A$2:$B$996,2,FALSE),\"\")","v":""}]
[{"$f":"IF(ISNUMBER(SEARCH(Cover!$H$13,Table1[[#This Row],[School District]])),MAX($A$1:A745)+1,0)","v":0},"Reed Custer CUSD 255U","56099255U26",26,{"$f":"IF(OR(Table1[[#This Row],[Type]]=0,Table1[[#This Row],[Type]]>=40),\"JA\",\"SD\")","v":"SD"},"Will/Kankakee","56-099-255U-26",null,null,{"$f":"IFERROR(VLOOKUP(ROWS($J$2:J746),$A$2:$B$996,2,FALSE),\"\")","v":""}]
[{"$f":"IF(ISNUMBER(SEARCH(Cover!$H$13,Table1[[#This Row],[School District]])),MAX($A$1:A746)+1,0)","v":0},"Reg Office of CTE",51084731045,45,{"$f":"IF(OR(Table1[[#This Row],[Type]]=0,Table1[[#This Row],[Type]]>=40),\"JA\",\"SD\")","v":"JA"},"Sangamon","51-084-7310-45",null,null,{"$f":"IFERROR(VLOOKUP(ROWS($J$2:J747),$A$2:$B$996,2,FALSE),\"\")","v":""}]
[{"$f":"IF(ISNUMBER(SEARCH(Cover!$H$13,Table1[[#This Row],[School District]])),MAX($A$1:A747)+1,0)","v":0},"Region III Spec Ed Coop",41057801060,60,{"$f":"IF(OR(Table1[[#This Row],[Type]]=0,Table1[[#This Row],[Type]]>=40),\"JA\",\"SD\")","v":"JA"},"Madison","41-057-8010-60",null,null,{"$f":"IFERROR(VLOOKUP(ROWS($J$2:J748),$A$2:$B$996,2,FALSE),\"\")","v":""}]
[{"$f":"IF(ISNUMBER(SEARCH(Cover!$H$13,Table1[[#This Row],[School District]])),MAX($A$1:A748)+1,0)","v":0},"Rend Lake Area Reg Del System",13000000047,47,{"$f":"IF(OR(Table1[[#This Row],[Type]]=0,Table1[[#This Row],[Type]]>=40),\"JA\",\"SD\")","v":"JA"},"Jefferson/Hamilton/Wayne","13-000-0000-47",null,null,{"$f":"IFERROR(VLOOKUP(ROWS($J$2:J749),$A$2:$B$996,2,FALSE),\"\")","v":""}]
[{"$f":"IF(ISNUMBER(SEARCH(Cover!$H$13,Table1[[#This Row],[School District]])),MAX($A$1:A749)+1,0)","v":0},"Rhodes SD 84-5",6016084502,2,{"$f":"IF(OR(Table1[[#This Row],[Type]]=0,Table1[[#This Row],[Type]]>=40),\"JA\",\"SD\")","v":"SD"},"Cook","06-016-0845-02",null,null,{"$f":"IFERROR(VLOOKUP(ROWS($J$2:J750),$A$2:$B$996,2,FALSE),\"\")","v":""}]
[{"$f":"IF(ISNUMBER(SEARCH(Cover!$H$13,Table1[[#This Row],[School District]])),MAX($A$1:A750)+1,0)","v":0},"Rich Twp HSD 227",7016227017,17,{"$f":"IF(OR(Table1[[#This Row],[Type]]=0,Table1[[#This Row],[Type]]>=40),\"JA\",\"SD\")","v":"SD"},"Cook","07-016-2270-17",null,null,{"$f":"IFERROR(VLOOKUP(ROWS($J$2:J751),$A$2:$B$996,2,FALSE),\"\")","v":""}]
[{"$f":"IF(ISNUMBER(SEARCH(Cover!$H$13,Table1[[#This Row],[School District]])),MAX($A$1:A751)+1,0)","v":0},"Richland County CUSD 1",12080001026,26,{"$f":"IF(OR(Table1[[#This Row],[Type]]=0,Table1[[#This Row],[Type]]>=40),\"JA\",\"SD\")","v":"SD"},"Richland/Jasper/Wayne/Clay/Lawrence","12-080-0010-26",null,null,{"$f":"IFERROR(VLOOKUP(ROWS($J$2:J752),$A$2:$B$996,2,FALSE),\"\")","v":""}]
[{"$f":"IF(ISNUMBER(SEARCH(Cover!$H$13,Table1[[#This Row],[School District]])),MAX($A$1:A752)+1,0)","v":0},"Richland GSD 88A","56099088A02",2,{"$f":"IF(OR(Table1[[#This Row],[Type]]=0,Table1[[#This Row],[Type]]>=40),\"JA\",\"SD\")","v":"SD"},"Will","56-099-088A-02",null,null,{"$f":"IFERROR(VLOOKUP(ROWS($J$2:J753),$A$2:$B$996,2,FALSE),\"\")","v":""}]
[{"$f":"IF(ISNUMBER(SEARCH(Cover!$H$13,Table1[[#This Row],[School District]])),MAX($A$1:A753)+1,0)","v":0},"Richmond-Burton CHSD 157",44063157016,16,{"$f":"IF(OR(Table1[[#This Row],[Type]]=0,Table1[[#This Row],[Type]]>=40),\"JA\",\"SD\")","v":"SD"},"McHenry/Lake","44-063-1570-16",null,null,{"$f":"IFERROR(VLOOKUP(ROWS($J$2:J754),$A$2:$B$996,2,FALSE),\"\")","v":""}]
[{"$f":"IF(ISNUMBER(SEARCH(Cover!$H$13,Table1[[#This Row],[School District]])),MAX($A$1:A754)+1,0)","v":0},"Ridgeland SD 122",7016122002,2,{"$f":"IF(OR(Table1[[#This Row],[Type]]=0,Table1[[#This Row],[Type]]>=40),\"JA\",\"SD\")","v":"SD"},"Cook","07-016-1220-02",null,null,{"$f":"IFERROR(VLOOKUP(ROWS($J$2:J755),$A$2:$B$996,2,FALSE),\"\")","v":""}]
[{"$f":"IF(ISNUMBER(SEARCH(Cover!$H$13,Table1[[#This Row],[School District]])),MAX($A$1:A755)+1,0)","v":0},"Ridgeview CUSD 19",17064019026,26,{"$f":"IF(OR(Table1[[#This Row],[Type]]=0,Table1[[#This Row],[Type]]>=40),\"JA\",\"SD\")","v":"SD"},"McLean","17-064-0190-26",null,null,{"$f":"IFERROR(VLOOKUP(ROWS($J$2:J756),$A$2:$B$996,2,FALSE),\"\")","v":""}]
[{"$f":"IF(ISNUMBER(SEARCH(Cover!$H$13,Table1[[#This Row],[School District]])),MAX($A$1:A756)+1,0)","v":0},"Ridgewood CHSD 234",6016234016,16,{"$f":"IF(OR(Table1[[#This Row],[Type]]=0,Table1[[#This Row],[Type]]>=40),\"JA\",\"SD\")","v":"SD"},"Cook","06-016-2340-16",null,null,{"$f":"IFERROR(VLOOKUP(ROWS($J$2:J757),$A$2:$B$996,2,FALSE),\"\")","v":""}]
[{"$f":"IF(ISNUMBER(SEARCH(Cover!$H$13,Table1[[#This Row],[School District]])),MAX($A$1:A757)+1,0)","v":0},"Riley CCSD 18",44063018004,4,{"$f":"IF(OR(Table1[[#This Row],[Type]]=0,Table1[[#This Row],[Type]]>=40),\"JA\",\"SD\")","v":"SD"},"McHenry","44-063-0180-04",null,null,{"$f":"IFERROR(VLOOKUP(ROWS($J$2:J758),$A$2:$B$996,2,FALSE),\"\")","v":""}]
[{"$f":"IF(ISNUMBER(SEARCH(Cover!$H$13,Table1[[#This Row],[School District]])),MAX($A$1:A758)+1,0)","v":0},"River Bend CUSD 2",47098002026,26,{"$f":"IF(OR(Table1[[#This Row],[Type]]=0,Table1[[#This Row],[Type]]>=40),\"JA\",\"SD\")","v":"SD"},"Whiteside","47-098-0020-26",null,null,{"$f":"IFERROR(VLOOKUP(ROWS($J$2:J759),$A$2:$B$996,2,FALSE),\"\")","v":""}]
[{"$f":"IF(ISNUMBER(SEARCH(Cover!$H$13,Table1[[#This Row],[School District]])),MAX($A$1:A759)+1,0)","v":0},"River Forest SD 90",6016090002,2,{"$f":"IF(OR(Table1[[#This Row],[Type]]=0,Table1[[#This Row],[Type]]>=40),\"JA\",\"SD\")","v":"SD"},"Cook","06-016-0900-02",null,null,{"$f":"IFERROR(VLOOKUP(ROWS($J$2:J760),$A$2:$B$996,2,FALSE),\"\")","v":""}]
[{"$f":"IF(ISNUMBER(SEARCH(Cover!$H$13,Table1[[#This Row],[School District]])),MAX($A$1:A760)+1,0)","v":0},"River Grove SD 85-5",6016085502,2,{"$f":"IF(OR(Table1[[#This Row],[Type]]=0,Table1[[#This Row],[Type]]>=40),\"JA\",\"SD\")","v":"SD"},"Cook","06-016-0855-02",null,null,{"$f":"IFERROR(VLOOKUP(ROWS($J$2:J761),$A$2:$B$996,2,FALSE),\"\")","v":""}]
[{"$f":"IF(ISNUMBER(SEARCH(Cover!$H$13,Table1[[#This Row],[School District]])),MAX($A$1:A761)+1,0)","v":0},"River Ridge CUSD 210",8043210026,26,{"$f":"IF(OR(Table1[[#This Row],[Type]]=0,Table1[[#This Row],[Type]]>=40),\"JA\",\"SD\")","v":"SD"},"Jo Daviess","08-043-2100-26",null,null,{"$f":"IFERROR(VLOOKUP(ROWS($J$2:J762),$A$2:$B$996,2,FALSE),\"\")","v":""}]
[{"$f":"IF(ISNUMBER(SEARCH(Cover!$H$13,Table1[[#This Row],[School District]])),MAX($A$1:A762)+1,0)","v":0},"River Trails SD 26",5016026002,2,{"$f":"IF(OR(Table1[[#This Row],[Type]]=0,Table1[[#This Row],[Type]]>=40),\"JA\",\"SD\")","v":"SD"},"Cook","05-016-0260-02",null,null,{"$f":"IFERROR(VLOOKUP(ROWS($J$2:J763),$A$2:$B$996,2,FALSE),\"\")","v":""}]
[{"$f":"IF(ISNUMBER(SEARCH(Cover!$H$13,Table1[[#This Row],[School District]])),MAX($A$1:A763)+1,0)","v":0},"Riverdale CUSD 100",49081100026,26,{"$f":"IF(OR(Table1[[#This Row],[Type]]=0,Table1[[#This Row],[Type]]>=40),\"JA\",\"SD\")","v":"SD"},"Rock Island","49-081-1000-26",null,null,{"$f":"IFERROR(VLOOKUP(ROWS($J$2:J764),$A$2:$B$996,2,FALSE),\"\")","v":""}]
[{"$f":"IF(ISNUMBER(SEARCH(Cover!$H$13,Table1[[#This Row],[School District]])),MAX($A$1:A764)+1,0)","v":0},"Riverside SD 96",6016096002,2,{"$f":"IF(OR(Table1[[#This Row],[Type]]=0,Table1[[#This Row],[Type]]>=40),\"JA\",\"SD\")","v":"SD"},"Cook","06-016-0960-02",null,null,{"$f":"IFERROR(VLOOKUP(ROWS($J$2:J765),$A$2:$B$996,2,FALSE),\"\")","v":""}]
[{"$f":"IF(ISNUMBER(SEARCH(Cover!$H$13,Table1[[#This Row],[School District]])),MAX($A$1:A765)+1,0)","v":0},"Riverside-Brookfield Twp SD 208",6016208017,17,{"$f":"IF(OR(Table1[[#This Row],[Type]]=0,Table1[[#This Row],[Type]]>=40),\"JA\",\"SD\")","v":"SD"},"Cook","06-016-2080-17",null,null,{"$f":"IFERROR(VLOOKUP(ROWS($J$2:J766),$A$2:$B$996,2,FALSE),\"\")","v":""}]
[{"$f":"IF(ISNUMBER(SEARCH(Cover!$H$13,Table1[[#This Row],[School District]])),MAX($A$1:A766)+1,0)","v":0},"Riverton CUSD 14",51084014026,26,{"$f":"IF(OR(Table1[[#This Row],[Type]]=0,Table1[[#This Row],[Type]]>=40),\"JA\",\"SD\")","v":"SD"},"Sangamon","51-084-0140-26",null,null,{"$f":"IFERROR(VLOOKUP(ROWS($J$2:J767),$A$2:$B$996,2,FALSE),\"\")","v":""}]
[{"$f":"IF(ISNUMBER(SEARCH(Cover!$H$13,Table1[[#This Row],[School District]])),MAX($A$1:A767)+1,0)","v":0},"Riverview CCSD 2",53102002004,4,{"$f":"IF(OR(Table1[[#This Row],[Type]]=0,Table1[[#This Row],[Type]]>=40),\"JA\",\"SD\")","v":"SD"},"Woodford","53-102-0020-04",null,null,{"$f":"IFERROR(VLOOKUP(ROWS($J$2:J768),$A$2:$B$996,2,FALSE),\"\")","v":""}]
[{"$f":"IF(ISNUMBER(SEARCH(Cover!$H$13,Table1[[#This Row],[School District]])),MAX($A$1:A768)+1,0)","v":0},"Roanoke Benson CUSD 60",53102060026,26,{"$f":"IF(OR(Table1[[#This Row],[Type]]=0,Table1[[#This Row],[Type]]>=40),\"JA\",\"SD\")","v":"SD"},"Woodford","53-102-0600-26",null,null,{"$f":"IFERROR(VLOOKUP(ROWS($J$2:J769),$A$2:$B$996,2,FALSE),\"\")","v":""}]
[{"$f":"IF(ISNUMBER(SEARCH(Cover!$H$13,Table1[[#This Row],[School District]])),MAX($A$1:A769)+1,0)","v":0},"Robein SD 85",53090085002,2,{"$f":"IF(OR(Table1[[#This Row],[Type]]=0,Table1[[#This Row],[Type]]>=40),\"JA\",\"SD\")","v":"SD"},"Tazewell","53-090-0850-02",null,null,{"$f":"IFERROR(VLOOKUP(ROWS($J$2:J770),$A$2:$B$996,2,FALSE),\"\")","v":""}]
[{"$f":"IF(ISNUMBER(SEARCH(Cover!$H$13,Table1[[#This Row],[School District]])),MAX($A$1:A770)+1,0)","v":0},"Robinson CUSD 2",12017002026,26,{"$f":"IF(OR(Table1[[#This Row],[Type]]=0,Table1[[#This Row],[Type]]>=40),\"JA\",\"SD\")","v":"SD"},"Crawford","12-017-0020-26",null,null,{"$f":"IFERROR(VLOOKUP(ROWS($J$2:J771),$A$2:$B$996,2,FALSE),\"\")","v":""}]
[{"$f":"IF(ISNUMBER(SEARCH(Cover!$H$13,Table1[[#This Row],[School District]])),MAX($A$1:A771)+1,0)","v":0},"Rochelle CCSD 231",47071231004,4,{"$f":"IF(OR(Table1[[#This Row],[Type]]=0,Table1[[#This Row],[Type]]>=40),\"JA\",\"SD\")","v":"SD"},"Ogle/Lee","47-071-2310-04",null,null,{"$f":"IFERROR(VLOOKUP(ROWS($J$2:J772),$A$2:$B$996,2,FALSE),\"\")","v":""}]
[{"$f":"IF(ISNUMBER(SEARCH(Cover!$H$13,Table1[[#This Row],[School District]])),MAX($A$1:A772)+1,0)","v":0},"Rochelle Twp HSD 212",47071212017,17,{"$f":"IF(OR(Table1[[#This Row],[Type]]=0,Table1[[#This Row],[Type]]>=40),\"JA\",\"SD\")","v":"SD"},"Ogle/DeKalb/Lee","47-071-2120-17",null,null,{"$f":"IFERROR(VLOOKUP(ROWS($J$2:J773),$A$2:$B$996,2,FALSE),\"\")","v":""}]
[{"$f":"IF(ISNUMBER(SEARCH(Cover!$H$13,Table1[[#This Row],[School District]])),MAX($A$1:A773)+1,0)","v":0},"Rochester CUSD 3A","51084003A26",26,{"$f":"IF(OR(Table1[[#This Row],[Type]]=0,Table1[[#This Row],[Type]]>=40),\"JA\",\"SD\")","v":"SD"},"Sangamon/Christian","51-084-003A-26",null,null,{"$f":"IFERROR(VLOOKUP(ROWS($J$2:J774),$A$2:$B$996,2,FALSE),\"\")","v":""}]
[{"$f":"IF(ISNUMBER(SEARCH(Cover!$H$13,Table1[[#This Row],[School District]])),MAX($A$1:A774)+1,0)","v":0},"Rock Falls ESD 13",47098013002,2,{"$f":"IF(OR(Table1[[#This Row],[Type]]=0,Table1[[#This Row],[Type]]>=40),\"JA\",\"SD\")","v":"SD"},"Whiteside","47-098-0130-02",null,null,{"$f":"IFERROR(VLOOKUP(ROWS($J$2:J775),$A$2:$B$996,2,FALSE),\"\")","v":""}]
[{"$f":"IF(ISNUMBER(SEARCH(Cover!$H$13,Table1[[#This Row],[School District]])),MAX($A$1:A775)+1,0)","v":0},"Rock Falls Twp HSD 301",47098301017,17,{"$f":"IF(OR(Table1[[#This Row],[Type]]=0,Table1[[#This Row],[Type]]>=40),\"JA\",\"SD\")","v":"SD"},"Whiteside","47-098-3010-17",null,null,{"$f":"IFERROR(VLOOKUP(ROWS($J$2:J776),$A$2:$B$996,2,FALSE),\"\")","v":""}]
[{"$f":"IF(ISNUMBER(SEARCH(Cover!$H$13,Table1[[#This Row],[School District]])),MAX($A$1:A776)+1,0)","v":0},"Rock Island SD 41",49081041025,25,{"$f":"IF(OR(Table1[[#This Row],[Type]]=0,Table1[[#This Row],[Type]]>=40),\"JA\",\"SD\")","v":"SD"},"Rock Island","49-081-0410-25",null,null,{"$f":"IFERROR(VLOOKUP(ROWS($J$2:J777),$A$2:$B$996,2,FALSE),\"\")","v":""}]
[{"$f":"IF(ISNUMBER(SEARCH(Cover!$H$13,Table1[[#This Row],[School District]])),MAX($A$1:A777)+1,0)","v":0},"Rockdale SD 84",56099084002,2,{"$f":"IF(OR(Table1[[#This Row],[Type]]=0,Table1[[#This Row],[Type]]>=40),\"JA\",\"SD\")","v":"SD"},"Will","56-099-0840-02",null,null,{"$f":"IFERROR(VLOOKUP(ROWS($J$2:J778),$A$2:$B$996,2,FALSE),\"\")","v":""}]
[{"$f":"IF(ISNUMBER(SEARCH(Cover!$H$13,Table1[[#This Row],[School District]])),MAX($A$1:A778)+1,0)","v":0},"Rockford SD 205",4101205025,25,{"$f":"IF(OR(Table1[[#This Row],[Type]]=0,Table1[[#This Row],[Type]]>=40),\"JA\",\"SD\")","v":"SD"},"Winnebago","04-101-2050-25",null,null,{"$f":"IFERROR(VLOOKUP(ROWS($J$2:J779),$A$2:$B$996,2,FALSE),\"\")","v":""}]
[{"$f":"IF(ISNUMBER(SEARCH(Cover!$H$13,Table1[[#This Row],[School District]])),MAX($A$1:A779)+1,0)","v":0},"Rockridge CUSD 300",49081300026,26,{"$f":"IF(OR(Table1[[#This Row],[Type]]=0,Table1[[#This Row],[Type]]>=40),\"JA\",\"SD\")","v":"SD"},"Rock Island/Mercer","49-081-3000-26",null,null,{"$f":"IFERROR(VLOOKUP(ROWS($J$2:J780),$A$2:$B$996,2,FALSE),\"\")","v":""}]
[{"$f":"IF(ISNUMBER(SEARCH(Cover!$H$13,Table1[[#This Row],[School District]])),MAX($A$1:A780)+1,0)","v":0},"Rockton SD 140",4101140004,4,{"$f":"IF(OR(Table1[[#This Row],[Type]]=0,Table1[[#This Row],[Type]]>=40),\"JA\",\"SD\")","v":"SD"},"Winnebago","04-101-1400-04",null,null,{"$f":"IFERROR(VLOOKUP(ROWS($J$2:J781),$A$2:$B$996,2,FALSE),\"\")","v":""}]
[{"$f":"IF(ISNUMBER(SEARCH(Cover!$H$13,Table1[[#This Row],[School District]])),MAX($A$1:A781)+1,0)","v":0},"Rome CCSD 2",13041002004,4,{"$f":"IF(OR(Table1[[#This Row],[Type]]=0,Table1[[#This Row],[Type]]>=40),\"JA\",\"SD\")","v":"SD"},"Jefferson","13-041-0020-04",null,null,{"$f":"IFERROR(VLOOKUP(ROWS($J$2:J782),$A$2:$B$996,2,FALSE),\"\")","v":""}]
[{"$f":"IF(ISNUMBER(SEARCH(Cover!$H$13,Table1[[#This Row],[School District]])),MAX($A$1:A782)+1,0)","v":0},"Rondout SD 72",34049072002,2,{"$f":"IF(OR(Table1[[#This Row],[Type]]=0,Table1[[#This Row],[Type]]>=40),\"JA\",\"SD\")","v":"SD"},"Lake","34-049-0720-02",null,null,{"$f":"IFERROR(VLOOKUP(ROWS($J$2:J783),$A$2:$B$996,2,FALSE),\"\")","v":""}]
[{"$f":"IF(ISNUMBER(SEARCH(Cover!$H$13,Table1[[#This Row],[School District]])),MAX($A$1:A783)+1,0)","v":0},"Rooks Creek CCSD 425",17053425004,4,{"$f":"IF(OR(Table1[[#This Row],[Type]]=0,Table1[[#This Row],[Type]]>=40),\"JA\",\"SD\")","v":"SD"},"Livingston","17-053-4250-04",null,null,{"$f":"IFERROR(VLOOKUP(ROWS($J$2:J784),$A$2:$B$996,2,FALSE),\"\")","v":""}]
[{"$f":"IF(ISNUMBER(SEARCH(Cover!$H$13,Table1[[#This Row],[School District]])),MAX($A$1:A784)+1,0)","v":0},"Roselle SD 12",19022012002,2,{"$f":"IF(OR(Table1[[#This Row],[Type]]=0,Table1[[#This Row],[Type]]>=40),\"JA\",\"SD\")","v":"SD"},"DuPage","19-022-0120-02",null,null,{"$f":"IFERROR(VLOOKUP(ROWS($J$2:J785),$A$2:$B$996,2,FALSE),\"\")","v":""}]
[{"$f":"IF(ISNUMBER(SEARCH(Cover!$H$13,Table1[[#This Row],[School District]])),MAX($A$1:A785)+1,0)","v":0},"Rosemont ESD 78",6016078002,2,{"$f":"IF(OR(Table1[[#This Row],[Type]]=0,Table1[[#This Row],[Type]]>=40),\"JA\",\"SD\")","v":"SD"},"Cook","06-016-0780-02",null,null,{"$f":"IFERROR(VLOOKUP(ROWS($J$2:J786),$A$2:$B$996,2,FALSE),\"\")","v":""}]
[{"$f":"IF(ISNUMBER(SEARCH(Cover!$H$13,Table1[[#This Row],[School District]])),MAX($A$1:A786)+1,0)","v":0},"Rossville-Alvin CUSD 7",54092007026,26,{"$f":"IF(OR(Table1[[#This Row],[Type]]=0,Table1[[#This Row],[Type]]>=40),\"JA\",\"SD\")","v":"SD"},"Vermilion","54-092-0070-26",null,null,{"$f":"IFERROR(VLOOKUP(ROWS($J$2:J787),$A$2:$B$996,2,FALSE),\"\")","v":""}]
[{"$f":"IF(ISNUMBER(SEARCH(Cover!$H$13,Table1[[#This Row],[School District]])),MAX($A$1:A787)+1,0)","v":0},"Round Lake CUSD 116",34049116026,26,{"$f":"IF(OR(Table1[[#This Row],[Type]]=0,Table1[[#This Row],[Type]]>=40),\"JA\",\"SD\")","v":"SD"},"Lake","34-049-1160-26",null,null,{"$f":"IFERROR(VLOOKUP(ROWS($J$2:J788),$A$2:$B$996,2,FALSE),\"\")","v":""}]
[{"$f":"IF(ISNUMBER(SEARCH(Cover!$H$13,Table1[[#This Row],[School District]])),MAX($A$1:A788)+1,0)","v":0},"Roxana CUSD 1",41057001026,26,{"$f":"IF(OR(Table1[[#This Row],[Type]]=0,Table1[[#This Row],[Type]]>=40),\"JA\",\"SD\")","v":"SD"},"Madison","41-057-0010-26",null,null,{"$f":"IFERROR(VLOOKUP(ROWS($J$2:J789),$A$2:$B$996,2,FALSE),\"\")","v":""}]
[{"$f":"IF(ISNUMBER(SEARCH(Cover!$H$13,Table1[[#This Row],[School District]])),MAX($A$1:A789)+1,0)","v":0},"Rural Champaign Cty Spec Ed Coop",9010801060,60,{"$f":"IF(OR(Table1[[#This Row],[Type]]=0,Table1[[#This Row],[Type]]>=40),\"JA\",\"SD\")","v":"JA"},"Champaign","09-010-8010-60",null,null,{"$f":"IFERROR(VLOOKUP(ROWS($J$2:J790),$A$2:$B$996,2,FALSE),\"\")","v":""}]
[{"$f":"IF(ISNUMBER(SEARCH(Cover!$H$13,Table1[[#This Row],[School District]])),MAX($A$1:A790)+1,0)","v":0},"Rutland CCSD 230",35050230004,4,{"$f":"IF(OR(Table1[[#This Row],[Type]]=0,Table1[[#This Row],[Type]]>=40),\"JA\",\"SD\")","v":"SD"},"LaSalle","35-050-2300-04",null,null,{"$f":"IFERROR(VLOOKUP(ROWS($J$2:J791),$A$2:$B$996,2,FALSE),\"\")","v":""}]
[{"$f":"IF(ISNUMBER(SEARCH(Cover!$H$13,Table1[[#This Row],[School District]])),MAX($A$1:A791)+1,0)","v":0},"Salem CHSD 600",13058600016,16,{"$f":"IF(OR(Table1[[#This Row],[Type]]=0,Table1[[#This Row],[Type]]>=40),\"JA\",\"SD\")","v":"SD"},"Marion","13-058-6000-16",null,null,{"$f":"IFERROR(VLOOKUP(ROWS($J$2:J792),$A$2:$B$996,2,FALSE),\"\")","v":""}]
[{"$f":"IF(ISNUMBER(SEARCH(Cover!$H$13,Table1[[#This Row],[School District]])),MAX($A$1:A792)+1,0)","v":0},"Salem SD 111",13058111002,2,{"$f":"IF(OR(Table1[[#This Row],[Type]]=0,Table1[[#This Row],[Type]]>=40),\"JA\",\"SD\")","v":"SD"},"Marion","13-058-1110-02",null,null,{"$f":"IFERROR(VLOOKUP(ROWS($J$2:J793),$A$2:$B$996,2,FALSE),\"\")","v":""}]
[{"$f":"IF(ISNUMBER(SEARCH(Cover!$H$13,Table1[[#This Row],[School District]])),MAX($A$1:A793)+1,0)","v":0},"Salt Creek SD 48",19022048002,2,{"$f":"IF(OR(Table1[[#This Row],[Type]]=0,Table1[[#This Row],[Type]]>=40),\"JA\",\"SD\")","v":"SD"},"DuPage","19-022-0480-02",null,null,{"$f":"IFERROR(VLOOKUP(ROWS($J$2:J794),$A$2:$B$996,2,FALSE),\"\")","v":""}]
[{"$f":"IF(ISNUMBER(SEARCH(Cover!$H$13,Table1[[#This Row],[School District]])),MAX($A$1:A794)+1,0)","v":0},"Salt Fork Community Unit District  512",54092512026,26,{"$f":"IF(OR(Table1[[#This Row],[Type]]=0,Table1[[#This Row],[Type]]>=40),\"JA\",\"SD\")","v":"SD"},"Vermilion","54-092-5120-26",null,null,{"$f":"IFERROR(VLOOKUP(ROWS($J$2:J795),$A$2:$B$996,2,FALSE),\"\")","v":""}]
[{"$f":"IF(ISNUMBER(SEARCH(Cover!$H$13,Table1[[#This Row],[School District]])),MAX($A$1:A795)+1,0)","v":0},"Sandoval CUSD 501",13058501026,26,{"$f":"IF(OR(Table1[[#This Row],[Type]]=0,Table1[[#This Row],[Type]]>=40),\"JA\",\"SD\")","v":"SD"},"Marion","13-058-5010-26",null,null,{"$f":"IFERROR(VLOOKUP(ROWS($J$2:J796),$A$2:$B$996,2,FALSE),\"\")","v":""}]
[{"$f":"IF(ISNUMBER(SEARCH(Cover!$H$13,Table1[[#This Row],[School District]])),MAX($A$1:A796)+1,0)","v":0},"Sandridge SD 172",7016172002,2,{"$f":"IF(OR(Table1[[#This Row],[Type]]=0,Table1[[#This Row],[Type]]>=40),\"JA\",\"SD\")","v":"SD"},"Cook","07-016-1720-02",null,null,{"$f":"IFERROR(VLOOKUP(ROWS($J$2:J797),$A$2:$B$996,2,FALSE),\"\")","v":""}]
[{"$f":"IF(ISNUMBER(SEARCH(Cover!$H$13,Table1[[#This Row],[School District]])),MAX($A$1:A797)+1,0)","v":0},"Sandwich CUSD 430",16019430026,26,{"$f":"IF(OR(Table1[[#This Row],[Type]]=0,Table1[[#This Row],[Type]]>=40),\"JA\",\"SD\")","v":"SD"},"DeKalb/LaSalle/Kendall","16-019-4300-26",null,null,{"$f":"IFERROR(VLOOKUP(ROWS($J$2:J798),$A$2:$B$996,2,FALSE),\"\")","v":""}]
[{"$f":"IF(ISNUMBER(SEARCH(Cover!$H$13,Table1[[#This Row],[School District]])),MAX($A$1:A798)+1,0)","v":0},"Sangamon Area Spec Ed Dist (SASED)",51084010061,61,{"$f":"IF(OR(Table1[[#This Row],[Type]]=0,Table1[[#This Row],[Type]]>=40),\"JA\",\"SD\")","v":"JA"},"Sangamon","51-084-0100-61",null,null,{"$f":"IFERROR(VLOOKUP(ROWS($J$2:J799),$A$2:$B$996,2,FALSE),\"\")","v":""}]
[{"$f":"IF(ISNUMBER(SEARCH(Cover!$H$13,Table1[[#This Row],[School District]])),MAX($A$1:A799)+1,0)","v":0},"Sangamon Valley CUSD 9",39055009026,26,{"$f":"IF(OR(Table1[[#This Row],[Type]]=0,Table1[[#This Row],[Type]]>=40),\"JA\",\"SD\")","v":"SD"},"Christian/Macon/Sangamon","39-055-0090-26",null,null,{"$f":"IFERROR(VLOOKUP(ROWS($J$2:J800),$A$2:$B$996,2,FALSE),\"\")","v":""}]
[{"$f":"IF(ISNUMBER(SEARCH(Cover!$H$13,Table1[[#This Row],[School District]])),MAX($A$1:A800)+1,0)","v":0},"Saratoga CCSD 60C","24032060C04",4,{"$f":"IF(OR(Table1[[#This Row],[Type]]=0,Table1[[#This Row],[Type]]>=40),\"JA\",\"SD\")","v":"SD"},"Grundy","24-032-060C-04",null,null,{"$f":"IFERROR(VLOOKUP(ROWS($J$2:J801),$A$2:$B$996,2,FALSE),\"\")","v":""}]
[{"$f":"IF(ISNUMBER(SEARCH(Cover!$H$13,Table1[[#This Row],[School District]])),MAX($A$1:A801)+1,0)","v":0},"Saunemin CCSD 438",17053438004,4,{"$f":"IF(OR(Table1[[#This Row],[Type]]=0,Table1[[#This Row],[Type]]>=40),\"JA\",\"SD\")","v":"SD"},"Livingston","17-053-4380-04",null,null,{"$f":"IFERROR(VLOOKUP(ROWS($J$2:J802),$A$2:$B$996,2,FALSE),\"\")","v":""}]
[{"$f":"IF(ISNUMBER(SEARCH(Cover!$H$13,Table1[[#This Row],[School District]])),MAX($A$1:A802)+1,0)","v":0},"Scales Mound CUSD 211",8043211026,26,{"$f":"IF(OR(Table1[[#This Row],[Type]]=0,Table1[[#This Row],[Type]]>=40),\"JA\",\"SD\")","v":"SD"},"Jo Daviess","08-043-2110-26",null,null,{"$f":"IFERROR(VLOOKUP(ROWS($J$2:J803),$A$2:$B$996,2,FALSE),\"\")","v":""}]
[{"$f":"IF(ISNUMBER(SEARCH(Cover!$H$13,Table1[[#This Row],[School District]])),MAX($A$1:A803)+1,0)","v":0},"Schaumburg CCSD 54",5016054004,4,{"$f":"IF(OR(Table1[[#This Row],[Type]]=0,Table1[[#This Row],[Type]]>=40),\"JA\",\"SD\")","v":"SD"},"Cook","05-016-0540-04",null,null,{"$f":"IFERROR(VLOOKUP(ROWS($J$2:J804),$A$2:$B$996,2,FALSE),\"\")","v":""}]
[{"$f":"IF(ISNUMBER(SEARCH(Cover!$H$13,Table1[[#This Row],[School District]])),MAX($A$1:A804)+1,0)","v":0},"Schiller Park SD 81",6016081002,2,{"$f":"IF(OR(Table1[[#This Row],[Type]]=0,Table1[[#This Row],[Type]]>=40),\"JA\",\"SD\")","v":"SD"},"Cook","06-016-0810-02",null,null,{"$f":"IFERROR(VLOOKUP(ROWS($J$2:J805),$A$2:$B$996,2,FALSE),\"\")","v":""}]
[{"$f":"IF(ISNUMBER(SEARCH(Cover!$H$13,Table1[[#This Row],[School District]])),MAX($A$1:A805)+1,0)","v":0},"School Assoc for Spec Ed (SASED)",19022803060,60,{"$f":"IF(OR(Table1[[#This Row],[Type]]=0,Table1[[#This Row],[Type]]>=40),\"JA\",\"SD\")","v":"JA"},"DuPage","19-022-8030-60",null,null,{"$f":"IFERROR(VLOOKUP(ROWS($J$2:J806),$A$2:$B$996,2,FALSE),\"\")","v":""}]
[{"$f":"IF(ISNUMBER(SEARCH(Cover!$H$13,Table1[[#This Row],[School District]])),MAX($A$1:A806)+1,0)","v":0},"Schuyler-Industry CUSD 5",26085005026,26,{"$f":"IF(OR(Table1[[#This Row],[Type]]=0,Table1[[#This Row],[Type]]>=40),\"JA\",\"SD\")","v":"SD"},"Schuyler","26-085-0050-26",null,null,{"$f":"IFERROR(VLOOKUP(ROWS($J$2:J807),$A$2:$B$996,2,FALSE),\"\")","v":""}]
[{"$f":"IF(ISNUMBER(SEARCH(Cover!$H$13,Table1[[#This Row],[School District]])),MAX($A$1:A807)+1,0)","v":1},"Scott-Morgan CUSD 2",1086002026,26,{"$f":"IF(OR(Table1[[#This Row],[Type]]=0,Table1[[#This Row],[Type]]>=40),\"JA\",\"SD\")","v":"SD"},"Scott/Morgan","01-086-0020-26",null,null,{"$f":"IFERROR(VLOOKUP(ROWS($J$2:J808),$A$2:$B$996,2,FALSE),\"\")","v":""}]
[{"$f":"IF(ISNUMBER(SEARCH(Cover!$H$13,Table1[[#This Row],[School District]])),MAX($A$1:A808)+1,0)","v":0},"SD 45 DuPage County",19022045002,2,{"$f":"IF(OR(Table1[[#This Row],[Type]]=0,Table1[[#This Row],[Type]]>=40),\"JA\",\"SD\")","v":"SD"},"DuPage","19-022-0450-02",null,null,{"$f":"IFERROR(VLOOKUP(ROWS($J$2:J809),$A$2:$B$996,2,FALSE),\"\")","v":""}]
[{"$f":"IF(ISNUMBER(SEARCH(Cover!$H$13,Table1[[#This Row],[School District]])),MAX($A$1:A809)+1,0)","v":0},"SD U-46",31045046022,22,{"$f":"IF(OR(Table1[[#This Row],[Type]]=0,Table1[[#This Row],[Type]]>=40),\"JA\",\"SD\")","v":"SD"},"Kane/Cook/DuPage","31-045-0460-22",null,null,{"$f":"IFERROR(VLOOKUP(ROWS($J$2:J810),$A$2:$B$996,2,FALSE),\"\")","v":""}]
[{"$f":"IF(ISNUMBER(SEARCH(Cover!$H$13,Table1[[#This Row],[School District]])),MAX($A$1:A810)+1,0)","v":0},"Selmaville CCSD 10",13058010004,4,{"$f":"IF(OR(Table1[[#This Row],[Type]]=0,Table1[[#This Row],[Type]]>=40),\"JA\",\"SD\")","v":"SD"},"Marion","13-058-0100-04",null,null,{"$f":"IFERROR(VLOOKUP(ROWS($J$2:J811),$A$2:$B$996,2,FALSE),\"\")","v":""}]
[{"$f":"IF(ISNUMBER(SEARCH(Cover!$H$13,Table1[[#This Row],[School District]])),MAX($A$1:A811)+1,0)","v":0},"Seneca CCSD 170",35050170004,4,{"$f":"IF(OR(Table1[[#This Row],[Type]]=0,Table1[[#This Row],[Type]]>=40),\"JA\",\"SD\")","v":"SD"},"LaSalle","35-050-1700-04",null,null,{"$f":"IFERROR(VLOOKUP(ROWS($J$2:J812),$A$2:$B$996,2,FALSE),\"\")","v":""}]
[{"$f":"IF(ISNUMBER(SEARCH(Cover!$H$13,Table1[[#This Row],[School District]])),MAX($A$1:A812)+1,0)","v":0},"Seneca Twp HSD 160",35050160017,17,{"$f":"IF(OR(Table1[[#This Row],[Type]]=0,Table1[[#This Row],[Type]]>=40),\"JA\",\"SD\")","v":"SD"},"LaSalle/Grundy","35-050-1600-17",null,null,{"$f":"IFERROR(VLOOKUP(ROWS($J$2:J813),$A$2:$B$996,2,FALSE),\"\")","v":""}]
[{"$f":"IF(ISNUMBER(SEARCH(Cover!$H$13,Table1[[#This Row],[School District]])),MAX($A$1:A813)+1,0)","v":0},"Serena CUSD 2",35050002026,26,{"$f":"IF(OR(Table1[[#This Row],[Type]]=0,Table1[[#This Row],[Type]]>=40),\"JA\",\"SD\")","v":"SD"},"LaSalle","35-050-0020-26",null,null,{"$f":"IFERROR(VLOOKUP(ROWS($J$2:J814),$A$2:$B$996,2,FALSE),\"\")","v":""}]
[{"$f":"IF(ISNUMBER(SEARCH(Cover!$H$13,Table1[[#This Row],[School District]])),MAX($A$1:A814)+1,0)","v":0},"Sesser-Valier CUSD 196",21028196026,26,{"$f":"IF(OR(Table1[[#This Row],[Type]]=0,Table1[[#This Row],[Type]]>=40),\"JA\",\"SD\")","v":"SD"},"Franklin","21-028-1960-26",null,null,{"$f":"IFERROR(VLOOKUP(ROWS($J$2:J815),$A$2:$B$996,2,FALSE),\"\")","v":""}]
[{"$f":"IF(ISNUMBER(SEARCH(Cover!$H$13,Table1[[#This Row],[School District]])),MAX($A$1:A815)+1,0)","v":0},"Shawnee CUSD 84",30091084026,26,{"$f":"IF(OR(Table1[[#This Row],[Type]]=0,Table1[[#This Row],[Type]]>=40),\"JA\",\"SD\")","v":"SD"},"Alexander/Jackson/Union","30-091-0840-26",null,null,{"$f":"IFERROR(VLOOKUP(ROWS($J$2:J816),$A$2:$B$996,2,FALSE),\"\")","v":""}]
[{"$f":"IF(ISNUMBER(SEARCH(Cover!$H$13,Table1[[#This Row],[School District]])),MAX($A$1:A816)+1,0)","v":0},"Shelbyville CUSD 4",11087004026,26,{"$f":"IF(OR(Table1[[#This Row],[Type]]=0,Table1[[#This Row],[Type]]>=40),\"JA\",\"SD\")","v":"SD"},"Shelby","11-087-0040-26",null,null,{"$f":"IFERROR(VLOOKUP(ROWS($J$2:J817),$A$2:$B$996,2,FALSE),\"\")","v":""}]
[{"$f":"IF(ISNUMBER(SEARCH(Cover!$H$13,Table1[[#This Row],[School District]])),MAX($A$1:A817)+1,0)","v":0},"Sherrard CUSD 200",49081200026,26,{"$f":"IF(OR(Table1[[#This Row],[Type]]=0,Table1[[#This Row],[Type]]>=40),\"JA\",\"SD\")","v":"SD"},"Mercer/ Rock Island","49-081-2000-26",null,null,{"$f":"IFERROR(VLOOKUP(ROWS($J$2:J818),$A$2:$B$996,2,FALSE),\"\")","v":""}]
[{"$f":"IF(ISNUMBER(SEARCH(Cover!$H$13,Table1[[#This Row],[School District]])),MAX($A$1:A818)+1,0)","v":0},"Shiloh CUSD 1",11023001026,26,{"$f":"IF(OR(Table1[[#This Row],[Type]]=0,Table1[[#This Row],[Type]]>=40),\"JA\",\"SD\")","v":"SD"},"Edgar","11-023-0010-26",null,null,{"$f":"IFERROR(VLOOKUP(ROWS($J$2:J819),$A$2:$B$996,2,FALSE),\"\")","v":""}]
[{"$f":"IF(ISNUMBER(SEARCH(Cover!$H$13,Table1[[#This Row],[School District]])),MAX($A$1:A819)+1,0)","v":0},"Shiloh Village SD 85",50082085002,2,{"$f":"IF(OR(Table1[[#This Row],[Type]]=0,Table1[[#This Row],[Type]]>=40),\"JA\",\"SD\")","v":"SD"},"St. Clair","50-082-0850-02",null,null,{"$f":"IFERROR(VLOOKUP(ROWS($J$2:J820),$A$2:$B$996,2,FALSE),\"\")","v":""}]
[{"$f":"IF(ISNUMBER(SEARCH(Cover!$H$13,Table1[[#This Row],[School District]])),MAX($A$1:A820)+1,0)","v":0},"Shirland CCSD 134",4101134004,4,{"$f":"IF(OR(Table1[[#This Row],[Type]]=0,Table1[[#This Row],[Type]]>=40),\"JA\",\"SD\")","v":"SD"},"Winnebago","04-101-1340-04",null,null,{"$f":"IFERROR(VLOOKUP(ROWS($J$2:J821),$A$2:$B$996,2,FALSE),\"\")","v":""}]
[{"$f":"IF(ISNUMBER(SEARCH(Cover!$H$13,Table1[[#This Row],[School District]])),MAX($A$1:A821)+1,0)","v":0},"Signal Hill SD 181",50082181002,2,{"$f":"IF(OR(Table1[[#This Row],[Type]]=0,Table1[[#This Row],[Type]]>=40),\"JA\",\"SD\")","v":"SD"},"St. Clair","50-082-1810-02",null,null,{"$f":"IFERROR(VLOOKUP(ROWS($J$2:J822),$A$2:$B$996,2,FALSE),\"\")","v":""}]
[{"$f":"IF(ISNUMBER(SEARCH(Cover!$H$13,Table1[[#This Row],[School District]])),MAX($A$1:A822)+1,0)","v":0},"Silvis SD 34",49081034002,2,{"$f":"IF(OR(Table1[[#This Row],[Type]]=0,Table1[[#This Row],[Type]]>=40),\"JA\",\"SD\")","v":"SD"},"Rock Island","49-081-0340-02",null,null,{"$f":"IFERROR(VLOOKUP(ROWS($J$2:J823),$A$2:$B$996,2,FALSE),\"\")","v":""}]
[{"$f":"IF(ISNUMBER(SEARCH(Cover!$H$13,Table1[[#This Row],[School District]])),MAX($A$1:A823)+1,0)","v":0},"Skokie SD 68",5016068002,2,{"$f":"IF(OR(Table1[[#This Row],[Type]]=0,Table1[[#This Row],[Type]]>=40),\"JA\",\"SD\")","v":"SD"},"Cook","05-016-0680-02",null,null,{"$f":"IFERROR(VLOOKUP(ROWS($J$2:J824),$A$2:$B$996,2,FALSE),\"\")","v":""}]
[{"$f":"IF(ISNUMBER(SEARCH(Cover!$H$13,Table1[[#This Row],[School District]])),MAX($A$1:A824)+1,0)","v":0},"Skokie SD 69",5016069002,2,{"$f":"IF(OR(Table1[[#This Row],[Type]]=0,Table1[[#This Row],[Type]]>=40),\"JA\",\"SD\")","v":"SD"},"Cook","05-016-0690-02",null,null,{"$f":"IFERROR(VLOOKUP(ROWS($J$2:J825),$A$2:$B$996,2,FALSE),\"\")","v":""}]
[{"$f":"IF(ISNUMBER(SEARCH(Cover!$H$13,Table1[[#This Row],[School District]])),MAX($A$1:A825)+1,0)","v":0},"Skokie SD 73-5",5016073502,2,{"$f":"IF(OR(Table1[[#This Row],[Type]]=0,Table1[[#This Row],[Type]]>=40),\"JA\",\"SD\")","v":"SD"},"Cook","05-016-0735-02",null,null,{"$f":"IFERROR(VLOOKUP(ROWS($J$2:J826),$A$2:$B$996,2,FALSE),\"\")","v":""}]
[{"$f":"IF(ISNUMBER(SEARCH(Cover!$H$13,Table1[[#This Row],[School District]])),MAX($A$1:A826)+1,0)","v":0},"Smithton CCSD 130",50082130004,4,{"$f":"IF(OR(Table1[[#This Row],[Type]]=0,Table1[[#This Row],[Type]]>=40),\"JA\",\"SD\")","v":"SD"},"St. Clair","50-082-1300-04",null,null,{"$f":"IFERROR(VLOOKUP(ROWS($J$2:J827),$A$2:$B$996,2,FALSE),\"\")","v":""}]
[{"$f":"IF(ISNUMBER(SEARCH(Cover!$H$13,Table1[[#This Row],[School District]])),MAX($A$1:A827)+1,0)","v":0},"Somonauk CUSD 432",16019432026,26,{"$f":"IF(OR(Table1[[#This Row],[Type]]=0,Table1[[#This Row],[Type]]>=40),\"JA\",\"SD\")","v":"SD"},"DeKalb","16-019-4320-26",null,null,{"$f":"IFERROR(VLOOKUP(ROWS($J$2:J828),$A$2:$B$996,2,FALSE),\"\")","v":""}]
[{"$f":"IF(ISNUMBER(SEARCH(Cover!$H$13,Table1[[#This Row],[School District]])),MAX($A$1:A828)+1,0)","v":0},"South Central CUD 401",13058401026,26,{"$f":"IF(OR(Table1[[#This Row],[Type]]=0,Table1[[#This Row],[Type]]>=40),\"JA\",\"SD\")","v":"SD"},"Marion","13-058-4010-26",null,null,{"$f":"IFERROR(VLOOKUP(ROWS($J$2:J829),$A$2:$B$996,2,FALSE),\"\")","v":""}]
[{"$f":"IF(ISNUMBER(SEARCH(Cover!$H$13,Table1[[#This Row],[School District]])),MAX($A$1:A829)+1,0)","v":0},"South Eastern Spec Ed Program",12017801060,60,{"$f":"IF(OR(Table1[[#This Row],[Type]]=0,Table1[[#This Row],[Type]]>=40),\"JA\",\"SD\")","v":"JA"},"Jasper","12-017-8010-60",null,null,{"$f":"IFERROR(VLOOKUP(ROWS($J$2:J830),$A$2:$B$996,2,FALSE),\"\")","v":""}]
[{"$f":"IF(ISNUMBER(SEARCH(Cover!$H$13,Table1[[#This Row],[School District]])),MAX($A$1:A830)+1,0)","v":0},"South Fork SD 14",3011014024,24,{"$f":"IF(OR(Table1[[#This Row],[Type]]=0,Table1[[#This Row],[Type]]>=40),\"JA\",\"SD\")","v":"SD"},"Christian","03-011-0140-24",null,null,{"$f":"IFERROR(VLOOKUP(ROWS($J$2:J831),$A$2:$B$996,2,FALSE),\"\")","v":""}]
[{"$f":"IF(ISNUMBER(SEARCH(Cover!$H$13,Table1[[#This Row],[School District]])),MAX($A$1:A831)+1,0)","v":0},"South Holland SD 150",7016150002,2,{"$f":"IF(OR(Table1[[#This Row],[Type]]=0,Table1[[#This Row],[Type]]>=40),\"JA\",\"SD\")","v":"SD"},"Cook","07-016-1500-02",null,null,{"$f":"IFERROR(VLOOKUP(ROWS($J$2:J832),$A$2:$B$996,2,FALSE),\"\")","v":""}]
[{"$f":"IF(ISNUMBER(SEARCH(Cover!$H$13,Table1[[#This Row],[School District]])),MAX($A$1:A832)+1,0)","v":0},"South Holland SD 151",7016151002,2,{"$f":"IF(OR(Table1[[#This Row],[Type]]=0,Table1[[#This Row],[Type]]>=40),\"JA\",\"SD\")","v":"SD"},"Cook","07-016-1510-02",null,null,{"$f":"IFERROR(VLOOKUP(ROWS($J$2:J833),$A$2:$B$996,2,FALSE),\"\")","v":""}]
[{"$f":"IF(ISNUMBER(SEARCH(Cover!$H$13,Table1[[#This Row],[School District]])),MAX($A$1:A833)+1,0)","v":0},"South Macoupin Assoc (SASE)",40056801060,60,{"$f":"IF(OR(Table1[[#This Row],[Type]]=0,Table1[[#This Row],[Type]]>=40),\"JA\",\"SD\")","v":"JA"},"Macoupin","40-056-8010-60",null,null,{"$f":"IFERROR(VLOOKUP(ROWS($J$2:J834),$A$2:$B$996,2,FALSE),\"\")","v":""}]
[{"$f":"IF(ISNUMBER(SEARCH(Cover!$H$13,Table1[[#This Row],[School District]])),MAX($A$1:A834)+1,0)","v":0},"South Pekin SD 137",53090137002,2,{"$f":"IF(OR(Table1[[#This Row],[Type]]=0,Table1[[#This Row],[Type]]>=40),\"JA\",\"SD\")","v":"SD"},"Tazewell","53-090-1370-02",null,null,{"$f":"IFERROR(VLOOKUP(ROWS($J$2:J835),$A$2:$B$996,2,FALSE),\"\")","v":""}]
[{"$f":"IF(ISNUMBER(SEARCH(Cover!$H$13,Table1[[#This Row],[School District]])),MAX($A$1:A835)+1,0)","v":0},"South Will Cty Coop for Spec Ed","56099030C61",61,{"$f":"IF(OR(Table1[[#This Row],[Type]]=0,Table1[[#This Row],[Type]]>=40),\"JA\",\"SD\")","v":"JA"},"Will","56-099-030C-61",null,null,{"$f":"IFERROR(VLOOKUP(ROWS($J$2:J836),$A$2:$B$996,2,FALSE),\"\")","v":""}]
[{"$f":"IF(ISNUMBER(SEARCH(Cover!$H$13,Table1[[#This Row],[School District]])),MAX($A$1:A836)+1,0)","v":0},"South Wilmington CCSD 74",24032074003,3,{"$f":"IF(OR(Table1[[#This Row],[Type]]=0,Table1[[#This Row],[Type]]>=40),\"JA\",\"SD\")","v":"SD"},"Grundy","24-032-0740-03",null,null,{"$f":"IFERROR(VLOOKUP(ROWS($J$2:J837),$A$2:$B$996,2,FALSE),\"\")","v":""}]
[{"$f":"IF(ISNUMBER(SEARCH(Cover!$H$13,Table1[[#This Row],[School District]])),MAX($A$1:A837)+1,0)","v":0},"Southeastern CUSD 337",26034337026,26,{"$f":"IF(OR(Table1[[#This Row],[Type]]=0,Table1[[#This Row],[Type]]>=40),\"JA\",\"SD\")","v":"SD"},"Adams/Hancock/McDonough/Schuyler","26-034-3370-26",null,null,{"$f":"IFERROR(VLOOKUP(ROWS($J$2:J838),$A$2:$B$996,2,FALSE),\"\")","v":""}]
[{"$f":"IF(ISNUMBER(SEARCH(Cover!$H$13,Table1[[#This Row],[School District]])),MAX($A$1:A838)+1,0)","v":0},"Southwest Cook Coop Spec Ed",7016142061,61,{"$f":"IF(OR(Table1[[#This Row],[Type]]=0,Table1[[#This Row],[Type]]>=40),\"JA\",\"SD\")","v":"JA"},"Cook","07-016-1420-61",null,null,{"$f":"IFERROR(VLOOKUP(ROWS($J$2:J839),$A$2:$B$996,2,FALSE),\"\")","v":""}]
[{"$f":"IF(ISNUMBER(SEARCH(Cover!$H$13,Table1[[#This Row],[School District]])),MAX($A$1:A839)+1,0)","v":0},"Southwestern CUSD 9",40056009026,26,{"$f":"IF(OR(Table1[[#This Row],[Type]]=0,Table1[[#This Row],[Type]]>=40),\"JA\",\"SD\")","v":"SD"},"Macoupin/Jersey/Greene","40-056-0090-26",null,null,{"$f":"IFERROR(VLOOKUP(ROWS($J$2:J840),$A$2:$B$996,2,FALSE),\"\")","v":""}]
[{"$f":"IF(ISNUMBER(SEARCH(Cover!$H$13,Table1[[#This Row],[School District]])),MAX($A$1:A840)+1,0)","v":0},"Southwestern IL CTE System",50082746045,45,{"$f":"IF(OR(Table1[[#This Row],[Type]]=0,Table1[[#This Row],[Type]]>=40),\"JA\",\"SD\")","v":"JA"},"St. Clair","50-082-7460-45",null,null,{"$f":"IFERROR(VLOOKUP(ROWS($J$2:J841),$A$2:$B$996,2,FALSE),\"\")","v":""}]
[{"$f":"IF(ISNUMBER(SEARCH(Cover!$H$13,Table1[[#This Row],[School District]])),MAX($A$1:A841)+1,0)","v":0},"Sparta CUSD 140",45079140026,26,{"$f":"IF(OR(Table1[[#This Row],[Type]]=0,Table1[[#This Row],[Type]]>=40),\"JA\",\"SD\")","v":"SD"},"Randolph","45-079-1400-26",null,null,{"$f":"IFERROR(VLOOKUP(ROWS($J$2:J842),$A$2:$B$996,2,FALSE),\"\")","v":""}]
[{"$f":"IF(ISNUMBER(SEARCH(Cover!$H$13,Table1[[#This Row],[School District]])),MAX($A$1:A842)+1,0)","v":0},"Spec Ed Assoc of Adams Cty",1001172061,61,{"$f":"IF(OR(Table1[[#This Row],[Type]]=0,Table1[[#This Row],[Type]]>=40),\"JA\",\"SD\")","v":"JA"},"Adams","01-001-1720-61",null,null,{"$f":"IFERROR(VLOOKUP(ROWS($J$2:J843),$A$2:$B$996,2,FALSE),\"\")","v":""}]
[{"$f":"IF(ISNUMBER(SEARCH(Cover!$H$13,Table1[[#This Row],[School District]])),MAX($A$1:A843)+1,0)","v":0},"Spec Ed Assoc of Peoria Cty",48072000061,61,{"$f":"IF(OR(Table1[[#This Row],[Type]]=0,Table1[[#This Row],[Type]]>=40),\"JA\",\"SD\")","v":"JA"},"Peoria","48-072-0000-61",null,null,{"$f":"IFERROR(VLOOKUP(ROWS($J$2:J844),$A$2:$B$996,2,FALSE),\"\")","v":""}]
[{"$f":"IF(ISNUMBER(SEARCH(Cover!$H$13,Table1[[#This Row],[School District]])),MAX($A$1:A844)+1,0)","v":0},"Spec Ed Dist Lake Cty (SEDOL)",34049825060,60,{"$f":"IF(OR(Table1[[#This Row],[Type]]=0,Table1[[#This Row],[Type]]>=40),\"JA\",\"SD\")","v":"JA"},"Lake","34-049-8250-60",null,null,{"$f":"IFERROR(VLOOKUP(ROWS($J$2:J845),$A$2:$B$996,2,FALSE),\"\")","v":""}]
[{"$f":"IF(ISNUMBER(SEARCH(Cover!$H$13,Table1[[#This Row],[School District]])),MAX($A$1:A845)+1,0)","v":0},"Spec Ed Dist of McHenry Cty (SEDOM)",44063801060,60,{"$f":"IF(OR(Table1[[#This Row],[Type]]=0,Table1[[#This Row],[Type]]>=40),\"JA\",\"SD\")","v":"JA"},"McHenry","44-063-8010-60",null,null,{"$f":"IFERROR(VLOOKUP(ROWS($J$2:J846),$A$2:$B$996,2,FALSE),\"\")","v":""}]
[{"$f":"IF(ISNUMBER(SEARCH(Cover!$H$13,Table1[[#This Row],[School District]])),MAX($A$1:A846)+1,0)","v":0},"Speed SEJA 802",7016802060,60,{"$f":"IF(OR(Table1[[#This Row],[Type]]=0,Table1[[#This Row],[Type]]>=40),\"JA\",\"SD\")","v":"JA"},"Cook","07-016-8020-60",null,null,{"$f":"IFERROR(VLOOKUP(ROWS($J$2:J847),$A$2:$B$996,2,FALSE),\"\")","v":""}]
[{"$f":"IF(ISNUMBER(SEARCH(Cover!$H$13,Table1[[#This Row],[School District]])),MAX($A$1:A847)+1,0)","v":0},"Spoon River Valley CUSD 4",26029004026,26,{"$f":"IF(OR(Table1[[#This Row],[Type]]=0,Table1[[#This Row],[Type]]>=40),\"JA\",\"SD\")","v":"SD"},"Fulton/Knox","26-029-0040-26",null,null,{"$f":"IFERROR(VLOOKUP(ROWS($J$2:J848),$A$2:$B$996,2,FALSE),\"\")","v":""}]
[{"$f":"IF(ISNUMBER(SEARCH(Cover!$H$13,Table1[[#This Row],[School District]])),MAX($A$1:A848)+1,0)","v":0},"Spring Garden CCSD 178",13041178004,4,{"$f":"IF(OR(Table1[[#This Row],[Type]]=0,Table1[[#This Row],[Type]]>=40),\"JA\",\"SD\")","v":"SD"},"Jefferson","13-041-1780-04",null,null,{"$f":"IFERROR(VLOOKUP(ROWS($J$2:J849),$A$2:$B$996,2,FALSE),\"\")","v":""}]
[{"$f":"IF(ISNUMBER(SEARCH(Cover!$H$13,Table1[[#This Row],[School District]])),MAX($A$1:A849)+1,0)","v":0},"Spring Lake CCSD 606",53090606004,4,{"$f":"IF(OR(Table1[[#This Row],[Type]]=0,Table1[[#This Row],[Type]]>=40),\"JA\",\"SD\")","v":"SD"},"Tazewell","53-090-6060-04",null,null,{"$f":"IFERROR(VLOOKUP(ROWS($J$2:J850),$A$2:$B$996,2,FALSE),\"\")","v":""}]
[{"$f":"IF(ISNUMBER(SEARCH(Cover!$H$13,Table1[[#This Row],[School District]])),MAX($A$1:A850)+1,0)","v":0},"Spring Valley CCSD 99",28006099004,4,{"$f":"IF(OR(Table1[[#This Row],[Type]]=0,Table1[[#This Row],[Type]]>=40),\"JA\",\"SD\")","v":"SD"},"Bureau","28-006-0990-04",null,null,{"$f":"IFERROR(VLOOKUP(ROWS($J$2:J851),$A$2:$B$996,2,FALSE),\"\")","v":""}]
[{"$f":"IF(ISNUMBER(SEARCH(Cover!$H$13,Table1[[#This Row],[School District]])),MAX($A$1:A851)+1,0)","v":0},"Springfield SD 186",51084186025,25,{"$f":"IF(OR(Table1[[#This Row],[Type]]=0,Table1[[#This Row],[Type]]>=40),\"JA\",\"SD\")","v":"SD"},"Sangamon","51-084-1860-25",null,null,{"$f":"IFERROR(VLOOKUP(ROWS($J$2:J852),$A$2:$B$996,2,FALSE),\"\")","v":""}]
[{"$f":"IF(ISNUMBER(SEARCH(Cover!$H$13,Table1[[#This Row],[School District]])),MAX($A$1:A852)+1,0)","v":0},"St Anne CCSD 256",32046256004,4,{"$f":"IF(OR(Table1[[#This Row],[Type]]=0,Table1[[#This Row],[Type]]>=40),\"JA\",\"SD\")","v":"SD"},"Kankakee","32-046-2560-04",null,null,{"$f":"IFERROR(VLOOKUP(ROWS($J$2:J853),$A$2:$B$996,2,FALSE),\"\")","v":""}]
[{"$f":"IF(ISNUMBER(SEARCH(Cover!$H$13,Table1[[#This Row],[School District]])),MAX($A$1:A853)+1,0)","v":0},"St Anne CHSD 302",32046302016,16,{"$f":"IF(OR(Table1[[#This Row],[Type]]=0,Table1[[#This Row],[Type]]>=40),\"JA\",\"SD\")","v":"SD"},"Kankakee","32-046-3020-16",null,null,{"$f":"IFERROR(VLOOKUP(ROWS($J$2:J854),$A$2:$B$996,2,FALSE),\"\")","v":""}]
[{"$f":"IF(ISNUMBER(SEARCH(Cover!$H$13,Table1[[#This Row],[School District]])),MAX($A$1:A854)+1,0)","v":0},"St Charles CUSD 303",31045303026,26,{"$f":"IF(OR(Table1[[#This Row],[Type]]=0,Table1[[#This Row],[Type]]>=40),\"JA\",\"SD\")","v":"SD"},"Kane","31-045-3030-26",null,null,{"$f":"IFERROR(VLOOKUP(ROWS($J$2:J855),$A$2:$B$996,2,FALSE),\"\")","v":""}]
[{"$f":"IF(ISNUMBER(SEARCH(Cover!$H$13,Table1[[#This Row],[School District]])),MAX($A$1:A855)+1,0)","v":0},"St Elmo CUSD 202",3026202026,26,{"$f":"IF(OR(Table1[[#This Row],[Type]]=0,Table1[[#This Row],[Type]]>=40),\"JA\",\"SD\")","v":"SD"},"Fayette","03-026-2020-26",null,null,{"$f":"IFERROR(VLOOKUP(ROWS($J$2:J856),$A$2:$B$996,2,FALSE),\"\")","v":""}]
[{"$f":"IF(ISNUMBER(SEARCH(Cover!$H$13,Table1[[#This Row],[School District]])),MAX($A$1:A856)+1,0)","v":0},"St George CCSD 258",32046258004,4,{"$f":"IF(OR(Table1[[#This Row],[Type]]=0,Table1[[#This Row],[Type]]>=40),\"JA\",\"SD\")","v":"SD"},"Kankakee","32-046-2580-04",null,null,{"$f":"IFERROR(VLOOKUP(ROWS($J$2:J857),$A$2:$B$996,2,FALSE),\"\")","v":""}]
[{"$f":"IF(ISNUMBER(SEARCH(Cover!$H$13,Table1[[#This Row],[School District]])),MAX($A$1:A857)+1,0)","v":0},"St Joseph CCSD 169",9010169004,4,{"$f":"IF(OR(Table1[[#This Row],[Type]]=0,Table1[[#This Row],[Type]]>=40),\"JA\",\"SD\")","v":"SD"},"Champaign","09-010-1690-04",null,null,{"$f":"IFERROR(VLOOKUP(ROWS($J$2:J858),$A$2:$B$996,2,FALSE),\"\")","v":""}]
[{"$f":"IF(ISNUMBER(SEARCH(Cover!$H$13,Table1[[#This Row],[School District]])),MAX($A$1:A858)+1,0)","v":0},"St Joseph Ogden CHSD 305",9010305016,16,{"$f":"IF(OR(Table1[[#This Row],[Type]]=0,Table1[[#This Row],[Type]]>=40),\"JA\",\"SD\")","v":"SD"},"Champaign/Vermilion","09-010-3050-16",null,null,{"$f":"IFERROR(VLOOKUP(ROWS($J$2:J859),$A$2:$B$996,2,FALSE),\"\")","v":""}]
[{"$f":"IF(ISNUMBER(SEARCH(Cover!$H$13,Table1[[#This Row],[School District]])),MAX($A$1:A859)+1,0)","v":0},"St Libory Cons SD 30",50082030003,3,{"$f":"IF(OR(Table1[[#This Row],[Type]]=0,Table1[[#This Row],[Type]]>=40),\"JA\",\"SD\")","v":"SD"},"St. Clair","50-082-0300-03",null,null,{"$f":"IFERROR(VLOOKUP(ROWS($J$2:J860),$A$2:$B$996,2,FALSE),\"\")","v":""}]
[{"$f":"IF(ISNUMBER(SEARCH(Cover!$H$13,Table1[[#This Row],[School District]])),MAX($A$1:A860)+1,0)","v":0},"St Rose SD 14-15",13014141502,2,{"$f":"IF(OR(Table1[[#This Row],[Type]]=0,Table1[[#This Row],[Type]]>=40),\"JA\",\"SD\")","v":"SD"},"Clinton","13-014-1415-02",null,null,{"$f":"IFERROR(VLOOKUP(ROWS($J$2:J861),$A$2:$B$996,2,FALSE),\"\")","v":""}]
[{"$f":"IF(ISNUMBER(SEARCH(Cover!$H$13,Table1[[#This Row],[School District]])),MAX($A$1:A861)+1,0)","v":0},"Stark County CUSD 100",28088100026,26,{"$f":"IF(OR(Table1[[#This Row],[Type]]=0,Table1[[#This Row],[Type]]>=40),\"JA\",\"SD\")","v":"SD"},"Stark/Knox/Marshall/Henry/Peoria","28-088-1000-26",null,null,{"$f":"IFERROR(VLOOKUP(ROWS($J$2:J862),$A$2:$B$996,2,FALSE),\"\")","v":""}]
[{"$f":"IF(ISNUMBER(SEARCH(Cover!$H$13,Table1[[#This Row],[School District]])),MAX($A$1:A862)+1,0)","v":0},"Starved Rock for Voc Tech Ed",35050720045,45,{"$f":"IF(OR(Table1[[#This Row],[Type]]=0,Table1[[#This Row],[Type]]>=40),\"JA\",\"SD\")","v":"JA"},"LaSalle","35-050-7200-45",null,null,{"$f":"IFERROR(VLOOKUP(ROWS($J$2:J863),$A$2:$B$996,2,FALSE),\"\")","v":""}]
[{"$f":"IF(ISNUMBER(SEARCH(Cover!$H$13,Table1[[#This Row],[School District]])),MAX($A$1:A863)+1,0)","v":0},"Staunton CUSD 6",40056006026,26,{"$f":"IF(OR(Table1[[#This Row],[Type]]=0,Table1[[#This Row],[Type]]>=40),\"JA\",\"SD\")","v":"SD"},"Madison/Macoupin","40-056-0060-26",null,null,{"$f":"IFERROR(VLOOKUP(ROWS($J$2:J864),$A$2:$B$996,2,FALSE),\"\")","v":""}]
[{"$f":"IF(ISNUMBER(SEARCH(Cover!$H$13,Table1[[#This Row],[School District]])),MAX($A$1:A864)+1,0)","v":0},"Steeleville CUSD 138",45079138026,26,{"$f":"IF(OR(Table1[[#This Row],[Type]]=0,Table1[[#This Row],[Type]]>=40),\"JA\",\"SD\")","v":"SD"},"Randolph","45-079-1380-26",null,null,{"$f":"IFERROR(VLOOKUP(ROWS($J$2:J865),$A$2:$B$996,2,FALSE),\"\")","v":""}]
[{"$f":"IF(ISNUMBER(SEARCH(Cover!$H$13,Table1[[#This Row],[School District]])),MAX($A$1:A865)+1,0)","v":0},"Steger SD 194",7016194002,2,{"$f":"IF(OR(Table1[[#This Row],[Type]]=0,Table1[[#This Row],[Type]]>=40),\"JA\",\"SD\")","v":"SD"},"Cook/Will","07-016-1940-02",null,null,{"$f":"IFERROR(VLOOKUP(ROWS($J$2:J866),$A$2:$B$996,2,FALSE),\"\")","v":""}]
[{"$f":"IF(ISNUMBER(SEARCH(Cover!$H$13,Table1[[#This Row],[School District]])),MAX($A$1:A866)+1,0)","v":0},"Sterling CUSD 5",47098005026,26,{"$f":"IF(OR(Table1[[#This Row],[Type]]=0,Table1[[#This Row],[Type]]>=40),\"JA\",\"SD\")","v":"SD"},"Whiteside","47-098-0050-26",null,null,{"$f":"IFERROR(VLOOKUP(ROWS($J$2:J867),$A$2:$B$996,2,FALSE),\"\")","v":""}]
[{"$f":"IF(ISNUMBER(SEARCH(Cover!$H$13,Table1[[#This Row],[School District]])),MAX($A$1:A867)+1,0)","v":0},"Steward ESD 220",47052220002,2,{"$f":"IF(OR(Table1[[#This Row],[Type]]=0,Table1[[#This Row],[Type]]>=40),\"JA\",\"SD\")","v":"SD"},"Lee/DeKalb","47-052-2200-02",null,null,{"$f":"IFERROR(VLOOKUP(ROWS($J$2:J868),$A$2:$B$996,2,FALSE),\"\")","v":""}]
[{"$f":"IF(ISNUMBER(SEARCH(Cover!$H$13,Table1[[#This Row],[School District]])),MAX($A$1:A868)+1,0)","v":0},"Stewardson-Strasburg CUD 5A","11087005A26",26,{"$f":"IF(OR(Table1[[#This Row],[Type]]=0,Table1[[#This Row],[Type]]>=40),\"JA\",\"SD\")","v":"SD"},"Shelby","11-087-005A-26",null,null,{"$f":"IFERROR(VLOOKUP(ROWS($J$2:J869),$A$2:$B$996,2,FALSE),\"\")","v":""}]
[{"$f":"IF(ISNUMBER(SEARCH(Cover!$H$13,Table1[[#This Row],[School District]])),MAX($A$1:A869)+1,0)","v":0},"Stockton CUSD 206",8043206026,26,{"$f":"IF(OR(Table1[[#This Row],[Type]]=0,Table1[[#This Row],[Type]]>=40),\"JA\",\"SD\")","v":"SD"},"Jo Daviess","08-043-2060-26",null,null,{"$f":"IFERROR(VLOOKUP(ROWS($J$2:J870),$A$2:$B$996,2,FALSE),\"\")","v":""}]
[{"$f":"IF(ISNUMBER(SEARCH(Cover!$H$13,Table1[[#This Row],[School District]])),MAX($A$1:A870)+1,0)","v":0},"Streator ESD 44",35050044002,2,{"$f":"IF(OR(Table1[[#This Row],[Type]]=0,Table1[[#This Row],[Type]]>=40),\"JA\",\"SD\")","v":"SD"},"LaSalle","35-050-0440-02",null,null,{"$f":"IFERROR(VLOOKUP(ROWS($J$2:J871),$A$2:$B$996,2,FALSE),\"\")","v":""}]
[{"$f":"IF(ISNUMBER(SEARCH(Cover!$H$13,Table1[[#This Row],[School District]])),MAX($A$1:A871)+1,0)","v":0},"Streator Twp HSD 40",35050040017,17,{"$f":"IF(OR(Table1[[#This Row],[Type]]=0,Table1[[#This Row],[Type]]>=40),\"JA\",\"SD\")","v":"SD"},"LaSalle/Livingston","35-050-0400-17",null,null,{"$f":"IFERROR(VLOOKUP(ROWS($J$2:J872),$A$2:$B$996,2,FALSE),\"\")","v":""}]
[{"$f":"IF(ISNUMBER(SEARCH(Cover!$H$13,Table1[[#This Row],[School District]])),MAX($A$1:A872)+1,0)","v":0},"Sullivan CUSD 300",11070300026,26,{"$f":"IF(OR(Table1[[#This Row],[Type]]=0,Table1[[#This Row],[Type]]>=40),\"JA\",\"SD\")","v":"SD"},"Moultrie/Coles/Shelby","11-070-3000-26",null,null,{"$f":"IFERROR(VLOOKUP(ROWS($J$2:J873),$A$2:$B$996,2,FALSE),\"\")","v":""}]
[{"$f":"IF(ISNUMBER(SEARCH(Cover!$H$13,Table1[[#This Row],[School District]])),MAX($A$1:A873)+1,0)","v":0},"Summersville SD 79",13041079002,2,{"$f":"IF(OR(Table1[[#This Row],[Type]]=0,Table1[[#This Row],[Type]]>=40),\"JA\",\"SD\")","v":"SD"},"Jefferson","13-041-0790-02",null,null,{"$f":"IFERROR(VLOOKUP(ROWS($J$2:J874),$A$2:$B$996,2,FALSE),\"\")","v":""}]
[{"$f":"IF(ISNUMBER(SEARCH(Cover!$H$13,Table1[[#This Row],[School District]])),MAX($A$1:A874)+1,0)","v":0},"Summit Hill SD 161",56099161002,2,{"$f":"IF(OR(Table1[[#This Row],[Type]]=0,Table1[[#This Row],[Type]]>=40),\"JA\",\"SD\")","v":"SD"},"Will","56-099-1610-02",null,null,{"$f":"IFERROR(VLOOKUP(ROWS($J$2:J875),$A$2:$B$996,2,FALSE),\"\")","v":""}]
[{"$f":"IF(ISNUMBER(SEARCH(Cover!$H$13,Table1[[#This Row],[School District]])),MAX($A$1:A875)+1,0)","v":0},"Summit SD 104",7016104002,2,{"$f":"IF(OR(Table1[[#This Row],[Type]]=0,Table1[[#This Row],[Type]]>=40),\"JA\",\"SD\")","v":"SD"},"Cook","07-016-1040-02",null,null,{"$f":"IFERROR(VLOOKUP(ROWS($J$2:J876),$A$2:$B$996,2,FALSE),\"\")","v":""}]
[{"$f":"IF(ISNUMBER(SEARCH(Cover!$H$13,Table1[[#This Row],[School District]])),MAX($A$1:A876)+1,0)","v":0},"Sunnybrook SD 171",7016171002,2,{"$f":"IF(OR(Table1[[#This Row],[Type]]=0,Table1[[#This Row],[Type]]>=40),\"JA\",\"SD\")","v":"SD"},"Cook","07-016-1710-02",null,null,{"$f":"IFERROR(VLOOKUP(ROWS($J$2:J877),$A$2:$B$996,2,FALSE),\"\")","v":""}]
[{"$f":"IF(ISNUMBER(SEARCH(Cover!$H$13,Table1[[#This Row],[School District]])),MAX($A$1:A877)+1,0)","v":0},"Sunset Ridge SD 29",5016029002,2,{"$f":"IF(OR(Table1[[#This Row],[Type]]=0,Table1[[#This Row],[Type]]>=40),\"JA\",\"SD\")","v":"SD"},"Cook","05-016-0290-02",null,null,{"$f":"IFERROR(VLOOKUP(ROWS($J$2:J878),$A$2:$B$996,2,FALSE),\"\")","v":""}]
[{"$f":"IF(ISNUMBER(SEARCH(Cover!$H$13,Table1[[#This Row],[School District]])),MAX($A$1:A878)+1,0)","v":0},"Sycamore CUSD 427",16019427026,26,{"$f":"IF(OR(Table1[[#This Row],[Type]]=0,Table1[[#This Row],[Type]]>=40),\"JA\",\"SD\")","v":"SD"},"DeKalb/Kane","16-019-4270-26",null,null,{"$f":"IFERROR(VLOOKUP(ROWS($J$2:J879),$A$2:$B$996,2,FALSE),\"\")","v":""}]
[{"$f":"IF(ISNUMBER(SEARCH(Cover!$H$13,Table1[[#This Row],[School District]])),MAX($A$1:A879)+1,0)","v":0},"Taft SD 90",56099090002,2,{"$f":"IF(OR(Table1[[#This Row],[Type]]=0,Table1[[#This Row],[Type]]>=40),\"JA\",\"SD\")","v":"SD"},"Will","56-099-0900-02",null,null,{"$f":"IFERROR(VLOOKUP(ROWS($J$2:J880),$A$2:$B$996,2,FALSE),\"\")","v":""}]
[{"$f":"IF(ISNUMBER(SEARCH(Cover!$H$13,Table1[[#This Row],[School District]])),MAX($A$1:A880)+1,0)","v":0},"Tamaroa School Dist 5",30073005002,2,{"$f":"IF(OR(Table1[[#This Row],[Type]]=0,Table1[[#This Row],[Type]]>=40),\"JA\",\"SD\")","v":"SD"},"Perry","30-073-0050-02",null,null,{"$f":"IFERROR(VLOOKUP(ROWS($J$2:J881),$A$2:$B$996,2,FALSE),\"\")","v":""}]
[{"$f":"IF(ISNUMBER(SEARCH(Cover!$H$13,Table1[[#This Row],[School District]])),MAX($A$1:A881)+1,0)","v":0},"Taylorville CUSD 3",3011003026,26,{"$f":"IF(OR(Table1[[#This Row],[Type]]=0,Table1[[#This Row],[Type]]>=40),\"JA\",\"SD\")","v":"SD"},"Christian","03-011-0030-26",null,null,{"$f":"IFERROR(VLOOKUP(ROWS($J$2:J882),$A$2:$B$996,2,FALSE),\"\")","v":""}]
[{"$f":"IF(ISNUMBER(SEARCH(Cover!$H$13,Table1[[#This Row],[School District]])),MAX($A$1:A882)+1,0)","v":0},"Tazewell Cty Area EFE RDS",53000000046,46,{"$f":"IF(OR(Table1[[#This Row],[Type]]=0,Table1[[#This Row],[Type]]>=40),\"JA\",\"SD\")","v":"JA"},"Tazewell","53-000-0000-46",null,null,{"$f":"IFERROR(VLOOKUP(ROWS($J$2:J883),$A$2:$B$996,2,FALSE),\"\")","v":""}]
[{"$f":"IF(ISNUMBER(SEARCH(Cover!$H$13,Table1[[#This Row],[School District]])),MAX($A$1:A883)+1,0)","v":0},"Tazewell-Mason Ctys Spec Ed Assoc",53090309061,61,{"$f":"IF(OR(Table1[[#This Row],[Type]]=0,Table1[[#This Row],[Type]]>=40),\"JA\",\"SD\")","v":"JA"},"Tazewell","53-090-3090-61",null,null,{"$f":"IFERROR(VLOOKUP(ROWS($J$2:J884),$A$2:$B$996,2,FALSE),\"\")","v":""}]
[{"$f":"IF(ISNUMBER(SEARCH(Cover!$H$13,Table1[[#This Row],[School District]])),MAX($A$1:A884)+1,0)","v":0},"Teutopolis CUSD 50",3025050026,26,{"$f":"IF(OR(Table1[[#This Row],[Type]]=0,Table1[[#This Row],[Type]]>=40),\"JA\",\"SD\")","v":"SD"},"Effingham/Shelby/Cumberland","03-025-0500-26",null,null,{"$f":"IFERROR(VLOOKUP(ROWS($J$2:J885),$A$2:$B$996,2,FALSE),\"\")","v":""}]
[{"$f":"IF(ISNUMBER(SEARCH(Cover!$H$13,Table1[[#This Row],[School District]])),MAX($A$1:A885)+1,0)","v":0},"Thomasboro CCSD 130",9010130004,4,{"$f":"IF(OR(Table1[[#This Row],[Type]]=0,Table1[[#This Row],[Type]]>=40),\"JA\",\"SD\")","v":"SD"},"Champaign","09-010-1300-04",null,null,{"$f":"IFERROR(VLOOKUP(ROWS($J$2:J886),$A$2:$B$996,2,FALSE),\"\")","v":""}]
[{"$f":"IF(ISNUMBER(SEARCH(Cover!$H$13,Table1[[#This Row],[School District]])),MAX($A$1:A886)+1,0)","v":0},"Thompsonville CUSD 174",21028174026,26,{"$f":"IF(OR(Table1[[#This Row],[Type]]=0,Table1[[#This Row],[Type]]>=40),\"JA\",\"SD\")","v":"SD"},"Franklin/Hamilton/Williamson","21-028-1740-26",null,null,{"$f":"IFERROR(VLOOKUP(ROWS($J$2:J887),$A$2:$B$996,2,FALSE),\"\")","v":""}]
[{"$f":"IF(ISNUMBER(SEARCH(Cover!$H$13,Table1[[#This Row],[School District]])),MAX($A$1:A887)+1,0)","v":0},"Thornton Fractional Twp HSD 215",7016215017,17,{"$f":"IF(OR(Table1[[#This Row],[Type]]=0,Table1[[#This Row],[Type]]>=40),\"JA\",\"SD\")","v":"SD"},"Cook","07-016-2150-17",null,null,{"$f":"IFERROR(VLOOKUP(ROWS($J$2:J888),$A$2:$B$996,2,FALSE),\"\")","v":""}]
[{"$f":"IF(ISNUMBER(SEARCH(Cover!$H$13,Table1[[#This Row],[School District]])),MAX($A$1:A888)+1,0)","v":0},"Thornton SD 154",7016154002,2,{"$f":"IF(OR(Table1[[#This Row],[Type]]=0,Table1[[#This Row],[Type]]>=40),\"JA\",\"SD\")","v":"SD"},"Cook","07-016-1540-02",null,null,{"$f":"IFERROR(VLOOKUP(ROWS($J$2:J889),$A$2:$B$996,2,FALSE),\"\")","v":""}]
[{"$f":"IF(ISNUMBER(SEARCH(Cover!$H$13,Table1[[#This Row],[School District]])),MAX($A$1:A889)+1,0)","v":0},"Thornton Twp HSD 205",7016205017,17,{"$f":"IF(OR(Table1[[#This Row],[Type]]=0,Table1[[#This Row],[Type]]>=40),\"JA\",\"SD\")","v":"SD"},"Cook","07-016-2050-17",null,null,{"$f":"IFERROR(VLOOKUP(ROWS($J$2:J890),$A$2:$B$996,2,FALSE),\"\")","v":""}]
[{"$f":"IF(ISNUMBER(SEARCH(Cover!$H$13,Table1[[#This Row],[School District]])),MAX($A$1:A890)+1,0)","v":0},"Three Rivers EFE System",56099711045,45,{"$f":"IF(OR(Table1[[#This Row],[Type]]=0,Table1[[#This Row],[Type]]>=40),\"JA\",\"SD\")","v":"JA"},"Will","56-099-7110-45",null,null,{"$f":"IFERROR(VLOOKUP(ROWS($J$2:J891),$A$2:$B$996,2,FALSE),\"\")","v":""}]
[{"$f":"IF(ISNUMBER(SEARCH(Cover!$H$13,Table1[[#This Row],[School District]])),MAX($A$1:A891)+1,0)","v":0},"Tolono CUSD 7",9010007026,26,{"$f":"IF(OR(Table1[[#This Row],[Type]]=0,Table1[[#This Row],[Type]]>=40),\"JA\",\"SD\")","v":"SD"},"Champaign","09-010-0070-26",null,null,{"$f":"IFERROR(VLOOKUP(ROWS($J$2:J892),$A$2:$B$996,2,FALSE),\"\")","v":""}]
[{"$f":"IF(ISNUMBER(SEARCH(Cover!$H$13,Table1[[#This Row],[School District]])),MAX($A$1:A892)+1,0)","v":0},"Tonica CCSD 79",35050079004,4,{"$f":"IF(OR(Table1[[#This Row],[Type]]=0,Table1[[#This Row],[Type]]>=40),\"JA\",\"SD\")","v":"SD"},"LaSalle","35-050-0790-04",null,null,{"$f":"IFERROR(VLOOKUP(ROWS($J$2:J893),$A$2:$B$996,2,FALSE),\"\")","v":""}]
[{"$f":"IF(ISNUMBER(SEARCH(Cover!$H$13,Table1[[#This Row],[School District]])),MAX($A$1:A893)+1,0)","v":0},"Township HSD 211",5016211017,17,{"$f":"IF(OR(Table1[[#This Row],[Type]]=0,Table1[[#This Row],[Type]]>=40),\"JA\",\"SD\")","v":"SD"},"Cook","05-016-2110-17",null,null,{"$f":"IFERROR(VLOOKUP(ROWS($J$2:J894),$A$2:$B$996,2,FALSE),\"\")","v":""}]
[{"$f":"IF(ISNUMBER(SEARCH(Cover!$H$13,Table1[[#This Row],[School District]])),MAX($A$1:A894)+1,0)","v":0},"Township HSD 214",5016214017,17,{"$f":"IF(OR(Table1[[#This Row],[Type]]=0,Table1[[#This Row],[Type]]>=40),\"JA\",\"SD\")","v":"SD"},"Cook","05-016-2140-17",null,null,{"$f":"IFERROR(VLOOKUP(ROWS($J$2:J895),$A$2:$B$996,2,FALSE),\"\")","v":""}]
[{"$f":"IF(ISNUMBER(SEARCH(Cover!$H$13,Table1[[#This Row],[School District]])),MAX($A$1:A895)+1,0)","v":0},"Tremont CUSD 702",53090702026,26,{"$f":"IF(OR(Table1[[#This Row],[Type]]=0,Table1[[#This Row],[Type]]>=40),\"JA\",\"SD\")","v":"SD"},"Tazewell","53-090-7020-26",null,null,{"$f":"IFERROR(VLOOKUP(ROWS($J$2:J896),$A$2:$B$996,2,FALSE),\"\")","v":""}]
[{"$f":"IF(ISNUMBER(SEARCH(Cover!$H$13,Table1[[#This Row],[School District]])),MAX($A$1:A896)+1,0)","v":0},"Tri City CUSD 1",51084001026,26,{"$f":"IF(OR(Table1[[#This Row],[Type]]=0,Table1[[#This Row],[Type]]>=40),\"JA\",\"SD\")","v":"SD"},"Sangamon","51-084-0010-26",null,null,{"$f":"IFERROR(VLOOKUP(ROWS($J$2:J897),$A$2:$B$996,2,FALSE),\"\")","v":""}]
[{"$f":"IF(ISNUMBER(SEARCH(Cover!$H$13,Table1[[#This Row],[School District]])),MAX($A$1:A897)+1,0)","v":0},"Tri Point CUSD 6-J","17053006J26",26,{"$f":"IF(OR(Table1[[#This Row],[Type]]=0,Table1[[#This Row],[Type]]>=40),\"JA\",\"SD\")","v":"SD"},"Ford/Iroquois/Livingston/Kankakee","17-053-006J-26",null,null,{"$f":"IFERROR(VLOOKUP(ROWS($J$2:J898),$A$2:$B$996,2,FALSE),\"\")","v":""}]
[{"$f":"IF(ISNUMBER(SEARCH(Cover!$H$13,Table1[[#This Row],[School District]])),MAX($A$1:A898)+1,0)","v":0},"Tri Valley CUSD 3",17064003026,26,{"$f":"IF(OR(Table1[[#This Row],[Type]]=0,Table1[[#This Row],[Type]]>=40),\"JA\",\"SD\")","v":"SD"},"McLean","17-064-0030-26",null,null,{"$f":"IFERROR(VLOOKUP(ROWS($J$2:J899),$A$2:$B$996,2,FALSE),\"\")","v":""}]
[{"$f":"IF(ISNUMBER(SEARCH(Cover!$H$13,Table1[[#This Row],[School District]])),MAX($A$1:A899)+1,0)","v":0},"Triad CUSD 2",41057002026,26,{"$f":"IF(OR(Table1[[#This Row],[Type]]=0,Table1[[#This Row],[Type]]>=40),\"JA\",\"SD\")","v":"SD"},"Madison","41-057-0020-26",null,null,{"$f":"IFERROR(VLOOKUP(ROWS($J$2:J900),$A$2:$B$996,2,FALSE),\"\")","v":""}]
[{"$f":"IF(ISNUMBER(SEARCH(Cover!$H$13,Table1[[#This Row],[School District]])),MAX($A$1:A900)+1,0)","v":0},"Trico CUSD 176",30039176026,26,{"$f":"IF(OR(Table1[[#This Row],[Type]]=0,Table1[[#This Row],[Type]]>=40),\"JA\",\"SD\")","v":"SD"},"Jackson","30-039-1760-26",null,null,{"$f":"IFERROR(VLOOKUP(ROWS($J$2:J901),$A$2:$B$996,2,FALSE),\"\")","v":""}]
[{"$f":"IF(ISNUMBER(SEARCH(Cover!$H$13,Table1[[#This Row],[School District]])),MAX($A$1:A901)+1,0)","v":0},"Tri-Cty Spec Ed Assoc",17064007061,61,{"$f":"IF(OR(Table1[[#This Row],[Type]]=0,Table1[[#This Row],[Type]]>=40),\"JA\",\"SD\")","v":"JA"},"McLean","17-064-0070-61",null,null,{"$f":"IFERROR(VLOOKUP(ROWS($J$2:J902),$A$2:$B$996,2,FALSE),\"\")","v":""}]
[{"$f":"IF(ISNUMBER(SEARCH(Cover!$H$13,Table1[[#This Row],[School District]])),MAX($A$1:A902)+1,0)","v":0},"Tri-Cty Spec Ed Joint Agreement",30039186061,61,{"$f":"IF(OR(Table1[[#This Row],[Type]]=0,Table1[[#This Row],[Type]]>=40),\"JA\",\"SD\")","v":"JA"},"Jackson/Perry/Union","30-039-1860-61",null,null,{"$f":"IFERROR(VLOOKUP(ROWS($J$2:J903),$A$2:$B$996,2,FALSE),\"\")","v":""}]
[{"$f":"IF(ISNUMBER(SEARCH(Cover!$H$13,Table1[[#This Row],[School District]])),MAX($A$1:A903)+1,0)","v":0},"Triopia CUSD 27",1069027026,26,{"$f":"IF(OR(Table1[[#This Row],[Type]]=0,Table1[[#This Row],[Type]]>=40),\"JA\",\"SD\")","v":"SD"},"Morgan/Cass/Scott","01-069-0270-26",null,null,{"$f":"IFERROR(VLOOKUP(ROWS($J$2:J904),$A$2:$B$996,2,FALSE),\"\")","v":""}]
[{"$f":"IF(ISNUMBER(SEARCH(Cover!$H$13,Table1[[#This Row],[School District]])),MAX($A$1:A904)+1,0)","v":0},"Troy CCSD 30C","56099030C04",4,{"$f":"IF(OR(Table1[[#This Row],[Type]]=0,Table1[[#This Row],[Type]]>=40),\"JA\",\"SD\")","v":"SD"},"Will","56-099-030C-04",null,null,{"$f":"IFERROR(VLOOKUP(ROWS($J$2:J905),$A$2:$B$996,2,FALSE),\"\")","v":""}]
[{"$f":"IF(ISNUMBER(SEARCH(Cover!$H$13,Table1[[#This Row],[School District]])),MAX($A$1:A905)+1,0)","v":0},"Tuscola CUSD 301",11021301026,26,{"$f":"IF(OR(Table1[[#This Row],[Type]]=0,Table1[[#This Row],[Type]]>=40),\"JA\",\"SD\")","v":"SD"},"Douglas/Champaign","11-021-3010-26",null,null,{"$f":"IFERROR(VLOOKUP(ROWS($J$2:J906),$A$2:$B$996,2,FALSE),\"\")","v":""}]
[{"$f":"IF(ISNUMBER(SEARCH(Cover!$H$13,Table1[[#This Row],[School District]])),MAX($A$1:A906)+1,0)","v":0},"Twin Rivers CTE System",12000000046,46,{"$f":"IF(OR(Table1[[#This Row],[Type]]=0,Table1[[#This Row],[Type]]>=40),\"JA\",\"SD\")","v":"JA"},"Crawford","12-000-0000-46",null,null,{"$f":"IFERROR(VLOOKUP(ROWS($J$2:J907),$A$2:$B$996,2,FALSE),\"\")","v":""}]
[{"$f":"IF(ISNUMBER(SEARCH(Cover!$H$13,Table1[[#This Row],[School District]])),MAX($A$1:A907)+1,0)","v":0},"Two Rivers Career Ed System",1009700045,45,{"$f":"IF(OR(Table1[[#This Row],[Type]]=0,Table1[[#This Row],[Type]]>=40),\"JA\",\"SD\")","v":"JA"},"Brown Scott Morgan Cass","01-009-7000-45",null,null,{"$f":"IFERROR(VLOOKUP(ROWS($J$2:J908),$A$2:$B$996,2,FALSE),\"\")","v":""}]
[{"$f":"IF(ISNUMBER(SEARCH(Cover!$H$13,Table1[[#This Row],[School District]])),MAX($A$1:A908)+1,0)","v":0},"Twp HSD 113",34049113017,17,{"$f":"IF(OR(Table1[[#This Row],[Type]]=0,Table1[[#This Row],[Type]]>=40),\"JA\",\"SD\")","v":"SD"},"Lake","34-049-1130-17",null,null,{"$f":"IFERROR(VLOOKUP(ROWS($J$2:J909),$A$2:$B$996,2,FALSE),\"\")","v":""}]
[{"$f":"IF(ISNUMBER(SEARCH(Cover!$H$13,Table1[[#This Row],[School District]])),MAX($A$1:A909)+1,0)","v":0},"Union Ridge SD 86",6016086002,2,{"$f":"IF(OR(Table1[[#This Row],[Type]]=0,Table1[[#This Row],[Type]]>=40),\"JA\",\"SD\")","v":"SD"},"Cook","06-016-0860-02",null,null,{"$f":"IFERROR(VLOOKUP(ROWS($J$2:J910),$A$2:$B$996,2,FALSE),\"\")","v":""}]
[{"$f":"IF(ISNUMBER(SEARCH(Cover!$H$13,Table1[[#This Row],[School District]])),MAX($A$1:A910)+1,0)","v":0},"Union SD 81",56099081002,2,{"$f":"IF(OR(Table1[[#This Row],[Type]]=0,Table1[[#This Row],[Type]]>=40),\"JA\",\"SD\")","v":"SD"},"Will","56-099-0810-02",null,null,{"$f":"IFERROR(VLOOKUP(ROWS($J$2:J911),$A$2:$B$996,2,FALSE),\"\")","v":""}]
[{"$f":"IF(ISNUMBER(SEARCH(Cover!$H$13,Table1[[#This Row],[School District]])),MAX($A$1:A911)+1,0)","v":0},"United CUSD 304",33094304026,26,{"$f":"IF(OR(Table1[[#This Row],[Type]]=0,Table1[[#This Row],[Type]]>=40),\"JA\",\"SD\")","v":"SD"},"Warren","33-094-3040-26",null,null,{"$f":"IFERROR(VLOOKUP(ROWS($J$2:J912),$A$2:$B$996,2,FALSE),\"\")","v":""}]
[{"$f":"IF(ISNUMBER(SEARCH(Cover!$H$13,Table1[[#This Row],[School District]])),MAX($A$1:A912)+1,0)","v":0},"United Twp Area Career Ctr",49081030041,41,{"$f":"IF(OR(Table1[[#This Row],[Type]]=0,Table1[[#This Row],[Type]]>=40),\"JA\",\"SD\")","v":"JA"},"Rock Island","49-081-0300-41",null,null,{"$f":"IFERROR(VLOOKUP(ROWS($J$2:J913),$A$2:$B$996,2,FALSE),\"\")","v":""}]
[{"$f":"IF(ISNUMBER(SEARCH(Cover!$H$13,Table1[[#This Row],[School District]])),MAX($A$1:A913)+1,0)","v":0},"United Twp HSD 30",49081030017,17,{"$f":"IF(OR(Table1[[#This Row],[Type]]=0,Table1[[#This Row],[Type]]>=40),\"JA\",\"SD\")","v":"SD"},"Rock Island/Henry","49-081-0300-17",null,null,{"$f":"IFERROR(VLOOKUP(ROWS($J$2:J914),$A$2:$B$996,2,FALSE),\"\")","v":""}]
[{"$f":"IF(ISNUMBER(SEARCH(Cover!$H$13,Table1[[#This Row],[School District]])),MAX($A$1:A914)+1,0)","v":0},"Unity Point CCSD 140",30039140004,4,{"$f":"IF(OR(Table1[[#This Row],[Type]]=0,Table1[[#This Row],[Type]]>=40),\"JA\",\"SD\")","v":"SD"},"Jackson","30-039-1400-04",null,null,{"$f":"IFERROR(VLOOKUP(ROWS($J$2:J915),$A$2:$B$996,2,FALSE),\"\")","v":""}]
[{"$f":"IF(ISNUMBER(SEARCH(Cover!$H$13,Table1[[#This Row],[School District]])),MAX($A$1:A915)+1,0)","v":0},"Urbana SD 116",9010116022,22,{"$f":"IF(OR(Table1[[#This Row],[Type]]=0,Table1[[#This Row],[Type]]>=40),\"JA\",\"SD\")","v":"SD"},"Champaign","09-010-1160-22",null,null,{"$f":"IFERROR(VLOOKUP(ROWS($J$2:J916),$A$2:$B$996,2,FALSE),\"\")","v":""}]
[{"$f":"IF(ISNUMBER(SEARCH(Cover!$H$13,Table1[[#This Row],[School District]])),MAX($A$1:A916)+1,0)","v":0},"V I T CUSD 2",26029002026,26,{"$f":"IF(OR(Table1[[#This Row],[Type]]=0,Table1[[#This Row],[Type]]>=40),\"JA\",\"SD\")","v":"SD"},"Fulton","26-029-0020-26",null,null,{"$f":"IFERROR(VLOOKUP(ROWS($J$2:J917),$A$2:$B$996,2,FALSE),\"\")","v":""}]
[{"$f":"IF(ISNUMBER(SEARCH(Cover!$H$13,Table1[[#This Row],[School District]])),MAX($A$1:A917)+1,0)","v":0},"Valley EFE System (VALEES)",31000000046,46,{"$f":"IF(OR(Table1[[#This Row],[Type]]=0,Table1[[#This Row],[Type]]>=40),\"JA\",\"SD\")","v":"JA"},"Kane","31-000-0000-46",null,null,{"$f":"IFERROR(VLOOKUP(ROWS($J$2:J918),$A$2:$B$996,2,FALSE),\"\")","v":""}]
[{"$f":"IF(ISNUMBER(SEARCH(Cover!$H$13,Table1[[#This Row],[School District]])),MAX($A$1:A918)+1,0)","v":0},"Valley View CUSD 365U","56099365U26",26,{"$f":"IF(OR(Table1[[#This Row],[Type]]=0,Table1[[#This Row],[Type]]>=40),\"JA\",\"SD\")","v":"SD"},"Will","56-099-365U-26",null,null,{"$f":"IFERROR(VLOOKUP(ROWS($J$2:J919),$A$2:$B$996,2,FALSE),\"\")","v":""}]
[{"$f":"IF(ISNUMBER(SEARCH(Cover!$H$13,Table1[[#This Row],[School District]])),MAX($A$1:A919)+1,0)","v":0},"Valmeyer CUSD 3",45067003026,26,{"$f":"IF(OR(Table1[[#This Row],[Type]]=0,Table1[[#This Row],[Type]]>=40),\"JA\",\"SD\")","v":"SD"},"Monroe","45-067-0030-26",null,null,{"$f":"IFERROR(VLOOKUP(ROWS($J$2:J920),$A$2:$B$996,2,FALSE),\"\")","v":""}]
[{"$f":"IF(ISNUMBER(SEARCH(Cover!$H$13,Table1[[#This Row],[School District]])),MAX($A$1:A920)+1,0)","v":0},"Vandalia CUSD 203",3026203026,26,{"$f":"IF(OR(Table1[[#This Row],[Type]]=0,Table1[[#This Row],[Type]]>=40),\"JA\",\"SD\")","v":"SD"},"Fayette/Montgomery","03-026-2030-26",null,null,{"$f":"IFERROR(VLOOKUP(ROWS($J$2:J921),$A$2:$B$996,2,FALSE),\"\")","v":""}]
[{"$f":"IF(ISNUMBER(SEARCH(Cover!$H$13,Table1[[#This Row],[School District]])),MAX($A$1:A921)+1,0)","v":0},"Venice CUSD 3",41057003026,26,{"$f":"IF(OR(Table1[[#This Row],[Type]]=0,Table1[[#This Row],[Type]]>=40),\"JA\",\"SD\")","v":"SD"},"Madison","41-057-0030-26",null,null,{"$f":"IFERROR(VLOOKUP(ROWS($J$2:J922),$A$2:$B$996,2,FALSE),\"\")","v":""}]
[{"$f":"IF(ISNUMBER(SEARCH(Cover!$H$13,Table1[[#This Row],[School District]])),MAX($A$1:A922)+1,0)","v":0},"Vermilion Assoc for Spec Ed",54092801060,60,{"$f":"IF(OR(Table1[[#This Row],[Type]]=0,Table1[[#This Row],[Type]]>=40),\"JA\",\"SD\")","v":"JA"},"Vermilion","54-092-8010-60",null,null,{"$f":"IFERROR(VLOOKUP(ROWS($J$2:J923),$A$2:$B$996,2,FALSE),\"\")","v":""}]
[{"$f":"IF(ISNUMBER(SEARCH(Cover!$H$13,Table1[[#This Row],[School District]])),MAX($A$1:A923)+1,0)","v":0},"Vermilion Voc Ed Del System",54092740045,45,{"$f":"IF(OR(Table1[[#This Row],[Type]]=0,Table1[[#This Row],[Type]]>=40),\"JA\",\"SD\")","v":"JA"},"Vermilion","54-092-7400-45",null,null,{"$f":"IFERROR(VLOOKUP(ROWS($J$2:J924),$A$2:$B$996,2,FALSE),\"\")","v":""}]
[{"$f":"IF(ISNUMBER(SEARCH(Cover!$H$13,Table1[[#This Row],[School District]])),MAX($A$1:A924)+1,0)","v":0},"Vienna HSD 133",21044133017,17,{"$f":"IF(OR(Table1[[#This Row],[Type]]=0,Table1[[#This Row],[Type]]>=40),\"JA\",\"SD\")","v":"SD"},"Johnson/Massac/Williamson/Union","21-044-1330-17",null,null,{"$f":"IFERROR(VLOOKUP(ROWS($J$2:J925),$A$2:$B$996,2,FALSE),\"\")","v":""}]
[{"$f":"IF(ISNUMBER(SEARCH(Cover!$H$13,Table1[[#This Row],[School District]])),MAX($A$1:A925)+1,0)","v":0},"Vienna SD 55",21044055002,2,{"$f":"IF(OR(Table1[[#This Row],[Type]]=0,Table1[[#This Row],[Type]]>=40),\"JA\",\"SD\")","v":"SD"},"Johnson","21-044-0550-02",null,null,{"$f":"IFERROR(VLOOKUP(ROWS($J$2:J926),$A$2:$B$996,2,FALSE),\"\")","v":""}]
[{"$f":"IF(ISNUMBER(SEARCH(Cover!$H$13,Table1[[#This Row],[School District]])),MAX($A$1:A926)+1,0)","v":0},"Villa Grove CUSD 302",11021302026,26,{"$f":"IF(OR(Table1[[#This Row],[Type]]=0,Table1[[#This Row],[Type]]>=40),\"JA\",\"SD\")","v":"SD"},"Douglas/Champaign","11-021-3020-26",null,null,{"$f":"IFERROR(VLOOKUP(ROWS($J$2:J927),$A$2:$B$996,2,FALSE),\"\")","v":""}]
[{"$f":"IF(ISNUMBER(SEARCH(Cover!$H$13,Table1[[#This Row],[School District]])),MAX($A$1:A927)+1,0)","v":0},"Virginia CUSD 64",1009064026,26,{"$f":"IF(OR(Table1[[#This Row],[Type]]=0,Table1[[#This Row],[Type]]>=40),\"JA\",\"SD\")","v":"SD"},"Cass/Morgan","01-009-0640-26",null,null,{"$f":"IFERROR(VLOOKUP(ROWS($J$2:J928),$A$2:$B$996,2,FALSE),\"\")","v":""}]
[{"$f":"IF(ISNUMBER(SEARCH(Cover!$H$13,Table1[[#This Row],[School District]])),MAX($A$1:A928)+1,0)","v":0},"W Harvey-Dixmoor PSD 147",7016147002,2,{"$f":"IF(OR(Table1[[#This Row],[Type]]=0,Table1[[#This Row],[Type]]>=40),\"JA\",\"SD\")","v":"SD"},"Cook","07-016-1470-02",null,null,{"$f":"IFERROR(VLOOKUP(ROWS($J$2:J929),$A$2:$B$996,2,FALSE),\"\")","v":""}]
[{"$f":"IF(ISNUMBER(SEARCH(Cover!$H$13,Table1[[#This Row],[School District]])),MAX($A$1:A929)+1,0)","v":0},"Wabash & Ohio Valley Spec Ed Dist",20097801060,60,{"$f":"IF(OR(Table1[[#This Row],[Type]]=0,Table1[[#This Row],[Type]]>=40),\"JA\",\"SD\")","v":"JA"},"White","20-097-8010-60",null,null,{"$f":"IFERROR(VLOOKUP(ROWS($J$2:J930),$A$2:$B$996,2,FALSE),\"\")","v":""}]
[{"$f":"IF(ISNUMBER(SEARCH(Cover!$H$13,Table1[[#This Row],[School District]])),MAX($A$1:A930)+1,0)","v":0},"Wabash CUSD 348",20093348026,26,{"$f":"IF(OR(Table1[[#This Row],[Type]]=0,Table1[[#This Row],[Type]]>=40),\"JA\",\"SD\")","v":"SD"},"Wabash","20-093-3480-26",null,null,{"$f":"IFERROR(VLOOKUP(ROWS($J$2:J931),$A$2:$B$996,2,FALSE),\"\")","v":""}]
[{"$f":"IF(ISNUMBER(SEARCH(Cover!$H$13,Table1[[#This Row],[School District]])),MAX($A$1:A931)+1,0)","v":0},"Wallace CCSD 195",35050195004,4,{"$f":"IF(OR(Table1[[#This Row],[Type]]=0,Table1[[#This Row],[Type]]>=40),\"JA\",\"SD\")","v":"SD"},"LaSalle","35-050-1950-04",null,null,{"$f":"IFERROR(VLOOKUP(ROWS($J$2:J932),$A$2:$B$996,2,FALSE),\"\")","v":""}]
[{"$f":"IF(ISNUMBER(SEARCH(Cover!$H$13,Table1[[#This Row],[School District]])),MAX($A$1:A932)+1,0)","v":0},"Waltham CCSD 185",35050185004,4,{"$f":"IF(OR(Table1[[#This Row],[Type]]=0,Table1[[#This Row],[Type]]>=40),\"JA\",\"SD\")","v":"SD"},"LaSalle","35-050-1850-04",null,null,{"$f":"IFERROR(VLOOKUP(ROWS($J$2:J933),$A$2:$B$996,2,FALSE),\"\")","v":""}]
[{"$f":"IF(ISNUMBER(SEARCH(Cover!$H$13,Table1[[#This Row],[School District]])),MAX($A$1:A933)+1,0)","v":0},"Waltonville CUSD 1",13041001026,26,{"$f":"IF(OR(Table1[[#This Row],[Type]]=0,Table1[[#This Row],[Type]]>=40),\"JA\",\"SD\")","v":"SD"},"Jefferson","13-041-0010-26",null,null,{"$f":"IFERROR(VLOOKUP(ROWS($J$2:J934),$A$2:$B$996,2,FALSE),\"\")","v":""}]
[{"$f":"IF(ISNUMBER(SEARCH(Cover!$H$13,Table1[[#This Row],[School District]])),MAX($A$1:A934)+1,0)","v":0},"Warren CUSD 205",8043205026,26,{"$f":"IF(OR(Table1[[#This Row],[Type]]=0,Table1[[#This Row],[Type]]>=40),\"JA\",\"SD\")","v":"SD"},"Jo Daviess","08-043-2050-26",null,null,{"$f":"IFERROR(VLOOKUP(ROWS($J$2:J935),$A$2:$B$996,2,FALSE),\"\")","v":""}]
[{"$f":"IF(ISNUMBER(SEARCH(Cover!$H$13,Table1[[#This Row],[School District]])),MAX($A$1:A935)+1,0)","v":0},"Warren Twp HSD 121",34049121017,17,{"$f":"IF(OR(Table1[[#This Row],[Type]]=0,Table1[[#This Row],[Type]]>=40),\"JA\",\"SD\")","v":"SD"},"Lake","34-049-1210-17",null,null,{"$f":"IFERROR(VLOOKUP(ROWS($J$2:J936),$A$2:$B$996,2,FALSE),\"\")","v":""}]
[{"$f":"IF(ISNUMBER(SEARCH(Cover!$H$13,Table1[[#This Row],[School District]])),MAX($A$1:A936)+1,0)","v":0},"Warrensburg-Latham CUSD 11",39055011026,26,{"$f":"IF(OR(Table1[[#This Row],[Type]]=0,Table1[[#This Row],[Type]]>=40),\"JA\",\"SD\")","v":"SD"},"Macon/Logan","39-055-0110-26",null,null,{"$f":"IFERROR(VLOOKUP(ROWS($J$2:J937),$A$2:$B$996,2,FALSE),\"\")","v":""}]
[{"$f":"IF(ISNUMBER(SEARCH(Cover!$H$13,Table1[[#This Row],[School District]])),MAX($A$1:A937)+1,0)","v":0},"Warsaw CUSD 316",26034316026,26,{"$f":"IF(OR(Table1[[#This Row],[Type]]=0,Table1[[#This Row],[Type]]>=40),\"JA\",\"SD\")","v":"SD"},"Hancock","26-034-3160-26",null,null,{"$f":"IFERROR(VLOOKUP(ROWS($J$2:J938),$A$2:$B$996,2,FALSE),\"\")","v":""}]
[{"$f":"IF(ISNUMBER(SEARCH(Cover!$H$13,Table1[[#This Row],[School District]])),MAX($A$1:A938)+1,0)","v":0},"Washington CHSD 308",53090308016,16,{"$f":"IF(OR(Table1[[#This Row],[Type]]=0,Table1[[#This Row],[Type]]>=40),\"JA\",\"SD\")","v":"SD"},"Tazewell","53-090-3080-16",null,null,{"$f":"IFERROR(VLOOKUP(ROWS($J$2:J939),$A$2:$B$996,2,FALSE),\"\")","v":""}]
[{"$f":"IF(ISNUMBER(SEARCH(Cover!$H$13,Table1[[#This Row],[School District]])),MAX($A$1:A939)+1,0)","v":0},"Washington SD 52",53090052002,2,{"$f":"IF(OR(Table1[[#This Row],[Type]]=0,Table1[[#This Row],[Type]]>=40),\"JA\",\"SD\")","v":"SD"},"Tazewell","53-090-0520-02",null,null,{"$f":"IFERROR(VLOOKUP(ROWS($J$2:J940),$A$2:$B$996,2,FALSE),\"\")","v":""}]
[{"$f":"IF(ISNUMBER(SEARCH(Cover!$H$13,Table1[[#This Row],[School District]])),MAX($A$1:A940)+1,0)","v":0},"Waterloo CUSD 5",45067005026,26,{"$f":"IF(OR(Table1[[#This Row],[Type]]=0,Table1[[#This Row],[Type]]>=40),\"JA\",\"SD\")","v":"SD"},"Monroe/St. Clair","45-067-0050-26",null,null,{"$f":"IFERROR(VLOOKUP(ROWS($J$2:J941),$A$2:$B$996,2,FALSE),\"\")","v":""}]
[{"$f":"IF(ISNUMBER(SEARCH(Cover!$H$13,Table1[[#This Row],[School District]])),MAX($A$1:A941)+1,0)","v":0},"Wauconda CUSD 118",34049118026,26,{"$f":"IF(OR(Table1[[#This Row],[Type]]=0,Table1[[#This Row],[Type]]>=40),\"JA\",\"SD\")","v":"SD"},"Lake","34-049-1180-26",null,null,{"$f":"IFERROR(VLOOKUP(ROWS($J$2:J942),$A$2:$B$996,2,FALSE),\"\")","v":""}]
[{"$f":"IF(ISNUMBER(SEARCH(Cover!$H$13,Table1[[#This Row],[School District]])),MAX($A$1:A942)+1,0)","v":0},"Waukegan CUSD 60",34049060026,26,{"$f":"IF(OR(Table1[[#This Row],[Type]]=0,Table1[[#This Row],[Type]]>=40),\"JA\",\"SD\")","v":"SD"},"Lake","34-049-0600-26",null,null,{"$f":"IFERROR(VLOOKUP(ROWS($J$2:J943),$A$2:$B$996,2,FALSE),\"\")","v":""}]
[{"$f":"IF(ISNUMBER(SEARCH(Cover!$H$13,Table1[[#This Row],[School District]])),MAX($A$1:A943)+1,0)","v":0},"Waverly CUSD 6",1069006026,26,{"$f":"IF(OR(Table1[[#This Row],[Type]]=0,Table1[[#This Row],[Type]]>=40),\"JA\",\"SD\")","v":"SD"},"Morgan","01-069-0060-26",null,null,{"$f":"IFERROR(VLOOKUP(ROWS($J$2:J944),$A$2:$B$996,2,FALSE),\"\")","v":""}]
[{"$f":"IF(ISNUMBER(SEARCH(Cover!$H$13,Table1[[#This Row],[School District]])),MAX($A$1:A944)+1,0)","v":0},"Wayne City CUSD 100",20096100026,26,{"$f":"IF(OR(Table1[[#This Row],[Type]]=0,Table1[[#This Row],[Type]]>=40),\"JA\",\"SD\")","v":"SD"},"Wayne","20-096-1000-26",null,null,{"$f":"IFERROR(VLOOKUP(ROWS($J$2:J945),$A$2:$B$996,2,FALSE),\"\")","v":""}]
[{"$f":"IF(ISNUMBER(SEARCH(Cover!$H$13,Table1[[#This Row],[School District]])),MAX($A$1:A945)+1,0)","v":0},"Wesclin CUSD 3",13014003026,26,{"$f":"IF(OR(Table1[[#This Row],[Type]]=0,Table1[[#This Row],[Type]]>=40),\"JA\",\"SD\")","v":"SD"},"Clinton","13-014-0030-26",null,null,{"$f":"IFERROR(VLOOKUP(ROWS($J$2:J946),$A$2:$B$996,2,FALSE),\"\")","v":""}]
[{"$f":"IF(ISNUMBER(SEARCH(Cover!$H$13,Table1[[#This Row],[School District]])),MAX($A$1:A946)+1,0)","v":0},"West Carroll CUSD 314",8008314026,26,{"$f":"IF(OR(Table1[[#This Row],[Type]]=0,Table1[[#This Row],[Type]]>=40),\"JA\",\"SD\")","v":"SD"},"Carroll","08-008-3140-26",null,null,{"$f":"IFERROR(VLOOKUP(ROWS($J$2:J947),$A$2:$B$996,2,FALSE),\"\")","v":""}]
[{"$f":"IF(ISNUMBER(SEARCH(Cover!$H$13,Table1[[#This Row],[School District]])),MAX($A$1:A947)+1,0)","v":0},"West Central CUSD 235",33036235026,26,{"$f":"IF(OR(Table1[[#This Row],[Type]]=0,Table1[[#This Row],[Type]]>=40),\"JA\",\"SD\")","v":"SD"},"Henderson","33-036-2350-26",null,null,{"$f":"IFERROR(VLOOKUP(ROWS($J$2:J948),$A$2:$B$996,2,FALSE),\"\")","v":""}]
[{"$f":"IF(ISNUMBER(SEARCH(Cover!$H$13,Table1[[#This Row],[School District]])),MAX($A$1:A948)+1,0)","v":0},"West Central IL Spec Ed Coop",26062000061,61,{"$f":"IF(OR(Table1[[#This Row],[Type]]=0,Table1[[#This Row],[Type]]>=40),\"JA\",\"SD\")","v":"JA"},"McDonough","26-062-0000-61",null,null,{"$f":"IFERROR(VLOOKUP(ROWS($J$2:J949),$A$2:$B$996,2,FALSE),\"\")","v":""}]
[{"$f":"IF(ISNUMBER(SEARCH(Cover!$H$13,Table1[[#This Row],[School District]])),MAX($A$1:A949)+1,0)","v":0},"West Central Reg System",1001172046,46,{"$f":"IF(OR(Table1[[#This Row],[Type]]=0,Table1[[#This Row],[Type]]>=40),\"JA\",\"SD\")","v":"JA"},"Adams","01-001-1720-46",null,null,{"$f":"IFERROR(VLOOKUP(ROWS($J$2:J950),$A$2:$B$996,2,FALSE),\"\")","v":""}]
[{"$f":"IF(ISNUMBER(SEARCH(Cover!$H$13,Table1[[#This Row],[School District]])),MAX($A$1:A950)+1,0)","v":0},"West Chicago ESD 33",19022033002,2,{"$f":"IF(OR(Table1[[#This Row],[Type]]=0,Table1[[#This Row],[Type]]>=40),\"JA\",\"SD\")","v":"SD"},"DuPage","19-022-0330-02",null,null,{"$f":"IFERROR(VLOOKUP(ROWS($J$2:J951),$A$2:$B$996,2,FALSE),\"\")","v":""}]
[{"$f":"IF(ISNUMBER(SEARCH(Cover!$H$13,Table1[[#This Row],[School District]])),MAX($A$1:A951)+1,0)","v":0},"West Lincoln-Broadwell ESD 92",17054092004,4,{"$f":"IF(OR(Table1[[#This Row],[Type]]=0,Table1[[#This Row],[Type]]>=40),\"JA\",\"SD\")","v":"SD"},"Logan","17-054-0920-04",null,null,{"$f":"IFERROR(VLOOKUP(ROWS($J$2:J952),$A$2:$B$996,2,FALSE),\"\")","v":""}]
[{"$f":"IF(ISNUMBER(SEARCH(Cover!$H$13,Table1[[#This Row],[School District]])),MAX($A$1:A952)+1,0)","v":0},"West Northfield SD 31",5016031002,2,{"$f":"IF(OR(Table1[[#This Row],[Type]]=0,Table1[[#This Row],[Type]]>=40),\"JA\",\"SD\")","v":"SD"},"Cook","05-016-0310-02",null,null,{"$f":"IFERROR(VLOOKUP(ROWS($J$2:J953),$A$2:$B$996,2,FALSE),\"\")","v":""}]
[{"$f":"IF(ISNUMBER(SEARCH(Cover!$H$13,Table1[[#This Row],[School District]])),MAX($A$1:A953)+1,0)","v":0},"West Prairie CUSD 103",26062103026,26,{"$f":"IF(OR(Table1[[#This Row],[Type]]=0,Table1[[#This Row],[Type]]>=40),\"JA\",\"SD\")","v":"SD"},"McDonough/Hancock/Henderson","26-062-1030-26",null,null,{"$f":"IFERROR(VLOOKUP(ROWS($J$2:J954),$A$2:$B$996,2,FALSE),\"\")","v":""}]
[{"$f":"IF(ISNUMBER(SEARCH(Cover!$H$13,Table1[[#This Row],[School District]])),MAX($A$1:A954)+1,0)","v":0},"West Washington Co CUD 10",13095010026,26,{"$f":"IF(OR(Table1[[#This Row],[Type]]=0,Table1[[#This Row],[Type]]>=40),\"JA\",\"SD\")","v":"SD"},"Washington","13-095-0100-26",null,null,{"$f":"IFERROR(VLOOKUP(ROWS($J$2:J955),$A$2:$B$996,2,FALSE),\"\")","v":""}]
[{"$f":"IF(ISNUMBER(SEARCH(Cover!$H$13,Table1[[#This Row],[School District]])),MAX($A$1:A955)+1,0)","v":0},"Westchester SD 92-5",6016092502,2,{"$f":"IF(OR(Table1[[#This Row],[Type]]=0,Table1[[#This Row],[Type]]>=40),\"JA\",\"SD\")","v":"SD"},"Cook","06-016-0925-02",null,null,{"$f":"IFERROR(VLOOKUP(ROWS($J$2:J956),$A$2:$B$996,2,FALSE),\"\")","v":""}]
[{"$f":"IF(ISNUMBER(SEARCH(Cover!$H$13,Table1[[#This Row],[School District]])),MAX($A$1:A956)+1,0)","v":0},"Western Area Career System 265",26000000046,46,{"$f":"IF(OR(Table1[[#This Row],[Type]]=0,Table1[[#This Row],[Type]]>=40),\"JA\",\"SD\")","v":"JA"},"McDonough/Fulton/Hancock/Schuyler/Mason","26-000-0000-46",null,null,{"$f":"IFERROR(VLOOKUP(ROWS($J$2:J957),$A$2:$B$996,2,FALSE),\"\")","v":""}]
[{"$f":"IF(ISNUMBER(SEARCH(Cover!$H$13,Table1[[#This Row],[School District]])),MAX($A$1:A957)+1,0)","v":0},"Western CUSD 12",1075012026,26,{"$f":"IF(OR(Table1[[#This Row],[Type]]=0,Table1[[#This Row],[Type]]>=40),\"JA\",\"SD\")","v":"SD"},"Pike","01-075-0120-26",null,null,{"$f":"IFERROR(VLOOKUP(ROWS($J$2:J958),$A$2:$B$996,2,FALSE),\"\")","v":""}]
[{"$f":"IF(ISNUMBER(SEARCH(Cover!$H$13,Table1[[#This Row],[School District]])),MAX($A$1:A958)+1,0)","v":0},"Western Springs SD 101",6016101002,2,{"$f":"IF(OR(Table1[[#This Row],[Type]]=0,Table1[[#This Row],[Type]]>=40),\"JA\",\"SD\")","v":"SD"},"Cook","06-016-1010-02",null,null,{"$f":"IFERROR(VLOOKUP(ROWS($J$2:J959),$A$2:$B$996,2,FALSE),\"\")","v":""}]
[{"$f":"IF(ISNUMBER(SEARCH(Cover!$H$13,Table1[[#This Row],[School District]])),MAX($A$1:A959)+1,0)","v":0},"Westville CUSD 2",54092002026,26,{"$f":"IF(OR(Table1[[#This Row],[Type]]=0,Table1[[#This Row],[Type]]>=40),\"JA\",\"SD\")","v":"SD"},"Vermilion","54-092-0020-26",null,null,{"$f":"IFERROR(VLOOKUP(ROWS($J$2:J960),$A$2:$B$996,2,FALSE),\"\")","v":""}]
[{"$f":"IF(ISNUMBER(SEARCH(Cover!$H$13,Table1[[#This Row],[School District]])),MAX($A$1:A960)+1,0)","v":0},"Wethersfield CUSD 230",28037230026,26,{"$f":"IF(OR(Table1[[#This Row],[Type]]=0,Table1[[#This Row],[Type]]>=40),\"JA\",\"SD\")","v":"SD"},"Henry/Bureau/Stark","28-037-2300-26",null,null,{"$f":"IFERROR(VLOOKUP(ROWS($J$2:J961),$A$2:$B$996,2,FALSE),\"\")","v":""}]
[{"$f":"IF(ISNUMBER(SEARCH(Cover!$H$13,Table1[[#This Row],[School District]])),MAX($A$1:A961)+1,0)","v":0},"Wheeling CCSD 21",5016021004,4,{"$f":"IF(OR(Table1[[#This Row],[Type]]=0,Table1[[#This Row],[Type]]>=40),\"JA\",\"SD\")","v":"SD"},"Cook","05-016-0210-04",null,null,{"$f":"IFERROR(VLOOKUP(ROWS($J$2:J962),$A$2:$B$996,2,FALSE),\"\")","v":""}]
[{"$f":"IF(ISNUMBER(SEARCH(Cover!$H$13,Table1[[#This Row],[School District]])),MAX($A$1:A962)+1,0)","v":0},"Whiteside Reg Voc System",47098005046,46,{"$f":"IF(OR(Table1[[#This Row],[Type]]=0,Table1[[#This Row],[Type]]>=40),\"JA\",\"SD\")","v":"JA"},"Whiteside","47-098-0050-46",null,null,{"$f":"IFERROR(VLOOKUP(ROWS($J$2:J963),$A$2:$B$996,2,FALSE),\"\")","v":""}]
[{"$f":"IF(ISNUMBER(SEARCH(Cover!$H$13,Table1[[#This Row],[School District]])),MAX($A$1:A963)+1,0)","v":0},"Whiteside SD 115",50082115002,2,{"$f":"IF(OR(Table1[[#This Row],[Type]]=0,Table1[[#This Row],[Type]]>=40),\"JA\",\"SD\")","v":"SD"},"Saint Clair","50-082-1150-02",null,null,{"$f":"IFERROR(VLOOKUP(ROWS($J$2:J964),$A$2:$B$996,2,FALSE),\"\")","v":""}]
[{"$f":"IF(ISNUMBER(SEARCH(Cover!$H$13,Table1[[#This Row],[School District]])),MAX($A$1:A964)+1,0)","v":0},"Wilco Area Career Ctr",56000000040,40,{"$f":"IF(OR(Table1[[#This Row],[Type]]=0,Table1[[#This Row],[Type]]>=40),\"JA\",\"SD\")","v":"JA"},"Will","56-000-0000-40",null,null,{"$f":"IFERROR(VLOOKUP(ROWS($J$2:J965),$A$2:$B$996,2,FALSE),\"\")","v":""}]
[{"$f":"IF(ISNUMBER(SEARCH(Cover!$H$13,Table1[[#This Row],[School District]])),MAX($A$1:A965)+1,0)","v":0},"Will County SD 92",56099092002,2,{"$f":"IF(OR(Table1[[#This Row],[Type]]=0,Table1[[#This Row],[Type]]>=40),\"JA\",\"SD\")","v":"SD"},"Will","56-099-0920-02",null,null,{"$f":"IFERROR(VLOOKUP(ROWS($J$2:J966),$A$2:$B$996,2,FALSE),\"\")","v":""}]
[{"$f":"IF(ISNUMBER(SEARCH(Cover!$H$13,Table1[[#This Row],[School District]])),MAX($A$1:A966)+1,0)","v":0},"Williamsfield CUSD 210",33048210026,26,{"$f":"IF(OR(Table1[[#This Row],[Type]]=0,Table1[[#This Row],[Type]]>=40),\"JA\",\"SD\")","v":"SD"},"Knox/Peoria/Stark","33-048-2100-26",null,null,{"$f":"IFERROR(VLOOKUP(ROWS($J$2:J967),$A$2:$B$996,2,FALSE),\"\")","v":""}]
[{"$f":"IF(ISNUMBER(SEARCH(Cover!$H$13,Table1[[#This Row],[School District]])),MAX($A$1:A967)+1,0)","v":0},"Williamson Cty CTE System",21100801046,46,{"$f":"IF(OR(Table1[[#This Row],[Type]]=0,Table1[[#This Row],[Type]]>=40),\"JA\",\"SD\")","v":"JA"},"Williamson","21-100-8010-46",null,null,{"$f":"IFERROR(VLOOKUP(ROWS($J$2:J968),$A$2:$B$996,2,FALSE),\"\")","v":""}]
[{"$f":"IF(ISNUMBER(SEARCH(Cover!$H$13,Table1[[#This Row],[School District]])),MAX($A$1:A968)+1,0)","v":0},"Williamson Cty Spec Ed Dist",21100801060,60,{"$f":"IF(OR(Table1[[#This Row],[Type]]=0,Table1[[#This Row],[Type]]>=40),\"JA\",\"SD\")","v":"JA"},"Williamson","21-100-8010-60",null,null,{"$f":"IFERROR(VLOOKUP(ROWS($J$2:J969),$A$2:$B$996,2,FALSE),\"\")","v":""}]
[{"$f":"IF(ISNUMBER(SEARCH(Cover!$H$13,Table1[[#This Row],[School District]])),MAX($A$1:A969)+1,0)","v":0},"Williamsville CUSD 15",51084015026,26,{"$f":"IF(OR(Table1[[#This Row],[Type]]=0,Table1[[#This Row],[Type]]>=40),\"JA\",\"SD\")","v":"SD"},"Sangamon","51-084-0150-26",null,null,{"$f":"IFERROR(VLOOKUP(ROWS($J$2:J970),$A$2:$B$996,2,FALSE),\"\")","v":""}]
[{"$f":"IF(ISNUMBER(SEARCH(Cover!$H$13,Table1[[#This Row],[School District]])),MAX($A$1:A970)+1,0)","v":0},"Willow Grove SD 46",13014046002,2,{"$f":"IF(OR(Table1[[#This Row],[Type]]=0,Table1[[#This Row],[Type]]>=40),\"JA\",\"SD\")","v":"SD"},"Clinton","13-014-0460-02",null,null,{"$f":"IFERROR(VLOOKUP(ROWS($J$2:J971),$A$2:$B$996,2,FALSE),\"\")","v":""}]
[{"$f":"IF(ISNUMBER(SEARCH(Cover!$H$13,Table1[[#This Row],[School District]])),MAX($A$1:A971)+1,0)","v":0},"Willow Springs SD 108",7016108002,2,{"$f":"IF(OR(Table1[[#This Row],[Type]]=0,Table1[[#This Row],[Type]]>=40),\"JA\",\"SD\")","v":"SD"},"Cook","07-016-1080-02",null,null,{"$f":"IFERROR(VLOOKUP(ROWS($J$2:J972),$A$2:$B$996,2,FALSE),\"\")","v":""}]
[{"$f":"IF(ISNUMBER(SEARCH(Cover!$H$13,Table1[[#This Row],[School District]])),MAX($A$1:A972)+1,0)","v":0},"Wilmette Community Spec Ed Agreement",5016039061,61,{"$f":"IF(OR(Table1[[#This Row],[Type]]=0,Table1[[#This Row],[Type]]>=40),\"JA\",\"SD\")","v":"JA"},"Cook","05-016-0390-61",null,null,{"$f":"IFERROR(VLOOKUP(ROWS($J$2:J973),$A$2:$B$996,2,FALSE),\"\")","v":""}]
[{"$f":"IF(ISNUMBER(SEARCH(Cover!$H$13,Table1[[#This Row],[School District]])),MAX($A$1:A973)+1,0)","v":0},"Wilmette SD 39",5016039002,2,{"$f":"IF(OR(Table1[[#This Row],[Type]]=0,Table1[[#This Row],[Type]]>=40),\"JA\",\"SD\")","v":"SD"},"Cook","05-016-0390-02",null,null,{"$f":"IFERROR(VLOOKUP(ROWS($J$2:J974),$A$2:$B$996,2,FALSE),\"\")","v":""}]
[{"$f":"IF(ISNUMBER(SEARCH(Cover!$H$13,Table1[[#This Row],[School District]])),MAX($A$1:A974)+1,0)","v":0},"Wilmington CUSD 209U","56099209U26",26,{"$f":"IF(OR(Table1[[#This Row],[Type]]=0,Table1[[#This Row],[Type]]>=40),\"JA\",\"SD\")","v":"SD"},"Will","56-099-209U-26",null,null,{"$f":"IFERROR(VLOOKUP(ROWS($J$2:J975),$A$2:$B$996,2,FALSE),\"\")","v":""}]
[{"$f":"IF(ISNUMBER(SEARCH(Cover!$H$13,Table1[[#This Row],[School District]])),MAX($A$1:A975)+1,0)","v":0},"Winchester CUSD 1",1086001026,26,{"$f":"IF(OR(Table1[[#This Row],[Type]]=0,Table1[[#This Row],[Type]]>=40),\"JA\",\"SD\")","v":"SD"},"Scott/Morgan/Greene","01-086-0010-26",null,null,{"$f":"IFERROR(VLOOKUP(ROWS($J$2:J976),$A$2:$B$996,2,FALSE),\"\")","v":""}]
[{"$f":"IF(ISNUMBER(SEARCH(Cover!$H$13,Table1[[#This Row],[School District]])),MAX($A$1:A976)+1,0)","v":0},"Windsor CUSD 1",11087001026,26,{"$f":"IF(OR(Table1[[#This Row],[Type]]=0,Table1[[#This Row],[Type]]>=40),\"JA\",\"SD\")","v":"SD"},"Shelby","11-087-0010-26",null,null,{"$f":"IFERROR(VLOOKUP(ROWS($J$2:J977),$A$2:$B$996,2,FALSE),\"\")","v":""}]
[{"$f":"IF(ISNUMBER(SEARCH(Cover!$H$13,Table1[[#This Row],[School District]])),MAX($A$1:A977)+1,0)","v":0},"Winfield SD 34",19022034002,2,{"$f":"IF(OR(Table1[[#This Row],[Type]]=0,Table1[[#This Row],[Type]]>=40),\"JA\",\"SD\")","v":"SD"},"DuPage","19-022-0340-02",null,null,{"$f":"IFERROR(VLOOKUP(ROWS($J$2:J978),$A$2:$B$996,2,FALSE),\"\")","v":""}]
[{"$f":"IF(ISNUMBER(SEARCH(Cover!$H$13,Table1[[#This Row],[School District]])),MAX($A$1:A978)+1,0)","v":0},"Winnebago Cty Spec Ed Coop",4101140061,61,{"$f":"IF(OR(Table1[[#This Row],[Type]]=0,Table1[[#This Row],[Type]]>=40),\"JA\",\"SD\")","v":"JA"},"Winnebago","04-101-1400-61",null,null,{"$f":"IFERROR(VLOOKUP(ROWS($J$2:J979),$A$2:$B$996,2,FALSE),\"\")","v":""}]
[{"$f":"IF(ISNUMBER(SEARCH(Cover!$H$13,Table1[[#This Row],[School District]])),MAX($A$1:A979)+1,0)","v":0},"Winnebago CUSD 323",4101323026,26,{"$f":"IF(OR(Table1[[#This Row],[Type]]=0,Table1[[#This Row],[Type]]>=40),\"JA\",\"SD\")","v":"SD"},"Winnebago","04-101-3230-26",null,null,{"$f":"IFERROR(VLOOKUP(ROWS($J$2:J980),$A$2:$B$996,2,FALSE),\"\")","v":""}]
[{"$f":"IF(ISNUMBER(SEARCH(Cover!$H$13,Table1[[#This Row],[School District]])),MAX($A$1:A980)+1,0)","v":0},"Winnetka SD 36",5016036002,2,{"$f":"IF(OR(Table1[[#This Row],[Type]]=0,Table1[[#This Row],[Type]]>=40),\"JA\",\"SD\")","v":"SD"},"Cook","05-016-0360-02",null,null,{"$f":"IFERROR(VLOOKUP(ROWS($J$2:J981),$A$2:$B$996,2,FALSE),\"\")","v":""}]
[{"$f":"IF(ISNUMBER(SEARCH(Cover!$H$13,Table1[[#This Row],[School District]])),MAX($A$1:A981)+1,0)","v":0},"Winthrop Harbor SD 1",34049001002,2,{"$f":"IF(OR(Table1[[#This Row],[Type]]=0,Table1[[#This Row],[Type]]>=40),\"JA\",\"SD\")","v":"SD"},"Lake","34-049-0010-02",null,null,{"$f":"IFERROR(VLOOKUP(ROWS($J$2:J982),$A$2:$B$996,2,FALSE),\"\")","v":""}]
[{"$f":"IF(ISNUMBER(SEARCH(Cover!$H$13,Table1[[#This Row],[School District]])),MAX($A$1:A982)+1,0)","v":0},"Wolf Branch SD 113",50082113002,2,{"$f":"IF(OR(Table1[[#This Row],[Type]]=0,Table1[[#This Row],[Type]]>=40),\"JA\",\"SD\")","v":"SD"},"St. Clair","50-082-1130-02",null,null,{"$f":"IFERROR(VLOOKUP(ROWS($J$2:J983),$A$2:$B$996,2,FALSE),\"\")","v":""}]
[{"$f":"IF(ISNUMBER(SEARCH(Cover!$H$13,Table1[[#This Row],[School District]])),MAX($A$1:A983)+1,0)","v":0},"Wood Dale SD 7",19022007002,2,{"$f":"IF(OR(Table1[[#This Row],[Type]]=0,Table1[[#This Row],[Type]]>=40),\"JA\",\"SD\")","v":"SD"},"Dupage","19-022-0070-02",null,null,{"$f":"IFERROR(VLOOKUP(ROWS($J$2:J984),$A$2:$B$996,2,FALSE),\"\")","v":""}]
[{"$f":"IF(ISNUMBER(SEARCH(Cover!$H$13,Table1[[#This Row],[School District]])),MAX($A$1:A984)+1,0)","v":0},"Wood River-Hartford ESD 15",41057015003,3,{"$f":"IF(OR(Table1[[#This Row],[Type]]=0,Table1[[#This Row],[Type]]>=40),\"JA\",\"SD\")","v":"SD"},"Madison","41-057-0150-03",null,null,{"$f":"IFERROR(VLOOKUP(ROWS($J$2:J985),$A$2:$B$996,2,FALSE),\"\")","v":""}]
[{"$f":"IF(ISNUMBER(SEARCH(Cover!$H$13,Table1[[#This Row],[School District]])),MAX($A$1:A985)+1,0)","v":0},"Woodford Cty Spec Ed Assoc",53102801060,60,{"$f":"IF(OR(Table1[[#This Row],[Type]]=0,Table1[[#This Row],[Type]]>=40),\"JA\",\"SD\")","v":"JA"},"Woodford","53-102-8010-60",null,null,{"$f":"IFERROR(VLOOKUP(ROWS($J$2:J986),$A$2:$B$996,2,FALSE),\"\")","v":""}]
[{"$f":"IF(ISNUMBER(SEARCH(Cover!$H$13,Table1[[#This Row],[School District]])),MAX($A$1:A986)+1,0)","v":0},"Woodland CCSD 50",34049050004,4,{"$f":"IF(OR(Table1[[#This Row],[Type]]=0,Table1[[#This Row],[Type]]>=40),\"JA\",\"SD\")","v":"SD"},"Lake","34-049-0500-04",null,null,{"$f":"IFERROR(VLOOKUP(ROWS($J$2:J987),$A$2:$B$996,2,FALSE),\"\")","v":""}]
[{"$f":"IF(ISNUMBER(SEARCH(Cover!$H$13,Table1[[#This Row],[School District]])),MAX($A$1:A987)+1,0)","v":0},"Woodland CUSD 5",17053005026,26,{"$f":"IF(OR(Table1[[#This Row],[Type]]=0,Table1[[#This Row],[Type]]>=40),\"JA\",\"SD\")","v":"SD"},"Livingston","17-053-0050-26",null,null,{"$f":"IFERROR(VLOOKUP(ROWS($J$2:J988),$A$2:$B$996,2,FALSE),\"\")","v":""}]
[{"$f":"IF(ISNUMBER(SEARCH(Cover!$H$13,Table1[[#This Row],[School District]])),MAX($A$1:A988)+1,0)","v":0},"Woodlawn Unit School District 209",13041209027,27,{"$f":"IF(OR(Table1[[#This Row],[Type]]=0,Table1[[#This Row],[Type]]>=40),\"JA\",\"SD\")","v":"SD"},"Jefferson","13-041-2090-27",null,null,{"$f":"IFERROR(VLOOKUP(ROWS($J$2:J989),$A$2:$B$996,2,FALSE),\"\")","v":""}]
[{"$f":"IF(ISNUMBER(SEARCH(Cover!$H$13,Table1[[#This Row],[School District]])),MAX($A$1:A989)+1,0)","v":0},"Woodridge SD 68",19022068002,2,{"$f":"IF(OR(Table1[[#This Row],[Type]]=0,Table1[[#This Row],[Type]]>=40),\"JA\",\"SD\")","v":"SD"},"DuPage","19-022-0680-02",null,null,{"$f":"IFERROR(VLOOKUP(ROWS($J$2:J990),$A$2:$B$996,2,FALSE),\"\")","v":""}]
[{"$f":"IF(ISNUMBER(SEARCH(Cover!$H$13,Table1[[#This Row],[School District]])),MAX($A$1:A990)+1,0)","v":0},"Woodstock CUSD 200",44063200026,26,{"$f":"IF(OR(Table1[[#This Row],[Type]]=0,Table1[[#This Row],[Type]]>=40),\"JA\",\"SD\")","v":"SD"},"McHenry","44-063-2000-26",null,null,{"$f":"IFERROR(VLOOKUP(ROWS($J$2:J991),$A$2:$B$996,2,FALSE),\"\")","v":""}]
[{"$f":"IF(ISNUMBER(SEARCH(Cover!$H$13,Table1[[#This Row],[School District]])),MAX($A$1:A991)+1,0)","v":0},"Worth SD 127",7016127002,2,{"$f":"IF(OR(Table1[[#This Row],[Type]]=0,Table1[[#This Row],[Type]]>=40),\"JA\",\"SD\")","v":"SD"},"Cook","07-016-1270-02",null,null,{"$f":"IFERROR(VLOOKUP(ROWS($J$2:J992),$A$2:$B$996,2,FALSE),\"\")","v":""}]
[{"$f":"IF(ISNUMBER(SEARCH(Cover!$H$13,Table1[[#This Row],[School District]])),MAX($A$1:A992)+1,0)","v":0},"Yorkville CUSD 115",24047115026,26,{"$f":"IF(OR(Table1[[#This Row],[Type]]=0,Table1[[#This Row],[Type]]>=40),\"JA\",\"SD\")","v":"SD"},"Kane/Kendall","24-047-1150-26",null,null,{"$f":"IFERROR(VLOOKUP(ROWS($J$2:J993),$A$2:$B$996,2,FALSE),\"\")","v":""}]
[{"$f":"IF(ISNUMBER(SEARCH(Cover!$H$13,Table1[[#This Row],[School District]])),MAX($A$1:A993)+1,0)","v":0},"Zeigler-Royalton CUSD 188",21028188026,26,{"$f":"IF(OR(Table1[[#This Row],[Type]]=0,Table1[[#This Row],[Type]]>=40),\"JA\",\"SD\")","v":"SD"},"Franklin","21-028-1880-26",null,null,{"$f":"IFERROR(VLOOKUP(ROWS($J$2:J994),$A$2:$B$996,2,FALSE),\"\")","v":""}]
[{"$f":"IF(ISNUMBER(SEARCH(Cover!$H$13,Table1[[#This Row],[School District]])),MAX($A$1:A994)+1,0)","v":0},"Zion ESD 6",34049006002,2,{"$f":"IF(OR(Table1[[#This Row],[Type]]=0,Table1[[#This Row],[Type]]>=40),\"JA\",\"SD\")","v":"SD"},"Lake","34-049-0060-02",null,null,{"$f":"IFERROR(VLOOKUP(ROWS($J$2:J995),$A$2:$B$996,2,FALSE),\"\")","v":""}]
[{"$f":"IF(ISNUMBER(SEARCH(Cover!$H$13,Table1[[#This Row],[School District]])),MAX($A$1:A995)+1,0)","v":0},"Zion-Benton Twp HSD 126",34049126017,17,{"$f":"IF(OR(Table1[[#This Row],[Type]]=0,Table1[[#This Row],[Type]]>=40),\"JA\",\"SD\")","v":"SD"},"Lake","34-049-1260-17",null,null,{"$f":"IFERROR(VLOOKUP(ROWS($J$2:J996),$A$2:$B$996,2,FALSE),\"\")","v":""}]

{"sheet":"BudgetSum 2-4","index":2,"n_rows":132,"n_cols":12,"rows_kept":132,"cut":false,"hidden":false,"merged":[]}
["Begin entering data on EstRev 6-11 and EstExp 12-20 tabs.",null,"(10)","(20)","(30)","(40)","(50)","(60)","(70)","(80)","(90)"]
["Description:  Enter Whole Numbers Only","Acct #","  Educational   ","Operations & Maintenance","Debt Service","Transportation","   Municipal Retirement/ Social Security","Capital Projects","Working Cash","Tort","Fire Prevention & Safety"]
["ESTIMATED BEGINNING FUND BALANCE (without Student Activity Funds)1 as of July 1, 2022",null,1428677,516691,25082,74352,31103,93065,129929,39002,86120]
["RECEIPTS/REVENUES (without Student Activity Funds)"]
["LOCAL SOURCES",1000,{"$f":"'EstRev 6-11'!D111","v":1061251},{"$f":"'EstRev 6-11'!E111","v":226077},{"$f":"'EstRev 6-11'!F111","v":342181},{"$f":"'EstRev 6-11'!G111","v":139769},{"$f":"'EstRev 6-11'!H111","v":136290},{"$f":"'EstRev 6-11'!I111","v":14450},{"$f":"'EstRev 6-11'!J111","v":15039},{"$f":"'EstRev 6-11'!K111","v":130200},{"$f":"'EstRev 6-11'!L111","v":2114839}]
["FLOW-THROUGH RECEIPTS/REVENUES FROM ONE DISTRICT TO ANOTHER DISTRICT",2000,{"$f":"'EstRev 6-11'!D117","v":0},{"$f":"'EstRev 6-11'!E117","v":0},null,{"$f":"'EstRev 6-11'!G117","v":0},{"$f":"'EstRev 6-11'!H117","v":0}]
["STATE SOURCES",3000,{"$f":"'EstRev 6-11'!D172","v":1095600},{"$f":"'EstRev 6-11'!E172","v":50000},{"$f":"'EstRev 6-11'!F172","v":0},{"$f":"'EstRev 6-11'!G172","v":129000},{"$f":"'EstRev 6-11'!H172","v":0},{"$f":"'EstRev 6-11'!I172","v":0},{"$f":"'EstRev 6-11'!J172","v":0},{"$f":"'EstRev 6-11'!K172","v":0},{"$f":"'EstRev 6-11'!L172","v":0}]
["FEDERAL SOURCES",4000,{"$f":"'EstRev 6-11'!D269","v":425155},{"$f":"'EstRev 6-11'!E269","v":276000},{"$f":"'EstRev 6-11'!F269","v":0},{"$f":"'EstRev 6-11'!G269","v":0},{"$f":"'EstRev 6-11'!H269","v":0},{"$f":"'EstRev 6-11'!I269","v":0},{"$f":"'EstRev 6-11'!J269","v":0},{"$f":"'EstRev 6-11'!K269","v":0},{"$f":"'EstRev 6-11'!L269","v":0}]
["Total Direct Receipts/Revenues 8",null,{"$f":"SUM(C5:C8)","v":2582006},{"$f":"SUM(D5:D8)","v":552077},342181,268769,136290,14450,15039,130200,2114839]
["Receipts/Revenues for \"On Behalf\" Payments 2",3998]
["Total Receipts/Revenues",null,{"$f":"SUM(C9:C10)","v":2582006},{"$f":"SUM(D9:D10)","v":552077},342181,268769,136290,14450,15039,130200,2114839]
["DISBURSEMENTS/EXPENDITURES (without Student Activity Funds)"]
["INSTRUCTION","1000",{"$f":"'EstExp 12-20'!L34","v":1592100},null,null,null,{"$f":"'EstExp 12-20'!L233","v":24600},null,null,{"$f":"'EstExp 12-20'!L344","v":6500}]
["SUPPORT SERVICES",2000,{"$f":"'EstExp 12-20'!L76","v":791465},{"$f":"'EstExp 12-20'!L133","v":922000},null,{"$f":"'EstExp 12-20'!L188","v":268500},{"$f":"'EstExp 12-20'!L276","v":61450},{"$f":"'EstExp 12-20'!L300","v":0},null,{"$f":"'EstExp 12-20'!L387","v":156750},{"$f":"'EstExp 12-20'!L438","v":1000}]
["COMMUNITY SERVICES",3000,{"$f":"'EstExp 12-20'!L77","v":0},{"$f":"'EstExp 12-20'!L134","v":0},null,{"$f":"'EstExp 12-20'!L189","v":0},{"$f":"'EstExp 12-20'!L277","v":0},null,null,{"$f":"'EstExp 12-20'!L388","v":0}]
["PAYMENTS TO OTHER DISTRICTS & GOVT UNITS",4000,{"$f":"'EstExp 12-20'!L104","v":120000},{"$f":"'EstExp 12-20'!L143","v":0},{"$f":"'EstExp 12-20'!L164","v":0},{"$f":"'EstExp 12-20'!L200","v":0},{"$f":"'EstExp 12-20'!L282","v":0},{"$f":"'EstExp 12-20'!L307","v":0},null,{"$f":"'EstExp 12-20'!L415","v":0},{"$f":"'EstExp 12-20'!L443","v":0}]
["DEBT SERVICES",5000,{"$f":"'EstExp 12-20'!L114","v":0},{"$f":"'EstExp 12-20'!L153","v":0},{"$f":"'EstExp 12-20'!L176","v":336814},{"$f":"'EstExp 12-20'!L212","v":0},{"$f":"'EstExp 12-20'!L290","v":0},null,null,{"$f":"'EstExp 12-20'!L426","v":0},{"$f":"'EstExp 12-20'!L451","v":0}]
["PROVISION FOR CONTINGENCIES",6000,{"$f":"'EstExp 12-20'!L115","v":0},{"$f":"'EstExp 12-20'!L154","v":0},{"$f":"'EstExp 12-20'!L177","v":0},{"$f":"'EstExp 12-20'!L213","v":0},{"$f":"'EstExp 12-20'!L291","v":0},{"$f":"'EstExp 12-20'!L308","v":0},null,{"$f":"'EstExp 12-20'!L427","v":0},{"$f":"'EstExp 12-20'!L452","v":0}]
["Total Direct Disbursements/Expenditures 9",null,{"$f":"SUM(C13:C18)","v":2503565},922000,336814,268500,{"$f":"SUM(G13:G18)","v":86050},{"$f":"SUM(H13:H18)","v":0},null,{"$f":"SUM(J13:J18)","v":163250},{"$f":"SUM(K13:K18)","v":1000}]
["Disbursements/Expenditures for \"On Behalf\" Payments 2",4180,{"$f":"C10","v":0},0,0,0,0,0,null,{"$f":"J10","v":0},{"$f":"K10","v":0}]
["Total Disbursements/Expenditures",null,{"$f":"SUM(C19:C20)","v":2503565},922000,336814,268500,86050,0,null,{"$f":"SUM(J19:J20)","v":163250},{"$f":"SUM(K19:K20)","v":1000}]
["Excess of Direct Receipts/Revenues Over (Under) Direct Disbursements/Expenditures",null,{"$f":"C9-C19","v":78441},{"$f":"D9-D19","v":-369923},5367,269,50240,14450,15039,-33050,2113839]
["OTHER SOURCES/USES OF FUNDS"]
["OTHER SOURCES OF FUNDS (7000)"]
["PERMANENT TRANSFER FROM VARIOUS FUNDS"]
["Abolishment the Working Cash Fund 16",7110]
["Abatement of the Working Cash Fund 16","7110"]
["Transfer of Working Cash Fund Interest",7120]
["Transfer Among Funds",7130]
["Transfer of Interest",7140]
["Transfer from Capital Projects Fund to O&M Fund",7150,null,{"$f":"H54","v":0}]
["Transfer of Excess Fire Prev & Safety Tax & Interest 3 Proceeds to O&M Fund",7160,null,{"$f":"K55","v":0}]
["Transfer of Excess Accumulated Fire Prev & Safety Bond and Int 3a Proceeds to Debt Service Fund                             ",7170,null,null,{"$f":"K56","v":0}]
["SALE OF BONDS (7200)"]
["Principal on Bonds Sold 4",7210]
["Premium on Bonds Sold",7220]
["Accrued Interest on Bonds Sold",7230]
["Sale or Compensation for Fixed Assets 5",7300]
["Transfer to Debt Service to Pay Principal on GASB 87 Leases",7400,null,null,{"$f":"SUM(C57:H60)","v":0}]
["Transfer to Debt Service to Pay Interest on GASB 87 Leases",7500,null,null,{"$f":"SUM(C61:H64)","v":0}]
["Transfer to Debt Service Fund to Pay Principal on Revenue Bonds",7600,null,null,{"$f":"SUM(C65:D68)","v":0}]
["Transfer to Debt Service Fund to Pay Interest on Revenue Bonds",7700,null,null,{"$f":"SUM(C69:D72)","v":0}]
["Transfer to Capital Projects Fund",7800,null,null,null,null,null,{"$f":"SUM(C73:D76)","v":0}]
["ISBE Loan Proceeds",7900]
["Other Sources Not Classified Elsewhere",7990]
["Total Other Sources of Funds 8",null,{"$f":"SUM(C26:C45)","v":0},{"$f":"SUM(D26:D45)","v":0},0,0,0,0,0,0,0]
["OTHER USES OF FUNDS (8000)"]
[]
["TRANSFER TO VARIOUS OTHER FUNDS (8100)"]
["Abolishment or Abatement of the Working Cash Fund 16","8110",null,null,null,null,null,null,{"$f":"SUM(C26,C27,D27,E27,F27,G27,H27,J27,K27)","v":0}]
["Transfer of Working Cash Fund Interest","8120",null,null,null,null,null,null,{"$f":"SUM(C28:K28)","v":0}]
["Transfer Among Funds","8130"]
["Transfer of Interest 6","8140"]
["Transfer from Capital Projects Fund to O&M Fund","8150"]
["Transfer of Excess Fire Prev & Safety Tax & Interest 3 Proceeds to O&M Fund","8160"]
["Transfer of Excess Accumulated Fire Prev & Safety Bond 3a                                  and Int Proceeds to Debt Service Fund                             ","8170"]
["Taxes Pledged to Pay Principal on GASB 87 Leases","8410"]
["Grants/Reimbursements Pledged to Pay Principal on GASB 87 Leases","8420"]
["Other Revenues Pledged to Pay Principal on GASB 87 Leases","8430"]
["Fund Balance Transfers Pledged to Pay Principal on GASB 87 Leases","8440"]
["Taxes Pledged to Pay Interest on GASB 87 Leases","8510"]
["Grants/Reimbursements Pledged to Pay Interest on GASB 87 Leases","8520"]
["Other Revenues Pledged to Pay Interest on GASB 87 Leases","8530"]
["Fund Balance Transfers Pledged to Pay Interest on GASB 87 Leases","8540"]
["Taxes Pledged to Pay Principal on Revenue Bonds","8610"]
["Grants/Reimbursements Pledged to Pay Principal on Revenue Bonds","8620"]
["Other Revenues Pledged  to Pay Principal on Revenue Bonds","8630"]
["Fund Balance Transfers Pledged to Pay Principal on Revenue Bonds","8640"]
["Taxes Pledged to Pay Interest on Revenue Bonds","8710"]
["Grants/Reimbursements Pledged to Pay Interest on Revenue Bonds","8720"]
["Other Revenues Pledged to Pay Interest on Revenue Bonds","8730"]
["Fund Balance Transfers Pledged to Pay Interest on Revenue Bonds","8740"]
["Taxes Transferred to Pay for Capital Projects","8810"]
["Grants/Reimbursements Pledged to Pay for Capital Projects","8820"]
["Other Revenues Pledged to Pay for Capital Projects","8830"]
["Fund Balance Transfers Pledged to Pay for Capital Projects","8840"]
["Transfer to Debt Service Fund to Pay Principal on ISBE Loans","8910"]
["Other Uses Not Classified Elsewhere","8990"]
["Total Other Uses of Funds 9",null,{"$f":"SUM(C50:C78)","v":0},{"$f":"SUM(D50:D78)","v":0},0,0,0,0,0,0,0]
["Total Other Sources/Uses of Fund",null,{"$f":"C46-C79","v":0},0,0,0,0,0,0,0,0]
[{"$f":"\"ESTIMATED ENDING FUND BALANCE (without Student Activity Funds) as of June 30, \"&'B23'!E2","v":"ESTIMATED ENDING FUND BALANCE (without Student Activity Funds) as of June 30, 2023"},null,{"$f":"C3+C22+C80","v":1507118},146768,{"$f":"E3+E22+E80","v":30449},74621,81343,107515,144968,5952,2199959]
[]
[{"$f":"\"Student Activity (Fund 11) ESTIMATED BEGINNING FUND BALANCE as of July 1, \"&'B23'!E2-1","v":"Student Activity (Fund 11) ESTIMATED BEGINNING FUND BALANCE as of July 1, 2022"},null,50000]
["RECEIPTS/REVENUES (For Student Activity Funds)"]
["Total Student Activity Direct Receipts/Revenues  (Local Sources)",1799,{"$f":"'EstRev 6-11'!D82","v":47500}]
["DISBURSEMENTS/EXPENDITURES (For Student Activity Funds)"]
["Total Student Activity Direct Disbursements/Expenditures",1999,{"$f":"'EstExp 12-20'!L33","v":47000}]
["Excess of Direct Receipts/Revenues Over (Under) Direct Disbursements/Expenditures",null,{"$f":"C85-C87","v":500}]
[{"$f":"\"Student Activity ESTIMATED ENDING FUND BALANCE as of June 30, \"&'B23'!E2","v":"Student Activity ESTIMATED ENDING FUND BALANCE as of June 30, 2023"},null,{"$f":"C83+C88","v":50500}]
[]
[{"$f":"\"Total ESTIMATED BEGINNING FUND BALANCE (All Sources Including Student Activity Funds) as of July 1, \"&'B23'!E2-1","v":"Total ESTIMATED BEGINNING FUND BALANCE (All Sources Including Student Activity Funds) as of July 1, 2022"},null,{"$f":"C3+C83","v":1478677},{"$f":"D3","v":516691},{"$f":"E3","v":25082},74352,31103,93065,129929,39002,86120]
["RECEIPTS/REVENUES  (All Sources with Student Activity Funds)"]
["LOCAL SOURCES",1000,{"$f":"C5+C85","v":1108751},{"$f":"D5","v":226077},{"$f":"E5","v":342181},139769,136290,14450,15039,130200,2114839]
["FLOW-THROUGH RECEIPTS/REVENUES FROM ONE DISTRICT TO ANOTHER DISTRICT",2000,{"$f":"C6","v":0},{"$f":"D6","v":0},null,{"$f":"F6","v":0},{"$f":"G6","v":0}]
["STATE SOURCES",3000,{"$f":"C7","v":1095600},{"$f":"D7","v":50000},0,129000,0,0,0,0,0]
["FEDERAL SOURCES",4000,{"$f":"C8","v":425155},{"$f":"D8","v":276000},0,0,0,0,0,0,0]
["Total Direct Receipts/Revenues 8",null,{"$f":"SUM(C93:C96)","v":2629506},{"$f":"SUM(D93:D96)","v":552077},342181,268769,136290,14450,15039,130200,2114839]
["Receipts/Revenues for \"On Behalf\" Payments 2",3998,{"$f":"C10","v":0},{"$f":"D10","v":0},0,0,0,0,null,0,0]
["Total Receipts/Revenues",null,{"$f":"SUM(C97:C98)","v":2629506},{"$f":"SUM(D97:D98)","v":552077},342181,268769,136290,14450,15039,130200,2114839]
["DISBURSEMENTS/EXPENDITURES (All Sources with Student Activity Funds)"]
["INSTRUCTION","1000",{"$f":"C13+C87","v":1639100},null,null,null,{"$f":"G13","v":24600},null,null,{"$f":"J13","v":6500}]
["SUPPORT SERVICES",2000,{"$f":"C14","v":791465},922000,null,{"$f":"F14","v":268500},61450,{"$f":"H14","v":0},null,{"$f":"J14","v":156750},{"$f":"K14","v":1000}]
["COMMUNITY SERVICES",3000,0,0,null,{"$f":"F15","v":0},0,null,null,{"$f":"J15","v":0}]
["PAYMENTS TO OTHER DISTRICTS & GOVT UNITS",4000,120000,0,{"$f":"E16","v":0},{"$f":"F16","v":0},0,{"$f":"H16","v":0},null,{"$f":"J16","v":0},0]
["DEBT SERVICES",5000,0,0,{"$f":"E17","v":336814},{"$f":"F17","v":0},0,null,null,0,0]
["PROVISION FOR CONTINGENCIES",6000,0,0,{"$f":"E18","v":0},{"$f":"F18","v":0},0,{"$f":"H18","v":0},null,0,0]
["Total Direct Disbursements/Expenditures 9",null,{"$f":"SUM(C101:C106)","v":2550565},922000,336814,268500,86050,0,null,{"$f":"SUM(J101:J106)","v":163250},{"$f":"SUM(K101:K106)","v":1000}]
["Disbursements/Expenditures for \"On Behalf\" Payments 2",4180,{"$f":"C98","v":0},0,0,0,0,0,null,{"$f":"J98","v":0},{"$f":"K98","v":0}]
["Total Disbursements/Expenditures",null,{"$f":"SUM(C107:C108)","v":2550565},922000,336814,268500,86050,0,null,{"$f":"SUM(J107:J108)","v":163250},{"$f":"SUM(K107:K108)","v":1000}]
["Excess of Direct Receipts/Revenues Over (Under) Direct Disbursements/Expenditures",null,{"$f":"C97-C107","v":78941},{"$f":"D97-D107","v":-369923},5367,269,50240,14450,15039,-33050,2113839]
["OTHER SOURCES/USES OF FUNDS"]
["OTHER SOURCES OF FUNDS (7000)"]
["Total Other Sources of Funds 8",null,{"$f":"C46","v":0},{"$f":"D46","v":0},0,0,0,0,0,0,0]
["OTHER USES OF FUNDS (8000)"]
[]
["Total Other Uses of Funds 9",null,{"$f":"C79","v":0},{"$f":"D79","v":0},0,0,0,0,0,0,0]
["Total Other Sources/Uses of Fund",null,{"$f":"C80","v":0},{"$f":"D80","v":0},0,0,0,0,0,0,0]
[{"$f":"\"ESTIMATED ENDING FUND BALANCE (All Sources with Student Activity Funds) as of June 30, \"&'B23'!E2","v":"ESTIMATED ENDING FUND BALANCE (All Sources with Student Activity Funds) as of June 30, 2023"},null,{"$f":"C81+C89","v":1557618},{"$f":"D81+D89","v":146768},30449,74621,81343,107515,144968,5952,2199959]
[]
["SUMMARY OF EXPENDITURES Without Student Activity Funds (by Major Object)"]
[null,null,"(10)","(20)","(30)","(40)","(50)","(60)","(70)","(80)","(90)"]
["Description","Acct #","Educational","Operations & Maintenance","Debt Service","Transportation","Municipal Retirement/ Social Security","Capital Projects","Working Cash","Tort","Fire Prevention & Safety","Total By Object"]
["Object Name"]
["Salaries",100,{"$f":"'EstExp 12-20'!D116","v":1636040},{"$f":"'EstExp 12-20'!D155","v":115000},null,{"$f":"'EstExp 12-20'!D214","v":120000},null,{"$f":"'EstExp 12-20'!D309","v":0},null,{"$f":"'EstExp 12-20'!D$428","v":91500},{"$f":"'EstExp 12-20'!D453","v":0},{"$f":"SUM(C124:K124)","v":1962540}]
["Employee Benefits",200,{"$f":"'EstExp 12-20'!E116","v":321100},{"$f":"'EstExp 12-20'!E155","v":8000},null,{"$f":"'EstExp 12-20'!E214","v":4500},{"$f":"'EstExp 12-20'!E292","v":86050},{"$f":"'EstExp 12-20'!E309","v":0},null,{"$f":"'EstExp 12-20'!E428","v":1750},{"$f":"'EstExp 12-20'!E453","v":0},421400]
["Purchased Services",300,{"$f":"'EstExp 12-20'!F116","v":266000},{"$f":"'EstExp 12-20'!F155","v":175000},{"$f":"'EstExp 12-20'!F178","v":0},{"$f":"'EstExp 12-20'!F214","v":117000},null,{"$f":"'EstExp 12-20'!F309","v":0},null,{"$f":"'EstExp 12-20'!F428","v":70000},{"$f":"'EstExp 12-20'!F453","v":1000},629000]
["Supplies & Materials",400,{"$f":"'EstExp 12-20'!G116","v":159425},{"$f":"'EstExp 12-20'!G155","v":60000},null,{"$f":"'EstExp 12-20'!G214","v":27000},null,{"$f":"'EstExp 12-20'!G309","v":0},null,{"$f":"'EstExp 12-20'!G428","v":0},{"$f":"'EstExp 12-20'!G453","v":0},246425]
["Capital Outlay",500,{"$f":"'EstExp 12-20'!H116","v":36000},{"$f":"'EstExp 12-20'!H155","v":564000},null,{"$f":"'EstExp 12-20'!H214","v":0},null,{"$f":"'EstExp 12-20'!H309","v":0},null,{"$f":"'EstExp 12-20'!H428","v":0},{"$f":"'EstExp 12-20'!H453","v":0},600000]
["Other Objects",600,{"$f":"'EstExp 12-20'!I116","v":85000},{"$f":"'EstExp 12-20'!I155","v":0},{"$f":"'EstExp 12-20'!I178","v":336814},{"$f":"'EstExp 12-20'!I214","v":0},{"$f":"'EstExp 12-20'!I292","v":0},{"$f":"'EstExp 12-20'!I309","v":0},null,{"$f":"'EstExp 12-20'!I428","v":0},{"$f":"'EstExp 12-20'!I453","v":0},421814]
["Non-Capitalized Equipment ",700,{"$f":"'EstExp 12-20'!J116","v":0},{"$f":"'EstExp 12-20'!J155","v":0},null,{"$f":"'EstExp 12-20'!J214","v":0},null,{"$f":"'EstExp 12-20'!J309","v":0},null,{"$f":"'EstExp 12-20'!J428","v":0},{"$f":"'EstExp 12-20'!J453","v":0},0]
["Termination Benefits",800,{"$f":"'EstExp 12-20'!K116","v":0},{"$f":"'EstExp 12-20'!K155","v":0},null,{"$f":"'EstExp 12-20'!K214","v":0},null,null,null,{"$f":"'EstExp 12-20'!K428","v":0},null,0]
["Total Expenditures",null,{"$f":"SUM(C124:C131)","v":2503565},922000,336814,268500,86050,0,null,{"$f":"SUM(J124:J131)","v":163250},{"$f":"SUM(K124:K131)","v":1000},4281179]

{"sheet":"CashSum 5","index":3,"n_rows":37,"n_cols":11,"rows_kept":37,"cut":false,"hidden":false,"merged":[[33,0,33,1],[34,0,34,1],[36,0,36,1],[25,0,25,1],[26,0,26,1],[29,0,29,1],[31,0,31,1],[23,0,23,1],[3,0,3,1],[10,0,10,1],[12,0,12,1],[18,0,18,1],[20,0,20,1]]}
[null,null,"(10)","(20)","(30)","(40)","(50)","(60)","(70)","(80)","(90)"]
["Description:  Enter Whole Numbers Only","Acct #","  Educational   ","Operations & Maintenance","Debt Service","Transportation","   Municipal Retirement/ Social Security","Capital Projects","Working Cash","Tort","Fire Prevention & Safety"]
["BEGINNING CASH BALANCE ON HAND (without Student Activity Funds)7 as of July 1, 2022",null,1428677,516691,25082,74352,31103,93065,129929,39002,86120]
["Total Direct Receipts & Other Sources 8",null,{"$f":"'BudgetSum 2-4'!C9+'BudgetSum 2-4'!C46","v":2582006},{"$f":"'BudgetSum 2-4'!D9+'BudgetSum 2-4'!D46","v":552077},{"$f":"'BudgetSum 2-4'!E9+'BudgetSum 2-4'!E46","v":342181},{"$f":"'BudgetSum 2-4'!F9+'BudgetSum 2-4'!F46","v":268769},{"$f":"'BudgetSum 2-4'!G9+'BudgetSum 2-4'!G46","v":136290},{"$f":"'BudgetSum 2-4'!H9+'BudgetSum 2-4'!H46","v":14450},{"$f":"'BudgetSum 2-4'!I9+'BudgetSum 2-4'!I46","v":15039},{"$f":"'BudgetSum 2-4'!J9+'BudgetSum 2-4'!J46","v":130200},{"$f":"'BudgetSum 2-4'!K9+'BudgetSum 2-4'!K46","v":2114839}]
["OTHER RECEIPTS"]
["Interfund Loans Payable (Loans from Other Funds)",411]
["Interfund Loans Receivable (Repayment of Loans)",141]
["Notes and Warrants Payable",433]
["Other Current Assets",199]
["Total Other Receipts",null,{"$f":"SUM(C6:C9)","v":0},{"$f":"SUM(D6:D9)","v":0},0,0,0,0,0,0,0]
["Total Direct Receipts, Other Sources, & Other Receipts",null,{"$f":"SUM(C4,C10)","v":2582006},{"$f":"SUM(D4,D10)","v":552077},342181,268769,136290,14450,15039,130200,2114839]
["Total Amount Available",null,{"$f":"SUM(C3,C11)","v":4010683},{"$f":"SUM(D3,D11)","v":1068768},367263,343121,167393,107515,144968,169202,2200959]
["Total Direct Disbursements & Other Uses 9",null,{"$f":"SUM('BudgetSum 2-4'!C19,'BudgetSum 2-4'!C79)","v":2503565},{"$f":"SUM('BudgetSum 2-4'!D19,'BudgetSum 2-4'!D79)","v":922000},{"$f":"SUM('BudgetSum 2-4'!E19,'BudgetSum 2-4'!E79)","v":336814},{"$f":"SUM('BudgetSum 2-4'!F19,'BudgetSum 2-4'!F79)","v":268500},{"$f":"SUM('BudgetSum 2-4'!G19,'BudgetSum 2-4'!G79)","v":86050},{"$f":"SUM('BudgetSum 2-4'!H19,'BudgetSum 2-4'!H79)","v":0},{"$f":"SUM('BudgetSum 2-4'!I19,'BudgetSum 2-4'!I79)","v":0},{"$f":"SUM('BudgetSum 2-4'!J19,'BudgetSum 2-4'!J79)","v":163250},{"$f":"SUM('BudgetSum 2-4'!K19,'BudgetSum 2-4'!K79)","v":1000}]
["OTHER DISBURSEMENTS"]
["Interfund Loans Receivable (Loans to Other Funds) 10",141]
["Interfund Loans Payable (Repayment of Loans)",411]
["Notes and Warrants Payable",433]
["Other Current Liabilities",499]
["Total Other Disbursements",null,{"$f":"SUM(C15:C18)","v":0},0,0,0,0,0,0,0,0]
["Total Direct Disbursements, Other Uses, & Other Disbursements",null,{"$f":"SUM(C13,C19)","v":2503565},{"$f":"SUM(D13,D19)","v":922000},{"$f":"SUM(E13,E19)","v":336814},268500,86050,0,0,163250,1000]
["ENDING CASH BALANCE ON HAND (without Student Activity Funds)7 as of June 30, 2023",null,{"$f":"SUM(C12-C20)","v":1507118},{"$f":"SUM(D12-D20)","v":146768},30449,74621,81343,107515,144968,5952,2199959]
[]
["Activity Funds BEGINNING CASH BALANCE ON HAND7 as of July 1, 2022",null,50000]
["Total Direct Receipts & Other Sources 8",null,{"$f":"'BudgetSum 2-4'!C85","v":47500}]
["Total Amount Available",null,{"$f":"SUM(C23,C24)","v":97500}]
["Total Direct Disbursements & Other Uses 9",null,{"$f":"'BudgetSum 2-4'!C87","v":47000}]
["Activity funds ENDING CASH BALANCE ON HAND7 as of June 30, 2023",null,{"$f":"SUM(C25-C26)","v":50500}]
[]
["Total BEGINNING CASH BALANCE ON HAND (with Student Activity Funds)7 as of July 1, 2022",null,{"$f":"C3+C23","v":1478677},{"$f":"D3","v":516691},25082,74352,31103,93065,129929,39002,86120]
["Total Direct Receipts & Other Sources 8",null,{"$f":"C4+C24","v":2629506},552077,342181,268769,136290,14450,15039,130200,2114839]
["Total Other Receipts",null,{"$f":"C10","v":0},0,0,0,0,0,0,0,0]
["Total Direct Receipts, Other Sources, & Other Receipts",null,{"$f":"SUM(C30,C31)","v":2629506},552077,342181,268769,136290,14450,15039,130200,2114839]
["Total Amount Available",null,{"$f":"SUM(C29,C32)","v":4108183},1068768,367263,343121,167393,107515,144968,169202,2200959]
["Total Direct Disbursements & Other Uses 9",null,{"$f":"C13+C26","v":2550565},{"$f":"D13","v":922000},336814,268500,86050,0,0,163250,1000]
["Total Other Disbursements",null,{"$f":"C19","v":0},0,0,0,0,0,0,0,0]
["Total Direct Disbursements, Other Uses, & Other Disbursements",null,{"$f":"SUM(C34,C35)","v":2550565},922000,336814,268500,86050,0,0,163250,1000]
["Total ENDING CASH BALANCE ON HAND (with Student Activity Funds)7 as of June 30, 2023",null,{"$f":"SUM(C33-C36)","v":1557618},146768,30449,74621,81343,107515,144968,5952,2199959]

{"sheet":"EstRev 6-11","index":4,"n_rows":271,"n_cols":12,"rows_kept":271,"cut":false,"hidden":false,"merged":[[173,1,173,2],[176,1,176,2],[177,1,177,2],[183,1,183,2]]}
[null,null,null,"(10)","(20)","(30)","(40)","(50)","(60)","(70)","(80)","(90)"]
["VLOOKUP","Description:  Enter Whole Numbers Only","Acct      #","Educational     ","Operations & Maintenance","Debt Service","Transportation","Municipal Retirement/ Social Security","Capital Projects","Working Cash","Tort","Fire Prevention & Safety"]
[null,"RECEIPTS/REVENUES FROM LOCAL SOURCES (1000)"]
[null,"AD VALOREM TAXES LEVIED BY LOCAL EDUCATION AGENCY",1100]
[null,"Designated Purposes Levies   11  (1110-1120)","­",720000,216577,287000,57754,55000,null,14439,120000,14439]
[null,"Leasing Purposes Levy 12 ",1130,14000,7000]
[null,"Special Education Purposes Levy",1140,11551]
[null,"FICA and Medicare Only Levies",1150,null,null,null,null,51000]
[null,"Area Vocational Construction Purposes Levy",1160]
[null,"Summer School Purposes Levy",1170]
[1190,"Other Tax Levies (Describe & Itemize)",1190]
[null,"Total Ad Valorem Taxes Levied by District",null,{"$f":"SUM(D5:D11)","v":745551},{"$f":"SUM(E5:E11)","v":223577},287000,57754,106000,0,14439,120000,14439]
[null,"PAYMENTS IN LIEU OF TAXES",1200]
[null,"Mobile Home Privilege Tax",1210]
[null,"Payments from Local Housing Authority",1220]
[null,"Corporate Personal Property Replacement Taxes13",1230,127000,null,1000,82000,30000,null,null,10000]
[1290,"Other Payments in Lieu of Taxes (Describe & Itemize)",1290]
[null,"Total Payments in Lieu of Taxes",null,{"$f":"SUM(D14:D17)","v":127000},{"$f":"SUM(E14:E17)","v":0},1000,82000,30000,0,0,10000,0]
[null,"TUITION",1300]
[null,"Regular Tuition from Pupils or Parents (In State)",1311]
[null,"Regular Tuition from Other Districts (In State)",1312]
[null,"Regular Tuition from Other Sources (In State)",1313]
[null,"Regular Tuition from Other Sources (Out of State)",1314]
[null,"Summer School Tuition from Pupils or Parents (In State)",1321]
[null,"Summer School Tuition from Other Districts (In State)",1322]
[null,"Summer School Tuition from Other Sources (In State)",1323]
[null,"Summer School Tuition from Other Sources (Out of State)",1324]
[null,"CTE Tuition from Pupils or Parents (In State)",1331]
[null,"CTE Tuition from Other Districts (In State)",1332]
[null,"CTE Tuition from Other Sources (In State)",1333]
[null,"CTE Tuition from Other Sources (Out of State)",1334]
[null,"Special Education Tuition from Pupils or Parents (In State)",1341]
[null,"Special Education Tuition from Other Districts (In State)",1342]
[null,"Special Education Tuition from Other Sources (In State)",1343]
[null,"Special Education Tuition from Other Sources (Out of State)",1344]
[null,"Adult Tuition from Pupils or Parents (In State)",1351]
[null,"Adult Tuition from Other Districts (In State)",1352]
[null,"Adult Tuition from Other Sources (In State)",1353]
[null,"Adult Tuition from Other Sources (Out of State)",1354]
[null,"Total Tuition",null,{"$f":"SUM(D20:D39)","v":0}]
[null,"TRANSPORTATION FEES",1400]
[null,"Regular Transportation Fees from Pupils or Parents (In State)",1411]
[null,"Regular Transportation Fees from Other Districts (In State)",1412]
[null,"Regular Transportation Fees from Other Sources (In State)",1413]
[null,"Regular Transportation Fees from Co-curricular Activities (In State)",1415]
[null,"Regular Transportation Fees from Other Sources (Out of State)",1416]
[null,"Summer School Transportation Fees from Pupils or Parents (In State)",1421]
[null,"Summer School Transportation Fees from Other Districts (In State)",1422]
[null,"Summer School Transportation Fees from Other Sources (In State)",1423]
[null,"Summer School Transportation Fees from Other Sources (Out of State)",1424]
[null,"CTE Transportation Fees from Pupils or Parents (In State)","1431"]
[null,"CTE Transportation Fees from Other Districts (In State)","1432"]
[null,"CTE Transportation Fees from Other Sources (In State)",1433]
[null,"CTE Transportation Fees from Other Sources (Out of State)","1434"]
[null,"Special Education Transportation Fees from Pupils or Parents (In State)",1441]
[null,"Special Education Transportation Fees from Other Districts (In State)",1442]
[null,"Special Education Transportation Fees from Other Sources (In State)",1443]
[null,"Special Education Transportation Fees from Other Sources (Out of State)","1444"]
[null,"Adult Transportation Fees from Pupils or Parents (In State)",1451]
[null,"Adult Transportation Fees from Other Districts (In State)",1452]
[null,"Adult Transportation Fees from Other Sources (In State)",1453]
[null,"Adult Transportation Fees from Other Sources (Out of State)","1454"]
[null,"Total Transportation Fees",null,null,null,null,{"$f":"SUM(G42:G62)","v":0}]
[null,"EARNINGS ON INVESTMENTS","1500"]
[null,"Interest on Investments",1510,8600,2500,400,15,290,450,600,200,400]
[null,"Gain or Loss on Sale of Investments",1520]
[null,"Total Earnings on Investments",null,{"$f":"SUM(D65:D66)","v":8600},{"$f":"SUM(E65:E66)","v":2500},400,15,290,450,600,200,400]
[null,"FOOD SERVICE","1600"]
[null,"Sales to Pupils - Lunch",1611]
[null,"Sales to Pupils - Breakfast",1612]
[null,"Sales to Pupils - A la Carte",1613,2200]
[1614,"Sales to Pupils - Other (Describe & Itemize)",1614]
[null,"Sales to Adults",1620]
[1690,"Other Food Service (Describe & Itemize)",1690]
[null,"Total Food Service",null,{"$f":"SUM(D69:D74)","v":2200}]
[null,"DISTRICT/SCHOOL ACTIVITY INCOME","1700"]
[null,"Admissions - Athletic",1711,11500]
[null,"Admissions - Other",1719,1500]
[null,"Fees",1720,1750]
[null,"Book Store Sales",1730]
[1790,"Other District/School Activity Revenue (Describe & Itemize)",1790]
[null,"Student Activity Fund Revenues ","1799",47500]
[null,"Total District/School Activity Income (without Student Activity Funds 1799)",null,{"$f":"SUM(D77:D81)","v":14750},{"$f":"SUM(E77:E81)","v":0}]
[null,"Total District/School Activity Income (with Student Activity Funds 1799)",null,{"$f":"D83+D82","v":62250}]
[null,"TEXTBOOK INCOME","1800"]
[null,"Textbook Rentals - Regular Textbooks",1811,1000]
[null,"Textbook Rentals - Summer School Textbooks",1812]
[null,"Textbook Rentals - Adult/Continuing Education Textbooks",1813]
[1819,"Textbook Rentals - Other (Describe & Itemize)",1819,4700]
[null,"Textbook Sales - Regular Textbooks",1821]
[null,"Textbook Sales - Summer School",1822]
[null,"Textbook Sales - Adult/Continuing Education",1823]
[1829,"Textbook Sales - Other (Describe & Itemize)",1829,600]
[1890,"Other Textbook Income (Describe & Itemize)",1890,50]
[null,"Total Textbooks",null,{"$f":"SUM(D86:D94)","v":6350}]
[null,"OTHER REVENUE FROM LOCAL SOURCES","1900"]
[null,"Rentals",1910,13000]
[null,"Contributions and Donations from Private Sources",1920]
[null,"Impact Fees from Municipal or County Governments",1930]
[null,"Services Provided Other Districts",1940]
[null,"Refund of Prior Years' Expenditures",1950]
[null,"Payments of Surplus Moneys from TIF Districts",1960,8700]
[null,"Drivers' Education Fees",1970,500]
[null,"Proceeds from Vendors' Contracts",1980]
[null,"School Facility Occupation Tax Proceeds",1983,null,null,53781,null,null,14000]
[null,"Payment from Other Districts",1991,103000]
[null,"Sale of Vocational Projects",1992]
[1993,"Other Local Fees (Describe & Itemize)",1993]
[1999,"Other Local Revenues (Describe & Itemize)",1999,31600,null,null,null,null,null,null,null,2100000]
[null,"Total Other Revenue from Local Sources",null,{"$f":"SUM(D97:D109)","v":156800},{"$f":"SUM(E97:E109)","v":0},{"$f":"SUM(F97:F109)","v":53781},0,0,14000,0,0,2100000]
[null,"Total Receipts/Revenues from Local Sources (without Student Activity Funds 1799)","1000",{"$f":"SUM(D12,D18,D40,D63,D67,D75,D83,D95,D110)","v":1061251},226077,342181,139769,136290,14450,15039,130200,2114839]
[null,"Total Receipts/Revenues from Local Sources (with Student Activity Funds 1799)",null,{"$f":"D12+D18+D40+D67+D75+D84+D95+D110","v":1108751}]
[null,"FLOW-THROUGH RECEIPTS/REVENUES FROM ONE                                               DISTRICT TO ANOTHER DISTRICT (2000)"]
[null,"Flow-Through Revenue from State Sources",2100]
[null,"Flow-Through Revenue from Federal Sources",2200]
[2300,"Other Flow-Through Revenue (Describe & Itemize)",2300]
[null,"Total Flow-Through Receipts/Revenues From One District to Another District","2000",{"$f":"SUM(D114:D116)","v":0},{"$f":"SUM(E114:E116)","v":0},null,{"$f":"SUM(G114:G116)","v":0},{"$f":"SUM(H114:H116)","v":0}]
[null,"RECEIPTS/REVENUES FROM STATE SOURCES (3000)"]
[null,"UNRESTRICTED GRANTS-IN-AID (3001-3099)"]
[null,"Evidence Based Funding Formula (Section 18-8.15)",3001,1010000]
[null,"Reorganization Incentives (Accounts 3005-3021)",3005]
[null,"Fast Growth District Grants","3030"]
[3099,"Other Unrestricted Grants-In-Aid From State Sources (Describe & Itemize)",3099]
[null,"Total Unrestricted Grants-In-Aid",null,{"$f":"SUM(D120:D123)","v":1010000},0,0,0,0,0,null,{"$f":"SUM(K120:K123)","v":0},{"$f":"SUM(L120:L123)","v":0}]
[null,"RESTRICTED GRANTS-IN-AID (3100-3900)"]
[null,"SPECIAL EDUCATION"]
[null,"Special Education - Private Facility Tuition",3100]
[null,"Special Education - Funding for Children Requiring Sp Ed Services",3105]
[null,"Special Education - Personnel ",3110]
[null,"Special Education - Orphanage - Individual",3120]
[null,"Special Education - Orphanage - Summer Individual",3130]
[null,"Special Education - Summer School",3145]
[3199,"Special Education - Other (Describe & Itemize)",3199]
[null,"Total Special Education",null,{"$f":"SUM(D127:D133)","v":0},{"$f":"SUM(E127:E133)","v":0},null,{"$f":"SUM(G127:G133)","v":0}]
[null,"CAREER AND TECHNICAL EDUCATION (CTE)"]
[null,"CTE - Technical Education - Tech Prep",3200]
[null,"CTE - Secondary Program Improvement (CTEI)",3220]
[null,"CTE - WECEP",3225]
[null,"CTE - Agriculture Education",3235,12000]
[null,"CTE - Instructor Practicum",3240]
[null,"CTE - Student Organizations",3270]
[3299,"CTE - Other (Describe & Itemize)",3299]
[null,"Total Career and Technical Education",null,{"$f":"SUM(D136:D142)","v":12000},{"$f":"SUM(E136:E142)","v":0},null,null,{"$f":"SUM(H136:H142)","v":0}]
[null,"BILINGUAL EDUCATION"]
[null,"Bilingual Education - Downstate - TPI and TBE",3305]
[null,"Bilingual Education - Downstate - Transitional Bilingual Education",3310]
[null,"Total Bilingual Education",null,{"$f":"SUM(D145:D146)","v":0},null,null,null,{"$f":"SUM(H145:H146)","v":0}]
[null,"State Free Lunch & Breakfast",3360,400]
[null,"School Breakfast Initiative",3365]
[null,"Driver Education",3370,3200]
[null,"Adult Education (from ICCB)",3410]
[3499,"Adult Education - Other (Describe & Itemize)",3499]
[null,"TRANSPORTATION"]
[null,"Transportation - Regular and Vocational",3500,null,null,null,75000]
[null,"Transportation - Special Education",3510,null,null,null,54000]
[3599,"Transportation - Other (Describe & Itemize)",3599]
[null,"Total Transportation",null,{"$f":"SUM(D154:D156)","v":0},{"$f":"SUM(E154:E156)","v":0},null,{"$f":"SUM(G154:G156)","v":129000},{"$f":"SUM(H154:H156)","v":0}]
[null,"Learning Improvement - Change Grants",3610]
[null,"Scientific Literacy",3660]
[null,"Truant Alternative/Optional Education",3695]
[null,"Early Childhood - Block Grant",3705,70000]
[null,"Chicago General Education Block Grant",3766]
[null,"Chicago Educational Services Block Grant",3767]
[null,"School Safety & Educational Improvement Block Grant",3775]
[null,"Technology - Technology for Success",3780]
[null,"State Charter Schools",3815]
[null,"Extended Learning Opportunities - Summer Bridges",3825]
[null,"Infrastructure Improvements - Planning/Construction",3920]
[null,"School Infrastructure - Maintenance Projects",3925,null,50000]
[3999,"Other Restricted Revenue from State Sources (Describe & Itemize)",3999]
[null,"Total Restricted Grants-In-Aid",null,{"$f":"SUM(D134,D143,D147:D152,D157:D170)","v":85600},50000,0,129000,0,0,0,0,0]
[null,"Total Receipts/Revenues from State Sources",3000,{"$f":"SUM(D124,D171)","v":1095600},50000,0,129000,0,0,0,0,0]
[null,"RECEIPTS/REVENUES FROM FEDERAL SOURCES (4000)"]
[null,"UNRESTRICTED GRANTS-IN-AID RECEIVED DIRECTLY FROM FEDERAL GOVT. (4001-4009)"]
[null,"Federal Impact Aid",4001]
[4009,"Other Unrestricted Grants-In-Aid Received from Fed. Govt. (Describe & Itemize)",4009]
[null,"Total Unrestricted Grants-In-Aid Received Directly from Fed Govt",null,{"$f":"SUM(D175:D176)","v":0},{"$f":"SUM(E175:E176)","v":0},0,0,0,0,0,0,0]
[null,"RESTRICTED GRANTS-IN-AID RECEIVED DIRECTLY FROM FEDERAL GOVT                     (4045-4090)"]
[null,"Head Start",4045]
[null,"Construction (Impact Aid)",4050]
[null,"MAGNET",4060]
[4090,"Other Restricted Grants-In-Aid Received from Fed. Govt. (Describe & Itemize)",4090]
[null,"Total Restricted Grants-In-Aid Received Directly  from Federal Govt.",null,{"$f":"SUM(D179:D182)","v":0},{"$f":"SUM(E179:E182)","v":0},null,{"$f":"SUM(G179:G182)","v":0},{"$f":"SUM(H179:H182)","v":0},{"$f":"SUM(I179:I182)","v":0},null,null,{"$f":"SUM(L179:L182)","v":0}]
[null,"RESTRICTED GRANTS-IN-AID RECEIVED FROM FEDERAL                                                     GOVT. THRU THE STATE  (4100-4999)"]
[null,"TITLE V"]
[null,"Title V - Flexibility and Accountability",4100]
[null,"Title V - SEA Projects","4105"]
[null,"Title V - Rural Education Initiative (REI)","4107",16300]
[4199,"Title V - Other (Describe & Itemize)","4199"]
[null,"Total Title V",null,{"$f":"SUM(D186:D189)","v":16300},{"$f":"SUM(E186:E189)","v":0},null,{"$f":"SUM(G186:G189)","v":0},{"$f":"SUM(H186:H189)","v":0}]
[null,"FOOD SERVICE"]
[null,"Breakfast Start-Up Expansion","4200"]
[null,"National School Lunch Program",4210,80000]
[null,"Special Milk Program",4215]
[null,"School Breakfast Program",4220,22000]
[null,"Summer Food Service Admin/Program",4225]
[null,"Child and Adult Care Food Program",4226]
[null,"Fresh Fruit and Vegetables",4240]
[4299,"Food Service - Other (Describe & Itemize)",4299,8700]
[null,"Total Food Service",null,{"$f":"SUM(D192:D199)","v":110700},null,null,null,{"$f":"SUM(H192:H199)","v":0}]
[null,"TITLE I"]
[null,"Title I - Low Income",4300,98000]
[null,"Title I - Low Income - Neglected, Private",4305]
[null,"Title I - Migrant Education",4340]
[4399,"Title I - Other (Describe & Itemize)",4399,18000]
[null,"Total Title I",null,{"$f":"SUM(D202:D205)","v":116000},{"$f":"SUM(E202:E205)","v":0},null,{"$f":"SUM(G202:G205)","v":0},{"$f":"SUM(H202:H205)","v":0}]
[null,"TITLE IV"]
[null,"Title IV - Student Support & Academic Enrichment Grant",4400,2455]
[null,"Title IV - 21st Century",4421]
[4499,"Title IV - Other (Describe & Itemize)",4499]
[null,"Total Title IV",null,{"$f":"SUM(D208:D210)","v":2455},{"$f":"SUM(E208:E210)","v":0},null,{"$f":"SUM(G208:G210)","v":0},{"$f":"SUM(H208:H210)","v":0}]
[null,"FEDERAL - SPECIAL EDUCATION"]
[null,"Federal Special Education - Preschool Flow-Through","4600",1600]
[null,"Federal Special Education - Preschool Discretionary",4605]
[null,"Federal Special Education - IDEA Flow Through",4620,67000]
[null,"Federal Special Education - IDEA Room & Board",4625]
[null,"Federal Special Education - IDEA Discretionary",4630]
[4699,"Federal Special Education - IDEA - Other (Describe & Itemize)",4699]
[null,"Total Federal Special Education",null,{"$f":"SUM(D213:D218)","v":68600},{"$f":"SUM(E213:E218)","v":0},null,{"$f":"SUM(G213:G218)","v":0},{"$f":"SUM(H213:H218)","v":0}]
[null,"CTE - PERKINS"]
[null,"CTE - Perkins-Title IIIE Tech Prep",4770]
[4799,"CTE - Other (Describe & Itemize)",4799]
[null,"Total CTE - Perkins",null,{"$f":"SUM(D221:D222)","v":0},{"$f":"SUM(E221:E222)","v":0},null,null,{"$f":"SUM(H221:H222)","v":0}]
[null,"Federal - Adult Education",4810]
[null,"ARRA - General State Aid - Education Stabilization",4850]
[null,"ARRA - Title I - Low Income",4851]
[null,"ARRA - Title I - Neglected, Private",4852]
[null,"ARRA - Title I - Delinquent, Private",4853]
[null,"ARRA - Title I - School Improvement (Part A)",4854]
[null,"ARRA - Title I - School Improvement (Section 1003g)",4855]
[null,"ARRA - IDEA - Part B - Preschool",4856]
[null,"ARRA - IDEA - Part B - Flow-Through",4857]
[null,"ARRA - Title IID - Technology - Formula",4860]
[null,"ARRA - Title IID - Technology - Competitive",4861]
[null,"ARRA - McKinney - Vento Homeless Education",4862]
[null,"ARRA - Child Nutrition Equipment Assistance",4863]
[null,"Impact Aid Formula Grants",4864]
[null,"Impact Aid Competitive Grants",4865]
[null,"Qualified Zone Academy Bond Tax Credits",4866]
[null,"Qualified School Construction Bond Credits",4867]
[null,"Build America Bond Tax Credits",4868]
[null,"Build America Bond Interest Reimbursement",4869]
[null,"ARRA - General State Aid - Other Government Services Stabilization",4870]
[null,"Other ARRA Funds - II",4871]
[null,"Other ARRA Funds - III",4872]
[null,"Other ARRA Funds - IV",4873]
[null,"Other ARRA Funds - V",4874]
[null,"ARRA - Early Childhood",4875]
[null,"Other ARRA Funds - VII",4876]
[null,"Other ARRA Funds - VIII",4877]
[null,"Other ARRA Funds - IX",4878]
[null,"Other ARRA Funds - X",4879]
[null,"Other ARRA Funds - Ed Job Fund Program",4880]
[null,"Total Stimulus Programs",null,{"$f":"SUM(D225:D253)","v":0},0,0,0,0,0,null,{"$f":"SUM(K225:K253)","v":0},{"$f":"SUM(L225:L253)","v":0}]
[null,"    Race to the Top Program",4901]
[null,"Race to the Top - Preschool Expansion Grant",4902]
[null,"Title III - Instruction for English Learners & Immigrant Students",4905]
[null,"Title III - English Language Acquistion ",4909]
[null,"McKinney Education for Homeless Children",4920]
[null,"Title II - Eisenhower - Professional Development Formula",4930]
[null,"Title II - Teacher Quality",4932]
[null,"Federal Charter Schools",4960]
[null,"State Assessment Grants",4981]
[null,"Grant for State Assessments and Related Activities ",4982]
[null,"Medicaid Matching Funds - Administrative Outreach",4991,14000]
[null,"Medicaid Matching Funds - Fee-For-Service Program",4992,12000]
[4998,"Other Restricted Grants Received from Fed. Govt. thru State (Describe & Itemize)",4998,85100,276000]
[null,"Total Restricted Grants-In-Aid Received from Federal Govt. Thru the State",null,{"$f":"SUM(D190,D200,D206,D211,D219,D223:D224,D254:D267)","v":425155},{"$f":"SUM(E190,E200,E206,E211,E219,E223:E224,E254:E267)","v":276000},{"$f":"SUM(F254:F256)","v":0},{"$f":"SUM(G190,G200,G206,G211,G219,G223:G224,G254:G267)","v":0},{"$f":"SUM(H190,H200,H206,H211,H219,H223:H224,H254:H267)","v":0},{"$f":"SUM(I190,I200,I206,I211,I219,I223:I224,I254:I267)","v":0},null,{"$f":"SUM(K254:K256)","v":0},{"$f":"SUM(L190,L200,L206,L211,L219,L223:L224,L254:L267)","v":0}]
[null,"TOTAL RECEIPTS/REVENUES FROM FEDERAL SOURCES",4000,{"$f":"SUM(D177,D183,D268)","v":425155},276000,0,0,0,0,0,0,0]
[null,"TOTAL DIRECT RECEIPTS/REVENUES (without Student Activity Funds 1799)",null,{"$f":"SUM(D111,D117,D172,D269)","v":2582006},{"$f":"SUM(E111,E117,E172,E269)","v":552077},{"$f":"SUM(F111,F117,F172,F269)","v":342181},{"$f":"SUM(G111,G117,G172,G269)","v":268769},{"$f":"SUM(H111,H117,H172,H269)","v":136290},14450,{"$f":"SUM(J111,J117,J172,J269)","v":15039},130200,2114839]
[null,"TOTAL DIRECT RECEIPTS/REVENUES (with Student Activity Funds 1799)",null,{"$f":"SUM(D112,D117,D172,D269)","v":2629506}]

{"sheet":"EstExp 12-20","index":5,"n_rows":454,"n_cols":12,"rows_kept":454,"cut":false,"hidden":false,"merged":[[427,1,427,2],[428,1,428,2],[0,1,1,1],[453,1,453,2],[452,1,452,2],[291,1,291,2],[213,1,213,2],[178,1,178,2],[292,1,292,2]]}
[null,"Description:  Enter Whole Numbers Only",null,"(100)","(200)","(300)","(400)","(500)","(600)","(700)","(800)","(900)"]
["VLOOKUP",null,"Funct #","Salaries","Employee Benefits","Purchased Services","Supplies & Materials","Capital Outlay","Other Objects","Non-Capitalized Equipment","Termination Benefits","Total"]
[null,"10 - EDUCATIONAL FUND (ED)"]
[null,"INSTRUCTION (ED)","1000"]
[null,"Regular Programs",1100,915000,175000,50000,50000,20000,null,null,null,{"$f":"SUM(D5:K5)","v":1210000}]
[null,"Tuition Payment to Charter Schools",1115,null,null,null,null,null,null,null,null,{"$f":"SUM(D6:K6)","v":0}]
[null,"Pre-K Programs",1125,36500,10000,1500,2000,5000,null,null,null,{"$f":"SUM(D7:K7)","v":55000}]
[null,"Special Education Programs (Functions 1200 - 1220)",1200,175000,13000,null,500,null,null,null,null,188500]
[null,"Special Education Programs Pre-K",1225,null,null,null,null,null,null,null,null,0]
[null,"Remedial and Supplemental Programs K-12",1250,65000,18500,5500,2900,11000,null,null,null,102900]
[null,"Remedial and Supplemental Programs Pre-K",1275,null,null,null,null,null,null,null,null,0]
[null,"Adult/Continuing Education Programs",1300,null,null,null,null,null,null,null,null,0]
[null,"CTE Programs",1400,null,null,7000,null,null,null,null,null,7000]
[null,"Interscholastic Programs",1500,10000,500,10000,700,null,null,null,null,21200]
[null,"Summer School Programs",1600,null,null,null,null,null,null,null,null,0]
[null,"Gifted Programs",1650,null,null,null,null,null,null,null,null,0]
[null,"Driver's Education Programs",1700,6500,1000,null,null,null,null,null,null,7500]
[null,"Bilingual Programs",1800,null,null,null,null,null,null,null,null,0]
[null,"Truant Alternative & Optional Programs",1900,null,null,null,null,null,null,null,null,0]
[null,"Pre-K Programs - Private Tuition",1910,null,null,null,null,null,null,null,null,0]
[null,"Regular K-12 Programs  Private Tuition",1911,null,null,null,null,null,null,null,null,0]
[null,"Special Education Programs K-12 Private Tuition",1912,null,null,null,null,null,null,null,null,0]
[null,"Special Education Programs Pre-K Tuition",1913,null,null,null,null,null,null,null,null,0]
[null,"Remedial/Supplemental Programs K-12 Private Tuition",1914,null,null,null,null,null,null,null,null,0]
[null,"Remedial/Supplemental Programs Pre-K Private Tuition",1915,null,null,null,null,null,null,null,null,0]
[null,"Adult/Continuing Education Programs Private Tuition",1916,null,null,null,null,null,null,null,null,0]
[null,"CTE Programs Private Tuition",1917,null,null,null,null,null,null,null,null,0]
[null,"Interscholastic Programs Private Tuition",1918,null,null,null,null,null,null,null,null,0]
[null,"Summer School Programs Private Tuition",1919,null,null,null,null,null,null,null,null,0]
[null,"Gifted Programs Private Tuition",1920,null,null,null,null,null,null,null,null,0]
[null,"Bilingual Programs Private Tuition",1921,null,null,null,null,null,null,null,null,0]
[null,"Truants Alternative/Opt Ed Programs Private Tuition",1922,null,null,null,null,null,null,null,null,0]
[null,"Student Activity Fund Expenditures ",1999,null,null,null,null,null,47000,null,null,{"$f":"SUM(D33:K33)","v":47000}]
[null,"Total Instruction14 (Without Student Activity Funds 1999)",1000,{"$f":"SUM(D5:D32)","v":1208000},{"$f":"SUM(E5:E32)","v":218000},74000,56100,36000,{"$f":"SUM(I5:I32)","v":0},0,0,1592100]
[null,"Total Instruction14 (With Student Activity Funds 1999)",1000,{"$f":"SUM(D5:D33)","v":1208000},{"$f":"SUM(E5:E33)","v":218000},74000,56100,36000,{"$f":"SUM(I5:I33)","v":47000},0,0,{"$f":"SUM(D35:K35)","v":1639100}]
[null,"SUPPORT SERVICES (ED)",2000]
[null,"Support Services - Pupil",2100]
[null,"Attendance & Social Work Services",2110,null,null,35500,null,null,null,null,null,{"$f":"SUM(D38:K38)","v":35500}]
[null,"Guidance Services",2120,28940,8500,null,null,null,null,null,null,37440]
[null,"Health Services",2130,null,null,500,125,null,null,null,null,625]
[null,"Psychological Services",2140,null,null,40000,null,null,null,null,null,40000]
[null,"Speech Pathology & Audiology Services",2150,32000,4000,null,1000,null,null,null,null,37000]
["10-2190","Other Support Services - Pupils (Describe & Itemize)",2190,null,null,null,null,null,null,null,null,0]
[null,"Total Support Services - Pupil",2100,{"$f":"SUM(D38:D43)","v":60940},{"$f":"SUM(E38:E43)","v":12500},76000,1125,0,0,0,0,150565]
[null,"Support Services - Instructional Staff",2200]
[null,"Improvement of Instruction Services",2210,null,13000,2000,null,null,null,null,null,{"$f":"SUM(D46:K46)","v":15000}]
[null,"Educational Media Services",2220,null,null,40000,null,null,null,null,null,{"$f":"SUM(D47:K47)","v":40000}]
[null,"Assessment & Testing",2230,null,null,null,null,null,null,null,null,{"$f":"SUM(D48:K48)","v":0}]
[null,"Total Support Services - Instructional Staff",2200,{"$f":"SUM(D46:D48)","v":0},{"$f":"SUM(E46:E48)","v":13000},42000,0,0,0,0,0,55000]
[null,"Support Services - General Administration",2300]
[null,"Board of Education Services",2310,null,null,5000,1000,null,null,null,null,{"$f":"SUM(D51:K51)","v":6000}]
[null,"Executive Administration Services",2320,150100,23000,7500,null,null,null,null,null,{"$f":"SUM(D52:K52)","v":180600}]
[null,"Special Area Administration Services",2330,null,null,null,null,null,null,null,null,{"$f":"SUM(D53:K53)","v":0}]
[null,"Tort Immunity Services","2361, 2365",null,null,null,null,null,null,null,null,{"$f":"SUM(D54:K54)","v":0}]
[null,"Total Support Services - General Administration",2300,{"$f":"SUM(D51:D54)","v":150100},{"$f":"SUM(E51:E54)","v":23000},12500,1000,0,0,0,0,186600]
[null,"Support Services - School Administration",2400]
[null,"Office of the Principal Services",2410,95000,33000,1500,null,null,null,null,null,{"$f":"SUM(D57:K57)","v":129500}]
["10-2490","Other Support Services - School Administration (Describe & Itemize)",2490,null,null,null,null,null,null,null,null,{"$f":"SUM(D58:K58)","v":0}]
[null,"Total Support Services - School Administration",2400,{"$f":"SUM(D57:D58)","v":95000},{"$f":"SUM(E57:E58)","v":33000},1500,0,0,0,0,0,{"$f":"SUM(L57:L58)","v":129500}]
[null,"Support Services - Business",2500]
[null,"Direction of Business Support Services",2510,null,null,null,null,null,null,null,null,{"$f":"SUM(D61:K61)","v":0}]
[null,"Fiscal Services",2520,70000,5100,24000,1200,null,null,null,null,100300]
[null,"Operation & Maintenance of Plant Services",2540,null,null,null,null,null,null,null,null,0]
[null,"Pupil Transportation Services",2550,null,null,null,null,null,null,null,null,0]
[null,"Food Services",2560,52000,16500,1000,100000,null,null,null,null,169500]
[null,"Internal Services",2570,null,null,null,null,null,null,null,null,0]
[null,"Total Support Services - Business",2500,{"$f":"SUM(D61:D66)","v":122000},{"$f":"SUM(E61:E66)","v":21600},25000,101200,0,0,0,0,269800]
[null,"Support Services - Central","2600"]
[null,"Direction of Central Support Services",2610,null,null,null,null,null,null,null,null,{"$f":"SUM(D69:K69)","v":0}]
[null,"Planning, Research, Development & Evaluation Services",2620,null,null,null,null,null,null,null,null,{"$f":"SUM(D70:K70)","v":0}]
[null,"Information Services",2630,null,null,null,null,null,null,null,null,0]
[null,"Staff Services",2640,null,null,null,null,null,null,null,null,0]
[null,"Data Processing Services",2660,null,null,null,null,null,null,null,null,0]
[null,"Total Support Services - Central",2600,{"$f":"SUM(D69:D73)","v":0},{"$f":"SUM(E69:E73)","v":0},0,0,0,0,0,0,{"$f":"SUM(L69:L73)","v":0}]
["10-2900","Other Support Services - Misc. (Describe & Itemize)",2900,null,null,null,null,null,null,null,null,0]
[null,"Total Support Services",2000,{"$f":"SUM(D44,D49,D55,D59,D67,D74,D75)","v":428040},{"$f":"SUM(E44,E49,E55,E59,E67,E74,E75)","v":103100},157000,103325,0,0,0,0,791465]
[null,"COMMUNITY SERVICES (ED)",3000,null,null,null,null,null,null,null,null,0]
[null,"PAYMENTS TO OTHER DIST & GOVT UNITS (ED)",4000]
[null,"Payments to Other Dist & Govt Units (In-State)",4100]
[null,"Payments for Regular Programs",4110,null,null,null,null,null,null,null,null,{"$f":"SUM(D80:K80)","v":0}]
[null,"Payments for Special Education Programs",4120,null,null,35000,null,null,50000,null,null,85000]
[null,"Payments for Adult/Continuing Education Programs",4130,null,null,null,null,null,null,null,null,0]
[null,"Payments for CTE Programs",4140,null,null,null,null,null,null,null,null,0]
[null,"Payments for Community College Programs",4170,null,null,null,null,null,null,null,null,0]
["10-4190","Other Payments to In-State Govt Units - Programs (Describe & Itemize)",4190,null,null,null,null,null,null,null,null,0]
[null,"Total Payments to Other Dist & Govt Units (In-State)",4100,null,null,{"$f":"SUM(F80:F85)","v":35000},null,null,{"$f":"SUM(I80:I85)","v":50000},null,null,{"$f":"SUM(L80:L85)","v":85000}]
[null,"Payments for Regular Programs - Tuition",4210,null,null,null,null,null,5000,null,null,{"$f":"SUM(D87:K87)","v":5000}]
[null,"Payments for Special Education Programs - Tuition",4220,null,null,null,null,null,30000,null,null,{"$f":"SUM(D88:K88)","v":30000}]
[null,"Payments for Adult/Continuing Education Programs - Tuition",4230,null,null,null,null,null,null,null,null,0]
[null,"Payments for CTE Programs - Tuition",4240,null,null,null,null,null,null,null,null,0]
[null,"Payments for Community College Programs - Tuition",4270,null,null,null,null,null,null,null,null,0]
[null,"Payments for Other Programs - Tuition",4280,null,null,null,null,null,null,null,null,0]
["10-4290","Other Payments to In-State Govt Units - Tuition (Describe & Itemize)",4290,null,null,null,null,null,null,null,null,0]
[null,"Total Payments to Other Dist & Govt Units - Tuition (In State)",4200,null,null,null,null,null,{"$f":"SUM(I87:I93)","v":35000},null,null,{"$f":"SUM(L87:L93)","v":35000}]
[null,"Payments for Regular Programs - Transfers",4310,null,null,null,null,null,null,null,null,0]
[null,"Payments for Special Education Programs - Transfers",4320,null,null,null,null,null,null,null,null,0]
[null,"Payments for Adult/Continuing Ed Programs - Transfers",4330,null,null,null,null,null,null,null,null,0]
[null,"Payments for CTE Programs - Transfers",4340,null,null,null,null,null,null,null,null,0]
[null,"Payments for Community College Program - Transfers",4370,null,null,null,null,null,null,null,null,0]
[null,"Payments for Other Programs - Transfers",4380,null,null,null,null,null,null,null,null,0]
["10-4390","Other Payments to In-State Govt Units - Transfers (Describe & Itemize)",4390,null,null,null,null,null,null,null,null,0]
[null,"Total Payments to Other Dist & Govt Units-Transfers (In State)",4300,null,null,{"$f":"SUM(F95:F101)","v":0},null,null,{"$f":"SUM(I95:I101)","v":0},null,null,{"$f":"SUM(L95:L101)","v":0}]
[null,"Payments to Other Dist & Govt Units (Out of State)",4400,null,null,null,null,null,null,null,null,{"$f":"SUM(D103:K103)","v":0}]
[null,"Total Payments to Other Dist & Govt Units",4000,null,null,{"$f":"SUM(F86,F94,F102,F103)","v":35000},null,null,{"$f":"SUM(I86,I94,I102,I103)","v":85000},null,null,{"$f":"SUM(L86,L94,L102,L103)","v":120000}]
[null,"DEBT SERVICE (ED)",5000]
[null,"Debt Service - Interest on Short-Term Debt",5100]
[null,"Tax Anticipation Warrants",5110,null,null,null,null,null,null,null,null,{"$f":"SUM(D107:K107)","v":0}]
[null,"Tax Anticipation Notes",5120,null,null,null,null,null,null,null,null,{"$f":"SUM(D108:K108)","v":0}]
[null,"Corporate Personal Property Repl Tax Anticipated Notes",5130,null,null,null,null,null,null,null,null,{"$f":"SUM(D109:K109)","v":0}]
[null,"State Aid Anticipation Certificates",5140,null,null,null,null,null,null,null,null,{"$f":"SUM(D110:K110)","v":0}]
["10-5150","Other Interest on Short-Term Debt (Describe & Itemize)",5150,null,null,null,null,null,null,null,null,{"$f":"SUM(D111:K111)","v":0}]
[null,"Total Debt Service - Interest on Short-Term Debt",5100,null,null,null,null,null,{"$f":"SUM(I107:I111)","v":0},null,null,{"$f":"SUM(L107:L111)","v":0}]
[null,"Debt Service - Interest on Long-Term Debt",5200,null,null,null,null,null,null,null,null,{"$f":"I113","v":0}]
[null,"Total Debt Service",5000,null,null,null,null,null,{"$f":"SUM(I112:I113)","v":0},null,null,{"$f":"SUM(L112:L113)","v":0}]
[null,"PROVISION FOR CONTINGENCIES (ED)",6000,null,null,null,null,null,null,null,null,{"$f":"SUM(D115:K115)","v":0}]
[null,"Total Direct Disbursements/Expenditures (without Student Activity Funds (1999)",null,{"$f":"SUM(D34,D76,D77,D104,D114,D115,)","v":1636040},{"$f":"SUM(E34,E76,E77,E104,E114,E115,)","v":321100},266000,159425,36000,85000,0,0,2503565]
[null,"Total Direct Disbursements/Expenditures (with Student Activity Funds (1999)",null,{"$f":"SUM(D35,D76,D77,D104,D114,D115,)","v":1636040},{"$f":"SUM(E35,E76,E77,E104,E114,E115,)","v":321100},{"$f":"SUM(F35,F76,F77,F104,F114,F115,)","v":266000},159425,36000,132000,0,0,2550565]
[null,"Excess (Deficiency) of Receipts/Revenues Over Disbursements/Expenditures (without Student Activity Funds 1999)",null,null,null,null,null,null,null,null,null,{"$f":"'EstRev 6-11'!D270-'EstExp 12-20'!L116","v":78441}]
[null,"Excess (Deficiency) of Receipts/Revenues Over Disbursements/Expenditures (with Student Activity Funds 1999)",null,null,null,null,null,null,null,null,null,{"$f":"'EstRev 6-11'!D271-'EstExp 12-20'!L117","v":78941}]
[]
[null,"20 - OPERATIONS AND MAINTENANCE FUND (O&M)"]
[null,"SUPPORT SERVICES (O&M)","2000"]
[null,"Support Services - Pupil",2100]
["20-2190","Other Support Services - Pupils (Describe & Itemize)",2190,null,null,null,null,null,null,null,null,{"$f":"SUM(D124:K124)","v":0}]
[null,"Support Services - Business",2500]
[null,"Direction of Business Support Services",2510,null,null,null,null,null,null,null,null,{"$f":"SUM(D126:K126)","v":0}]
[null,"Facilities Acquisition & Construction Services",2530,null,null,null,null,405000,null,null,null,{"$f":"SUM(D127:K127)","v":405000}]
[null,"Operation & Maintenance of Plant Services",2540,115000,8000,175000,60000,159000,null,null,null,{"$f":"SUM(D128:K128)","v":517000}]
[null,"Pupil Transportation Services",2550,null,null,null,null,null,null,null,null,{"$f":"SUM(D129:K129)","v":0}]
[null,"Food Services",2560,null,null,null,null,null,null,null,null,{"$f":"SUM(D130:K130)","v":0}]
[null,"Total Support Services - Business",2500,{"$f":"SUM(D126:D129)","v":115000},{"$f":"SUM(E126:E129)","v":8000},{"$f":"SUM(F126:F130)","v":175000},60000,{"$f":"SUM(H126:H130)","v":564000},{"$f":"SUM(I126:I130)","v":0},0,0,922000]
["20-2900","Other Support Services - Misc. (Describe & Itemize)",2900,null,null,null,null,null,null,null,null,{"$f":"SUM(D132:K132)","v":0}]
[null,"Total Support Services",2000,{"$f":"SUM(D124,D131,D132)","v":115000},{"$f":"SUM(E124,E131,E132)","v":8000},175000,60000,{"$f":"SUM(H124,H131,H132)","v":564000},{"$f":"SUM(I124,I131,I132)","v":0},0,0,922000]
[null,"COMMUNITY SERVICES (O&M)",3000,null,null,null,null,null,null,null,null,{"$f":"SUM(D134:K134)","v":0}]
[null,"PAYMENTS TO OTHER DIST & GOVT UNITS (O&M)",4000]
[null,"Payments to Other Dist & Govt Units (In-State)",4100]
[null,"Payments for Regular Programs",4110,null,null,null,null,null,null,null,null,{"$f":"SUM(F137,I137)","v":0}]
[null,"Payments for Special Education Programs",4120,null,null,null,null,null,null,null,null,{"$f":"SUM(D138:K138)","v":0}]
[null,"Payments for CTE Program",4140,null,null,null,null,null,null,null,null,{"$f":"SUM(D139:K139)","v":0}]
["20-4190","Other Payments to In-State Govt Units - Programs (Describe & Itemize)",4190,null,null,null,null,null,null,null,null,{"$f":"SUM(D140:K140)","v":0}]
[null,"Total Payments to Other Dist & Govt Units (In-State)",4100,null,null,{"$f":"SUM(F137:F140)","v":0},null,null,{"$f":"SUM(I137:I140)","v":0},null,null,{"$f":"SUM(L137:L140)","v":0}]
[null,"Payments to Other Dist & Govt Units (Out of State) 14",4400,null,null,null,null,null,null,null,null,{"$f":"SUM(D142:K142)","v":0}]
[null,"Total Payments to Other Dist & Govt Unit",4000,null,null,{"$f":"SUM(F141)","v":0},null,null,{"$f":"SUM(I141:I142)","v":0},null,null,{"$f":"SUM(L141:L142)","v":0}]
[null,"DEBT SERVICE (O&M)",5000]
[null,"Debt Service - Interest on Short-Term Debt",5100]
[null,"Tax Anticipation Warrants",5110,null,null,null,null,null,null,null,null,{"$f":"SUM(D146:K146)","v":0}]
[null,"Tax Anticipation Notes",5120,null,null,null,null,null,null,null,null,{"$f":"SUM(D147:K147)","v":0}]
[null,"Corporate Personal Prop Repl Tax Anticipated Notes",5130,null,null,null,null,null,null,null,null,{"$f":"SUM(D148:K148)","v":0}]
[null,"State Aid Anticipation Certificates",5140,null,null,null,null,null,null,null,null,{"$f":"SUM(D149:K149)","v":0}]
["20-5150","Other Interest on Short-Term Debt (Describe & Itemize)",5150,null,null,null,null,null,null,null,null,{"$f":"SUM(D150:K150)","v":0}]
[null,"Total Debt Service - Interest on Short-Term Debt",5100,null,null,null,null,null,{"$f":"SUM(I146:I150)","v":0},null,null,{"$f":"SUM(L146:L150)","v":0}]
[null,"Debt Service - Interest on Long-Term Debt",5200,null,null,null,null,null,null,null,null,{"$f":"SUM(I152:K152)","v":0}]
[null,"Total Debt Service",5000,null,null,null,null,null,{"$f":"SUM(I151:I152)","v":0},null,null,{"$f":"SUM(L151:L152)","v":0}]
[null,"PROVISION FOR CONTINGENCIES (O&M)",6000,null,null,null,null,null,null,null,null,{"$f":"SUM(D154:K154)","v":0}]
[null,"Total Direct Disbursements/Expenditures",null,{"$f":"SUM(D133,D134,D143,D153,D154)","v":115000},{"$f":"SUM(E133,E134,E143,E153,E154)","v":8000},{"$f":"SUM(F133,F134,F143)","v":175000},60000,564000,{"$f":"SUM(I133,I134,I143,I153,I154)","v":0},0,0,{"$f":"SUM(L133,L134,L143,L153,L154)","v":922000}]
[null,"Excess (Deficiency) of Receipts/Revenues Over Disbursements/Expenditures",null,null,null,null,null,null,null,null,null,{"$f":"'EstRev 6-11'!E270-'EstExp 12-20'!L155","v":-369923}]
[]
[null,"30 - DEBT SERVICE FUND (DS)"]
[null,"PAYMENTS TO OTHER DIST & GOVT UNITS (DS)",4000]
[null,"Payments to Other Dist & Govt Units (In-State)","4100"]
[null,"Payments for Regular Programs ","4110",null,null,null,null,null,null,null,null,{"$f":"I161","v":0}]
[null,"Payments for Special Education Programs","4120",null,null,null,null,null,null,null,null,{"$f":"I162","v":0}]
["30-4190","Other Payments to In-State Govt Units - Programs (Describe & Itemize)","4190",null,null,null,null,null,null,null,null,{"$f":"I163","v":0}]
[null,"Total Payments to Other Dist & Govt Units (In-State)","4000",null,null,null,null,null,{"$f":"SUM(I161:I163)","v":0},null,null,{"$f":"SUM(L161:L163)","v":0}]
[null,"DEBT SERVICE (DS)",5000]
[null,"Debt Service - Interest on Short-Term Debt",5100]
[null,"Tax Anticipation Warrants",5110,null,null,null,null,null,null,null,null,{"$f":"SUM(D167:K167)","v":0}]
[null,"Tax Anticipation Notes",5120,null,null,null,null,null,null,null,null,{"$f":"SUM(D168:K168)","v":0}]
[null,"Corporate Personal Prop Repl Tax Anticipation Notes",5130,null,null,null,null,null,null,null,null,0]
[null,"State Aid Anticipation Certificates",5140,null,null,null,null,null,null,null,null,0]
["30-5150","Other Interest on Short-Term Debt (Describe & Itemize)",5150,null,null,null,null,null,null,null,null,0]
[null,"Total Debt Service - Interest On Short-Term Debt",5100,null,null,null,null,null,{"$f":"SUM(I167:I171)","v":0},null,null,{"$f":"SUM(L167:L171)","v":0}]
[null,"Debt Service - Interest on Long-Term Debt",5200,null,null,null,null,null,73814,null,null,73814]
["30-5300","Debt Service - Payments of Principal on Long-Term Debt 15 (Lease/Purchase Principal Retired) (Describe & Itemize)",5300,null,null,null,null,null,263000,null,null,263000]
["30-5400","Debt Service - Other (Describe & Itemize)",5400,null,null,null,null,null,null,null,null,{"$f":"SUM(D175:K175)","v":0}]
[null,"Total Debt Service",5000,null,null,{"$f":"SUM(F172:F175)","v":0},null,null,{"$f":"SUM(I172:I175)","v":336814},null,null,{"$f":"SUM(L172:L175)","v":336814}]
[null,"PROVISION FOR CONTINGENCIES (DS)",6000,null,null,null,null,null,null,null,null,{"$f":"SUM(D177:K177)","v":0}]
[null,"Total Direct Disbursements/Expenditures",null,null,null,{"$f":"SUM(F176)","v":0},null,null,{"$f":"SUM(I164,I176,I177)","v":336814},null,null,{"$f":"SUM(L164,L176,L177)","v":336814}]
[null,"Excess (Deficiency) of Receipts/Revenues Over Disbursements/Expenditures",null,null,null,null,null,null,null,null,null,{"$f":"'EstRev 6-11'!F270-'EstExp 12-20'!L178","v":5367}]
[]
[null,"40 - TRANSPORTATION FUND (TR)"]
[null,"SUPPORT SERVICES (TR)","2000"]
[null,"Support Services - Pupils","2100"]
["40-2190","Other Support Services - Pupils (Describe & Itemize)",2190,null,null,null,null,null,null,null,null,{"$f":"SUM(D184:K184)","v":0}]
[null,"Support Services - Business"]
[null,"Pupil Transportation Services",2550,120000,4500,117000,27000,null,null,null,null,{"$f":"SUM(D186:K186)","v":268500}]
["40-2900","Other Support Services - Business (Describe & Itemize)",2900,null,null,null,null,null,null,null,null,{"$f":"SUM(D187:K187)","v":0}]
[null,"Total Support Services",2000,{"$f":"SUM(D184:D187)","v":120000},{"$f":"SUM(E184,E186,E187)","v":4500},117000,27000,0,0,0,0,268500]
[null,"COMMUNITY SERVICES (TR)",3000,null,null,null,null,null,null,null,null,{"$f":"SUM(D189:K189)","v":0}]
[null,"PAYMENTS TO OTHER DIST & GOVT UNITS (TR)",4000]
[null,"Payments to Other Dist & Govt Units (In-State)",4100]
[null,"Payments for Regular Program",4110,null,null,null,null,null,null,null,null,{"$f":"SUM(D192:K192)","v":0}]
[null,"Payments for Special Education Programs",4120,null,null,null,null,null,null,null,null,0]
[null,"Payments for Adult/Continuing Education Programs",4130,null,null,null,null,null,null,null,null,0]
[null,"Payments for CTE Programs",4140,null,null,null,null,null,null,null,null,0]
[null,"Payments for Community College Programs",4170,null,null,null,null,null,null,null,null,0]
["40-4190","Other Payments to In-State Govt Units - Programs (Describe & Itemize)",4190,null,null,null,null,null,null,null,null,0]
[null,"Total Payments to Other Dist & Govt Units (In-State)",4100,null,null,{"$f":"SUM(F192:F197)","v":0},null,null,{"$f":"SUM(I192:I197)","v":0},null,null,{"$f":"SUM(L192:L197)","v":0}]
["40-4400","Payments to Other Dist & Govt Units (Out-of-State) (Describe & Itemize)",4400,null,null,null,null,null,null,null,null,{"$f":"SUM(D199:K199)","v":0}]
[null,"Total Payments to Other Dist & Govt Units",4000,null,null,{"$f":"SUM(F198,F199)","v":0},null,null,{"$f":"SUM(I198,I199)","v":0},null,null,{"$f":"SUM(L198,L199)","v":0}]
[null,"DEBT SERVICE (TR)",5000]
[null,"Debt Service - Interest on Short-Term Debt","5100"]
[null,"Tax Anticipation Warrants",5110,null,null,null,null,null,null,null,null,{"$f":"SUM(D203:K203)","v":0}]
[null,"Tax Anticipation Notes",5120,null,null,null,null,null,null,null,null,0]
[null,"Corporate Personal Prop Repl Tax Anticipation Notes",5130,null,null,null,null,null,null,null,null,0]
[null,"State Aid Anticipation Certificates",5140,null,null,null,null,null,null,null,null,0]
["40-5150","Other Interest on Short-Term Debt (Describe & Itemize)",5150,null,null,null,null,null,null,null,null,0]
[null,"Total Debt Service - Interest On Short-Term Debt",5100,null,null,null,null,null,{"$f":"SUM(I203:I207)","v":0},null,null,0]
[null,"Debt Service - Interest on Long-Term Debt",5200,null,null,null,null,null,null,null,null,{"$f":"I209","v":0}]
["40-5300","Debt Service - Payments of Principal on Long-Term Debt 15 (Lease/Purchase Principal Retired) (Describe & Itemize)",5300,null,null,null,null,null,null,null,null,0]
["40-5400","Debt Service - Other (Describe & Itemize)",5400,null,null,null,null,null,null,null,null,{"$f":"I211","v":0}]
[null,"Total Debt Service",5000,null,null,null,null,null,{"$f":"SUM(I208:I211)","v":0},null,null,{"$f":"SUM(L208:L211)","v":0}]
[null,"PROVISION FOR CONTINGENCIES (TR)",6000,null,null,null,null,null,null,null,null,{"$f":"SUM(D213:K213)","v":0}]
[null,"Total Direct Disbursements/Expenditures",null,{"$f":"SUM(D188,D189)","v":120000},{"$f":"SUM(E188,E189,E200,E212,E213)","v":4500},{"$f":"SUM(F188,F189,F200,F212,F213)","v":117000},27000,0,{"$f":"SUM(I188,I189,I200,I212,I213)","v":0},{"$f":"SUM(J188,J189,J200,J212,J213)","v":0},0,268500]
[null,"Excess (Deficiency) of Receipts/Revenues Over Disbursements/Expenditures",null,null,null,null,null,null,null,null,null,{"$f":"'EstRev 6-11'!G270-'EstExp 12-20'!L214","v":269}]
[]
[null,"50 - MUNICIPAL RETIREMENT/SOC SEC FUND (MR/SS)"]
[null,"INSTRUCTION (MR/SS)","1000"]
[null,"Regular Program",1100,null,8500,null,null,null,null,null,null,{"$f":"SUM(D219:K219)","v":8500}]
[null,"Pre-K Programs",1125,null,2000,null,null,null,null,null,null,{"$f":"SUM(D220:K220)","v":2000}]
[null,"Special Education Programs (Functions 1200-1220)",1200,null,13000,null,null,null,null,null,null,13000]
[null,"Special Education Programs Pre-K",1225,null,null,null,null,null,null,null,null,0]
[null,"Remedial and Supplemental Programs K-12",1250,null,800,null,null,null,null,null,null,800]
[null,"Remedial and Supplemental Programs Pre-K",1275,null,null,null,null,null,null,null,null,0]
[null,"Adult/Continuing Education Programs",1300,null,null,null,null,null,null,null,null,0]
[null,"CTE Programs",1400,null,null,null,null,null,null,null,null,0]
[null,"Interscholastic Programs",1500,null,150,null,null,null,null,null,null,150]
[null,"Summer School Programs",1600,null,null,null,null,null,null,null,null,0]
[null,"Gifted Programs",1650,null,null,null,null,null,null,null,null,0]
[null,"Driver's Education Programs",1700,null,150,null,null,null,null,null,null,150]
[null,"Bilingual Programs",1800,null,null,null,null,null,null,null,null,0]
[null,"Truant Alternative & Optional Programs",1900,null,null,null,null,null,null,null,null,0]
[null,"Total Instruction",1000,null,{"$f":"SUM(E219:E232)","v":24600},null,null,null,null,null,null,{"$f":"SUM(L219:L232)","v":24600}]
[null,"SUPPORT SERVICES (MR/SS)",2000]
[null,"Support Services - Pupil",2100]
[null,"Attendance & Social Work Services",2110,null,null,null,null,null,null,null,null,{"$f":"SUM(D236:K236)","v":0}]
[null,"Guidance Services",2120,null,400,null,null,null,null,null,null,400]
[null,"Health Services",2130,null,null,null,null,null,null,null,null,0]
[null,"Psychological Services",2140,null,null,null,null,null,null,null,null,0]
[null,"Speech Pathology & Audiology Services",2150,null,550,null,null,null,null,null,null,550]
["50-2190","Other Support Services - Pupils (Describe & Itemize)",2190,null,null,null,null,null,null,null,null,0]
[null,"Total Support Services - Pupil",2100,null,{"$f":"SUM(E236:E241)","v":950},null,null,null,null,null,null,{"$f":"SUM(L236:L241)","v":950}]
[null,"Support Services - Instructional Staff","2200"]
[null,"Improvement of Instruction Services",2210,null,null,null,null,null,null,null,null,{"$f":"SUM(D244:K244)","v":0}]
[null,"Educational Media Services",2220,null,null,null,null,null,null,null,null,{"$f":"SUM(D245:K245)","v":0}]
[null,"Assessment & Testing",2230,null,null,null,null,null,null,null,null,{"$f":"SUM(D246:K246)","v":0}]
[null,"Total Support Services - Instructional Staff",2200,null,{"$f":"SUM(E244:E246)","v":0},null,null,null,null,null,null,{"$f":"SUM(L244:L246)","v":0}]
[null,"Support Services - General Administration",2300]
[null,"Board of Education Services",2310,null,null,null,null,null,null,null,null,{"$f":"SUM(D249:K249)","v":0}]
[null,"Executive Administration Services",2320,null,3000,null,null,null,null,null,null,{"$f":"SUM(D250:K250)","v":3000}]
[null,"Special Area Administrative Services",2330,null,null,null,null,null,null,null,null,0]
[null,"Claims Paid from Self Insurance Fund",2361,null,null,null,null,null,null,null,null,0]
[null,"Risk Management and Claims Services Payments",2365,null,null,null,null,null,null,null,null,0]
[null,"Total Support Services - General Administration",2300,null,{"$f":"E249+E250+E251+E252+E253","v":3000},null,null,null,null,null,null,{"$f":"L249+L250+L251+L252+L253","v":3000}]
[null,"Support Services - School Administration",2400]
[null,"Office of the Principal Services",2410,null,7500,null,null,null,null,null,null,{"$f":"SUM(D256:K256)","v":7500}]
["50-2490","Other Support Services - School Administration (Describe & Itemize)",2490,null,null,null,null,null,null,null,null,{"$f":"SUM(D257:K257)","v":0}]
[null,"Total Support Services - School Administration",2400,null,{"$f":"SUM(E256:E257)","v":7500},null,null,null,null,null,null,{"$f":"SUM(L256:L257)","v":7500}]
[null,"Support Services - Business",2500]
[null,"Direction of Business Support Services",2510,null,null,null,null,null,null,null,null,{"$f":"SUM(D260:K260)","v":0}]
[null,"Fiscal Services",2520,null,9000,null,null,null,null,null,null,{"$f":"SUM(D261:K261)","v":9000}]
[null,"Facilities Acquisition & Construction Services","2530",null,null,null,null,null,null,null,null,0]
[null,"Operation & Maintenance of Plant Service",2540,null,14000,null,null,null,null,null,null,14000]
[null,"Pupil Transportation Services",2550,null,17000,null,null,null,null,null,null,17000]
[null,"Food Services",2560,null,10000,null,null,null,null,null,null,10000]
[null,"Internal Services",2570,null,null,null,null,null,null,null,null,0]
[null,"Total Support Services - Business",2500,null,{"$f":"SUM(E260:E266)","v":50000},null,null,null,null,null,null,{"$f":"SUM(L260:L266)","v":50000}]
[null,"Support Services - Central",2600]
[null,"Direction of Central Support Services",2610,null,null,null,null,null,null,null,null,{"$f":"SUM(D269:K269)","v":0}]
[null,"Planning, Research, Development & Evaluation Services",2620,null,null,null,null,null,null,null,null,{"$f":"SUM(D270:K270)","v":0}]
[null,"Information Services",2630,null,null,null,null,null,null,null,null,{"$f":"SUM(D271:K271)","v":0}]
[null,"Staff Services",2640,null,null,null,null,null,null,null,null,{"$f":"SUM(D272:K272)","v":0}]
[null,"Data Processing Services",2660,null,null,null,null,null,null,null,null,{"$f":"SUM(D273:K273)","v":0}]
[null,"Total Support Services - Central",2600,null,{"$f":"SUM(E269:E273)","v":0},null,null,null,null,null,null,{"$f":"SUM(L269:L273)","v":0}]
["50-2900","Other Support Services - Misc. (Describe & Itemize)",2900,null,null,null,null,null,null,null,null,{"$f":"SUM(D275:K275)","v":0}]
[null,"Total Support Services",2000,null,{"$f":"SUM(E242,E247,E254,E258,E267,E274,E275)","v":61450},null,null,null,null,null,null,{"$f":"SUM(L242,L247,L254,L258,L267,L274,L275)","v":61450}]
[null,"COMMUNITY SERVICES (MR/SS)",3000,null,null,null,null,null,null,null,null,{"$f":"SUM(D277:K277)","v":0}]
[null,"PAYMENTS TO OTHER DIST & GOVT UNITS (MR/SS)",4000]
[null,"Payments for Regular Programs",4110,null,null,null,null,null,null,null,null,{"$f":"E279","v":0}]
[null,"Payments for Special Education Programs",4120,null,null,null,null,null,null,null,null,{"$f":"E280","v":0}]
[null,"Payments for CTE Programs",4140,null,null,null,null,null,null,null,null,{"$f":"E281","v":0}]
[null,"Total Payments to Other Dist & Govt Units",4000,null,{"$f":"SUM(E279:E281)","v":0},null,null,null,null,null,null,{"$f":"SUM(L279:L281)","v":0}]
[null,"DEBT SERVICE (MR/SS)",5000]
[null,"Debt Service - Interest on Short-Term Debt",5100]
[null,"Tax Anticipation Warrants",5110,null,null,null,null,null,null,null,null,{"$f":"SUM(D285:K285)","v":0}]
[null,"Tax Anticipation Notes",5120,null,null,null,null,null,null,null,null,{"$f":"SUM(D286:K286)","v":0}]
[null,"Corporate Personal Prop Repl Tax Anticipation Notes",5130,null,null,null,null,null,null,null,null,{"$f":"SUM(D287:K287)","v":0}]
[null,"State Aid Anticipation Certificates",5140,null,null,null,null,null,null,null,null,{"$f":"SUM(D288:K288)","v":0}]
["50-5150","Other Interest on Short-Term Debt (Describe & Itemize)",5150,null,null,null,null,null,null,null,null,{"$f":"SUM(D289:K289)","v":0}]
[null,"Total Debt Service",5000,null,null,null,null,null,{"$f":"SUM(I285:I289)","v":0},null,null,{"$f":"SUM(L285:L289)","v":0}]
[null,"PROVISION FOR CONTINGENCIES (MR/SS)",6000,null,null,null,null,null,null,null,null,{"$f":"SUM(D291:K291)","v":0}]
[null,"Total Direct Disbursements/Expenditures",null,null,{"$f":"SUM(E233,E276,E277,E282)","v":86050},null,null,null,{"$f":"SUM(I290,I291)","v":0},null,null,{"$f":"SUM(L233,L276,L277,L282,L290,L291)","v":86050}]
[null,"Excess (Deficiency) of Receipts/Revenues Over Disbursements/Expenditures",null,null,null,null,null,null,null,null,null,{"$f":"'EstRev 6-11'!H270-'EstExp 12-20'!L292","v":50240}]
[]
[null,"60 - CAPITAL PROJECTS (CP)"]
[null,"SUPPORT SERVICES (CP)","2000"]
[null,"Support Services - Business"]
[null,"Facilities Acquisition & Construction Services",2530,null,null,null,null,null,null,null,null,{"$f":"SUM(D298:K298)","v":0}]
["60-2900","Other Support Services - Business (Describe & Itemize)",2900,null,null,null,null,null,null,null,null,{"$f":"SUM(D299:K299)","v":0}]
[null,"Total Support Services",2000,{"$f":"SUM(D298:D299)","v":0},{"$f":"SUM(E298:E299)","v":0},0,0,0,0,0,null,0]
[null,"PAYMENTS TO OTHER DIST & GOVT UNITS (CP)",4000]
[null,"Payments to Other Dist & Govt Units (In-State)",4100]
[null,"Payments to Regular Programs",4110,null,null,null,null,null,null,null,null,{"$f":"SUM(F303,I303)","v":0}]
[null,"Payment for Special Education Programs",4120,null,null,null,null,null,null,null,null,{"$f":"SUM(D304:K304)","v":0}]
[null,"Payment for CTE Programs",4140,null,null,null,null,null,null,null,null,{"$f":"SUM(D305:K305)","v":0}]
["60-4190","Payments to Other Govt Units - Programs (In-State) (Describe & Itemize)",4190,null,null,null,null,null,null,null,null,{"$f":"SUM(D306:K306)","v":0}]
[null,"Total Payments to Other Districts & Govt Units",4000,null,null,{"$f":"SUM(F303:F306)","v":0},null,null,{"$f":"SUM(I303:I306)","v":0},null,null,{"$f":"SUM(L303:L306)","v":0}]
[null,"PROVISION FOR CONTINGENCIES (CP)",6000,null,null,null,null,null,null,null,null,{"$f":"SUM(D308:K308)","v":0}]
[null,"Total Direct Disbursements/Expenditures",null,{"$f":"(D300)","v":0},{"$f":"(E300)","v":0},{"$f":"SUM(F300,F307)","v":0},{"$f":"SUM(G300)","v":0},{"$f":"H300","v":0},{"$f":"SUM(I300,I307,I308)","v":0},{"$f":"SUM(J300)","v":0},null,{"$f":"SUM(L300,L307,L308)","v":0}]
[null,"Excess (Deficiency) of Receipts/Revenues Over Disbursements/Expenditures",null,null,null,null,null,null,null,null,null,{"$f":"'EstRev 6-11'!I270-'EstExp 12-20'!L309","v":14450}]
[]
[null,"70 WORKING CASH FUND (WC)"]
[]
[null,"80 - TORT FUND (TF)"]
[null,"INSTRUCTION (TF)","1000"]
[null,"Regular Programs",1100,6500,null,null,null,null,null,null,null,{"$f":"SUM(D316:K316)","v":6500}]
[null,"Tuition Payment to Charter Schools",1115,null,null,null,null,null,null,null,null,{"$f":"SUM(D317,F317)","v":0}]
[null,"Pre-K Programs",1125,null,null,null,null,null,null,null,null,{"$f":"SUM(D318:K318)","v":0}]
[null,"Special Education Programs (Functions 1200 - 1220)",1200,null,null,null,null,null,null,null,null,0]
[null,"Special Education Programs Pre-K",1225,null,null,null,null,null,null,null,null,0]
[null,"Remedial and Supplemental Programs K-12",1250,null,null,null,null,null,null,null,null,0]
[null,"Remedial and Supplemental Programs Pre-K",1275,null,null,null,null,null,null,null,null,0]
[null,"Adult/Continuing Education Programs",1300,null,null,null,null,null,null,null,null,0]
[null,"CTE Programs",1400,null,null,null,null,null,null,null,null,0]
[null,"Interscholastic Programs",1500,null,null,null,null,null,null,null,null,0]
[null,"Summer School Programs",1600,null,null,null,null,null,null,null,null,0]
[null,"Gifted Programs",1650,null,null,null,null,null,null,null,null,0]
[null,"Driver's Education Programs",1700,null,null,null,null,null,null,null,null,0]
[null,"Bilingual Programs",1800,null,null,null,null,null,null,null,null,0]
[null,"Truant Alternative & Optional Programs",1900,null,null,null,null,null,null,null,null,0]
[null,"Pre-K Programs - Private Tuition",1910,null,null,null,null,null,null,null,null,0]
[null,"Regular K-12 Programs  Private Tuition",1911,null,null,null,null,null,null,null,null,0]
[null,"Special Education Programs K-12 Private Tuition",1912,null,null,null,null,null,null,null,null,0]
[null,"Special Education Programs Pre-K Tuition",1913,null,null,null,null,null,null,null,null,0]
[null,"Remedial/Supplemental Programs K-12 Private Tuition",1914,null,null,null,null,null,null,null,null,0]
[null,"Remedial/Supplemental Programs Pre-K Private Tuition",1915,null,null,null,null,null,null,null,null,0]
[null,"Adult/Continuing Education Programs Private Tuition",1916,null,null,null,null,null,null,null,null,0]
[null,"CTE Programs Private Tuition",1917,null,null,null,null,null,null,null,null,0]
[null,"Interscholastic Programs Private Tuition",1918,null,null,null,null,null,null,null,null,0]
[null,"Summer School Programs Private Tuition",1919,null,null,null,null,null,null,null,null,0]
[null,"Gifted Programs Private Tuition",1920,null,null,null,null,null,null,null,null,0]
[null,"Bilingual Programs Private Tuition",1921,null,null,null,null,null,null,null,null,0]
[null,"Truants Alternative/Opt Ed Programs Private Tuition",1922,null,null,null,null,null,null,null,null,0]
[null,"Total Instruction14",1000,{"$f":"SUM(D316:D343)","v":6500},0,0,0,0,0,0,0,6500]
[null,"SUPPORT SERVICES (TF)",2000]
[null,"Support Services - Pupil",2100]
[null,"Attendance & Social Work Services",2110,null,null,null,null,null,null,null,null,{"$f":"SUM(D347:K347)","v":0}]
[null,"Guidance Services",2120,null,null,null,null,null,null,null,null,0]
[null,"Health Services",2130,null,null,null,null,null,null,null,null,0]
[null,"Psychological Services",2140,null,null,null,null,null,null,null,null,0]
[null,"Speech Pathology & Audiology Services",2150,null,null,null,null,null,null,null,null,0]
["80-2190","Other Support Services - Pupils (Describe & Itemize)",2190,null,null,null,null,null,null,null,null,0]
[null,"Total Support Services - Pupil",2100,{"$f":"SUM(D347:D352)","v":0},{"$f":"SUM(E347:E352)","v":0},0,0,0,0,0,0,0]
[null,"Support Services - Instructional Staff",2200]
[null,"Improvement of Instruction Services",2210,null,null,null,null,null,null,null,null,{"$f":"SUM(D355:K355)","v":0}]
[null,"Educational Media Services",2220,null,null,null,null,null,null,null,null,{"$f":"SUM(D356:K356)","v":0}]
[null,"Assessment & Testing",2230,null,null,null,null,null,null,null,null,{"$f":"SUM(D357:K357)","v":0}]
[null,"Total Support Services - Instructional Staff",2200,{"$f":"SUM(D355:D357)","v":0},{"$f":"SUM(E355:E357)","v":0},0,0,0,0,0,0,0]
[null,"Support Services - General Administration",2300]
[null,"Board of Education Services",2310,null,null,null,null,null,null,null,null,{"$f":"SUM(D360:K360)","v":0}]
[null,"Executive Administration Services",2320,30000,150,null,null,null,null,null,null,{"$f":"SUM(D361:K361)","v":30150}]
[null,"Special Area Administration Services",2330,null,null,null,null,null,null,null,null,{"$f":"SUM(D362:K362)","v":0}]
[null,"Claims Paid from Self Insurance Fund",2361,null,null,null,null,null,null,null,null,{"$f":"SUM(D363:K363)","v":0}]
[null,"Risk Management and Claims Services Payments",2365,null,null,70000,null,null,null,null,null,{"$f":"SUM(D364:K364)","v":70000}]
[null,"Total Support Services - General Administration",2300,{"$f":"SUM(D360:D364)","v":30000},150,70000,0,0,0,0,0,100150]
[null,"Support Services - School Administration",2400]
[null,"Office of the Principal Services",2410,20000,300,null,null,null,null,null,null,{"$f":"SUM(D367:K367)","v":20300}]
["80-2490","Other Support Services - School Administration (Describe & Itemize)",2490,null,null,null,null,null,null,null,null,{"$f":"SUM(D368:K368)","v":0}]
[null,"Total Support Services - School Administration",2400,{"$f":"SUM(D367:D368)","v":20000},{"$f":"SUM(E367:E368)","v":300},0,0,0,0,0,0,{"$f":"SUM(L367:L368)","v":20300}]
[null,"Support Services - Business",2500]
[null,"Direction of Business Support Services",2510,null,null,null,null,null,null,null,null,{"$f":"SUM(D371:K371)","v":0}]
[null,"Fiscal Services",2520,8000,700,null,null,null,null,null,null,8700]
[null,"Facilities Acquisition & Construction Services",2530,10000,null,null,null,null,null,null,null,10000]
[null,"Operation & Maintenance of Plant Services",2540,12000,600,null,null,null,null,null,null,12600]
[null,"Pupil Transportation Services",2550,5000,null,null,null,null,null,null,null,5000]
[null,"Food Services",2560,null,null,null,null,null,null,null,null,0]
[null,"Internal Services",2570,null,null,null,null,null,null,null,null,0]
[null,"Total Support Services - Business",2500,{"$f":"SUM(D371:D377)","v":35000},{"$f":"SUM(E371:E377)","v":1300},0,0,0,0,0,0,36300]
[null,"Support Services - Central","2600"]
[null,"Direction of Central Support Services",2610,null,null,null,null,null,null,null,null,{"$f":"SUM(D380:K380)","v":0}]
[null,"Planning, Research, Development & Evaluation Services",2620,null,null,null,null,null,null,null,null,{"$f":"SUM(D381:K381)","v":0}]
[null,"Information Services",2630,null,null,null,null,null,null,null,null,0]
[null,"Staff Services",2640,null,null,null,null,null,null,null,null,0]
[null,"Data Processing Services",2660,null,null,null,null,null,null,null,null,0]
[null,"Total Support Services - Central",2600,{"$f":"SUM(D380:D384)","v":0},{"$f":"SUM(E380:E384)","v":0},0,0,0,0,0,0,{"$f":"SUM(L380:L384)","v":0}]
["80-2900","Other Support Services - Misc. (Describe & Itemize)",2900,null,null,null,null,null,null,null,null,{"$f":"SUM(D386:K386)","v":0}]
[null,"Total Support Services",2000,{"$f":"SUM(D353,D358,D365,D369,D378,D385,D386)","v":85000},1750,70000,0,0,0,0,0,{"$f":"SUM(D387:K387)","v":156750}]
[null,"COMMUNITY SERVICES (TF)",3000,null,null,null,null,null,null,null,null,{"$f":"SUM(D388:K388)","v":0}]
[null,"PAYMENTS TO OTHER DIST & GOVT UNITS (TF)",4000]
[null,"Payments to Other Dist & Govt Units (In-State)",4100]
[null,"Payments for Regular Programs",4110,null,null,null,null,null,null,null,null,{"$f":"SUM(D391:K391)","v":0}]
[null,"Payments for Special Education Programs",4120,null,null,null,null,null,null,null,null,0]
[null,"Payments for Adult/Continuing Education Programs",4130,null,null,null,null,null,null,null,null,0]
[null,"Payments for CTE Programs",4140,null,null,null,null,null,null,null,null,0]
[null,"Payments for Community College Programs",4170,null,null,null,null,null,null,null,null,0]
["80-4190","Other Payments to In-State Govt Units - Programs (Describe & Itemize)",4190,null,null,null,null,null,null,null,null,0]
[null,"Total Payments to Other Dist & Govt Units (In-State)",4100,null,null,{"$f":"SUM(F391:F396)","v":0},null,null,{"$f":"SUM(I391:I396)","v":0},null,null,{"$f":"SUM(L391:L396)","v":0}]
[null,"Payments for Regular Programs - Tuition",4210,null,null,null,null,null,null,null,null,{"$f":"SUM(D398:K398)","v":0}]
[null,"Payments for Special Education Programs - Tuition",4220,null,null,null,null,null,null,null,null,0]
[null,"Payments for Adult/Continuing Education Programs - Tuition",4230,null,null,null,null,null,null,null,null,0]
[null,"Payments for CTE Programs - Tuition",4240,null,null,null,null,null,null,null,null,0]
[null,"Payments for Community College Programs - Tuition",4270,null,null,null,null,null,null,null,null,0]
[null,"Payments for Other Programs - Tuition",4280,null,null,null,null,null,null,null,null,0]
["80-4290","Other Payments to In-State Govt Units - Tuition (Describe & Itemize)",4290,null,null,null,null,null,null,null,null,0]
[null,"Total Payments to Other Dist & Govt Units - Tuition (In State)",4200,null,null,null,null,null,{"$f":"SUM(I398:I404)","v":0},null,null,{"$f":"SUM(L398:L404)","v":0}]
[null,"Payments for Regular Programs - Transfers",4310,null,null,null,null,null,null,null,null,{"$f":"SUM(D406:K406)","v":0}]
[null,"Payments for Special Education Programs - Transfers",4320,null,null,null,null,null,null,null,null,0]
[null,"Payments for Adult/Continuing Ed Programs - Transfers",4330,null,null,null,null,null,null,null,null,0]
[null,"Payments for CTE Programs - Transfers",4340,null,null,null,null,null,null,null,null,0]
[null,"Payments for Community College Program - Transfers",4370,null,null,null,null,null,null,null,null,0]
[null,"Payments for Other Programs - Transfers",4380,null,null,null,null,null,null,null,null,0]
["80-4390","Other Payments to In-State Govt Units - Transfers (Describe & Itemize)",4390,null,null,null,null,null,null,null,null,0]
[null,"Total Payments to Other Dist & Govt Units-Transfers (In State)",4300,null,null,{"$f":"SUM(F406:F412)","v":0},null,null,{"$f":"SUM(I406:I412)","v":0},null,null,{"$f":"SUM(L406:L412)","v":0}]
[null,"Payments to Other Dist & Govt Units (Out of State)",4400,null,null,null,null,null,null,null,null,{"$f":"SUM(D414:K414)","v":0}]
[null,"Total Payments to Other Dist & Govt Units",4000,null,null,{"$f":"SUM(F397,F405,F413,F414)","v":0},null,null,{"$f":"SUM(I397,I405,I413,I414)","v":0},null,null,{"$f":"SUM(L397,L405,L413,L414)","v":0}]
[null,"DEBT SERVICE (TF)",5000]
[null,"Debt Service - Interest on Short-Term Debt"]
[null,"Tax Anticipation Warrants",5110,null,null,null,null,null,null,null,null,{"$f":"SUM(D418:K418)","v":0}]
[null,"Tax Anticipation Notes",5120,null,null,null,null,null,null,null,null,{"$f":"SUM(D419:K419)","v":0}]
[null,"Corporate Personal Property Replacement Tax Anticipation Notes",5130,null,null,null,null,null,null,null,null,{"$f":"SUM(D420:K420)","v":0}]
[null,"State Aid Anticipation Certificates",5140,null,null,null,null,null,null,null,null,{"$f":"SUM(D421:K421)","v":0}]
["80-5150","Other Interest or Short-Term Debt (Describe & Itemize)",5150,null,null,null,null,null,null,null,null,{"$f":"SUM(D422:K422)","v":0}]
[null,"Debt Service - Interest on Long-Term Debt",5200,null,null,null,null,null,null,null,null,{"$f":"SUM(D423:K423)","v":0}]
["80-5300","Debt Service - Payments of Principal on Long-Term Debt 15 (Lease/Purchase Principal Retired) (Describe & Itemize)",5300,null,null,null,null,null,null,null,null,0]
["80-5400","Debt Service - Other (Describe & Itemize)",5400,null,null,null,null,null,null,null,null,0]
[null,"Total Debt Service",5000,null,null,{"$f":"SUM(F418:F425)","v":0},null,null,{"$f":"SUM(I418:I425)","v":0},null,null,{"$f":"SUM(L418:L425)","v":0}]
[null,"PROVISION FOR CONTINGENCIES (TF)",6000,null,null,null,null,null,null,null,null,{"$f":"SUM(D427:K427)","v":0}]
[null,"Total Direct Disbursements/Expenditures",null,{"$f":"SUM(D344+D387+D388)","v":91500},{"$f":"SUM(E344+E387+E388)","v":1750},{"$f":"SUM(F344+F387+F388+F415+F426)","v":70000},{"$f":"SUM(G344+G387+G388)","v":0},{"$f":"SUM(H344+H387+H388)","v":0},{"$f":"SUM(I344+I387+I388+I415+I426+I427)","v":0},{"$f":"SUM(J344+J387+J388)","v":0},{"$f":"SUM(K344+K387+K388)","v":0},{"$f":"SUM(L344+L387+L388+L415+L426+L427)","v":163250}]
[null,"Excess (Deficiency) of Receipts/Revenues Over Disbursements/Expenditures",null,null,null,null,null,null,null,null,null,{"$f":"'EstRev 6-11'!K270-'EstExp 12-20'!L428","v":-33050}]
[]
[null,"90 - FIRE PREVENTION & SAFETY FUND (FP&S)"]
[null,"SUPPORT SERVICES (FP&S)","2000"]
[null,"Support Services - Business",2500]
[null,"Facilities Acquisition & Construction Services",2530,null,null,null,null,null,null,null,null,{"$f":"SUM(D434:K434)","v":0}]
[null,"Operation & Maintenance of Plant Service",2540,null,null,1000,null,null,null,null,null,{"$f":"SUM(D435:K435)","v":1000}]
[null,"Total Support Services - Business",2500,{"$f":"SUM(D434:D435)","v":0},{"$f":"SUM(E434:E435)","v":0},1000,0,0,0,0,null,1000]
["90-2900","Other Support Services - Misc. (Describe & Itemize)",2900,null,null,null,null,null,null,null,null,{"$f":"SUM(D437:K437)","v":0}]
[null,"Total Support Services",2000,{"$f":"SUM(D436,D437)","v":0},{"$f":"SUM(E436,E437)","v":0},1000,0,0,0,0,null,{"$f":"SUM(L436,L437)","v":1000}]
[null,"PAYMENTS TO OTHER DISTRICTS & GOVT UNITS (FP&S)",4000]
[null,"Payments to Regular Programs",4110,null,null,null,null,null,null,null,null,{"$f":"I440","v":0}]
[null,"Payments to Special Education Programs",4120,null,null,null,null,null,null,null,null,{"$f":"I441","v":0}]
["90-4190","Other Payments to In-State Govt Units - Programs (Describe & Itemize)",4190,null,null,null,null,null,null,null,null,{"$f":"I442","v":0}]
[null,"Total Payments to Other Districts & Govt Units (FPS)",4000,null,null,null,null,null,{"$f":"SUM(I440:I442)","v":0},null,null,{"$f":"SUM(L440:L442)","v":0}]
[null,"DEBT SERVICE (FP&S)",5000]
[null,"Debt Service - Interest on Short-Term Debt",5100]
[null,"Tax Anticipation Warrants",5110,null,null,null,null,null,null,null,null,{"$f":"SUM(D446:K446)","v":0}]
["90-5150","Other Interest on Short-Term Debt (Describe & Itemize)",5150,null,null,null,null,null,null,null,null,{"$f":"SUM(D447:K447)","v":0}]
[null,"Total Debt Service - Interest on Short-Term Debt",5100,null,null,null,null,null,{"$f":"SUM(I446:I447)","v":0},null,null,{"$f":"SUM(L446:L447)","v":0}]
[null,"Debt Service - Interest on Long-Term Debt",5200,null,null,null,null,null,null,null,null,{"$f":"I449","v":0}]
["90-5300","Debt Service - Payments of Principal on Long-Term Debt 15 (Lease/Purchase Principal Retired) (Describe & Itemize)",5300,null,null,null,null,null,null,null,null,{"$f":"I450","v":0}]
[null,"Total Debt Service",5000,null,null,null,null,null,{"$f":"SUM(I448:I450)","v":0},null,null,{"$f":"SUM(L448:L450)","v":0}]
[null,"PROVISIONS FOR CONTINGENCIES (FP&S)",6000,null,null,null,null,null,null,null,null,{"$f":"SUM(D452:K452)","v":0}]
[null,"Total Direct Disbursements/Expenditures",null,{"$f":"SUM(D438)","v":0},{"$f":"SUM(E438)","v":0},{"$f":"SUM(F438)","v":1000},{"$f":"SUM(G438)","v":0},{"$f":"SUM(H438)","v":0},{"$f":"SUM(I438,I443,I451,I452)","v":0},{"$f":"SUM(J438)","v":0},null,{"$f":"SUM(L438,L443,L451,L452)","v":1000}]
[null,"Excess (Deficiency) of Receipts/Revenues Over Disbursements/Expenditures",null,null,null,null,null,null,null,null,null,{"$f":"'EstRev 6-11'!L270-'EstExp 12-20'!L453","v":2113839}]

{"sheet":"Itemize 21","index":6,"n_rows":175,"n_cols":8,"rows_kept":175,"cut":false,"hidden":false,"merged":[[3,2,3,4]]}
[]
[null,null,"This page is provided for detailed itemizations as requested within the body of the Report."]
[]
[null,null,"Please enter notes in \"Source of Revenue/Use of Expense\" column for the below line items. If page does not list specific revenues/expenditures, no itemization notes are required."]
[]
[null,null,"Fund-Account Number","Source of Revenue/Use of Expense","Amount",null,"VLOOKUP","NOTES"]
["Estimated Revenues",null,null,null,null,null,1]
[{"$f":"IF(G8>0,\"10-\"&VLOOKUP('EstRev 6-11'!$A$11,'EstRev 6-11'!$A$5:$L$267,1,FALSE),\"\")","v":""},{"$f":"IF(G8>0,VLOOKUP('EstRev 6-11'!$A$11,'EstRev 6-11'!$A$5:$L$267,2,FALSE),\"\")","v":""},{"$f":"IF(B8=\"\",\"\",LEFT(B8, LEN(B8)-21))","v":""},null,{"$f":"IF(G8>0,G8,\"\")","v":""},null,{"$f":"VLOOKUP('EstRev 6-11'!$A$11,'EstRev 6-11'!$A$5:$L$267,4,FALSE)","v":0},{"$f":"ISBLANK(D8)","v":true}]
[{"$f":"IF(G9>0,\"20-\"&VLOOKUP('EstRev 6-11'!$A$11,'EstRev 6-11'!$A$5:$L$267,1,FALSE),\"\")","v":""},{"$f":"IF(G9>0,VLOOKUP('EstRev 6-11'!$A$11,'EstRev 6-11'!$A$5:$L$267,2,FALSE),\"\")","v":""},{"$f":"IF(B9=\"\",\"\",LEFT(B9, LEN(B9)-21))","v":""},null,{"$f":"IF(G9>0,G9,\"\")","v":""},null,{"$f":"VLOOKUP('EstRev 6-11'!$A$11,'EstRev 6-11'!$A$5:$L$267,5,FALSE)","v":0},{"$f":"ISBLANK(D9)","v":true}]
[{"$f":"IF(G10>0,\"30-\"&VLOOKUP('EstRev 6-11'!$A$11,'EstRev 6-11'!$A$5:$L$267,1,FALSE),\"\")","v":""},{"$f":"IF(G10>0,VLOOKUP('EstRev 6-11'!$A$11,'EstRev 6-11'!$A$5:$L$267,2,FALSE),\"\")","v":""},{"$f":"IF(B10=\"\",\"\",LEFT(B10, LEN(B10)-21))","v":""},null,{"$f":"IF(G10>0,G10,\"\")","v":""},null,{"$f":"VLOOKUP('EstRev 6-11'!$A$11,'EstRev 6-11'!$A$5:$L$267,6,FALSE)","v":0},true]
[{"$f":"IF(G11>0,\"40-\"&VLOOKUP('EstRev 6-11'!$A$11,'EstRev 6-11'!$A$5:$L$267,1,FALSE),\"\")","v":""},{"$f":"IF(G11>0,VLOOKUP('EstRev 6-11'!$A$11,'EstRev 6-11'!$A$5:$L$267,2,FALSE),\"\")","v":""},"",null,"",null,{"$f":"VLOOKUP('EstRev 6-11'!$A$11,'EstRev 6-11'!$A$5:$L$267,7,FALSE)","v":0},true]
[{"$f":"IF(G12>0,\"50-\"&VLOOKUP('EstRev 6-11'!$A$11,'EstRev 6-11'!$A$5:$L$267,1,FALSE),\"\")","v":""},{"$f":"IF(G12>0,VLOOKUP('EstRev 6-11'!$A$11,'EstRev 6-11'!$A$5:$L$267,2,FALSE),\"\")","v":""},"",null,"",null,{"$f":"VLOOKUP('EstRev 6-11'!$A$11,'EstRev 6-11'!$A$5:$L$267,8,FALSE)","v":0},true]
[{"$f":"IF(G13>0,\"60-\"&VLOOKUP('EstRev 6-11'!$A$11,'EstRev 6-11'!$A$5:$L$267,1,FALSE),\"\")","v":""},{"$f":"IF(G13>0,VLOOKUP('EstRev 6-11'!$A$11,'EstRev 6-11'!$A$5:$L$267,2,FALSE),\"\")","v":""},"",null,"",null,{"$f":"VLOOKUP('EstRev 6-11'!$A$11,'EstRev 6-11'!$A$5:$L$267,9,FALSE)","v":0},true]
[{"$f":"IF(G14>0,\"70-\"&VLOOKUP('EstRev 6-11'!$A$11,'EstRev 6-11'!$A$5:$L$267,1,FALSE),\"\")","v":""},{"$f":"IF(G14>0,VLOOKUP('EstRev 6-11'!$A$11,'EstRev 6-11'!$A$5:$L$267,2,FALSE),\"\")","v":""},"",null,"",null,{"$f":"VLOOKUP('EstRev 6-11'!$A$11,'EstRev 6-11'!$A$5:$L$267,10,FALSE)","v":0},true]
[{"$f":"IF(G15>0,\"80-\"&VLOOKUP('EstRev 6-11'!$A$11,'EstRev 6-11'!$A$5:$L$267,1,FALSE),\"\")","v":""},{"$f":"IF(G15>0,VLOOKUP('EstRev 6-11'!$A$11,'EstRev 6-11'!$A$5:$L$267,2,FALSE),\"\")","v":""},"",null,"",null,{"$f":"VLOOKUP('EstRev 6-11'!$A$11,'EstRev 6-11'!$A$5:$L$267,11,FALSE)","v":0},true]
[{"$f":"IF(G16>0,\"90-\"&VLOOKUP('EstRev 6-11'!$A$11,'EstRev 6-11'!$A$5:$L$267,1,FALSE),\"\")","v":""},{"$f":"IF(G16>0,VLOOKUP('EstRev 6-11'!$A$11,'EstRev 6-11'!$A$5:$L$267,2,FALSE),\"\")","v":""},"",null,"",null,{"$f":"VLOOKUP('EstRev 6-11'!$A$11,'EstRev 6-11'!$A$5:$L$267,12,FALSE)","v":0},true]
[{"$f":"IF(G17>0,\"10-\"&VLOOKUP('EstRev 6-11'!$A$17,'EstRev 6-11'!$A$5:$L$267,1,FALSE),\"\")","v":""},{"$f":"IF(G17>0,VLOOKUP('EstRev 6-11'!$A$17,'EstRev 6-11'!$A$5:$L$267,2,FALSE),\"\")","v":""},"",null,"",null,{"$f":"VLOOKUP('EstRev 6-11'!$A$17,'EstRev 6-11'!$A$5:$L$267,4,FALSE)","v":0},true]
[{"$f":"IF(G18>0,\"20-\"&VLOOKUP('EstRev 6-11'!$A$17,'EstRev 6-11'!$A$5:$L$267,1,FALSE),\"\")","v":""},{"$f":"IF(G18>0,VLOOKUP('EstRev 6-11'!$A$17,'EstRev 6-11'!$A$5:$L$267,2,FALSE),\"\")","v":""},"",null,"",null,{"$f":"VLOOKUP('EstRev 6-11'!$A$17,'EstRev 6-11'!$A$5:$L$267,5,FALSE)","v":0},true]
[{"$f":"IF(G19>0,\"30-\"&VLOOKUP('EstRev 6-11'!$A$17,'EstRev 6-11'!$A$5:$L$267,1,FALSE),\"\")","v":""},{"$f":"IF(G19>0,VLOOKUP('EstRev 6-11'!$A$17,'EstRev 6-11'!$A$5:$L$267,2,FALSE),\"\")","v":""},"",null,"",null,{"$f":"VLOOKUP('EstRev 6-11'!$A$17,'EstRev 6-11'!$A$5:$L$267,6,FALSE)","v":0},true]
[{"$f":"IF(G20>0,\"40-\"&VLOOKUP('EstRev 6-11'!$A$17,'EstRev 6-11'!$A$5:$L$267,1,FALSE),\"\")","v":""},{"$f":"IF(G20>0,VLOOKUP('EstRev 6-11'!$A$17,'EstRev 6-11'!$A$5:$L$267,2,FALSE),\"\")","v":""},"",null,"",null,{"$f":"VLOOKUP('EstRev 6-11'!$A$17,'EstRev 6-11'!$A$5:$L$267,7,FALSE)","v":0},true]
[{"$f":"IF(G21>0,\"50-\"&VLOOKUP('EstRev 6-11'!$A$17,'EstRev 6-11'!$A$5:$L$267,1,FALSE),\"\")","v":""},{"$f":"IF(G21>0,VLOOKUP('EstRev 6-11'!$A$17,'EstRev 6-11'!$A$5:$L$267,2,FALSE),\"\")","v":""},"",null,"",null,{"$f":"VLOOKUP('EstRev 6-11'!$A$17,'EstRev 6-11'!$A$5:$L$267,8,FALSE)","v":0},true]
[{"$f":"IF(G22>0,\"60-\"&VLOOKUP('EstRev 6-11'!$A$17,'EstRev 6-11'!$A$5:$L$267,1,FALSE),\"\")","v":""},{"$f":"IF(G22>0,VLOOKUP('EstRev 6-11'!$A$17,'EstRev 6-11'!$A$5:$L$267,2,FALSE),\"\")","v":""},"",null,"",null,{"$f":"VLOOKUP('EstRev 6-11'!$A$17,'EstRev 6-11'!$A$5:$L$267,9,FALSE)","v":0},true]
[{"$f":"IF(G23>0,\"70-\"&VLOOKUP('EstRev 6-11'!$A$17,'EstRev 6-11'!$A$5:$L$267,1,FALSE),\"\")","v":""},{"$f":"IF(G23>0,VLOOKUP('EstRev 6-11'!$A$17,'EstRev 6-11'!$A$5:$L$267,2,FALSE),\"\")","v":""},"",null,"",null,{"$f":"VLOOKUP('EstRev 6-11'!$A$17,'EstRev 6-11'!$A$5:$L$267,10,FALSE)","v":0},true]
[{"$f":"IF(G24>0,\"80-\"&VLOOKUP('EstRev 6-11'!$A$17,'EstRev 6-11'!$A$5:$L$267,1,FALSE),\"\")","v":""},{"$f":"IF(G24>0,VLOOKUP('EstRev 6-11'!$A$17,'EstRev 6-11'!$A$5:$L$267,2,FALSE),\"\")","v":""},"",null,"",null,{"$f":"VLOOKUP('EstRev 6-11'!$A$17,'EstRev 6-11'!$A$5:$L$267,11,FALSE)","v":0},true]
[{"$f":"IF(G25>0,\"90-\"&VLOOKUP('EstRev 6-11'!$A$17,'EstRev 6-11'!$A$5:$L$267,1,FALSE),\"\")","v":""},{"$f":"IF(G25>0,VLOOKUP('EstRev 6-11'!$A$17,'EstRev 6-11'!$A$5:$L$267,2,FALSE),\"\")","v":""},"",null,"",null,{"$f":"VLOOKUP('EstRev 6-11'!$A$17,'EstRev 6-11'!$A$5:$L$267,12,FALSE)","v":0},true]
[{"$f":"IF(G26>0,\"10-\"&VLOOKUP('EstRev 6-11'!$A$72,'EstRev 6-11'!$A$5:$L$267,1,FALSE),\"\")","v":""},{"$f":"IF(G26>0,VLOOKUP('EstRev 6-11'!$A$72,'EstRev 6-11'!$A$5:$L$267,2,FALSE),\"\")","v":""},"",null,"",null,{"$f":"VLOOKUP('EstRev 6-11'!$A$72,'EstRev 6-11'!$A$5:$L$267,4,FALSE)","v":0},true]
[{"$f":"IF(G27>0,\"10-\"&VLOOKUP('EstRev 6-11'!$A$74,'EstRev 6-11'!$A$5:$L$267,1,FALSE),\"\")","v":""},{"$f":"IF(G27>0,VLOOKUP('EstRev 6-11'!$A$74,'EstRev 6-11'!$A$5:$L$267,2,FALSE),\"\")","v":""},"",null,"",null,{"$f":"VLOOKUP('EstRev 6-11'!$A$74,'EstRev 6-11'!$A$5:$L$267,4,FALSE)","v":0},true]
[{"$f":"IF(G28>0,\"10-\"&VLOOKUP('EstRev 6-11'!$A$81,'EstRev 6-11'!$A$5:$L$267,1,FALSE),\"\")","v":""},{"$f":"IF(G28>0,VLOOKUP('EstRev 6-11'!$A$81,'EstRev 6-11'!$A$5:$L$267,2,FALSE),\"\")","v":""},"",null,"",null,{"$f":"VLOOKUP('EstRev 6-11'!$A$81,'EstRev 6-11'!$A$5:$L$267,4,FALSE)","v":0},true]
[{"$f":"IF(G29>0,\"20-\"&VLOOKUP('EstRev 6-11'!$A$81,'EstRev 6-11'!$A$5:$L$267,1,FALSE),\"\")","v":""},{"$f":"IF(G29>0,VLOOKUP('EstRev 6-11'!$A$81,'EstRev 6-11'!$A$5:$L$267,2,FALSE),\"\")","v":""},"",null,"",null,{"$f":"VLOOKUP('EstRev 6-11'!$A$81,'EstRev 6-11'!$A$5:$L$267,5,FALSE)","v":0},true]
[{"$f":"IF(G30>0,\"10-\"&VLOOKUP('EstRev 6-11'!$A$89,'EstRev 6-11'!$A$5:$L$267,1,FALSE),\"\")","v":"10-1819"},{"$f":"IF(G30>0,VLOOKUP('EstRev 6-11'!$A$89,'EstRev 6-11'!$A$5:$L$267,2,FALSE),\"\")","v":"Textbook Rentals - Other (Describe & Itemize)"},"Textbook Rentals - Other","textbook fee",4700,null,{"$f":"VLOOKUP('EstRev 6-11'!$A$89,'EstRev 6-11'!$A$5:$L$267,4,FALSE)","v":4700},false]
[{"$f":"IF(G31>0,\"10-\"&VLOOKUP('EstRev 6-11'!$A$93,'EstRev 6-11'!$A$5:$L$267,1,FALSE),\"\")","v":"10-1829"},{"$f":"IF(G31>0,VLOOKUP('EstRev 6-11'!$A$93,'EstRev 6-11'!$A$5:$L$267,2,FALSE),\"\")","v":"Textbook Sales - Other (Describe & Itemize)"},"Textbook Sales - Other","textbook fee",600,null,{"$f":"VLOOKUP('EstRev 6-11'!$A$93,'EstRev 6-11'!$A$5:$L$267,4,FALSE)","v":600},false]
[{"$f":"IF(G32>0,\"10-\"&VLOOKUP('EstRev 6-11'!$A$94,'EstRev 6-11'!$A$5:$L$267,1,FALSE),\"\")","v":"10-1890"},{"$f":"IF(G32>0,VLOOKUP('EstRev 6-11'!$A$94,'EstRev 6-11'!$A$5:$L$267,2,FALSE),\"\")","v":"Other Textbook Income (Describe & Itemize)"},"Other Textbook Income",null,50,null,{"$f":"VLOOKUP('EstRev 6-11'!$A$94,'EstRev 6-11'!$A$5:$L$267,4,FALSE)","v":50},true]
[{"$f":"IF(G33>0,\"10-\"&VLOOKUP('EstRev 6-11'!$A$108,'EstRev 6-11'!$A$5:$L$267,1,FALSE),\"\")","v":""},{"$f":"IF(G33>0,VLOOKUP('EstRev 6-11'!$A$108,'EstRev 6-11'!$A$5:$L$267,2,FALSE),\"\")","v":""},"",null,"",null,{"$f":"VLOOKUP('EstRev 6-11'!$A$108,'EstRev 6-11'!$A$5:$L$267,4,FALSE)","v":0},true]
[{"$f":"IF(G34>0,\"20-\"&VLOOKUP('EstRev 6-11'!$A$108,'EstRev 6-11'!$A$5:$L$267,1,FALSE),\"\")","v":""},{"$f":"IF(G34>0,VLOOKUP('EstRev 6-11'!$A$108,'EstRev 6-11'!$A$5:$L$267,2,FALSE),\"\")","v":""},"",null,"",null,{"$f":"VLOOKUP('EstRev 6-11'!$A$108,'EstRev 6-11'!$A$5:$L$267,5,FALSE)","v":0},true]
[{"$f":"IF(G35>0,\"30-\"&VLOOKUP('EstRev 6-11'!$A$108,'EstRev 6-11'!$A$5:$L$267,1,FALSE),\"\")","v":""},{"$f":"IF(G35>0,VLOOKUP('EstRev 6-11'!$A$108,'EstRev 6-11'!$A$5:$L$267,2,FALSE),\"\")","v":""},"",null,"",null,{"$f":"VLOOKUP('EstRev 6-11'!$A$108,'EstRev 6-11'!$A$5:$L$267,6,FALSE)","v":0},true]
[{"$f":"IF(G36>0,\"40-\"&VLOOKUP('EstRev 6-11'!$A$108,'EstRev 6-11'!$A$5:$L$267,1,FALSE),\"\")","v":""},{"$f":"IF(G36>0,VLOOKUP('EstRev 6-11'!$A$108,'EstRev 6-11'!$A$5:$L$267,2,FALSE),\"\")","v":""},"",null,"",null,{"$f":"VLOOKUP('EstRev 6-11'!$A$108,'EstRev 6-11'!$A$5:$L$267,7,FALSE)","v":0},true]
[{"$f":"IF(G37>0,\"50-\"&VLOOKUP('EstRev 6-11'!$A$108,'EstRev 6-11'!$A$5:$L$267,1,FALSE),\"\")","v":""},{"$f":"IF(G37>0,VLOOKUP('EstRev 6-11'!$A$108,'EstRev 6-11'!$A$5:$L$267,2,FALSE),\"\")","v":""},"",null,"",null,{"$f":"VLOOKUP('EstRev 6-11'!$A$108,'EstRev 6-11'!$A$5:$L$267,8,FALSE)","v":0},true]
[{"$f":"IF(G38>0,\"60-\"&VLOOKUP('EstRev 6-11'!$A$108,'EstRev 6-11'!$A$5:$L$267,1,FALSE),\"\")","v":""},{"$f":"IF(G38>0,VLOOKUP('EstRev 6-11'!$A$108,'EstRev 6-11'!$A$5:$L$267,2,FALSE),\"\")","v":""},"",null,"",null,{"$f":"VLOOKUP('EstRev 6-11'!$A$108,'EstRev 6-11'!$A$5:$L$267,9,FALSE)","v":0},true]
[{"$f":"IF(G39>0,\"80-\"&VLOOKUP('EstRev 6-11'!$A$108,'EstRev 6-11'!$A$5:$L$267,1,FALSE),\"\")","v":""},{"$f":"IF(G39>0,VLOOKUP('EstRev 6-11'!$A$108,'EstRev 6-11'!$A$5:$L$267,2,FALSE),\"\")","v":""},"",null,{"$f":"IF(G39>0,G39,\"\")","v":""},null,{"$f":"VLOOKUP('EstRev 6-11'!$A$108,'EstRev 6-11'!$A$5:$L$267,11,FALSE)","v":0},true]
[{"$f":"IF(G40>0,\"90-\"&VLOOKUP('EstRev 6-11'!$A$108,'EstRev 6-11'!$A$5:$L$267,1,FALSE),\"\")","v":""},{"$f":"IF(G40>0,VLOOKUP('EstRev 6-11'!$A$108,'EstRev 6-11'!$A$5:$L$267,2,FALSE),\"\")","v":""},"",null,{"$f":"IF(G40>0,G40,\"\")","v":""},null,{"$f":"VLOOKUP('EstRev 6-11'!$A$108,'EstRev 6-11'!$A$5:$L$267,12,FALSE)","v":0},true]
[{"$f":"IF(G41>0,\"10-\"&VLOOKUP('EstRev 6-11'!$A$109,'EstRev 6-11'!$A$5:$L$267,1,FALSE),\"\")","v":"10-1999"},{"$f":"IF(G41>0,VLOOKUP('EstRev 6-11'!$A$109,'EstRev 6-11'!$A$5:$L$267,2,FALSE),\"\")","v":"Other Local Revenues (Describe & Itemize)"},"Other Local Revenues",null,31600,null,{"$f":"VLOOKUP('EstRev 6-11'!$A$109,'EstRev 6-11'!$A$5:$L$267,4,FALSE)","v":31600},true]
[{"$f":"IF(G42>0,\"20-\"&VLOOKUP('EstRev 6-11'!$A$109,'EstRev 6-11'!$A$5:$L$267,1,FALSE),\"\")","v":""},{"$f":"IF(G42>0,VLOOKUP('EstRev 6-11'!$A$109,'EstRev 6-11'!$A$5:$L$267,2,FALSE),\"\")","v":""},"",null,"",null,{"$f":"VLOOKUP('EstRev 6-11'!$A$109,'EstRev 6-11'!$A$5:$L$267,5,FALSE)","v":0},true]
[{"$f":"IF(G43>0,\"30-\"&VLOOKUP('EstRev 6-11'!$A$109,'EstRev 6-11'!$A$5:$L$267,1,FALSE),\"\")","v":""},{"$f":"IF(G43>0,VLOOKUP('EstRev 6-11'!$A$109,'EstRev 6-11'!$A$5:$L$267,2,FALSE),\"\")","v":""},"",null,"",null,{"$f":"VLOOKUP('EstRev 6-11'!$A$109,'EstRev 6-11'!$A$5:$L$267,6,FALSE)","v":0},true]
[{"$f":"IF(G44>0,\"40-\"&VLOOKUP('EstRev 6-11'!$A$109,'EstRev 6-11'!$A$5:$L$267,1,FALSE),\"\")","v":""},{"$f":"IF(G44>0,VLOOKUP('EstRev 6-11'!$A$109,'EstRev 6-11'!$A$5:$L$267,2,FALSE),\"\")","v":""},"",null,"",null,{"$f":"VLOOKUP('EstRev 6-11'!$A$109,'EstRev 6-11'!$A$5:$L$267,7,FALSE)","v":0},true]
[{"$f":"IF(G45>0,\"50-\"&VLOOKUP('EstRev 6-11'!$A$109,'EstRev 6-11'!$A$5:$L$267,1,FALSE),\"\")","v":""},{"$f":"IF(G45>0,VLOOKUP('EstRev 6-11'!$A$109,'EstRev 6-11'!$A$5:$L$267,2,FALSE),\"\")","v":""},"",null,"",null,{"$f":"VLOOKUP('EstRev 6-11'!$A$109,'EstRev 6-11'!$A$5:$L$267,8,FALSE)","v":0},true]
[{"$f":"IF(G46>0,\"60-\"&VLOOKUP('EstRev 6-11'!$A$109,'EstRev 6-11'!$A$5:$L$267,1,FALSE),\"\")","v":""},{"$f":"IF(G46>0,VLOOKUP('EstRev 6-11'!$A$109,'EstRev 6-11'!$A$5:$L$267,2,FALSE),\"\")","v":""},"",null,"",null,{"$f":"VLOOKUP('EstRev 6-11'!$A$109,'EstRev 6-11'!$A$5:$L$267,9,FALSE)","v":0},true]
[{"$f":"IF(G47>0,\"70-\"&VLOOKUP('EstRev 6-11'!$A$109,'EstRev 6-11'!$A$5:$L$267,1,FALSE),\"\")","v":""},{"$f":"IF(G47>0,VLOOKUP('EstRev 6-11'!$A$109,'EstRev 6-11'!$A$5:$L$267,2,FALSE),\"\")","v":""},"",null,"",null,{"$f":"VLOOKUP('EstRev 6-11'!$A$109,'EstRev 6-11'!$A$5:$L$267,10,FALSE)","v":0},true]
[{"$f":"IF(G48>0,\"80-\"&VLOOKUP('EstRev 6-11'!$A$109,'EstRev 6-11'!$A$5:$L$267,1,FALSE),\"\")","v":""},{"$f":"IF(G48>0,VLOOKUP('EstRev 6-11'!$A$109,'EstRev 6-11'!$A$5:$L$267,2,FALSE),\"\")","v":""},"",null,"",null,{"$f":"VLOOKUP('EstRev 6-11'!$A$109,'EstRev 6-11'!$A$5:$L$267,11,FALSE)","v":0},true]
[{"$f":"IF(G49>0,\"90-\"&VLOOKUP('EstRev 6-11'!$A$109,'EstRev 6-11'!$A$5:$L$267,1,FALSE),\"\")","v":"90-1999"},{"$f":"IF(G49>0,VLOOKUP('EstRev 6-11'!$A$109,'EstRev 6-11'!$A$5:$L$267,2,FALSE),\"\")","v":"Other Local Revenues (Describe & Itemize)"},"Other Local Revenues",null,2100000,null,{"$f":"VLOOKUP('EstRev 6-11'!$A$109,'EstRev 6-11'!$A$5:$L$267,12,FALSE)","v":2100000},true]
[{"$f":"IF(G50>0,\"10-\"&VLOOKUP('EstRev 6-11'!$A$116,'EstRev 6-11'!$A$5:$L$267,1,FALSE),\"\")","v":""},{"$f":"IF(G50>0,VLOOKUP('EstRev 6-11'!$A$116,'EstRev 6-11'!$A$5:$L$267,2,FALSE),\"\")","v":""},"",null,"",null,{"$f":"VLOOKUP('EstRev 6-11'!$A$116,'EstRev 6-11'!$A$5:$L$267,4,FALSE)","v":0},true]
[{"$f":"IF(G51>0,\"20-\"&VLOOKUP('EstRev 6-11'!$A$116,'EstRev 6-11'!$A$5:$L$267,1,FALSE),\"\")","v":""},{"$f":"IF(G51>0,VLOOKUP('EstRev 6-11'!$A$116,'EstRev 6-11'!$A$5:$L$267,2,FALSE),\"\")","v":""},"",null,"",null,{"$f":"VLOOKUP('EstRev 6-11'!$A$116,'EstRev 6-11'!$A$5:$L$267,5,FALSE)","v":0},true]
[{"$f":"IF(G52>0,\"40-\"&VLOOKUP('EstRev 6-11'!$A$116,'EstRev 6-11'!$A$5:$L$267,1,FALSE),\"\")","v":""},{"$f":"IF(G52>0,VLOOKUP('EstRev 6-11'!$A$116,'EstRev 6-11'!$A$5:$L$267,2,FALSE),\"\")","v":""},"",null,"",null,{"$f":"VLOOKUP('EstRev 6-11'!$A$116,'EstRev 6-11'!$A$5:$L$267,7,FALSE)","v":0},true]
[{"$f":"IF(G53>0,\"50-\"&VLOOKUP('EstRev 6-11'!$A$116,'EstRev 6-11'!$A$5:$L$267,1,FALSE),\"\")","v":""},{"$f":"IF(G53>0,VLOOKUP('EstRev 6-11'!$A$116,'EstRev 6-11'!$A$5:$L$267,2,FALSE),\"\")","v":""},"",null,"",null,{"$f":"VLOOKUP('EstRev 6-11'!$A$116,'EstRev 6-11'!$A$5:$L$267,8,FALSE)","v":0},true]
[{"$f":"IF(G54>0,\"10-\"&VLOOKUP('EstRev 6-11'!$A$123,'EstRev 6-11'!$A$5:$L$267,1,FALSE),\"\")","v":""},{"$f":"IF(G54>0,VLOOKUP('EstRev 6-11'!$A$123,'EstRev 6-11'!$A$5:$L$267,2,FALSE),\"\")","v":""},"",null,"",null,{"$f":"VLOOKUP('EstRev 6-11'!$A$123,'EstRev 6-11'!$A$5:$L$267,4,FALSE)","v":0},true]
[{"$f":"IF(G55>0,\"20-\"&VLOOKUP('EstRev 6-11'!$A$123,'EstRev 6-11'!$A$5:$L$267,1,FALSE),\"\")","v":""},{"$f":"IF(G55>0,VLOOKUP('EstRev 6-11'!$A$123,'EstRev 6-11'!$A$5:$L$267,2,FALSE),\"\")","v":""},"",null,"",null,{"$f":"VLOOKUP('EstRev 6-11'!$A$123,'EstRev 6-11'!$A$5:$L$267,5,FALSE)","v":0},true]
[{"$f":"IF(G56>0,\"30-\"&VLOOKUP('EstRev 6-11'!$A$123,'EstRev 6-11'!$A$5:$L$267,1,FALSE),\"\")","v":""},{"$f":"IF(G56>0,VLOOKUP('EstRev 6-11'!$A$123,'EstRev 6-11'!$A$5:$L$267,2,FALSE),\"\")","v":""},"",null,"",null,{"$f":"VLOOKUP('EstRev 6-11'!$A$123,'EstRev 6-11'!$A$5:$L$267,6,FALSE)","v":0},true]
[{"$f":"IF(G57>0,\"40-\"&VLOOKUP('EstRev 6-11'!$A$123,'EstRev 6-11'!$A$5:$L$267,1,FALSE),\"\")","v":""},{"$f":"IF(G57>0,VLOOKUP('EstRev 6-11'!$A$123,'EstRev 6-11'!$A$5:$L$267,2,FALSE),\"\")","v":""},"",null,"",null,{"$f":"VLOOKUP('EstRev 6-11'!$A$123,'EstRev 6-11'!$A$5:$L$267,7,FALSE)","v":0},true]
[{"$f":"IF(G58>0,\"50-\"&VLOOKUP('EstRev 6-11'!$A$123,'EstRev 6-11'!$A$5:$L$267,1,FALSE),\"\")","v":""},{"$f":"IF(G58>0,VLOOKUP('EstRev 6-11'!$A$123,'EstRev 6-11'!$A$5:$L$267,2,FALSE),\"\")","v":""},"",null,"",null,{"$f":"VLOOKUP('EstRev 6-11'!$A$123,'EstRev 6-11'!$A$5:$L$267,8,FALSE)","v":0},true]
[{"$f":"IF(G59>0,\"60-\"&VLOOKUP('EstRev 6-11'!$A$123,'EstRev 6-11'!$A$5:$L$267,1,FALSE),\"\")","v":""},{"$f":"IF(G59>0,VLOOKUP('EstRev 6-11'!$A$123,'EstRev 6-11'!$A$5:$L$267,2,FALSE),\"\")","v":""},"",null,"",null,{"$f":"VLOOKUP('EstRev 6-11'!$A$123,'EstRev 6-11'!$A$5:$L$267,9,FALSE)","v":0},true]
[{"$f":"IF(G60>0,\"80-\"&VLOOKUP('EstRev 6-11'!$A$123,'EstRev 6-11'!$A$5:$L$267,1,FALSE),\"\")","v":""},{"$f":"IF(G60>0,VLOOKUP('EstRev 6-11'!$A$123,'EstRev 6-11'!$A$5:$L$267,2,FALSE),\"\")","v":""},"",null,"",null,{"$f":"VLOOKUP('EstRev 6-11'!$A$123,'EstRev 6-11'!$A$5:$L$267,11,FALSE)","v":0},true]
[{"$f":"IF(G61>0,\"90-\"&VLOOKUP('EstRev 6-11'!$A$123,'EstRev 6-11'!$A$5:$L$267,1,FALSE),\"\")","v":""},{"$f":"IF(G61>0,VLOOKUP('EstRev 6-11'!$A$123,'EstRev 6-11'!$A$5:$L$267,2,FALSE),\"\")","v":""},"",null,"",null,{"$f":"VLOOKUP('EstRev 6-11'!$A$123,'EstRev 6-11'!$A$5:$L$267,12,FALSE)","v":0},true]
[{"$f":"IF(G62>0,\"10-\"&VLOOKUP('EstRev 6-11'!$A$133,'EstRev 6-11'!$A$5:$L$267,1,FALSE),\"\")","v":""},{"$f":"IF(G62>0,VLOOKUP('EstRev 6-11'!$A$133,'EstRev 6-11'!$A$5:$L$267,2,FALSE),\"\")","v":""},"",null,"",null,{"$f":"VLOOKUP('EstRev 6-11'!$A$133,'EstRev 6-11'!$A$5:$L$267,4,FALSE)","v":0},true]
[{"$f":"IF(G63>0,\"20-\"&VLOOKUP('EstRev 6-11'!$A$133,'EstRev 6-11'!$A$5:$L$267,1,FALSE),\"\")","v":""},{"$f":"IF(G63>0,VLOOKUP('EstRev 6-11'!$A$133,'EstRev 6-11'!$A$5:$L$267,2,FALSE),\"\")","v":""},"",null,"",null,{"$f":"VLOOKUP('EstRev 6-11'!$A$133,'EstRev 6-11'!$A$5:$L$267,5,FALSE)","v":0},true]
[{"$f":"IF(G64>0,\"40-\"&VLOOKUP('EstRev 6-11'!$A$133,'EstRev 6-11'!$A$5:$L$267,1,FALSE),\"\")","v":""},{"$f":"IF(G64>0,VLOOKUP('EstRev 6-11'!$A$133,'EstRev 6-11'!$A$5:$L$267,2,FALSE),\"\")","v":""},"",null,"",null,{"$f":"VLOOKUP('EstRev 6-11'!$A$133,'EstRev 6-11'!$A$5:$L$267,7,FALSE)","v":0},true]
[{"$f":"IF(G65>0,\"10-\"&VLOOKUP('EstRev 6-11'!$A$142,'EstRev 6-11'!$A$5:$L$267,1,FALSE),\"\")","v":""},{"$f":"IF(G65>0,VLOOKUP('EstRev 6-11'!$A$142,'EstRev 6-11'!$A$5:$L$267,2,FALSE),\"\")","v":""},{"$f":"IF(B65=\"\",\"\",LEFT(B65, LEN(B65)-21))","v":""},null,"",null,{"$f":"VLOOKUP('EstRev 6-11'!$A$142,'EstRev 6-11'!$A$5:$L$267,4,FALSE)","v":0},true]
[{"$f":"IF(G66>0,\"20-\"&VLOOKUP('EstRev 6-11'!$A$142,'EstRev 6-11'!$A$5:$L$267,1,FALSE),\"\")","v":""},{"$f":"IF(G66>0,VLOOKUP('EstRev 6-11'!$A$142,'EstRev 6-11'!$A$5:$L$267,2,FALSE),\"\")","v":""},"",null,"",null,{"$f":"VLOOKUP('EstRev 6-11'!$A$142,'EstRev 6-11'!$A$5:$L$267,5,FALSE)","v":0},true]
[{"$f":"IF(G67>0,\"50-\"&VLOOKUP('EstRev 6-11'!$A$142,'EstRev 6-11'!$A$5:$L$267,1,FALSE),\"\")","v":""},{"$f":"IF(G67>0,VLOOKUP('EstRev 6-11'!$A$142,'EstRev 6-11'!$A$5:$L$267,2,FALSE),\"\")","v":""},"",null,"",null,{"$f":"VLOOKUP('EstRev 6-11'!$A$142,'EstRev 6-11'!$A$5:$L$267,8,FALSE)","v":0},true]
[{"$f":"IF(G68>0,\"10-\"&VLOOKUP('EstRev 6-11'!$A$152,'EstRev 6-11'!$A$5:$L$267,1,FALSE),\"\")","v":""},{"$f":"IF(G68>0,VLOOKUP('EstRev 6-11'!$A$152,'EstRev 6-11'!$A$5:$L$267,2,FALSE),\"\")","v":""},"",null,"",null,{"$f":"VLOOKUP('EstRev 6-11'!$A$152,'EstRev 6-11'!$A$5:$L$267,4,FALSE)","v":0},true]
[{"$f":"IF(G69>0,\"20-\"&VLOOKUP('EstRev 6-11'!$A$152,'EstRev 6-11'!$A$5:$L$267,1,FALSE),\"\")","v":""},{"$f":"IF(G69>0,VLOOKUP('EstRev 6-11'!$A$152,'EstRev 6-11'!$A$5:$L$267,2,FALSE),\"\")","v":""},"",null,"",null,{"$f":"VLOOKUP('EstRev 6-11'!$A$152,'EstRev 6-11'!$A$5:$L$267,5,FALSE)","v":0},true]
[{"$f":"IF(G70>0,\"30-\"&VLOOKUP('EstRev 6-11'!$A$152,'EstRev 6-11'!$A$5:$L$267,1,FALSE),\"\")","v":""},{"$f":"IF(G70>0,VLOOKUP('EstRev 6-11'!$A$152,'EstRev 6-11'!$A$5:$L$267,2,FALSE),\"\")","v":""},"",null,"",null,{"$f":"VLOOKUP('EstRev 6-11'!$A$152,'EstRev 6-11'!$A$5:$L$267,6,FALSE)","v":0},true]
[{"$f":"IF(G71>0,\"40-\"&VLOOKUP('EstRev 6-11'!$A$152,'EstRev 6-11'!$A$5:$L$267,1,FALSE),\"\")","v":""},{"$f":"IF(G71>0,VLOOKUP('EstRev 6-11'!$A$152,'EstRev 6-11'!$A$5:$L$267,2,FALSE),\"\")","v":""},"",null,"",null,{"$f":"VLOOKUP('EstRev 6-11'!$A$152,'EstRev 6-11'!$A$5:$L$267,7,FALSE)","v":0},true]
[{"$f":"IF(G72>0,\"50-\"&VLOOKUP('EstRev 6-11'!$A$152,'EstRev 6-11'!$A$5:$L$267,1,FALSE),\"\")","v":""},{"$f":"IF(G72>0,VLOOKUP('EstRev 6-11'!$A$152,'EstRev 6-11'!$A$5:$L$267,2,FALSE),\"\")","v":""},"",null,"",null,{"$f":"VLOOKUP('EstRev 6-11'!$A$152,'EstRev 6-11'!$A$5:$L$267,8,FALSE)","v":0},true]
[{"$f":"IF(G73>0,\"60-\"&VLOOKUP('EstRev 6-11'!$A$152,'EstRev 6-11'!$A$5:$L$267,1,FALSE),\"\")","v":""},{"$f":"IF(G73>0,VLOOKUP('EstRev 6-11'!$A$152,'EstRev 6-11'!$A$5:$L$267,2,FALSE),\"\")","v":""},"",null,"",null,{"$f":"VLOOKUP('EstRev 6-11'!$A$152,'EstRev 6-11'!$A$5:$L$267,9,FALSE)","v":0},{"$f":"ISBLANK(D73)","v":true}]
[{"$f":"IF(G74>0,\"70-\"&VLOOKUP('EstRev 6-11'!$A$152,'EstRev 6-11'!$A$5:$L$267,1,FALSE),\"\")","v":""},{"$f":"IF(G74>0,VLOOKUP('EstRev 6-11'!$A$152,'EstRev 6-11'!$A$5:$L$267,2,FALSE),\"\")","v":""},{"$f":"IF(B74=\"\",\"\",LEFT(B74, LEN(B74)-21))","v":""},null,{"$f":"IF(G74>0,G74,\"\")","v":""},null,{"$f":"VLOOKUP('EstRev 6-11'!$A$152,'EstRev 6-11'!$A$5:$L$267,10,FALSE)","v":0},true]
[{"$f":"IF(G75>0,\"80-\"&VLOOKUP('EstRev 6-11'!$A$152,'EstRev 6-11'!$A$5:$L$267,1,FALSE),\"\")","v":""},{"$f":"IF(G75>0,VLOOKUP('EstRev 6-11'!$A$152,'EstRev 6-11'!$A$5:$L$267,2,FALSE),\"\")","v":""},"",null,"",null,{"$f":"VLOOKUP('EstRev 6-11'!$A$152,'EstRev 6-11'!$A$5:$L$267,11,FALSE)","v":0},true]
[{"$f":"IF(G76>0,\"90-\"&VLOOKUP('EstRev 6-11'!$A$152,'EstRev 6-11'!$A$5:$L$267,1,FALSE),\"\")","v":""},{"$f":"IF(G76>0,VLOOKUP('EstRev 6-11'!$A$152,'EstRev 6-11'!$A$5:$L$267,2,FALSE),\"\")","v":""},"",null,"",null,{"$f":"VLOOKUP('EstRev 6-11'!$A$152,'EstRev 6-11'!$A$5:$L$267,12,FALSE)","v":0},true]
[{"$f":"IF(G77>0,\"10-\"&VLOOKUP('EstRev 6-11'!$A$156,'EstRev 6-11'!$A$5:$L$267,1,FALSE),\"\")","v":""},{"$f":"IF(G77>0,VLOOKUP('EstRev 6-11'!$A$156,'EstRev 6-11'!$A$5:$L$267,2,FALSE),\"\")","v":""},"",null,"",null,{"$f":"VLOOKUP('EstRev 6-11'!$A$156,'EstRev 6-11'!$A$5:$L$267,4,FALSE)","v":0},true]
[{"$f":"IF(G78>0,\"20-\"&VLOOKUP('EstRev 6-11'!$A$156,'EstRev 6-11'!$A$5:$L$267,1,FALSE),\"\")","v":""},{"$f":"IF(G78>0,VLOOKUP('EstRev 6-11'!$A$156,'EstRev 6-11'!$A$5:$L$267,2,FALSE),\"\")","v":""},"",null,"",null,{"$f":"VLOOKUP('EstRev 6-11'!$A$156,'EstRev 6-11'!$A$5:$L$267,5,FALSE)","v":0},true]
[{"$f":"IF(G79>0,\"40-\"&VLOOKUP('EstRev 6-11'!$A$156,'EstRev 6-11'!$A$5:$L$267,1,FALSE),\"\")","v":""},{"$f":"IF(G79>0,VLOOKUP('EstRev 6-11'!$A$156,'EstRev 6-11'!$A$5:$L$267,2,FALSE),\"\")","v":""},"",null,"",null,{"$f":"VLOOKUP('EstRev 6-11'!$A$156,'EstRev 6-11'!$A$5:$L$267,7,FALSE)","v":0},true]
[{"$f":"IF(G80>0,\"50-\"&VLOOKUP('EstRev 6-11'!$A$156,'EstRev 6-11'!$A$5:$L$267,1,FALSE),\"\")","v":""},{"$f":"IF(G80>0,VLOOKUP('EstRev 6-11'!$A$156,'EstRev 6-11'!$A$5:$L$267,2,FALSE),\"\")","v":""},"",null,"",null,{"$f":"VLOOKUP('EstRev 6-11'!$A$156,'EstRev 6-11'!$A$5:$L$267,8,FALSE)","v":0},true]
[{"$f":"IF(G81>0,\"10-\"&VLOOKUP('EstRev 6-11'!$A$170,'EstRev 6-11'!$A$5:$L$267,1,FALSE),\"\")","v":""},{"$f":"IF(G81>0,VLOOKUP('EstRev 6-11'!$A$170,'EstRev 6-11'!$A$5:$L$267,2,FALSE),\"\")","v":""},"",null,"",null,{"$f":"VLOOKUP('EstRev 6-11'!$A$170,'EstRev 6-11'!$A$5:$L$267,4,FALSE)","v":0},true]
[{"$f":"IF(G82>0,\"20-\"&VLOOKUP('EstRev 6-11'!$A$170,'EstRev 6-11'!$A$5:$L$267,1,FALSE),\"\")","v":""},{"$f":"IF(G82>0,VLOOKUP('EstRev 6-11'!$A$170,'EstRev 6-11'!$A$5:$L$267,2,FALSE),\"\")","v":""},"",null,"",null,{"$f":"VLOOKUP('EstRev 6-11'!$A$170,'EstRev 6-11'!$A$5:$L$267,5,FALSE)","v":0},true]
[{"$f":"IF(G83>0,\"30-\"&VLOOKUP('EstRev 6-11'!$A$170,'EstRev 6-11'!$A$5:$L$267,1,FALSE),\"\")","v":""},{"$f":"IF(G83>0,VLOOKUP('EstRev 6-11'!$A$170,'EstRev 6-11'!$A$5:$L$267,2,FALSE),\"\")","v":""},"",null,"",null,{"$f":"VLOOKUP('EstRev 6-11'!$A$170,'EstRev 6-11'!$A$5:$L$267,6,FALSE)","v":0},true]
[{"$f":"IF(G84>0,\"40-\"&VLOOKUP('EstRev 6-11'!$A$170,'EstRev 6-11'!$A$5:$L$267,1,FALSE),\"\")","v":""},{"$f":"IF(G84>0,VLOOKUP('EstRev 6-11'!$A$170,'EstRev 6-11'!$A$5:$L$267,2,FALSE),\"\")","v":""},"",null,"",null,{"$f":"VLOOKUP('EstRev 6-11'!$A$170,'EstRev 6-11'!$A$5:$L$267,7,FALSE)","v":0},true]
[{"$f":"IF(G85>0,\"50-\"&VLOOKUP('EstRev 6-11'!$A$170,'EstRev 6-11'!$A$5:$L$267,1,FALSE),\"\")","v":""},{"$f":"IF(G85>0,VLOOKUP('EstRev 6-11'!$A$170,'EstRev 6-11'!$A$5:$L$267,2,FALSE),\"\")","v":""},"",null,"",null,{"$f":"VLOOKUP('EstRev 6-11'!$A$170,'EstRev 6-11'!$A$5:$L$267,8,FALSE)","v":0},true]
[{"$f":"IF(G86>0,\"60-\"&VLOOKUP('EstRev 6-11'!$A$170,'EstRev 6-11'!$A$5:$L$267,1,FALSE),\"\")","v":""},{"$f":"IF(G86>0,VLOOKUP('EstRev 6-11'!$A$170,'EstRev 6-11'!$A$5:$L$267,2,FALSE),\"\")","v":""},"",null,"",null,{"$f":"VLOOKUP('EstRev 6-11'!$A$170,'EstRev 6-11'!$A$5:$L$267,9,FALSE)","v":0},true]
[{"$f":"IF(G87>0,\"70-\"&VLOOKUP('EstRev 6-11'!$A$170,'EstRev 6-11'!$A$5:$L$267,1,FALSE),\"\")","v":""},{"$f":"IF(G87>0,VLOOKUP('EstRev 6-11'!$A$170,'EstRev 6-11'!$A$5:$L$267,2,FALSE),\"\")","v":""},"",null,"",null,{"$f":"VLOOKUP('EstRev 6-11'!$A$170,'EstRev 6-11'!$A$5:$L$267,10,FALSE)","v":0},true]
[{"$f":"IF(G88>0,\"80-\"&VLOOKUP('EstRev 6-11'!$A$170,'EstRev 6-11'!$A$5:$L$267,1,FALSE),\"\")","v":""},{"$f":"IF(G88>0,VLOOKUP('EstRev 6-11'!$A$170,'EstRev 6-11'!$A$5:$L$267,2,FALSE),\"\")","v":""},"",null,"",null,{"$f":"VLOOKUP('EstRev 6-11'!$A$170,'EstRev 6-11'!$A$5:$L$267,11,FALSE)","v":0},true]
[{"$f":"IF(G89>0,\"90-\"&VLOOKUP('EstRev 6-11'!$A$170,'EstRev 6-11'!$A$5:$L$267,1,FALSE),\"\")","v":""},{"$f":"IF(G89>0,VLOOKUP('EstRev 6-11'!$A$170,'EstRev 6-11'!$A$5:$L$267,2,FALSE),\"\")","v":""},"",null,"",null,{"$f":"VLOOKUP('EstRev 6-11'!$A$170,'EstRev 6-11'!$A$5:$L$267,12,FALSE)","v":0},true]
[{"$f":"IF(G90>0,\"10-\"&VLOOKUP('EstRev 6-11'!$A$176,'EstRev 6-11'!$A$5:$L$267,1,FALSE),\"\")","v":""},{"$f":"IF(G90>0,VLOOKUP('EstRev 6-11'!$A$176,'EstRev 6-11'!$A$5:$L$267,2,FALSE),\"\")","v":""},"",null,"",null,{"$f":"VLOOKUP('EstRev 6-11'!$A$176,'EstRev 6-11'!$A$5:$L$267,4,FALSE)","v":0},true]
[{"$f":"IF(G91>0,\"20-\"&VLOOKUP('EstRev 6-11'!$A$176,'EstRev 6-11'!$A$5:$L$267,1,FALSE),\"\")","v":""},{"$f":"IF(G91>0,VLOOKUP('EstRev 6-11'!$A$176,'EstRev 6-11'!$A$5:$L$267,2,FALSE),\"\")","v":""},"",null,"",null,{"$f":"VLOOKUP('EstRev 6-11'!$A$176,'EstRev 6-11'!$A$5:$L$267,5,FALSE)","v":0},true]
[{"$f":"IF(G92>0,\"30-\"&VLOOKUP('EstRev 6-11'!$A$176,'EstRev 6-11'!$A$5:$L$267,1,FALSE),\"\")","v":""},{"$f":"IF(G92>0,VLOOKUP('EstRev 6-11'!$A$176,'EstRev 6-11'!$A$5:$L$267,2,FALSE),\"\")","v":""},"",null,"",null,{"$f":"VLOOKUP('EstRev 6-11'!$A$176,'EstRev 6-11'!$A$5:$L$267,6,FALSE)","v":0},true]
[{"$f":"IF(G93>0,\"40-\"&VLOOKUP('EstRev 6-11'!$A$176,'EstRev 6-11'!$A$5:$L$267,1,FALSE),\"\")","v":""},{"$f":"IF(G93>0,VLOOKUP('EstRev 6-11'!$A$176,'EstRev 6-11'!$A$5:$L$267,2,FALSE),\"\")","v":""},"",null,"",null,{"$f":"VLOOKUP('EstRev 6-11'!$A$176,'EstRev 6-11'!$A$5:$L$267,7,FALSE)","v":0},true]
[{"$f":"IF(G94>0,\"50-\"&VLOOKUP('EstRev 6-11'!$A$176,'EstRev 6-11'!$A$5:$L$267,1,FALSE),\"\")","v":""},{"$f":"IF(G94>0,VLOOKUP('EstRev 6-11'!$A$176,'EstRev 6-11'!$A$5:$L$267,2,FALSE),\"\")","v":""},"",null,"",null,{"$f":"VLOOKUP('EstRev 6-11'!$A$176,'EstRev 6-11'!$A$5:$L$267,8,FALSE)","v":0},true]
[{"$f":"IF(G95>0,\"60-\"&VLOOKUP('EstRev 6-11'!$A$176,'EstRev 6-11'!$A$5:$L$267,1,FALSE),\"\")","v":""},{"$f":"IF(G95>0,VLOOKUP('EstRev 6-11'!$A$176,'EstRev 6-11'!$A$5:$L$267,2,FALSE),\"\")","v":""},"",null,"",null,{"$f":"VLOOKUP('EstRev 6-11'!$A$176,'EstRev 6-11'!$A$5:$L$267,9,FALSE)","v":0},true]
[{"$f":"IF(G96>0,\"70-\"&VLOOKUP('EstRev 6-11'!$A$176,'EstRev 6-11'!$A$5:$L$267,1,FALSE),\"\")","v":""},{"$f":"IF(G96>0,VLOOKUP('EstRev 6-11'!$A$176,'EstRev 6-11'!$A$5:$L$267,2,FALSE),\"\")","v":""},"",null,"",null,{"$f":"VLOOKUP('EstRev 6-11'!$A$176,'EstRev 6-11'!$A$5:$L$267,10,FALSE)","v":0},true]
[{"$f":"IF(G97>0,\"80-\"&VLOOKUP('EstRev 6-11'!$A$176,'EstRev 6-11'!$A$5:$L$267,1,FALSE),\"\")","v":""},{"$f":"IF(G97>0,VLOOKUP('EstRev 6-11'!$A$176,'EstRev 6-11'!$A$5:$L$267,2,FALSE),\"\")","v":""},"",null,"",null,{"$f":"VLOOKUP('EstRev 6-11'!$A$176,'EstRev 6-11'!$A$5:$L$267,11,FALSE)","v":0},true]
[{"$f":"IF(G98>0,\"90-\"&VLOOKUP('EstRev 6-11'!$A$176,'EstRev 6-11'!$A$5:$L$267,1,FALSE),\"\")","v":""},{"$f":"IF(G98>0,VLOOKUP('EstRev 6-11'!$A$176,'EstRev 6-11'!$A$5:$L$267,2,FALSE),\"\")","v":""},"",null,"",null,{"$f":"VLOOKUP('EstRev 6-11'!$A$176,'EstRev 6-11'!$A$5:$L$267,12,FALSE)","v":0},true]
[{"$f":"IF(G99>0,\"10-\"&VLOOKUP('EstRev 6-11'!$A$182,'EstRev 6-11'!$A$5:$L$267,1,FALSE),\"\")","v":""},{"$f":"IF(G99>0,VLOOKUP('EstRev 6-11'!$A$182,'EstRev 6-11'!$A$5:$L$267,2,FALSE),\"\")","v":""},"",null,"",null,{"$f":"VLOOKUP('EstRev 6-11'!$A$182,'EstRev 6-11'!$A$5:$L$267,4,FALSE)","v":0},true]
[{"$f":"IF(G100>0,\"20-\"&VLOOKUP('EstRev 6-11'!$A$182,'EstRev 6-11'!$A$5:$L$267,1,FALSE),\"\")","v":""},{"$f":"IF(G100>0,VLOOKUP('EstRev 6-11'!$A$182,'EstRev 6-11'!$A$5:$L$267,2,FALSE),\"\")","v":""},"",null,"",null,{"$f":"VLOOKUP('EstRev 6-11'!$A$182,'EstRev 6-11'!$A$5:$L$267,5,FALSE)","v":0},true]
[{"$f":"IF(G101>0,\"40-\"&VLOOKUP('EstRev 6-11'!$A$182,'EstRev 6-11'!$A$5:$L$267,1,FALSE),\"\")","v":""},{"$f":"IF(G101>0,VLOOKUP('EstRev 6-11'!$A$182,'EstRev 6-11'!$A$5:$L$267,2,FALSE),\"\")","v":""},"",null,"",null,{"$f":"VLOOKUP('EstRev 6-11'!$A$182,'EstRev 6-11'!$A$5:$L$267,7,FALSE)","v":0},true]
[{"$f":"IF(G102>0,\"50-\"&VLOOKUP('EstRev 6-11'!$A$182,'EstRev 6-11'!$A$5:$L$267,1,FALSE),\"\")","v":""},{"$f":"IF(G102>0,VLOOKUP('EstRev 6-11'!$A$182,'EstRev 6-11'!$A$5:$L$267,2,FALSE),\"\")","v":""},"",null,"",null,{"$f":"VLOOKUP('EstRev 6-11'!$A$182,'EstRev 6-11'!$A$5:$L$267,8,FALSE)","v":0},true]
[{"$f":"IF(G103>0,\"60-\"&VLOOKUP('EstRev 6-11'!$A$182,'EstRev 6-11'!$A$5:$L$267,1,FALSE),\"\")","v":""},{"$f":"IF(G103>0,VLOOKUP('EstRev 6-11'!$A$182,'EstRev 6-11'!$A$5:$L$267,2,FALSE),\"\")","v":""},"",null,"",null,{"$f":"VLOOKUP('EstRev 6-11'!$A$182,'EstRev 6-11'!$A$5:$L$267,9,FALSE)","v":0},true]
[{"$f":"IF(G104>0,\"90-\"&VLOOKUP('EstRev 6-11'!$A$182,'EstRev 6-11'!$A$5:$L$267,1,FALSE),\"\")","v":""},{"$f":"IF(G104>0,VLOOKUP('EstRev 6-11'!$A$182,'EstRev 6-11'!$A$5:$L$267,2,FALSE),\"\")","v":""},"",null,"",null,{"$f":"VLOOKUP('EstRev 6-11'!$A$182,'EstRev 6-11'!$A$5:$L$267,12,FALSE)","v":0},true]
[{"$f":"IF(G105>0,\"10-\"&VLOOKUP('EstRev 6-11'!$A$189,'EstRev 6-11'!$A$5:$L$267,1,FALSE),\"\")","v":""},{"$f":"IF(G105>0,VLOOKUP('EstRev 6-11'!$A$189,'EstRev 6-11'!$A$5:$L$267,2,FALSE),\"\")","v":""},{"$f":"IF(B105=\"\",\"\",LEFT(B105, LEN(B105)-21))","v":""},null,"",null,{"$f":"VLOOKUP('EstRev 6-11'!$A$189,'EstRev 6-11'!$A$5:$L$267,4,FALSE)","v":0},true]
[{"$f":"IF(G106>0,\"20-\"&VLOOKUP('EstRev 6-11'!$A$189,'EstRev 6-11'!$A$5:$L$267,1,FALSE),\"\")","v":""},{"$f":"IF(G106>0,VLOOKUP('EstRev 6-11'!$A$189,'EstRev 6-11'!$A$5:$L$267,2,FALSE),\"\")","v":""},"",null,"",null,{"$f":"VLOOKUP('EstRev 6-11'!$A$189,'EstRev 6-11'!$A$5:$L$267,5,FALSE)","v":0},true]
[{"$f":"IF(G107>0,\"40-\"&VLOOKUP('EstRev 6-11'!$A$189,'EstRev 6-11'!$A$5:$L$267,1,FALSE),\"\")","v":""},{"$f":"IF(G107>0,VLOOKUP('EstRev 6-11'!$A$189,'EstRev 6-11'!$A$5:$L$267,2,FALSE),\"\")","v":""},"",null,"",null,{"$f":"VLOOKUP('EstRev 6-11'!$A$189,'EstRev 6-11'!$A$5:$L$267,7,FALSE)","v":0},true]
[{"$f":"IF(G108>0,\"50-\"&VLOOKUP('EstRev 6-11'!$A$189,'EstRev 6-11'!$A$5:$L$267,1,FALSE),\"\")","v":""},{"$f":"IF(G108>0,VLOOKUP('EstRev 6-11'!$A$189,'EstRev 6-11'!$A$5:$L$267,2,FALSE),\"\")","v":""},"",null,"",null,{"$f":"VLOOKUP('EstRev 6-11'!$A$189,'EstRev 6-11'!$A$5:$L$267,8,FALSE)","v":0},true]
[{"$f":"IF(G109>0,\"10-\"&VLOOKUP('EstRev 6-11'!$A$199,'EstRev 6-11'!$A$5:$L$267,1,FALSE),\"\")","v":"10-4299"},{"$f":"IF(G109>0,VLOOKUP('EstRev 6-11'!$A$199,'EstRev 6-11'!$A$5:$L$267,2,FALSE),\"\")","v":"Food Service - Other (Describe & Itemize)"},"Food Service - Other",null,8700,null,{"$f":"VLOOKUP('EstRev 6-11'!$A$199,'EstRev 6-11'!$A$5:$L$267,4,FALSE)","v":8700},true]
[{"$f":"IF(G110>0,\"50-\"&VLOOKUP('EstRev 6-11'!$A$199,'EstRev 6-11'!$A$5:$L$267,1,FALSE),\"\")","v":""},{"$f":"IF(G110>0,VLOOKUP('EstRev 6-11'!$A$199,'EstRev 6-11'!$A$5:$L$267,2,FALSE),\"\")","v":""},"",null,"",null,{"$f":"VLOOKUP('EstRev 6-11'!$A$199,'EstRev 6-11'!$A$5:$L$267,8,FALSE)","v":0},true]
[{"$f":"IF(G111>0,\"10-\"&VLOOKUP('EstRev 6-11'!$A$205,'EstRev 6-11'!$A$5:$L$267,1,FALSE),\"\")","v":"10-4399"},{"$f":"IF(G111>0,VLOOKUP('EstRev 6-11'!$A$205,'EstRev 6-11'!$A$5:$L$267,2,FALSE),\"\")","v":"Title I - Other (Describe & Itemize)"},"Title I - Other","SIG 1003",18000,null,{"$f":"VLOOKUP('EstRev 6-11'!$A$205,'EstRev 6-11'!$A$5:$L$267,4,FALSE)","v":18000},false]
[{"$f":"IF(G112>0,\"20-\"&VLOOKUP('EstRev 6-11'!$A$205,'EstRev 6-11'!$A$5:$L$267,1,FALSE),\"\")","v":""},{"$f":"IF(G112>0,VLOOKUP('EstRev 6-11'!$A$205,'EstRev 6-11'!$A$5:$L$267,2,FALSE),\"\")","v":""},"",null,"",null,{"$f":"VLOOKUP('EstRev 6-11'!$A$205,'EstRev 6-11'!$A$5:$L$267,5,FALSE)","v":0},true]
[{"$f":"IF(G113>0,\"40-\"&VLOOKUP('EstRev 6-11'!$A$205,'EstRev 6-11'!$A$5:$L$267,1,FALSE),\"\")","v":""},{"$f":"IF(G113>0,VLOOKUP('EstRev 6-11'!$A$205,'EstRev 6-11'!$A$5:$L$267,2,FALSE),\"\")","v":""},"",null,"",null,{"$f":"VLOOKUP('EstRev 6-11'!$A$205,'EstRev 6-11'!$A$5:$L$267,7,FALSE)","v":0},true]
[{"$f":"IF(G114>0,\"50-\"&VLOOKUP('EstRev 6-11'!$A$205,'EstRev 6-11'!$A$5:$L$267,1,FALSE),\"\")","v":""},{"$f":"IF(G114>0,VLOOKUP('EstRev 6-11'!$A$205,'EstRev 6-11'!$A$5:$L$267,2,FALSE),\"\")","v":""},"",null,"",null,{"$f":"VLOOKUP('EstRev 6-11'!$A$205,'EstRev 6-11'!$A$5:$L$267,8,FALSE)","v":0},true]
[{"$f":"IF(G115>0,\"10-\"&VLOOKUP('EstRev 6-11'!$A$210,'EstRev 6-11'!$A$5:$L$267,1,FALSE),\"\")","v":""},{"$f":"IF(G115>0,VLOOKUP('EstRev 6-11'!$A$210,'EstRev 6-11'!$A$5:$L$267,2,FALSE),\"\")","v":""},"",null,"",null,{"$f":"VLOOKUP('EstRev 6-11'!$A$210,'EstRev 6-11'!$A$5:$L$267,4,FALSE)","v":0},true]
[{"$f":"IF(G116>0,\"20-\"&VLOOKUP('EstRev 6-11'!$A$210,'EstRev 6-11'!$A$5:$L$267,1,FALSE),\"\")","v":""},{"$f":"IF(G116>0,VLOOKUP('EstRev 6-11'!$A$210,'EstRev 6-11'!$A$5:$L$267,2,FALSE),\"\")","v":""},"",null,"",null,{"$f":"VLOOKUP('EstRev 6-11'!$A$210,'EstRev 6-11'!$A$5:$L$267,5,FALSE)","v":0},true]
[{"$f":"IF(G117>0,\"40-\"&VLOOKUP('EstRev 6-11'!$A$210,'EstRev 6-11'!$A$5:$L$267,1,FALSE),\"\")","v":""},{"$f":"IF(G117>0,VLOOKUP('EstRev 6-11'!$A$210,'EstRev 6-11'!$A$5:$L$267,2,FALSE),\"\")","v":""},"",null,"",null,{"$f":"VLOOKUP('EstRev 6-11'!$A$210,'EstRev 6-11'!$A$5:$L$267,7,FALSE)","v":0},true]
[{"$f":"IF(G118>0,\"50-\"&VLOOKUP('EstRev 6-11'!$A$210,'EstRev 6-11'!$A$5:$L$267,1,FALSE),\"\")","v":""},{"$f":"IF(G118>0,VLOOKUP('EstRev 6-11'!$A$210,'EstRev 6-11'!$A$5:$L$267,2,FALSE),\"\")","v":""},"",null,"",null,{"$f":"VLOOKUP('EstRev 6-11'!$A$210,'EstRev 6-11'!$A$5:$L$267,8,FALSE)","v":0},true]
[{"$f":"IF(G119>0,\"10-\"&VLOOKUP('EstRev 6-11'!$A$218,'EstRev 6-11'!$A$5:$L$267,1,FALSE),\"\")","v":""},{"$f":"IF(G119>0,VLOOKUP('EstRev 6-11'!$A$218,'EstRev 6-11'!$A$5:$L$267,2,FALSE),\"\")","v":""},"",null,"",null,{"$f":"VLOOKUP('EstRev 6-11'!$A$218,'EstRev 6-11'!$A$5:$L$267,4,FALSE)","v":0},true]
[{"$f":"IF(G120>0,\"20-\"&VLOOKUP('EstRev 6-11'!$A$218,'EstRev 6-11'!$A$5:$L$267,1,FALSE),\"\")","v":""},{"$f":"IF(G120>0,VLOOKUP('EstRev 6-11'!$A$218,'EstRev 6-11'!$A$5:$L$267,2,FALSE),\"\")","v":""},"",null,"",null,{"$f":"VLOOKUP('EstRev 6-11'!$A$218,'EstRev 6-11'!$A$5:$L$267,5,FALSE)","v":0},true]
[{"$f":"IF(G121>0,\"40-\"&VLOOKUP('EstRev 6-11'!$A$218,'EstRev 6-11'!$A$5:$L$267,1,FALSE),\"\")","v":""},{"$f":"IF(G121>0,VLOOKUP('EstRev 6-11'!$A$218,'EstRev 6-11'!$A$5:$L$267,2,FALSE),\"\")","v":""},"",null,"",null,{"$f":"VLOOKUP('EstRev 6-11'!$A$218,'EstRev 6-11'!$A$5:$L$267,7,FALSE)","v":0},true]
[{"$f":"IF(G122>0,\"50-\"&VLOOKUP('EstRev 6-11'!$A$218,'EstRev 6-11'!$A$5:$L$267,1,FALSE),\"\")","v":""},{"$f":"IF(G122>0,VLOOKUP('EstRev 6-11'!$A$218,'EstRev 6-11'!$A$5:$L$267,2,FALSE),\"\")","v":""},"",null,"",null,{"$f":"VLOOKUP('EstRev 6-11'!$A$218,'EstRev 6-11'!$A$5:$L$267,8,FALSE)","v":0},true]
[{"$f":"IF(G123>0,\"10-\"&VLOOKUP('EstRev 6-11'!$A$222,'EstRev 6-11'!$A$5:$L$267,1,FALSE),\"\")","v":""},{"$f":"IF(G123>0,VLOOKUP('EstRev 6-11'!$A$222,'EstRev 6-11'!$A$5:$L$267,2,FALSE),\"\")","v":""},"",null,"",null,{"$f":"VLOOKUP('EstRev 6-11'!$A$222,'EstRev 6-11'!$A$5:$L$267,4,FALSE)","v":0},true]
[{"$f":"IF(G124>0,\"20-\"&VLOOKUP('EstRev 6-11'!$A$222,'EstRev 6-11'!$A$5:$L$267,1,FALSE),\"\")","v":""},{"$f":"IF(G124>0,VLOOKUP('EstRev 6-11'!$A$222,'EstRev 6-11'!$A$5:$L$267,2,FALSE),\"\")","v":""},"",null,"",null,{"$f":"VLOOKUP('EstRev 6-11'!$A$222,'EstRev 6-11'!$A$5:$L$267,5,FALSE)","v":0},true]
[{"$f":"IF(G125>0,\"50-\"&VLOOKUP('EstRev 6-11'!$A$222,'EstRev 6-11'!$A$5:$L$267,1,FALSE),\"\")","v":""},{"$f":"IF(G125>0,VLOOKUP('EstRev 6-11'!$A$222,'EstRev 6-11'!$A$5:$L$267,2,FALSE),\"\")","v":""},"",null,"",null,{"$f":"VLOOKUP('EstRev 6-11'!$A$222,'EstRev 6-11'!$A$5:$L$267,8,FALSE)","v":0},true]
[{"$f":"IF(G126>0,\"10-\"&VLOOKUP('EstRev 6-11'!$A$267,'EstRev 6-11'!$A$5:$L$267,1,FALSE),\"\")","v":"10-4998"},{"$f":"IF(G126>0,VLOOKUP('EstRev 6-11'!$A$267,'EstRev 6-11'!$A$5:$L$267,2,FALSE),\"\")","v":"Other Restricted Grants Received from Fed. Govt. thru State (Describe & Itemize)"},"Other Restricted Grants Received from Fed. Govt. thru State",null,85100,null,{"$f":"VLOOKUP('EstRev 6-11'!$A$267,'EstRev 6-11'!$A$5:$L$267,4,FALSE)","v":85100},true]
[{"$f":"IF(G127>0,\"20-\"&VLOOKUP('EstRev 6-11'!$A$267,'EstRev 6-11'!$A$5:$L$267,1,FALSE),\"\")","v":"20-4998"},{"$f":"IF(G127>0,VLOOKUP('EstRev 6-11'!$A$267,'EstRev 6-11'!$A$5:$L$267,2,FALSE),\"\")","v":"Other Restricted Grants Received from Fed. Govt. thru State (Describe & Itemize)"},"Other Restricted Grants Received from Fed. Govt. thru State",null,276000,null,{"$f":"VLOOKUP('EstRev 6-11'!$A$267,'EstRev 6-11'!$A$5:$L$267,5,FALSE)","v":276000},true]
[{"$f":"IF(G128>0,\"40-\"&VLOOKUP('EstRev 6-11'!$A$267,'EstRev 6-11'!$A$5:$L$267,1,FALSE),\"\")","v":""},{"$f":"IF(G128>0,VLOOKUP('EstRev 6-11'!$A$267,'EstRev 6-11'!$A$5:$L$267,2,FALSE),\"\")","v":""},"",null,"",null,{"$f":"VLOOKUP('EstRev 6-11'!$A$267,'EstRev 6-11'!$A$5:$L$267,7,FALSE)","v":0},true]
[{"$f":"IF(G129>0,\"50-\"&VLOOKUP('EstRev 6-11'!$A$267,'EstRev 6-11'!$A$5:$L$267,1,FALSE),\"\")","v":""},{"$f":"IF(G129>0,VLOOKUP('EstRev 6-11'!$A$267,'EstRev 6-11'!$A$5:$L$267,2,FALSE),\"\")","v":""},"",null,"",null,{"$f":"VLOOKUP('EstRev 6-11'!$A$267,'EstRev 6-11'!$A$5:$L$267,8,FALSE)","v":0},true]
[{"$f":"IF(G130>0,\"60-\"&VLOOKUP('EstRev 6-11'!$A$267,'EstRev 6-11'!$A$5:$L$267,1,FALSE),\"\")","v":""},{"$f":"IF(G130>0,VLOOKUP('EstRev 6-11'!$A$267,'EstRev 6-11'!$A$5:$L$267,2,FALSE),\"\")","v":""},"",null,"",null,{"$f":"VLOOKUP('EstRev 6-11'!$A$267,'EstRev 6-11'!$A$5:$L$267,9,FALSE)","v":0},true]
[{"$f":"IF(G131>0,\"90-\"&VLOOKUP('EstRev 6-11'!$A$267,'EstRev 6-11'!$A$5:$L$267,1,FALSE),\"\")","v":""},{"$f":"IF(G131>0,VLOOKUP('EstRev 6-11'!$A$267,'EstRev 6-11'!$A$5:$L$267,2,FALSE),\"\")","v":""},"",null,"",null,{"$f":"VLOOKUP('EstRev 6-11'!$A$267,'EstRev 6-11'!$A$5:$L$267,12,FALSE)","v":0},true]
["Estimated Expenditures",null,null,null,null,null,1]
[{"$f":"IF(G133>0,VLOOKUP('EstExp 12-20'!$A$43,'EstExp 12-20'!$A$5:$L$450,1,FALSE),\"\")","v":""},{"$f":"IF(G133>0,VLOOKUP('EstExp 12-20'!$A$43,'EstExp 12-20'!$A$5:$L$450,2,FALSE),\"\")","v":""},"",null,"",null,{"$f":"VLOOKUP('EstExp 12-20'!$A$43,'EstExp 12-20'!$A$43:$L$450,12,FALSE)","v":0},true]
[{"$f":"IF(G134>0,VLOOKUP('EstExp 12-20'!$A$58,'EstExp 12-20'!$A$5:$L$450,1,FALSE),\"\")","v":""},{"$f":"IF(G134>0,VLOOKUP('EstExp 12-20'!$A$58,'EstExp 12-20'!$A$5:$L$450,2,FALSE),\"\")","v":""},"",null,"",null,{"$f":"VLOOKUP('EstExp 12-20'!$A$58,'EstExp 12-20'!$A$43:$L$450,12,FALSE)","v":0},true]
[{"$f":"IF(G135>0,VLOOKUP('EstExp 12-20'!$A$75,'EstExp 12-20'!$A$5:$L$450,1,FALSE),\"\")","v":""},{"$f":"IF(G135>0,VLOOKUP('EstExp 12-20'!$A$75,'EstExp 12-20'!$A$5:$L$450,2,FALSE),\"\")","v":""},"",null,"",null,{"$f":"VLOOKUP('EstExp 12-20'!$A$75,'EstExp 12-20'!$A$43:$L$450,12,FALSE)","v":0},true]
[{"$f":"IF(G136>0,VLOOKUP('EstExp 12-20'!$A$85,'EstExp 12-20'!$A$5:$L$450,1,FALSE),\"\")","v":""},{"$f":"IF(G136>0,VLOOKUP('EstExp 12-20'!$A$85,'EstExp 12-20'!$A$5:$L$450,2,FALSE),\"\")","v":""},"",null,"",null,{"$f":"VLOOKUP('EstExp 12-20'!$A$85,'EstExp 12-20'!$A$43:$L$450,12,FALSE)","v":0},true]
[{"$f":"IF(G137>0,VLOOKUP('EstExp 12-20'!$A$93,'EstExp 12-20'!$A$5:$L$450,1,FALSE),\"\")","v":""},{"$f":"IF(G137>0,VLOOKUP('EstExp 12-20'!$A$93,'EstExp 12-20'!$A$5:$L$450,2,FALSE),\"\")","v":""},"",null,"",null,{"$f":"VLOOKUP('EstExp 12-20'!$A$93,'EstExp 12-20'!$A$43:$L$450,12,FALSE)","v":0},{"$f":"ISBLANK(D137)","v":true}]
[{"$f":"IF(G138>0,VLOOKUP('EstExp 12-20'!$A$101,'EstExp 12-20'!$A$5:$L$450,1,FALSE),\"\")","v":""},{"$f":"IF(G138>0,VLOOKUP('EstExp 12-20'!$A$101,'EstExp 12-20'!$A$5:$L$450,2,FALSE),\"\")","v":""},"",null,"",null,{"$f":"VLOOKUP('EstExp 12-20'!$A$101,'EstExp 12-20'!$A$43:$L$450,12,FALSE)","v":0},true]
[{"$f":"IF(G139>0,VLOOKUP('EstExp 12-20'!$A$111,'EstExp 12-20'!$A$5:$L$450,1,FALSE),\"\")","v":""},{"$f":"IF(G139>0,VLOOKUP('EstExp 12-20'!$A$111,'EstExp 12-20'!$A$5:$L$450,2,FALSE),\"\")","v":""},{"$f":"IF(B139=\"\",\"\",LEFT(B139, LEN(B139)-21))","v":""},null,{"$f":"IF(G139>0,G139,\"\")","v":""},null,{"$f":"VLOOKUP('EstExp 12-20'!$A$111,'EstExp 12-20'!$A$43:$L$450,12,FALSE)","v":0},true]
[{"$f":"IF(G140>0,VLOOKUP('EstExp 12-20'!$A$124,'EstExp 12-20'!$A$5:$L$450,1,FALSE),\"\")","v":""},{"$f":"IF(G140>0,VLOOKUP('EstExp 12-20'!$A$124,'EstExp 12-20'!$A$5:$L$450,2,FALSE),\"\")","v":""},"",null,"",null,{"$f":"VLOOKUP('EstExp 12-20'!$A$124,'EstExp 12-20'!$A$43:$L$450,12,FALSE)","v":0},true]
[{"$f":"IF(G141>0,VLOOKUP('EstExp 12-20'!$A$132,'EstExp 12-20'!$A$5:$L$450,1,FALSE),\"\")","v":""},{"$f":"IF(G141>0,VLOOKUP('EstExp 12-20'!$A$132,'EstExp 12-20'!$A$5:$L$450,2,FALSE),\"\")","v":""},"",null,"",null,{"$f":"VLOOKUP('EstExp 12-20'!$A$132,'EstExp 12-20'!$A$43:$L$450,12,FALSE)","v":0},true]
[{"$f":"IF(G142>0,VLOOKUP('EstExp 12-20'!$A$140,'EstExp 12-20'!$A$5:$L$450,1,FALSE),\"\")","v":""},{"$f":"IF(G142>0,VLOOKUP('EstExp 12-20'!$A$140,'EstExp 12-20'!$A$5:$L$450,2,FALSE),\"\")","v":""},"",null,"",null,{"$f":"VLOOKUP('EstExp 12-20'!$A$140,'EstExp 12-20'!$A$43:$L$450,12,FALSE)","v":0},true]
[{"$f":"IF(G143>0,VLOOKUP('EstExp 12-20'!$A$150,'EstExp 12-20'!$A$5:$L$450,1,FALSE),\"\")","v":""},{"$f":"IF(G143>0,VLOOKUP('EstExp 12-20'!$A$150,'EstExp 12-20'!$A$5:$L$450,2,FALSE),\"\")","v":""},"",null,"",null,{"$f":"VLOOKUP('EstExp 12-20'!$A$150,'EstExp 12-20'!$A$43:$L$450,12,FALSE)","v":0},true]
[{"$f":"IF(G144>0,VLOOKUP('EstExp 12-20'!$A$163,'EstExp 12-20'!$A$5:$L$450,1,FALSE),\"\")","v":""},{"$f":"IF(G144>0,VLOOKUP('EstExp 12-20'!$A$163,'EstExp 12-20'!$A$5:$L$450,2,FALSE),\"\")","v":""},"",null,"",null,{"$f":"VLOOKUP('EstExp 12-20'!$A$163,'EstExp 12-20'!$A$43:$L$450,12,FALSE)","v":0},true]
[{"$f":"IF(G145>0,VLOOKUP('EstExp 12-20'!$A$171,'EstExp 12-20'!$A$5:$L$450,1,FALSE),\"\")","v":""},{"$f":"IF(G145>0,VLOOKUP('EstExp 12-20'!$A$171,'EstExp 12-20'!$A$5:$L$450,2,FALSE),\"\")","v":""},"",null,"",null,{"$f":"VLOOKUP('EstExp 12-20'!$A$171,'EstExp 12-20'!$A$43:$L$450,12,FALSE)","v":0},true]
[{"$f":"IF(G146>0,VLOOKUP('EstExp 12-20'!$A$174,'EstExp 12-20'!$A$5:$L$450,1,FALSE),\"\")","v":"30-5300"},{"$f":"IF(G146>0,VLOOKUP('EstExp 12-20'!$A$174,'EstExp 12-20'!$A$5:$L$450,2,FALSE),\"\")","v":"Debt Service - Payments of Principal on Long-Term Debt 15 (Lease/Purchase Principal Retired) (Describe & Itemize)"},{"$f":"IF(B146=\"\",\"\",LEFT(B146, LEN(B146)-59))","v":"Debt Service - Payments of Principal on Long-Term Debt"},"bond paymen",263000,null,{"$f":"VLOOKUP('EstExp 12-20'!$A$174,'EstExp 12-20'!$A$43:$L$450,12,FALSE)","v":263000},{"$f":"ISBLANK(D146)","v":false}]
[{"$f":"IF(G147>0,VLOOKUP('EstExp 12-20'!$A$175,'EstExp 12-20'!$A$5:$L$450,1,FALSE),\"\")","v":""},{"$f":"IF(G147>0,VLOOKUP('EstExp 12-20'!$A$175,'EstExp 12-20'!$A$5:$L$450,2,FALSE),\"\")","v":""},"",null,"",null,{"$f":"VLOOKUP('EstExp 12-20'!$A$175,'EstExp 12-20'!$A$43:$L$450,12,FALSE)","v":0},true]
[{"$f":"IF(G148>0,VLOOKUP('EstExp 12-20'!$A$184,'EstExp 12-20'!$A$5:$L$450,1,FALSE),\"\")","v":""},{"$f":"IF(G148>0,VLOOKUP('EstExp 12-20'!$A$184,'EstExp 12-20'!$A$5:$L$450,2,FALSE),\"\")","v":""},"",null,"",null,{"$f":"VLOOKUP('EstExp 12-20'!$A$184,'EstExp 12-20'!$A$43:$L$450,12,FALSE)","v":0},true]
[{"$f":"IF(G149>0,VLOOKUP('EstExp 12-20'!$A$187,'EstExp 12-20'!$A$5:$L$450,1,FALSE),\"\")","v":""},{"$f":"IF(G149>0,VLOOKUP('EstExp 12-20'!$A$187,'EstExp 12-20'!$A$5:$L$450,2,FALSE),\"\")","v":""},"",null,"",null,{"$f":"VLOOKUP('EstExp 12-20'!$A$187,'EstExp 12-20'!$A$43:$L$450,12,FALSE)","v":0},true]
[{"$f":"IF(G150>0,VLOOKUP('EstExp 12-20'!$A$197,'EstExp 12-20'!$A$5:$L$450,1,FALSE),\"\")","v":""},{"$f":"IF(G150>0,VLOOKUP('EstExp 12-20'!$A$197,'EstExp 12-20'!$A$5:$L$450,2,FALSE),\"\")","v":""},"",null,"",null,{"$f":"VLOOKUP('EstExp 12-20'!$A$197,'EstExp 12-20'!$A$43:$L$450,12,FALSE)","v":0},true]
[{"$f":"IF(G151>0,VLOOKUP('EstExp 12-20'!$A$199,'EstExp 12-20'!$A$5:$L$450,1,FALSE),\"\")","v":""},{"$f":"IF(G151>0,VLOOKUP('EstExp 12-20'!$A$199,'EstExp 12-20'!$A$5:$L$450,2,FALSE),\"\")","v":""},"",null,"",null,{"$f":"VLOOKUP('EstExp 12-20'!$A$199,'EstExp 12-20'!$A$43:$L$450,12,FALSE)","v":0},true]
[{"$f":"IF(G152>0,VLOOKUP('EstExp 12-20'!$A$207,'EstExp 12-20'!$A$5:$L$450,1,FALSE),\"\")","v":""},{"$f":"IF(G152>0,VLOOKUP('EstExp 12-20'!$A$207,'EstExp 12-20'!$A$5:$L$450,2,FALSE),\"\")","v":""},"",null,"",null,{"$f":"VLOOKUP('EstExp 12-20'!$A$207,'EstExp 12-20'!$A$43:$L$450,12,FALSE)","v":0},true]
[{"$f":"IF(G153>0,VLOOKUP('EstExp 12-20'!$A$210,'EstExp 12-20'!$A$5:$L$450,1,FALSE),\"\")","v":""},{"$f":"IF(G153>0,VLOOKUP('EstExp 12-20'!$A$210,'EstExp 12-20'!$A$5:$L$450,2,FALSE),\"\")","v":""},{"$f":"IF(B153=\"\",\"\",LEFT(B153, LEN(B153)-59))","v":""},null,"",null,{"$f":"VLOOKUP('EstExp 12-20'!$A$210,'EstExp 12-20'!$A$43:$L$450,12,FALSE)","v":0},{"$f":"ISBLANK(D153)","v":true}]
[{"$f":"IF(G154>0,VLOOKUP('EstExp 12-20'!$A$211,'EstExp 12-20'!$A$5:$L$450,1,FALSE),\"\")","v":""},{"$f":"IF(G154>0,VLOOKUP('EstExp 12-20'!$A$211,'EstExp 12-20'!$A$5:$L$450,2,FALSE),\"\")","v":""},{"$f":"IF(B154=\"\",\"\",LEFT(B154, LEN(B154)-21))","v":""},null,"",null,{"$f":"VLOOKUP('EstExp 12-20'!$A$211,'EstExp 12-20'!$A$43:$L$450,12,FALSE)","v":0},true]
[{"$f":"IF(G155>0,VLOOKUP('EstExp 12-20'!$A$241,'EstExp 12-20'!$A$5:$L$450,1,FALSE),\"\")","v":""},{"$f":"IF(G155>0,VLOOKUP('EstExp 12-20'!$A$241,'EstExp 12-20'!$A$5:$L$450,2,FALSE),\"\")","v":""},"",null,"",null,{"$f":"VLOOKUP('EstExp 12-20'!$A$241,'EstExp 12-20'!$A$43:$L$450,12,FALSE)","v":0},true]
[{"$f":"IF(G156>0,VLOOKUP('EstExp 12-20'!$A$257,'EstExp 12-20'!$A$5:$L$450,1,FALSE),\"\")","v":""},{"$f":"IF(G156>0,VLOOKUP('EstExp 12-20'!$A$257,'EstExp 12-20'!$A$5:$L$450,2,FALSE),\"\")","v":""},"",null,"",null,{"$f":"VLOOKUP('EstExp 12-20'!$A$257,'EstExp 12-20'!$A$43:$L$450,12,FALSE)","v":0},true]
[{"$f":"IF(G157>0,VLOOKUP('EstExp 12-20'!$A$275,'EstExp 12-20'!$A$5:$L$450,1,FALSE),\"\")","v":""},{"$f":"IF(G157>0,VLOOKUP('EstExp 12-20'!$A$275,'EstExp 12-20'!$A$5:$L$450,2,FALSE),\"\")","v":""},"",null,"",null,{"$f":"VLOOKUP('EstExp 12-20'!$A$275,'EstExp 12-20'!$A$43:$L$450,12,FALSE)","v":0},true]
[{"$f":"IF(G158>0,VLOOKUP('EstExp 12-20'!$A$289,'EstExp 12-20'!$A$5:$L$450,1,FALSE),\"\")","v":""},{"$f":"IF(G158>0,VLOOKUP('EstExp 12-20'!$A$289,'EstExp 12-20'!$A$5:$L$450,2,FALSE),\"\")","v":""},"",null,"",null,{"$f":"VLOOKUP('EstExp 12-20'!$A$289,'EstExp 12-20'!$A$43:$L$450,12,FALSE)","v":0},true]
[{"$f":"IF(G159>0,VLOOKUP('EstExp 12-20'!$A$299,'EstExp 12-20'!$A$5:$L$450,1,FALSE),\"\")","v":""},{"$f":"IF(G159>0,VLOOKUP('EstExp 12-20'!$A$299,'EstExp 12-20'!$A$5:$L$450,2,FALSE),\"\")","v":""},"",null,"",null,{"$f":"VLOOKUP('EstExp 12-20'!$A$299,'EstExp 12-20'!$A$43:$L$450,12,FALSE)","v":0},true]
[{"$f":"IF(G160>0,VLOOKUP('EstExp 12-20'!$A$306,'EstExp 12-20'!$A$5:$L$450,1,FALSE),\"\")","v":""},{"$f":"IF(G160>0,VLOOKUP('EstExp 12-20'!$A$306,'EstExp 12-20'!$A$5:$L$450,2,FALSE),\"\")","v":""},{"$f":"IF(B160=\"\",\"\",LEFT(B160, LEN(B160)-21))","v":""},null,"",null,{"$f":"VLOOKUP('EstExp 12-20'!$A$306,'EstExp 12-20'!$A$43:$L$450,12,FALSE)","v":0},true]
[{"$f":"IF(G161>0,VLOOKUP('EstExp 12-20'!$A$352,'EstExp 12-20'!$A$5:$L$450,1,FALSE),\"\")","v":""},{"$f":"IF(G161>0,VLOOKUP('EstExp 12-20'!$A$352,'EstExp 12-20'!$A$5:$L$450,2,FALSE),\"\")","v":""},{"$f":"IF(B161=\"\",\"\",LEFT(B161, LEN(B161)-21))","v":""},null,{"$f":"IF(G161>0,G161,\"\")","v":""},null,{"$f":"VLOOKUP('EstExp 12-20'!$A$352,'EstExp 12-20'!$A$43:$L$450,12,FALSE)","v":0},true]
[{"$f":"IF(G162>0,VLOOKUP('EstExp 12-20'!$A$368,'EstExp 12-20'!$A$5:$L$450,1,FALSE),\"\")","v":""},{"$f":"IF(G162>0,VLOOKUP('EstExp 12-20'!$A$368,'EstExp 12-20'!$A$5:$L$450,2,FALSE),\"\")","v":""},"",null,"",null,{"$f":"VLOOKUP('EstExp 12-20'!$A$368,'EstExp 12-20'!$A$43:$L$450,12,FALSE)","v":0},true]
[{"$f":"IF(G163>0,VLOOKUP('EstExp 12-20'!$A$386,'EstExp 12-20'!$A$5:$L$450,1,FALSE),\"\")","v":""},{"$f":"IF(G163>0,VLOOKUP('EstExp 12-20'!$A$386,'EstExp 12-20'!$A$5:$L$450,2,FALSE),\"\")","v":""},"",null,"",null,{"$f":"VLOOKUP('EstExp 12-20'!$A$386,'EstExp 12-20'!$A$43:$L$450,12,FALSE)","v":0},true]
[{"$f":"IF(G164>0,VLOOKUP('EstExp 12-20'!$A$396,'EstExp 12-20'!$A$5:$L$450,1,FALSE),\"\")","v":""},{"$f":"IF(G164>0,VLOOKUP('EstExp 12-20'!$A$396,'EstExp 12-20'!$A$5:$L$450,2,FALSE),\"\")","v":""},"",null,"",null,{"$f":"VLOOKUP('EstExp 12-20'!$A$396,'EstExp 12-20'!$A$43:$L$450,12,FALSE)","v":0},true]
[{"$f":"IF(G165>0,VLOOKUP('EstExp 12-20'!$A$404,'EstExp 12-20'!$A$5:$L$450,1,FALSE),\"\")","v":""},{"$f":"IF(G165>0,VLOOKUP('EstExp 12-20'!$A$404,'EstExp 12-20'!$A$5:$L$450,2,FALSE),\"\")","v":""},"",null,"",null,{"$f":"VLOOKUP('EstExp 12-20'!$A$404,'EstExp 12-20'!$A$43:$L$450,12,FALSE)","v":0},true]
[{"$f":"IF(G166>0,VLOOKUP('EstExp 12-20'!$A$412,'EstExp 12-20'!$A$5:$L$450,1,FALSE),\"\")","v":""},{"$f":"IF(G166>0,VLOOKUP('EstExp 12-20'!$A$412,'EstExp 12-20'!$A$5:$L$450,2,FALSE),\"\")","v":""},"",null,"",null,{"$f":"VLOOKUP('EstExp 12-20'!$A$412,'EstExp 12-20'!$A$43:$L$450,12,FALSE)","v":0},true]
[{"$f":"IF(G167>0,VLOOKUP('EstExp 12-20'!$A$422,'EstExp 12-20'!$A$5:$L$450,1,FALSE),\"\")","v":""},{"$f":"IF(G167>0,VLOOKUP('EstExp 12-20'!$A$422,'EstExp 12-20'!$A$5:$L$450,2,FALSE),\"\")","v":""},"",null,"",null,{"$f":"VLOOKUP('EstExp 12-20'!$A$422,'EstExp 12-20'!$A$43:$L$450,12,FALSE)","v":0},true]
[{"$f":"IF(G168>0,VLOOKUP('EstExp 12-20'!$A$424,'EstExp 12-20'!$A$5:$L$450,1,FALSE),\"\")","v":""},{"$f":"IF(G168>0,VLOOKUP('EstExp 12-20'!$A$424,'EstExp 12-20'!$A$5:$L$450,2,FALSE),\"\")","v":""},{"$f":"IF(B168=\"\",\"\",LEFT(B168, LEN(B168)-59))","v":""},null,{"$f":"IF(G168>0,G168,\"\")","v":""},null,{"$f":"VLOOKUP('EstExp 12-20'!$A$424,'EstExp 12-20'!$A$43:$L$450,12,FALSE)","v":0},{"$f":"ISBLANK(D168)","v":true}]
[{"$f":"IF(G169>0,VLOOKUP('EstExp 12-20'!$A$425,'EstExp 12-20'!$A$5:$L$450,1,FALSE),\"\")","v":""},{"$f":"IF(G169>0,VLOOKUP('EstExp 12-20'!$A$425,'EstExp 12-20'!$A$5:$L$450,2,FALSE),\"\")","v":""},{"$f":"IF(B169=\"\",\"\",LEFT(B169, LEN(B169)-21))","v":""},null,"",null,{"$f":"VLOOKUP('EstExp 12-20'!$A$425,'EstExp 12-20'!$A$43:$L$450,12,FALSE)","v":0},true]
[{"$f":"IF(G170>0,VLOOKUP('EstExp 12-20'!$A$437,'EstExp 12-20'!$A$5:$L$450,1,FALSE),\"\")","v":""},{"$f":"IF(G170>0,VLOOKUP('EstExp 12-20'!$A$437,'EstExp 12-20'!$A$5:$L$450,2,FALSE),\"\")","v":""},"",null,"",null,{"$f":"VLOOKUP('EstExp 12-20'!$A$437,'EstExp 12-20'!$A$43:$L$450,12,FALSE)","v":0},true]
[{"$f":"IF(G171>0,VLOOKUP('EstExp 12-20'!$A$442,'EstExp 12-20'!$A$5:$L$450,1,FALSE),\"\")","v":""},{"$f":"IF(G171>0,VLOOKUP('EstExp 12-20'!$A$442,'EstExp 12-20'!$A$5:$L$450,2,FALSE),\"\")","v":""},"",null,"",null,{"$f":"VLOOKUP('EstExp 12-20'!$A$442,'EstExp 12-20'!$A$43:$L$450,12,FALSE)","v":0},true]
[{"$f":"IF(G172>0,VLOOKUP('EstExp 12-20'!$A$447,'EstExp 12-20'!$A$5:$L$450,1,FALSE),\"\")","v":""},{"$f":"IF(G172>0,VLOOKUP('EstExp 12-20'!$A$447,'EstExp 12-20'!$A$5:$L$450,2,FALSE),\"\")","v":""},"",null,"",null,{"$f":"VLOOKUP('EstExp 12-20'!$A$447,'EstExp 12-20'!$A$43:$L$450,12,FALSE)","v":0},true]
[{"$f":"IF(G173>0,VLOOKUP('EstExp 12-20'!$A$450,'EstExp 12-20'!$A$5:$L$450,1,FALSE),\"\")","v":""},{"$f":"IF(G173>0,VLOOKUP('EstExp 12-20'!$A$450,'EstExp 12-20'!$A$5:$L$450,2,FALSE),\"\")","v":""},{"$f":"IF(B173=\"\",\"\",LEFT(B173, LEN(B173)-59))","v":""},null,{"$f":"IF(G173>0,G173,\"\")","v":""},null,{"$f":"VLOOKUP('EstExp 12-20'!$A$450,'EstExp 12-20'!$A$43:$L$450,12,FALSE)","v":0},{"$f":"ISBLANK(D173)","v":true}]
[null,null,null,null,null,null,1]
[null,null,null,null,null,null,{"$f":"COUNTIF(G8:G131,\">0\")+COUNTIF(G133:G173,\">0\")","v":10},{"$f":"COUNTIF(H8:H173,\"FALSE\")","v":4}]

{"sheet":"DeficitBudgetSum Calc 22","index":7,"n_rows":20,"n_cols":7,"rows_kept":20,"cut":false,"hidden":false,"merged":[[0,1,0,6],[16,1,16,5],[6,3,6,6],[10,1,10,5],[7,1,7,3],[7,4,7,5],[8,1,8,5],[13,1,13,5],[12,1,12,3],[12,4,12,5]]}
[null,"DEFICIT BUDGET SUMMARY INFORMATION - Operating Funds Only (School Districts Only)"]
[null,"Description ","EDUCATIONAL FUND (10)","OPERATIONS & MAINTENANCE FUND (20)","TRANSPORTATION FUND (40)","WORKING CASH FUND (70)","TOTAL"]
[null,"Direct Revenues",{"$f":"'BudgetSum 2-4'!C9","v":2582006},{"$f":"'BudgetSum 2-4'!D9","v":552077},{"$f":"'BudgetSum 2-4'!F9","v":268769},{"$f":"'BudgetSum 2-4'!I9","v":15039},{"$f":"SUM(C3:F3)","v":3417891}]
[null,"Direct Expenditures",{"$f":"'BudgetSum 2-4'!C19","v":2503565},{"$f":"'BudgetSum 2-4'!D19","v":922000},{"$f":"'BudgetSum 2-4'!F19","v":268500},null,{"$f":"SUM(C4:F4)","v":3694065}]
[null,"Difference",{"$f":"(C3-C4)","v":78441},{"$f":"(D3-D4)","v":-369923},{"$f":"(E3-E4)","v":269},{"$f":"(F3-F4)","v":15039},{"$f":"SUM(G3-G4)","v":-276174}]
[null,{"$f":"\"Estimated Fund Balance - June 30, \"&'B23'!E2","v":"Estimated Fund Balance - June 30, 2023"},{"$f":"'BudgetSum 2-4'!C81","v":1507118},{"$f":"'BudgetSum 2-4'!D81","v":146768},{"$f":"'BudgetSum 2-4'!F81","v":74621},{"$f":"'BudgetSum 2-4'!I81","v":144968},{"$f":"SUM(C6:F6)","v":1873475}]
[null,null,null,{"$f":"IF(Cover!B3=\"X\", \"Deficit Reduction Plan is not required\", IF(AND(G5<0,G6>=0,ABS(G5*3)>ABS(G6)),B17,IF(AND(G5<0,G6>0,ABS(G5*3)<=ABS(G6)),B18,IF(AND(G5<0,G6<0),B17,IF(G6=0,B20,B19)))))","v":"Unbalanced budget; however, a Deficit Reduction Plan is not required at this time."}]
[null,{"$f":"\"A deficit reduction plan is required if the local board of education adopts (or amends) the \"&'B23'!E2-1&-'B23'!E2","v":"A deficit reduction plan is required if the local board of education adopts (or amends) the 2022-2023"},null,null,"school district budget in which the “operating funds”"]
[null,"listed above result in direct revenues (line 9, BudgetSum 2-4) being less than direct expenditures (line 19, BudgetSum 2-4) by an amount equal to or greater than one-third (1/3) of the ending fund balance (line 81, BudgetSum 2-4)."]
[]
[null,"Note:  The balance is determined using only the four funds listed above.  That is, if the estimated ending fund balance is less than three times the deficit spending, the district must adopt and file with ISBE a deficit reduction plan to balance the shortfall within three years."]
[]
[null,{"$f":"\"Per School Code (105 ILCS 5/17-1) - If the Deficit AFR Summary Information tab from the \"&'B23'!E2-2&\"-\"&'B23'!E2-1","v":"Per School Code (105 ILCS 5/17-1) - If the Deficit AFR Summary Information tab from the 2021-2022"},null,null,"Annual Financial Report (AFR) reflects a deficit as"]
[null,"defined above, then the school district shall adopt and submit a deficit reduction plan (found here on page 23-27) to ISBE within 30 days after acceptance of the AFR."]
[null,"The deficit reduction plan, if required, is developed using ISBE guidelines and format. "]
[]
[null,"Unbalanced budget. A Deficit Reduction Plan must be adopted and submitted concurrently with this budget.  This Deficit Reduction Plan must result in a balanced budget by the last year of the attached plan, as adopted by the local board of education.  (Tab: Deficit BudgetSum Calc)",null,null,null,null,"Deficit Reduction Plan is required"]
[null,"Unbalanced budget; however, a Deficit Reduction Plan is not required at this time.",null,null,null,null,"Deficit Reduction Plan is not required"]
[null,"Balanced budget; no Deficit Reduction Plan is required.",null,null,null,null,"Deficit Reduction Plan is not required"]
[null,"To determine if the budget is balanced, complete all pages of the budget first.",null,null,null,null,"ERROR - INCOMPLETE BUDGET. PLEASE COMPLETE BUDGET FORM"]

{"sheet":"DefReductPlan 23-27","index":8,"n_rows":27,"n_cols":26,"rows_kept":27,"cut":false,"hidden":false,"merged":[[0,22,0,25],[3,22,3,23],[0,2,0,6],[1,17,1,21],[2,17,2,21],[3,19,3,20],[2,2,2,6],[1,12,1,16],[1,2,1,6],[1,7,1,11],[1,22,1,25],[2,22,2,25],[6,0,6,1],[2,12,2,16],[3,14,3,15],[2,7,2,11],[3,9,3,10],[25,0,25,1],[26,0,26,1],[12,0,12,1],[21,0,21,1],[20,0,20,1]]}
["*School Districts Only",null,"DEFICIT REDUCTION PLAN",null,null,null,null,null,null,null,null,null,null,null,null,null,null,null,null,null,null,null,"SUMMARY"]
[null,null,"ESTIMATED BUDGET",null,null,null,null,"ESTIMATED BUDGET",null,null,null,null,"ESTIMATED BUDGET",null,null,null,null,"ESTIMATED BUDGET",null,null,null,null,"BUDGET ADDENDUM - DEFICIT REDUCTION PLAN"]
[{"$f":"Cover!H14","v":1086002026},null,{"$f":"\"FY\"&'B23'!E2-1&-'B23'!E2","v":"FY2022-2023"},null,null,null,null,{"$f":"\"FY\"&'B23'!E2&-'B23'!E2-1","v":"FY2023-2024"},null,null,null,null,{"$f":"\"FY\"&'B23'!E2+1&-'B23'!E2-2","v":"FY2024-2025"},null,null,null,null,{"$f":"\"FY\"&'B23'!E2+2&-'B23'!E2-3","v":"FY2025-2026"},null,null,null,null,"ESTIMATED BUDGET"]
["District Number",null,null,null,null,null,null,null,null,null,null,null,null,null,null,null,null,null,null,null,null,null,"Date of Adoption:"]
[{"$f":"Cover!H13","v":"Scott-Morgan CUSD 2"},null,null,null,null,null,null,null,null,null,null,null,null,null,null,null,null,null,null,null,null,null,null,null,"(Enter as MM/DD/YY)"]
["District Name",null,"Educational Fund","Operations & Maintenance Fund","Transportation Fund","Working Cash Fund","Total","Educational Fund","Operations & Maintenance Fund","Transportation Fund","Working Cash Fund","Total","Educational Fund","Operations & Maintenance Fund","Transportation Fund","Working Cash Fund","Total","Educational Fund","Operations & Maintenance Fund","Transportation Fund","Working Cash Fund","Total",{"$f":"\"FY\"&'B23'!E2-1&-'B23'!E2","v":"FY2022-2023"},{"$f":"\"FY\"&'B23'!E2&-'B23'!E2-1","v":"FY2023-2024"},{"$f":"\"FY\"&'B23'!E2+1&-'B23'!E2-2","v":"FY2024-2025"},{"$f":"\"FY\"&'B23'!E2+2&-'B23'!E2-3","v":"FY2025-2026"}]
["ESTIMATED BEGINNING FUND BALANCE                                                             (must equal prior Ending Fund Balance)",null,{"$f":"'BudgetSum 2-4'!C3","v":1428677},{"$f":"'BudgetSum 2-4'!D3","v":516691},{"$f":"'BudgetSum 2-4'!F3","v":74352},{"$f":"'BudgetSum 2-4'!I3","v":129929},{"$f":"SUM(C7:F7)","v":2149649},{"$f":"C27","v":1507118},{"$f":"D27","v":146768},{"$f":"E27","v":74621},{"$f":"F27","v":144968},{"$f":"SUM(H7:K7)","v":1873475},{"$f":"H27","v":1507118},{"$f":"I27","v":146768},{"$f":"J27","v":74621},{"$f":"K27","v":144968},{"$f":"SUM(M7:P7)","v":1873475},{"$f":"M27","v":1507118},{"$f":"N27","v":146768},{"$f":"O27","v":74621},{"$f":"P27","v":144968},{"$f":"SUM(R7:U7)","v":1873475},{"$f":"G7","v":2149649},{"$f":"L7","v":1873475},{"$f":"Q7","v":1873475},{"$f":"V7","v":1873475}]
["  RECEIPTS/REVENUES","Acct  #"]
["LOCAL SOURCES",1000,{"$f":"'BudgetSum 2-4'!C5","v":1061251},{"$f":"'BudgetSum 2-4'!D5","v":226077},{"$f":"'BudgetSum 2-4'!F5","v":139769},{"$f":"'BudgetSum 2-4'!I5","v":15039},{"$f":"SUM(C9:F9)","v":1442136},null,null,null,null,{"$f":"SUM(H9:K9)","v":0},null,null,null,null,{"$f":"SUM(M9:P9)","v":0},null,null,null,null,{"$f":"SUM(R9:U9)","v":0},{"$f":"G9","v":1442136},{"$f":"L9","v":0},{"$f":"Q9","v":0},{"$f":"V9","v":0}]
["FLOW-THROUGH RECEIPTS/REVENUES FROM ONE DISTRICT TO ANOTHER DISTRICT",2000,{"$f":"'BudgetSum 2-4'!C6","v":0},{"$f":"'BudgetSum 2-4'!D6","v":0},{"$f":"'BudgetSum 2-4'!F6","v":0},null,{"$f":"SUM(C10:F10)","v":0},null,null,null,null,0,null,null,null,null,{"$f":"SUM(M10:P10)","v":0},null,null,null,null,{"$f":"SUM(R10:U10)","v":0},{"$f":"G10","v":0},{"$f":"L10","v":0},{"$f":"Q10","v":0},{"$f":"V10","v":0}]
["STATE SOURCES",3000,{"$f":"'BudgetSum 2-4'!C7","v":1095600},{"$f":"'BudgetSum 2-4'!D7","v":50000},{"$f":"'BudgetSum 2-4'!F7","v":129000},{"$f":"'BudgetSum 2-4'!I7","v":0},{"$f":"SUM(C11:F11)","v":1274600},null,null,null,null,0,null,null,null,null,{"$f":"SUM(M11:P11)","v":0},null,null,null,null,{"$f":"SUM(R11:U11)","v":0},{"$f":"G11","v":1274600},{"$f":"L11","v":0},{"$f":"Q11","v":0},{"$f":"V11","v":0}]
["FEDERAL SOURCES",4000,{"$f":"'BudgetSum 2-4'!C8","v":425155},{"$f":"'BudgetSum 2-4'!D8","v":276000},{"$f":"'BudgetSum 2-4'!F8","v":0},{"$f":"'BudgetSum 2-4'!I8","v":0},{"$f":"SUM(C12:F12)","v":701155},null,null,null,null,0,null,null,null,null,{"$f":"SUM(M12:P12)","v":0},null,null,null,null,{"$f":"SUM(R12:U12)","v":0},{"$f":"G12","v":701155},{"$f":"L12","v":0},{"$f":"Q12","v":0},{"$f":"V12","v":0}]
["Total Receipts/Revenues",null,{"$f":"SUM(C9:C12)","v":2582006},{"$f":"SUM(D9:D12)","v":552077},{"$f":"SUM(E9:E12)","v":268769},{"$f":"SUM(F9:F12)","v":15039},{"$f":"SUM(C13:F13)","v":3417891},{"$f":"SUM(H9:H12)","v":0},{"$f":"SUM(I9:I12)","v":0},{"$f":"SUM(J9:J12)","v":0},{"$f":"SUM(K9:K12)","v":0},0,{"$f":"SUM(M9:M12)","v":0},{"$f":"SUM(N9:N12)","v":0},{"$f":"SUM(O9:O12)","v":0},{"$f":"SUM(P9:P12)","v":0},{"$f":"SUM(M13:P13)","v":0},{"$f":"SUM(R9:R12)","v":0},{"$f":"SUM(S9:S12)","v":0},{"$f":"SUM(T9:T12)","v":0},{"$f":"SUM(U9:U12)","v":0},{"$f":"SUM(R13:U13)","v":0},{"$f":"G13","v":3417891},{"$f":"L13","v":0},{"$f":"Q13","v":0},{"$f":"V13","v":0}]
["DISBURSEMENTS/EXPENDITURES","Funct #"]
["INSTRUCTION",1000,{"$f":"'BudgetSum 2-4'!C13","v":1592100},null,null,null,{"$f":"SUM(C15:F15)","v":1592100},null,null,null,null,0,null,null,null,null,{"$f":"SUM(M15:P15)","v":0},null,null,null,null,{"$f":"SUM(R15:U15)","v":0},{"$f":"G15","v":1592100},{"$f":"L15","v":0},{"$f":"Q15","v":0},{"$f":"V15","v":0}]
["SUPPORT SERVICES",2000,{"$f":"'BudgetSum 2-4'!C14","v":791465},{"$f":"'BudgetSum 2-4'!D14","v":922000},{"$f":"'BudgetSum 2-4'!F14","v":268500},null,1981965,null,null,null,null,0,null,null,null,null,0,null,null,null,null,0,1981965,0,0,0]
["COMMUNITY SERVICES",3000,{"$f":"'BudgetSum 2-4'!C15","v":0},{"$f":"'BudgetSum 2-4'!D15","v":0},{"$f":"'BudgetSum 2-4'!F15","v":0},null,0,null,null,null,null,0,null,null,null,null,0,null,null,null,null,0,0,0,0,0]
["PAYMENTS TO OTHER DISTRICTS & GOVT. UNITS",4000,{"$f":"'BudgetSum 2-4'!C16","v":120000},{"$f":"'BudgetSum 2-4'!D16","v":0},{"$f":"'BudgetSum 2-4'!F16","v":0},null,120000,null,null,null,null,0,null,null,null,null,0,null,null,null,null,0,120000,0,0,0]
["DEBT SERVICES",5000,{"$f":"'BudgetSum 2-4'!C17","v":0},{"$f":"'BudgetSum 2-4'!D17","v":0},{"$f":"'BudgetSum 2-4'!F17","v":0},null,0,null,null,null,null,0,null,null,null,null,0,null,null,null,null,0,0,0,0,0]
["PROVISION FOR CONTINGENCIES",6000,{"$f":"'BudgetSum 2-4'!C18","v":0},{"$f":"'BudgetSum 2-4'!D18","v":0},{"$f":"'BudgetSum 2-4'!F18","v":0},null,0,null,null,null,null,0,null,null,null,null,0,null,null,null,null,0,0,0,0,0]
["Total Disbursements/Expenditures",null,{"$f":"SUM(C15:C20)","v":2503565},{"$f":"SUM(D15:D20)","v":922000},{"$f":"SUM(E15:E20)","v":268500},null,3694065,{"$f":"SUM(H15:H20)","v":0},{"$f":"SUM(I15:I20)","v":0},{"$f":"SUM(J15:J20)","v":0},null,0,{"$f":"SUM(M15:M20)","v":0},{"$f":"SUM(N15:N20)","v":0},{"$f":"SUM(O15:O20)","v":0},null,0,{"$f":"SUM(R15:R20)","v":0},{"$f":"SUM(S15:S20)","v":0},{"$f":"SUM(T15:T20)","v":0},null,0,3694065,0,0,0]
["Excess of Receipts/Revenue Over/(Under) Disbursements/Expenditures",null,{"$f":"SUM(C13-C21)","v":78441},{"$f":"SUM(D13-D21)","v":-369923},{"$f":"SUM(E13-E21)","v":269},{"$f":"SUM(F13-F21)","v":15039},{"$f":"G13-G21","v":-276174},{"$f":"SUM(H13-H21)","v":0},{"$f":"SUM(I13-I21)","v":0},{"$f":"SUM(J13-J21)","v":0},{"$f":"SUM(K13-K21)","v":0},{"$f":"SUM(H22:K22)","v":0},{"$f":"SUM(M13-M21)","v":0},{"$f":"SUM(N13-N21)","v":0},{"$f":"SUM(O13-O21)","v":0},{"$f":"SUM(P13-P21)","v":0},{"$f":"SUM(M22:P22)","v":0},{"$f":"SUM(R13-R21)","v":0},{"$f":"SUM(S13-S21)","v":0},{"$f":"SUM(T13-T21)","v":0},{"$f":"SUM(U13-U21)","v":0},{"$f":"SUM(R22:U22)","v":0},-276174,0,0,0]
["OTHER SOURCES/USES OF FUNDS"]
["OTHER SOURCES OF FUNDS (7000)",null,{"$f":"'BudgetSum 2-4'!C46","v":0},{"$f":"'BudgetSum 2-4'!D46","v":0},{"$f":"'BudgetSum 2-4'!F46","v":0},{"$f":"'BudgetSum 2-4'!I46","v":0},{"$f":"SUM(C24:F24)","v":0},null,null,null,null,{"$f":"SUM(H24:K24)","v":0},null,null,null,null,{"$f":"SUM(M24:P24)","v":0},null,null,null,null,{"$f":"SUM(R24:U24)","v":0},{"$f":"G24","v":0},{"$f":"L24","v":0},{"$f":"Q24","v":0},{"$f":"V24","v":0}]
["OTHER USES OF FUNDS (8000)",null,{"$f":"'BudgetSum 2-4'!C79","v":0},{"$f":"'BudgetSum 2-4'!D79","v":0},{"$f":"'BudgetSum 2-4'!F79","v":0},{"$f":"'BudgetSum 2-4'!I79","v":0},{"$f":"SUM(C25:F25)","v":0},null,null,null,null,{"$f":"SUM(H25:K25)","v":0},null,null,null,null,{"$f":"SUM(M25:P25)","v":0},null,null,null,null,{"$f":"SUM(R25:U25)","v":0},{"$f":"G25","v":0},{"$f":"L25","v":0},{"$f":"Q25","v":0},{"$f":"V25","v":0}]
["TOTAL OTHER SOURCES/USES OF FUNDS",null,{"$f":"SUM(C24-C25)","v":0},0,0,0,0,0,{"$f":"SUM(I24-I25)","v":0},0,0,{"$f":"SUM(H26:K26)","v":0},0,0,0,0,{"$f":"SUM(M26:P26)","v":0},0,0,0,0,{"$f":"SUM(R26:U26)","v":0},{"$f":"G26","v":0},{"$f":"L26","v":0},{"$f":"Q26","v":0},{"$f":"V26","v":0}]
["ESTIMATED ENDING FUND BALANCE",null,{"$f":"C7+C22+C26","v":1507118},{"$f":"D7+D22+D26","v":146768},74621,144968,1873475,1507118,146768,74621,144968,{"$f":"SUM(H27:K27)","v":1873475},1507118,146768,74621,144968,1873475,1507118,146768,74621,144968,{"$f":"V7+V22+V26","v":1873475},{"$f":"G27","v":1873475},{"$f":"L27","v":1873475},{"$f":"Q27","v":1873475},{"$f":"V27","v":1873475}]

{"sheet":"Bckgrnd-Assumpt 28-29","index":9,"n_rows":33,"n_cols":2,"rows_kept":33,"cut":false,"hidden":false,"merged":[]}
[null,"Deficit Reduction Plan-Background/Assumptions (School Districts Only) "]
[null,{"$f":"\"Fiscal Year \"&'B23'!E2-1&-'B23'!E2","v":"Fiscal Year 2022-2023"}]
[null,{"$f":"\"through Fiscal Year \"&'B23'!E2+2&-'B23'!E2-3","v":"through Fiscal Year 2025-2026"}]
[]
[null,{"$f":"Cover!H13&\"              \"&Cover!H14","v":"Scott-Morgan CUSD 2              1086002026"}]
[null,"Please complete the following schedule and include a brief description to identify any areas of the budget that will be impacted from one year to the next.  If the deficit reduction plan relies upon new local revenues, identify contingencies for further budget reductions which will be enacted in the event those new revenues are not available.  "]
[]
[]
[1,"Background and Narrative of Budget Reductions:"]
[]
[]
[2,"Assumptions Used in the Deficit Reduction Plan:"]
[]
[]
[null,"- EBF and Estimated New Tier Funding:"]
[]
[]
[null,"- Equal Assessed Valuation and Tax Rates:"]
[]
[]
[null,"- Employee Salaries and Benefits:"]
[]
[]
[null,"- Short- and Long-Term Borrowing:"]
[]
[]
[null,"- Educational Impact:"]
[]
[]
[null,"- Other Assumptions:"]
[]
[]
[null,"- Has the district considered shared services or outsourcing (Ex: Transportation, Insurance)? If yes, please explain:"]

{"sheet":"AC 30","index":10,"n_rows":26,"n_cols":12,"rows_kept":26,"cut":false,"hidden":false,"merged":[[38,2,39,9],[0,0,0,10],[1,0,1,10],[34,5,34,7],[10,9,10,11],[11,0,11,4],[11,9,11,11],[15,0,15,2],[22,1,22,3],[31,2,31,3],[31,5,31,7],[32,5,32,7],[33,2,33,3],[24,11,25,11],[33,5,33,7],[24,1,24,2],[4,0,4,6],[4,7,4,9],[25,1,25,2]]}
["ESTIMATED LIMITATION OF ADMINISTRATIVE COSTS (School Districts Only) "]
["(For Local Use Only)"]
["This is an estimated Limitation of Administrative Costs Worksheet only and will not be accepted for Official Submission of the Limitation of Administrative Costs Worksheet.    "]
[]
[{"$f":"\"The worksheet is intended for use during the budgeting process to estimate the district's percent increase of FY\"&'B23'!E2","v":"The worksheet is intended for use during the budgeting process to estimate the district's percent increase of FY2023"},null,null,null,null,null,null,{"$f":"\"budgeted expenditures over actual FY\"&'B23'!E2-1","v":"budgeted expenditures over actual FY2022"},null,null,"expenditures. Budget"]
["information is copied to this page.  Insert the prior year estimated actual expenditures to compute the estimated percentage increase (decrease).  "]
[]
["The official Limitation of Administrative Costs Worksheet is attached to the end of the Annual Financial Report (ISBE Form 50-35) and may be submitted in conjunction with that report."]
["An official Limitation of Administrative Costs Worksheet can also be found on the ISBE website at: ",null,null,null,null,null,"Limitation of Administrative Costs"]
[]
["ESTIMATED LIMITATION OF ADMINISTRATIVE COSTS WORKSHEET",null,null,null,null,null,null,null,"School District Name:",{"$f":"Cover!H13","v":"Scott-Morgan CUSD 2"}]
["(Section 17-1.5 of the School Code)",null,null,null,null,null,null,null,"RCDT Number:",{"$f":"Cover!H14","v":1086002026}]
[]
[null,null,null,null,{"$f":"\"Estimated Actual Expenditures, Fiscal Year \"&'B23'!E2-1","v":"Estimated Actual Expenditures, Fiscal Year 2022"},null,null,null,{"$f":"\"Budgeted Expenditures, Fiscal Year \"&'B23'!E2","v":"Budgeted Expenditures, Fiscal Year 2023"}]
[null,null,null,null,"(10)","(20)","(80)",null,"(10)","(20)","(80)"]
["Description",null,null,"Funct. No.","Educational Fund","Operations & Maintenance Fund","Tort Fund","Total","Educational Fund","Operations & Maintenance Fund","Tort Fund","Total"]
[1,"Executive Administration Services",null,2320,169500,null,31050,{"$f":"SUM(E17:G17)","v":200550},{"$f":"'EstExp 12-20'!L52","v":180600},null,{"$f":"'EstExp 12-20'!L361","v":30150},{"$f":"SUM(I17:K17)","v":210750}]
[2,"Special Area Administration Services",null,2330,null,null,null,0,{"$f":"'EstExp 12-20'!L53","v":0},null,{"$f":"'EstExp 12-20'!L362","v":0},0]
[3,"Other Support Services - School Administration",null,2490,null,null,null,0,{"$f":"'EstExp 12-20'!L58","v":0},null,{"$f":"'EstExp 12-20'!L368","v":0},0]
[4,"Direction of Business Support Services",null,2510,null,null,null,0,{"$f":"'EstExp 12-20'!L61","v":0},{"$f":"'EstExp 12-20'!L126","v":0},{"$f":"'EstExp 12-20'!L371","v":0},0]
[5,"Internal Services",null,2570,null,null,null,0,{"$f":"'EstExp 12-20'!L66","v":0},null,{"$f":"'EstExp 12-20'!L377","v":0},0]
[6,"Direction of Central Support Services",null,2610,null,null,null,0,{"$f":"'EstExp 12-20'!L69","v":0},null,{"$f":"'EstExp 12-20'!L380","v":0},0]
[7,"Deduct - Early Retirement or other pension obligations required by state law and included above.",null,null,null,null,null,0,null,null,null,0]
[8,"Totals",null,null,{"$f":"SUM(E17:E22)-E23","v":169500},0,{"$f":"SUM(G17:G22)-G23","v":31050},200550,180600,0,30150,210750]
[9,{"$f":"\"Estimated Percent Increase (Decrease) for FY\"&'B23'!E2","v":"Estimated Percent Increase (Decrease) for FY2023"},null,null,null,null,null,null,null,null,null,{"$f":"IF(AND(H24>0,L24>0),(((L24-H24)/H24)),\"Enter Actual Data\")","v":5.0860134629768135E-2}]
[null,"(Budgeted) over FY2022 (Actual)"]

{"sheet":"VendContract 31","index":11,"n_rows":5,"n_cols":6,"rows_kept":5,"cut":false,"hidden":false,"merged":[[1,0,1,5],[0,0,0,5],[3,0,3,4]]}
["REPORTING OF PUBLIC VENDOR CONTRACTS OF $1,000 OR MORE (School Districts Only) "]
["In accordance with the School Code, Section 10-20.21, all school districts are required to file a report listing ‘vendor contracts’ as an attachment to their budget.   In this context, the term \"vendor contracts\" refers to \"all contracts and agreements that pertain to goods and services that were intended to generate additional revenue and other remunerations for the school district in excess of $1,000, including without limitation vending machine contracts, sports and other attire, class rings, and photographic services.  The report is to list information regarding such contracts for the fiscal year immediately preceding the fiscal year of the budget.  All such contracts executed on or after July 1, 2007 must be approved by the school board."]
["  See:  School Code, Section 10-20.21 - Contracts"]
["If more rows are required, select a cell above where you'd like additional rows. Then click \"Add Rows\" button to the right and enter number of desired rows. Rows will generate beneath the selected cell."]
["Name of Vendor","Product or Service Provided","Net Revenue","Non-Monetary Remuneration","Purpose of Proceeds","Distribution Method and Recipient of Non-Monetary Remunerations Distributed"]

{"sheet":"Ref 32","index":12,"n_rows":40,"n_cols":2,"rows_kept":40,"cut":false,"hidden":false,"merged":[]}
[null,"Reference Description"]
[]
[1,"Each fund balance should correspond to the fund balance reflected on the books as of June 30th - Balance Sheet Accounts #720 and #730 (audit figures, if available)."]
[]
[2,"Accounting and Financial Reporting for Certain Grants and Other Financial Assistance.  The \"On-Behalf\" Payments should only be reflected on this page (Budget Summary, Lines 10 and 20)."]
[]
[3,"Requires the secretary of the school board to notify the county clerk (within 30 days of the transfer approval) to abate an equal amount of taxes to be next extended.  See Sec. 10-22.14 & 17-2.11."]
["3a","Requires notification to the county clerk to abate an equal amount from taxes next extended.  See section 10-22.14"]
[4,"Principal on Bonds Sold:"]
[null,"(1)  Funding Bonds are to be entered in the fund or funds in which the liability occurs."]
[null,"(2)  Refunding Bonds can be entered in the Debt Services Fund only."]
[null,"(3)  Building Bonds can be entered in the Capital Projects Fund only."]
[null,"(4)  Fire Prevention and Safety Bonds can be entered in the Fire Prevention & Safety Fund only."]
[]
[5,"The proceeds from the sale of school sites, buildings, or other real estate shall be used first to pay the principal and interest on any outstanding bonds on the property being sold, and after all such bonds have been retired, the remaining proceeds from the sale next shall be used by the school board to meet any urgent district needs as determined under Sections 2-3.12 and 17-2.11 of the School Code.  Once these issues have been addressed, any remaining proceeds may be used for any other authorized purpose and for deposit into any district fund."]
[]
[6,"The School Code, Section 10-22.44 prohibits the transfer of interest earned on the investment of \"any funds for purposes of Illinois Municipal Retirement under the Pension Code.\"  This prohibition does not include funds for Social Security and Medicare-only purposes.  For additional requirements on interest earnings, see 23 Illinois Administrative Code, Part 100, Section 100.50."]
[]
[7,"Cash plus investments must be greater than or equal to zero."]
[]
[8,"For cash basis budgets, this total will equal the Budget Summary - Total Direct Receipts/Revenues (Line 9) plus Total Other Sources of Funds (Line 46)."]
[]
[9,"For cash basis budgets, this total will equal the Budget Summary - Total Direct Disbursements/Expenditures (Line 19) plus Total Other Uses of Funds (Line 79)."]
[]
[10,"Working Cash Fund loans may be made to any district fund for which taxes are levied (Section 20-5 of the School Code)."]
[]
[11,"Include revenue accounts 1110 through 1115, 1117,1118 & 1120."]
[]
["12","The School Code Section 17-2.2c.  Tax for leasing educational facilities or computer technology or both, and for temporary relocation expense purposes."]
[]
["13","Corporate personal property replacement tax revenue must be first applied to the Municipal Retirement/Social Security Fund to replace tax revenue lost due to the abolition of the corporate personal property tax (30 ILCS 115/12).  This provision does not apply to taxes levied for Medicare-Only purposes."]
[]
[14,"Only tuition payments made to private facilities.  See Functions 4200 or 4400 for estimated public facility disbursements/expenditures."]
[]
[15,"Payment towards the retirement of lease/purchase agreements or bonded/other indebtedness (principal only) otherwise reported within the fund - e.g.: alternate revenue bonds.  (Describe & Itemize)"]
[]
[16,"Only abolishment of Working Cash Fund must transfer its funds directly to the Educational Fund upon adoption of a resolution and"]
[null,"at the close of the current school Year (see 105 ILCS 5/20-8 for further explanation)"]
[null,"Only abatement of working cash fund can transfer its funds to any fund in most need of money "]
[null,"(see 105 ILCS 5/20-10 for further explanation)"]

{"sheet":"Balancing","index":13,"n_rows":56,"n_cols":6,"rows_kept":56,"cut":false,"hidden":false,"merged":[[48,1,48,2],[50,1,50,2],[52,1,52,2],[35,1,35,2],[45,1,45,2],[0,0,0,2],[1,0,1,2],[2,0,2,2],[3,0,3,2],[24,1,24,2],[14,1,14,2]]}
["CHECK FOR ERRORS"]
["This worksheet checks various cells to assure that selected items are in balance."]
["Out-of-balance conditions are marked here with an error message."]
["Once all errors are corrected: Windows users, click \"Save Budget for ISBE\" button to the right. Mac users, click File > Save As. Once saved, submit to ISBE."]
[null,"Budget Item References","Message"]
[null,"Are all errors corrected?",{"$f":"IF(AND(OR(C8=\"Deficit Reduction Plan is not required\", C9=\"Deficit Reduction Plan complete\"), F55=37), \"OK - You may now save and submit form\",\"Please correct errors below\")","v":"Please correct errors below"}]
[1,"Deficit Reduction Plan (DefReductPlan 23-27 tab)"]
[null,"Is Deficit Reduction Plan Required? (Joint Agreements do not complete Deficit Reduction Plan.)",{"$f":"IF(Cover!B3=\"X\", \"Deficit Reduction Plan is not required\", IF(AND('DeficitBudgetSum Calc 22'!G5<0,'DeficitBudgetSum Calc 22'!G6>=0,ABS('DeficitBudgetSum Calc 22'!G5*3)>ABS('DeficitBudgetSum Calc 22'!G6)),'DeficitBudgetSum Calc 22'!G17,IF(AND('DeficitBudgetSum Calc 22'!G5<0,'DeficitBudgetSum Calc 22'!G6>0,ABS('DeficitBudgetSum Calc 22'!G5*3)<=ABS('DeficitBudgetSum Calc 22'!G6)),'DeficitBudgetSum Calc 22'!G18,IF(AND('DeficitBudgetSum Calc 22'!G5<0,'DeficitBudgetSum Calc 22'!G6<0),'DeficitBudgetSum Calc 22'!G17,IF('DeficitBudgetSum Calc 22'!G6=0,'DeficitBudgetSum Calc 22'!G20,'DeficitBudgetSum Calc 22'!G19)))))","v":"Deficit Reduction Plan is not required"}]
[null,"If required, is Deficit Reduction Plan completed? (DefReductPlan 23-27 tab)",{"$f":"IF(AND(C8='DeficitBudgetSum Calc 22'!G17,'DefReductPlan 23-27'!Z22>0),\"Deficit Reduction Plan complete\",IF(AND(C8='DeficitBudgetSum Calc 22'!G17,'DefReductPlan 23-27'!Z22=0),\"ERROR - PLEASE COMPLETE Deficit Reduction Plan\",\"\"))","v":""}]
[2,"Cover Page (Cover tab)"]
[null,"District Name must be selected from drop-down. (Cell H13)\n(Do not type full district name manually.)",{"$f":"IF(OR(Cover!H13=\"\",ISNA(VLOOKUP(Cover!$H$13,'District Dropdown'!$B$3:$C$996,2,FALSE))),\"ERROR - SELECT DISTRICT FROM DROP-DOWN MENU\",\"OK\")","v":"OK"},null,null,{"$f":"C11","v":"OK"}]
[null,"Accounting Basis must be selected on Cover sheet.",{"$f":"IF(Cover!B6=\"Click here to choose accounting basis\",\"ERROR - CHOOSE ACCOUNTING BASIS\",\"OK\")","v":"OK"},null,null,{"$f":"C12","v":"OK"}]
[null,"Dates (Day, Month, Year) must be input on Cover sheet.",{"$f":"IF(OR(ISBLANK(Cover!M31),ISBLANK(Cover!Q31),ISBLANK(Cover!P43),ISBLANK(Cover!T43)),\"ERROR - INPUT DATE(S)\",\"OK\")","v":"OK"},null,null,"OK"]
[null,"Board Names must be typed on Cover sheet.",{"$f":"IF(COUNTA(Cover!E49:Q58)=0,\"ERROR - TYPE BOARD NAMES\",\"OK\")","v":"OK"},null,null,"OK"]
[3,"Budget Summary:  Other Sources (BudgetSum 2-4 tab - Acct 7000) must equal Other Uses (BudgetSum 2-4 tab - Acct 8000)."]
[null,"Estimated Beginning Fund Balance July, 1 2022 for all Funds (Cells C3 - K3)\n(Line must have a number or zero.  Do not leave blank.)",{"$f":"IF(AND(ISNUMBER('BudgetSum 2-4'!C3),ISNUMBER('BudgetSum 2-4'!D3),ISNUMBER('BudgetSum 2-4'!E3),ISNUMBER('BudgetSum 2-4'!F3),ISNUMBER('BudgetSum 2-4'!G3),ISNUMBER('BudgetSum 2-4'!H3),ISNUMBER('BudgetSum 2-4'!I3),ISNUMBER('BudgetSum 2-4'!J3),ISNUMBER('BudgetSum 2-4'!K3)),\"OK\",\"ERROR - ENTER AMOUNTS. IF ZERO, ENTER NUMBER 0\")","v":"OK"},null,null,{"$f":"C16","v":"OK"}]
[null,"Estimated Activity Fund Beginning Fund Balance July, 1 2022 (Cell C83)\n(Cell must have a number or zero.  Do not leave blank.)",{"$f":"IF(ISNUMBER('BudgetSum 2-4'!C83),\"OK\",\"ERROR - ENTER AMOUNT. IF ZERO, ENTER NUMBER 0\")","v":"OK"},null,null,{"$f":"C17","v":"OK"}]
[null,"Transfer Among Funds (Funds 10, 20, 40 - Acct 7130 - Cells C29, D29, F29), must equal (Funds 10, 20 & 40 - Acct 8130 - Cells C52, D52, F52).",{"$f":"IF(SUM('BudgetSum 2-4'!C29:D29,'BudgetSum 2-4'!F29)<>SUM('BudgetSum 2-4'!C52:D52,'BudgetSum 2-4'!F52),\"ERROR - CHECK TRANSFER(S)\",\"OK\")","v":"OK"},null,null,"OK"]
[null,"Transfer of Interest (Funds 10 thru 90 - Acct 7140 - Cells C30:K30), must equal (Funds 10 thru 60, & 80 - Acct 8140 - Cells C53:H53, J53).",{"$f":"IF(SUM('BudgetSum 2-4'!C30:K30)<>SUM('BudgetSum 2-4'!C53:J53),\"ERROR - CHECK TRANSFER(S)\",\"OK\")","v":"OK"},null,null,"OK"]
[null,"Transfer to Debt Service to Pay Principal on GASB 87 Leases (Fund 30 - Acct 7400 - Cell E39) must equal (Funds 10, 20 & 60 - Acct 8400 Cells C57:H60).",{"$f":"IF(('BudgetSum 2-4'!E39)<>SUM('BudgetSum 2-4'!C57:H60),\"ERROR - CHECK TRANSFER(S)\",\"OK\")","v":"OK"},null,null,"OK"]
[null,"Transfer to Debt Service to Pay Interest on GASB 87 Leases (Fund 30 - Acct 7500 - Cell E40) must equal (Funds 10, 20 & 60 - Acct 8500 - Cells C61:H64).",{"$f":"IF(('BudgetSum 2-4'!E40)<>SUM('BudgetSum 2-4'!C61:H64),\"ERROR - CHECK TRANSFER(S)\",\"OK\")","v":"OK"},null,null,"OK"]
[null,"Transfer to Debt Service Fund to Pay Principal on Revenue Bonds (Fund 30 - Acct 7600 - Cell E41) must equal (Funds 10 & 20 - Acct 8600 - Cells C65:D68).",{"$f":"IF(('BudgetSum 2-4'!E41)<>SUM('BudgetSum 2-4'!C65:D68),\"ERROR - CHECK TRANSFER(S)\",\"OK\")","v":"OK"},null,null,"OK"]
[null,"Transfer to Debt Service to Pay Interest on Revenue Bonds (Fund 30 - Acct 7700 - Cell E42) must equal (Funds 10 & 20 - Acct 8700 - Cells C69:D72).",{"$f":"IF(('BudgetSum 2-4'!E42)<>SUM('BudgetSum 2-4'!C69:D72),\"ERROR - CHECK TRANSFER(S)\",\"OK\")","v":"OK"},null,null,"OK"]
[null,"Transfer to Capital Projects Fund (Fund 60 - Acct 7800 - Cell H43) must equal (Fund 10 & 20, Acct 8800 - Cells C73:D76).",{"$f":"IF(('BudgetSum 2-4'!H43)<>SUM('BudgetSum 2-4'!C73:D76),\"ERROR - CHECK TRANSFER(S)\",\"OK\")","v":"OK"},null,null,"OK"]
[4,"Summary of Cash Transactions:  Beginning Cash Balance on Hand July 1, 2022 (CashSum 5 tab, All Funds) cannot be negative.",null,null,null,0]
[null," Educational (Fund 10 - Cell C3)",{"$f":"IF('CashSum 5'!$C$3<0,\"CHECK ERROR - NEGATIVE BEGINNING BALANCE\",\"OK\")","v":"OK"},null,null,"OK"]
[null,"Operations & Maintenance (Fund 20 - Cell D3)",{"$f":"IF('CashSum 5'!$D$3<0,\"CHECK ERROR - NEGATIVE BEGINNING BALANCE\",\"OK\")","v":"OK"},null,null,"OK"]
[null,"Debt Service (Fund 30 - Cell E3)",{"$f":"IF('CashSum 5'!$E$3<0,\"CHECK ERROR - NEGATIVE BEGINNING BALANCE\",\"OK\")","v":"OK"},null,null,"OK"]
[null,"Transportation (Fund 40 - Cell F3)",{"$f":"IF('CashSum 5'!$F$3<0,\"CHECK ERROR - NEGATIVE BEGINNING BALANCE\",\"OK\")","v":"OK"},null,null,"OK"]
[null,"Municipal Retirement/Social Security (Fund 50 - Cell G3)",{"$f":"IF('CashSum 5'!$G$3<0,\"CHECK ERROR - NEGATIVE BEGINNING BALANCE\",\"OK\")","v":"OK"},null,null,"OK"]
[null,"Capital Projects (Fund 60 - Cell H3)",{"$f":"IF('CashSum 5'!$H$3<0,\"CHECK ERROR - NEGATIVE BEGINNING BALANCE\",\"OK\")","v":"OK"},null,null,"OK"]
[null,"Working Cash (Fund 70 - Cell I3)",{"$f":"IF('CashSum 5'!$I$3<0,\"CHECK ERROR - NEGATIVE BEGINNING BALANCE\",\"OK\")","v":"OK"},null,null,"OK"]
[null,"Tort (Fund 80 - Cell J3)",{"$f":"IF('CashSum 5'!$J$3<0,\"CHECK ERROR - NEGATIVE BEGINNING BALANCE\",\"OK\")","v":"OK"},null,null,"OK"]
[null,"Fire Prevention & Safety (Fund 90 - Cell K3)",{"$f":"IF('CashSum 5'!$K$3<0,\"CHECK ERROR - NEGATIVE BEGINNING BALANCE\",\"OK\")","v":"OK"},null,null,"OK"]
[null,"Activity Funds (Cell C23)",{"$f":"IF(ISNUMBER('CashSum 5'!C23),\"OK\",\"ERROR - ENTER AMOUNTS. IF ZERO, ENTER NUMBER 0\")","v":"OK"},null,null,"OK"]
[5,"Summary of Cash Transactions:  Ending Cash Balance on Hand June 30, 2023 (CashSum 5 tab - All Funds) cannot be negative.",null,null,null,0]
[null,"Educational (Fund 10 - Cell C21)",{"$f":"IF('CashSum 5'!$C$21<0,\"CHECK ERROR - NEGATIVE END BALANCE\",\"OK\")","v":"OK"},null,null,"OK"]
[null,"Operations & Maintenance (Fund 20 - Cell D21)",{"$f":"IF('CashSum 5'!$D$21<0,\"CHECK ERROR - NEGATIVE END BALANCE\",\"OK\")","v":"OK"},null,null,"OK"]
[null,"Debt Service (Fund 30 - Cell E21)",{"$f":"IF('CashSum 5'!$E$21<0,\"CHECK ERROR - NEGATIVE END BALANCE\",\"OK\")","v":"OK"},null,null,"OK"]
[null,"Transportation (Fund 40 - Cell F21)",{"$f":"IF('CashSum 5'!$F$21<0,\"CHECK ERROR - NEGATIVE END BALANCE\",\"OK\")","v":"OK"},null,null,"OK"]
[null,"Municipal Retirement/Social Security (Fund 50 - Cell G21)",{"$f":"IF('CashSum 5'!$G$21<0,\"CHECK ERROR - NEGATIVE END BALANCE\",\"OK\")","v":"OK"},null,null,"OK"]
[null,"Capital Projects (Fund 60 - Cell H21)",{"$f":"IF('CashSum 5'!$H$21<0,\"CHECK ERROR - NEGATIVE END BALANCE\",\"OK\")","v":"OK"},null,null,"OK"]
[null,"Working Cash (Fund 70 - Cell I21)",{"$f":"IF('CashSum 5'!$I$21<0,\"CHECK ERROR - NEGATIVE END BALANCE\",\"OK\")","v":"OK"},null,null,"OK"]
[null,"Tort (Fund 80 - Cell J21)",{"$f":"IF('CashSum 5'!$J$21<0,\"CHECK ERROR - NEGATIVE END BALANCE\",\"OK\")","v":"OK"},null,null,"OK"]
[null,"Fire Prevention & Safety (Fund 90 - Cell K21)",{"$f":"IF('CashSum 5'!$K$21<0,\"ERROR - NEGATIVE END BALANCE. PLEASE CORRECT.\",\"OK\")","v":"OK"},null,null,"OK"]
[6,"Summary of Cash Transactions:  Other Receipts (CashSum 5 tab) must equal Other Disbursements (CashSum 5 tab).",null,null,null,0]
[null,"Interfund Loans Payable (Funds 10:60, 80, 90 - Acct 411 - Cells C6:H6, J6:K6) must equal Interfund Loans Receivable (Funds 10:20, 40, 70 - Acct 141 - Cells C15:D15, F15, I15).",{"$f":"IF(SUM('CashSum 5'!C6:K6)<>SUM('CashSum 5'!C15:K15),\"ERROR - CHECK INTERFUND LOANS\",\"OK\")","v":"OK"},null,null,"OK"]
[null,"Interfund Loans Receivable (Funds 10, 20, 40, 70 - Acct 141 - Cells C7:D7, F7, I7) must equal Interfund Loans Payable (Funds 10:60, 80, 90 - Acct 411 - Cells C16:H16, J16, K16).",{"$f":"IF(SUM('CashSum 5'!C7:K7)<>SUM('CashSum 5'!C16:K16),\"ERROR - CHECK INTERFUND LOANS\",\"OK\")","v":"OK"},null,null,"OK"]
[7,"Estimated Revenue (EstRev 6-11 tab)",null,null,null,0]
[null,"Amounts must be input for revenue.",{"$f":"IF(OR('BudgetSum 2-4'!C9>0,'BudgetSum 2-4'!D9>0,'BudgetSum 2-4'!E9>0,'BudgetSum 2-4'!F9>0,'BudgetSum 2-4'!G9>0,'BudgetSum 2-4'!H9>0,'BudgetSum 2-4'!I9>0,'BudgetSum 2-4'!J9>0,'BudgetSum 2-4'!K9>0),\"OK\",\"ERROR - ESTREV TAB IS BLANK. PLEASE INPUT AMOUNTS.\")","v":"OK"},null,null,"OK"]
[8,"Estimated Expenditures (EstExp 12-20 tab)",null,null,null,0]
[null,"Amounts must be input for expenditures.",{"$f":"IF(OR('BudgetSum 2-4'!C19>0,'BudgetSum 2-4'!D19>0,'BudgetSum 2-4'!E19>0,'BudgetSum 2-4'!F19>0,'BudgetSum 2-4'!G19>0,'BudgetSum 2-4'!H19>0,'BudgetSum 2-4'!I19>0,'BudgetSum 2-4'!J19>0,'BudgetSum 2-4'!K19>0),\"OK\",\"ERROR - ESTEXP TAB IS BLANK. PLEASE INPUT AMOUNTS.\")","v":"OK"},null,null,"OK"]
[9,"Itemization Notes:  Revenues/Expenditures reported that require note on Itemize 21 tab.",null,null,null,0]
[null,"Include brief note(s) describing revenue source/expenditure use.",{"$f":"IF('Itemize 21'!G175='Itemize 21'!H175,\"OK\",\"ERROR - INPUT NOTE(S) ON ITEMIZATION 21 TAB\")","v":"ERROR - INPUT NOTE(S) ON ITEMIZATION 21 TAB"},null,null,"ERROR - INPUT NOTE(S) ON ITEMIZATION 21 TAB"]
[null,null,null,null,null,{"$f":"COUNTIFS(F10:F54,\"OK\")","v":36}]
[null,"End of Balancing"]

{"sheet":"B23","index":14,"n_rows":8000,"n_cols":10,"rows_kept":8000,"cut":false,"hidden":true,"merged":[]}
["School District Name",{"$f":"Cover!H13","v":"Scott-Morgan CUSD 2"},null,null,"Fiscal Year"]
["School District ID",{"$f":"Cover!H14","v":1086002026},null,null,2023]
["Accounting Basis",{"$f":"Cover!B6","v":"Cash"},null,null,"JA Due to ISBE",null,"SD Due to ISBE",null,null,{"$f":"IF(Cover!B2=\"x\",1,0)","v":1}]
["Is this a School District? (YES)",{"$f":"IF(J3=0,0,\"x\")","v":"x"},null,null,"2022-09-30",{"$f":"E2-1","v":2022},"2022-10-31",{"$f":"E2-1","v":2022},null,{"$f":"IF(Cover!B3=\"x\",1,0)","v":0}]
["Is this a Joint Agreement? (YES) ",{"$f":"IF(J4=0,0,\"x\")","v":0}]
[1,{"$f":"'BudgetSum 2-4'!C18","v":0},{"$f":"A6-B6","v":1},null,"Consultant: To update form for new fiscal year:\n\nInput the new password you'll use for the budget form in the VBA code on Itemize 21 and Balancing tab.\n\nInput appropriate year in cell E2 above. All years will update automatically EXCEPT the following cells, which you'll need to manually change:"]
[2,{"$f":"'BudgetSum 2-4'!D18","v":0},{"$f":"A7-B7","v":2},null,"BudgetSum Tab"]
[3,{"$f":"'BudgetSum 2-4'!E18","v":0},3,null,"A3"]
[4,{"$f":"'BudgetSum 2-4'!F18","v":0},4,null,"CashSum Tab"]
[5,{"$f":"'BudgetSum 2-4'!G18","v":0},5,null,"A3"]
[6,{"$f":"'BudgetSum 2-4'!H18","v":0},6,null,"A21"]
[7,{"$f":"'BudgetSum 2-4'!K18","v":0},7,null,"A23"]
[8,{"$f":"'CashSum 5'!C4","v":2582006},-2581998,null,"A27"]
[9,{"$f":"'CashSum 5'!C7","v":0},9,null,"A29"]
[10,{"$f":"'CashSum 5'!C10","v":0},10,null,"A37"]
[11,{"$f":"'CashSum 5'!C11","v":2582006},-2581995,null,"Balancing Tab"]
[12,{"$f":"'CashSum 5'!C12","v":4010683},-4010671,null,"B16"]
[13,{"$f":"'CashSum 5'!C13","v":2503565},-2503552,null,"B17"]
[14,{"$f":"'CashSum 5'!C15","v":0},14,null,"B25"]
[15,{"$f":"'CashSum 5'!C16","v":0},15,null,"B36"]
[16,null,null,"Close 2008","AC 30 Tab"]
[17,{"$f":"'CashSum 5'!C17","v":0},17,null,"B26:C26"]
[18,{"$f":"'CashSum 5'!C8","v":0},18]
[19,null,null,"Close 2008"]
[20,null,null,"Close 2008"]
[21,{"$f":"'CashSum 5'!C18","v":0},21]
[22,{"$f":"'CashSum 5'!C19","v":0},22]
[23,{"$f":"'CashSum 5'!C20","v":2503565},-2503542]
[24,{"$f":"'CashSum 5'!C21","v":1507118},-1507094]
[25,{"$f":"'CashSum 5'!D4","v":552077},-552052]
[26,{"$f":"'CashSum 5'!D7","v":0},26]
[27,{"$f":"'CashSum 5'!D10","v":0},27]
[28,{"$f":"'CashSum 5'!D11","v":552077},-552049]
[29,{"$f":"'CashSum 5'!D12","v":1068768},-1068739]
[30,{"$f":"'CashSum 5'!D13","v":922000},-921970]
[31,{"$f":"'CashSum 5'!D15","v":0},31]
[32,{"$f":"'CashSum 5'!D16","v":0},32]
[33,null,null,"Close 2008"]
[34,{"$f":"'CashSum 5'!D17","v":0},34]
[35,null,null,"Close 2008"]
[36,null,null,"Close 2008"]
[37,null,null,"Close 2008"]
[38,{"$f":"'CashSum 5'!D18","v":0},38]
[39,{"$f":"'CashSum 5'!D19","v":0},39]
[40,{"$f":"'CashSum 5'!D20","v":922000},-921960]
[41,{"$f":"'CashSum 5'!D21","v":146768},-146727]
[42,{"$f":"'CashSum 5'!E4","v":342181},-342139]
[43,{"$f":"'CashSum 5'!E10","v":0},43]
[44,{"$f":"'CashSum 5'!E11","v":342181},-342137]
[45,{"$f":"'CashSum 5'!E12","v":367263},-367218]
[46,{"$f":"'CashSum 5'!E13","v":336814},-336768]
[47,{"$f":"'CashSum 5'!E16","v":0},47]
[48,null,null,"Close 2008"]
[49,null,null,"Close 2008"]
[50,{"$f":"'CashSum 5'!D8","v":0},50]
[51,null,null,"Closed 2008"]
[52,{"$f":"'CashSum 5'!E18","v":0},52]
[53,{"$f":"'CashSum 5'!E19","v":0},53]
[54,{"$f":"'CashSum 5'!E20","v":336814},-336760]
[55,{"$f":"'CashSum 5'!E21","v":30449},-30394]
[56,{"$f":"'CashSum 5'!F4","v":268769},-268713]
[57,{"$f":"'CashSum 5'!F7","v":0},57]
[58,{"$f":"'CashSum 5'!F10","v":0},58]
[59,{"$f":"'CashSum 5'!F11","v":268769},-268710]
[60,{"$f":"'CashSum 5'!F12","v":343121},-343061]
[61,{"$f":"'CashSum 5'!F13","v":268500},-268439]
[62,{"$f":"'CashSum 5'!F15","v":0},62]
[63,{"$f":"'CashSum 5'!F16","v":0},63]
[64,null,null,"Close 2008"]
[65,{"$f":"'CashSum 5'!F17","v":0},65]
[66,null,null,"Close 2008"]
[67,null,null,"Close 2008"]
[68,null,null,"Close 2008"]
[69,{"$f":"'CashSum 5'!F18","v":0},{"$f":"A74-B74","v":69}]
[70,{"$f":"'CashSum 5'!F19","v":0},70]
[71,{"$f":"'CashSum 5'!F20","v":268500},-268429]
[72,{"$f":"'CashSum 5'!F21","v":74621},-74549]
[73,{"$f":"'CashSum 5'!G4","v":136290},-136217]
[74,{"$f":"'CashSum 5'!G10","v":0},74]
[75,{"$f":"'CashSum 5'!G11","v":136290},-136215]
[76,{"$f":"'CashSum 5'!G12","v":167393},-167317]
[77,{"$f":"'CashSum 5'!G13","v":86050},-85973]
[78,{"$f":"'CashSum 5'!G16","v":0},78]
[79,null,null,"Close 2008"]
[80,{"$f":"'CashSum 5'!G17","v":0},80]
[81]
[82,null,null,"Close 2008"]
[83,{"$f":"'CashSum 5'!G18","v":0},83]
[84,{"$f":"'CashSum 5'!G19","v":0},84]
[85,{"$f":"'CashSum 5'!G20","v":86050},-85965]
[86,{"$f":"'CashSum 5'!G21","v":81343},-81257]
[87,{"$f":"'CashSum 5'!H4","v":14450},-14363]
[88,{"$f":"'CashSum 5'!H10","v":0},88]
[89,{"$f":"'CashSum 5'!H11","v":14450},-14361]
[90,{"$f":"'CashSum 5'!H12","v":107515},-107425]
[91,{"$f":"'CashSum 5'!H13","v":0},91]
[92,{"$f":"'CashSum 5'!H16","v":0},92]
[93,null,null,"Close 2008"]
[94,{"$f":"'CashSum 5'!H19","v":0},94]
[95,{"$f":"'CashSum 5'!H20","v":0},95]
[96,{"$f":"'CashSum 5'!H21","v":107515},-107419]
[97,{"$f":"'CashSum 5'!I4","v":15039},-14942]
[98,{"$f":"'CashSum 5'!I7","v":0},98]
[99,{"$f":"'CashSum 5'!I10","v":0},99]
[100,{"$f":"'CashSum 5'!I11","v":15039},-14939]
[101,{"$f":"'CashSum 5'!I12","v":144968},-144867]
[102,{"$f":"'CashSum 5'!I13","v":0},102]
[103,{"$f":"'CashSum 5'!I15","v":0},103]
[104,null,null,"Close 2008"]
[105,{"$f":"'CashSum 5'!I19","v":0},105]
[106,{"$f":"'CashSum 5'!I20","v":0},106]
[107,{"$f":"'CashSum 5'!I21","v":144968},-144861]
[108,null,null,"Close 2008"]
[109,null,null,"Close 2008"]
[110,null,null,"Close 2008"]
[111,null,null,"Close 2008"]
[112,null,null,"Close 2008"]
[113,null,null,"Close 2008"]
[114,null,null,"Close 2008"]
[115,null,null,"Close 2008"]
[116,null,null,"Close 2008"]
[117,null,null,"Close 2008"]
[118,null,null,"Close 2008"]
[119,null,null,"Close 2008"]
[120,{"$f":"'CashSum 5'!K4","v":2114839},-2114719]
[121,{"$f":"'CashSum 5'!K10","v":0},121]
[122,{"$f":"'CashSum 5'!K11","v":2114839},-2114717]
[123,{"$f":"'CashSum 5'!K12","v":2200959},-2200836]
[124,{"$f":"'CashSum 5'!K13","v":1000},-876]
[125,{"$f":"'CashSum 5'!K16","v":0},125]
[126,null,null,"Close 2008"]
[127,{"$f":"'CashSum 5'!K17","v":0},127]
[128,null,null,"Close 2008"]
[129,null,null,"Close 2008"]
[130,{"$f":"'CashSum 5'!K19","v":0},{"$f":"A135-B135","v":130}]
[131,{"$f":"'CashSum 5'!K20","v":1000},-869]
[132,{"$f":"'CashSum 5'!K21","v":2199959},-2199827]
[133,null,null,"Close 2008"]
[134,null,null,"Close 2008"]
[135,null,null,"Close 2008"]
[136,null,null,"Close 2008"]
[137,null,null,"Close 2008"]
[138,{"$f":"'EstExp 12-20'!I115","v":0},138]
[139,null,null,"Close 2008"]
[140,null,null,"Close 2008"]
[141,{"$f":"'EstExp 12-20'!L115","v":0},141]
[142,{"$f":"'EstExp 12-20'!I154","v":0},142]
[143,{"$f":"'EstExp 12-20'!L154","v":0},143]
[144,{"$f":"'EstExp 12-20'!I177","v":0},144]
[145,{"$f":"'EstExp 12-20'!L177","v":0},145]
[146,{"$f":"'EstExp 12-20'!I213","v":0},146]
[147,{"$f":"'EstExp 12-20'!L213","v":0},147]
[148,{"$f":"'EstExp 12-20'!I291","v":0},148]
[149,{"$f":"'EstExp 12-20'!L291","v":0},149]
[150,{"$f":"'EstExp 12-20'!I308","v":0},150]
[151,{"$f":"'EstExp 12-20'!L308","v":0},151]
[152,{"$f":"'EstExp 12-20'!I452","v":0},152]
[153,{"$f":"'EstExp 12-20'!L452","v":0},153]
[154,{"$f":"'EstExp 12-20'!K18","v":0},154]
[155]
[156]
[157]
[158]
[159]
[160]
[161]
[162]
[163]
[164]
[165]
[166]
[167]
[168]
[169]
[170]
[171]
[172]
[173]
[174]
[175]
[176]
[177]
[178]
[179]
[180]
[181]
[182]
[183]
[184,null,null,"Close 2008"]
[185]
[186]
[187]
[188]
[189]
[190]
[191]
[192]
[193]
[194]
[195]
[196]
[197]
[198]
[199]
[200]
[201]
[202]
[203]
[204]
[205]
[206]
[207]
[208]
[209]
[210]
[211]
[212]
[213]
[214]
[215]
[216]
[217]
[218]
[219]
[220]
[221]
[222]
[223]
[224]
[225]
[226]
[227]
[228]
[229]
[230]
[231]
[232]
[233]
[234]
[235]
[236]
[237]
[238]
[239]
[240]
[241]
[242]
[243]
[244]
[245]
[246]
[247]
[248]
[249]
[250]
[251]
[252]
[253]
[254]
[255]
[256]
[257]
[258]
[259,{"$f":"'BudgetSum 2-4'!C26","v":0},{"$f":"A264-B264","v":259}]
[260,{"$f":"'BudgetSum 2-4'!C28","v":0},260]
[261]
[262,{"$f":"'BudgetSum 2-4'!C35","v":0},262]
[263,{"$f":"'BudgetSum 2-4'!C36","v":0},263]
[264,{"$f":"'BudgetSum 2-4'!C37","v":0},264]
[265]
[266]
[267]
[268]
[269]
[270]
[271]
[272]
[273]
[274]
[275]
[276]
[277]
[278]
[279]
[280]
[281]
[282]
[283]
[284]
[285]
[286]
[287]
[288]
[289]
[290]
[291]
[292]
[293]
[294]
[295]
[296]
[297]
[298]
[299]
[300]
[301]
[302]
[303]
[304]
[305]
[306]
[307]
[308]
[309]
[310]
[311]
[312]
[313]
[314]
[315]
[316]
[317]
[318]
[319]
[320]
[321]
[322]
[323]
[324]
[325]
[326]
[327]
[328]
[329]
[330]
[331]
[332]
[333]
[334]
[335]
[336]
[337]
[338]
[339]
[340]
[341]
[342]
[343]
[344]
[345]
[346]
[347]
[348]
[349]
[350]
[351]
[352]
[353]
[354]
[355]
[356]
[357]
[358]
[359]
[360]
[361]
[362]
[363]
[364]
[365]
[366]
[367]
[368]
[369]
[370]
[371,{"$f":"'BudgetSum 2-4'!D28","v":0},{"$f":"A376-B376","v":371}]
[372]
[373]
[374]
[375]
[376]
[377]
[378]
[379]
[380]
[381]
[382]
[383]
[384]
[385]
[386]
[387]
[388]
[389]
[390]
[391]
[392]
[393]
[394]
[395]
[396]
[397]
[398]
[399]
[400]
[401]
[402]
[403]
[404]
[405]
[406]
[407]
[408]
[409]
[410]
[411]
[412]
[413]
[414]
[415]
[416]
[417]
[418]
[419]
[420]
[421]
[422]
[423]
[424]
[425]
[426]
[427]
[428]
[429]
[430]
[431]
[432]
[433]
[434]
[435]
[436]
[437]
[438]
[439,{"$f":"'BudgetSum 2-4'!E36","v":0},{"$f":"A444-B444","v":439}]
[440,{"$f":"'BudgetSum 2-4'!E37","v":0},440]
[441]
[442]
[443]
[444]
[445]
[446]
[447]
[448]
[449]
[450]
[451]
[452]
[453]
[454]
[455]
[456]
[457]
[458]
[459]
[460]
[461]
[462]
[463]
[464]
[465]
[466]
[467]
[468]
[469]
[470]
[471]
[472]
[473]
[474]
[475]
[476]
[477]
[478]
[479]
[480]
[481]
[482]
[483]
[484]
[485]
[486]
[487]
[488]
[489]
[490]
[491]
[492]
[493]
[494]
[495]
[496]
[497]
[498]
[499]
[500]
[501]
[502]
[503]
[504]
[505]
[506]
[507]
[508]
[509]
[510]
[511]
[512]
[513]
[514]
[515]
[516]
[517]
[518]
[519]
[520]
[521]
[522]
[523]
[524]
[525]
[526]
[527]
[528]
[529]
[530]
[531]
[532]
[533]
[534]
[535]
[536]
[537]
[538]
[539]
[540]
[541]
[542]
[543]
[544]
[545]
[546]
[547]
[548]
[549]
[550]
[551]
[552]
[553]
[554]
[555]
[556]
[557,{"$f":"'BudgetSum 2-4'!H35","v":0},{"$f":"A562-B562","v":557}]
[558,{"$f":"'BudgetSum 2-4'!H36","v":0},558]
[559,{"$f":"'BudgetSum 2-4'!H37","v":0},559]
[560]
[561]
[562]
[563]
[564]
[565]
[566]
[567]
[568]
[569]
[570]
[571]
[572]
[573]
[574]
[575]
[576]
[577]
[578]
[579]
[580]
[581]
[582]
[583]
[584]
[585]
[586]
[587]
[588]
[589]
[590,{"$f":"'BudgetSum 2-4'!I35","v":0},{"$f":"A595-B595","v":590}]
[591,{"$f":"'BudgetSum 2-4'!I36","v":0},591]
[592,{"$f":"'BudgetSum 2-4'!I37","v":0},592]
[593]
[594]
[595]
[596]
[597]
[598]
[599]
[600]
[601]
[602]
[603]
[604]
[605]
[606]
[607]
[608]
[609]
[610]
[611]
[612]
[613]
[614]
[615]
[616]
[617]
[618]
[619]
[620]
[621]
[622]
[623]
[624]
[625]
[626]
[627]
[628]
[629]
[630]
[631]
[632]
[633]
[634]
[635]
[636]
[637]
[638]
[639]
[640]
[641]
[642]
[643]
[644,{"$f":"'EstExp 12-20'!D5","v":915000},{"$f":"A649-B649","v":-914356}]
[645,{"$f":"'EstExp 12-20'!D16","v":0},645]
[646]
[647]
[648]
[649]
[650]
[651,{"$f":"'EstExp 12-20'!D18","v":0},651]
[652]
[653]
[654]
[655,{"$f":"'EstExp 12-20'!D12","v":0},655]
[656,{"$f":"'EstExp 12-20'!D13","v":0},656]
[657,{"$f":"'EstExp 12-20'!D14","v":10000},-9343]
[658,{"$f":"'EstExp 12-20'!D15","v":0},658]
[659,{"$f":"'EstExp 12-20'!D34","v":1208000},-1207341]
[660,{"$f":"'EstExp 12-20'!D38","v":0},660]
[661,{"$f":"'EstExp 12-20'!D39","v":28940},-28279]
[662,{"$f":"'EstExp 12-20'!D40","v":0},662]
[663,{"$f":"'EstExp 12-20'!D41","v":0},663]
[664,{"$f":"'EstExp 12-20'!D42","v":32000},-31336]
[665,{"$f":"'EstExp 12-20'!D43","v":0},665]
[666,{"$f":"'EstExp 12-20'!D44","v":60940},-60274]
[667,{"$f":"'EstExp 12-20'!D46","v":0},667]
[668,{"$f":"'EstExp 12-20'!D47","v":0},668]
[669,{"$f":"'EstExp 12-20'!D48","v":0},669]
[670,{"$f":"'EstExp 12-20'!D49","v":0},670]
[671,{"$f":"'EstExp 12-20'!D51","v":0},671]
[672,{"$f":"'EstExp 12-20'!D52","v":150100},-149428]
[673,{"$f":"'EstExp 12-20'!D55","v":150100},-149427]
[674,{"$f":"'EstExp 12-20'!D57","v":95000},-94326]
[675,{"$f":"'EstExp 12-20'!D58","v":0},675]
[676,{"$f":"'EstExp 12-20'!D59","v":95000},-94324]
[677,{"$f":"'EstExp 12-20'!D61","v":0},677]
[678,{"$f":"'EstExp 12-20'!D62","v":70000},-69322]
[679,{"$f":"'EstExp 12-20'!D63","v":0},679]
[680,{"$f":"'EstExp 12-20'!D64","v":0},680]
[681,{"$f":"'EstExp 12-20'!D65","v":52000},-51319]
[682,{"$f":"'EstExp 12-20'!D66","v":0},682]
[683]
[684,{"$f":"'EstExp 12-20'!D67","v":122000},-121316]
[685,{"$f":"'EstExp 12-20'!D69","v":0},685]
[686,{"$f":"'EstExp 12-20'!D70","v":0},686]
[687,{"$f":"'EstExp 12-20'!D71","v":0},687]
[688,{"$f":"'EstExp 12-20'!D72","v":0},688]
[689]
[690,{"$f":"'EstExp 12-20'!D73","v":0},690]
[691]
[692,{"$f":"'EstExp 12-20'!D74","v":0},692]
[693,{"$f":"'EstExp 12-20'!D75","v":0},693]
[694,{"$f":"'EstExp 12-20'!D76","v":428040},-427346]
[695,{"$f":"'EstExp 12-20'!D77","v":0},695]
[696,{"$f":"'EstExp 12-20'!D116","v":1636040},-1635344]
[697]
[698]
[699]
[700]
[701]
[702,{"$f":"'EstExp 12-20'!E5","v":175000},-174298]
[703,{"$f":"'EstExp 12-20'!E16","v":0},703]
[704]
[705]
[706]
[707]
[708]
[709,{"$f":"'EstExp 12-20'!E18","v":0},{"$f":"A714-B714","v":709}]
[710]
[711]
[712]
[713,{"$f":"'EstExp 12-20'!E12","v":0},713]
[714,{"$f":"'EstExp 12-20'!E13","v":0},714]
[715,{"$f":"'EstExp 12-20'!E14","v":500},215]
[716,{"$f":"'EstExp 12-20'!E15","v":0},716]
[717,{"$f":"'EstExp 12-20'!E34","v":218000},-217283]
[718,{"$f":"'EstExp 12-20'!E38","v":0},718]
[719,{"$f":"'EstExp 12-20'!E39","v":8500},-7781]
[720,{"$f":"'EstExp 12-20'!E40","v":0},720]
[721,{"$f":"'EstExp 12-20'!E41","v":0},721]
[722,{"$f":"'EstExp 12-20'!E42","v":4000},-3278]
[723,{"$f":"'EstExp 12-20'!E43","v":0},723]
[724,{"$f":"'EstExp 12-20'!E44","v":12500},-11776]
[725,{"$f":"'EstExp 12-20'!E46","v":13000},-12275]
[726,{"$f":"'EstExp 12-20'!E47","v":0},726]
[727,{"$f":"'EstExp 12-20'!E48","v":0},727]
[728,{"$f":"'EstExp 12-20'!E49","v":13000},-12272]
[729,{"$f":"'EstExp 12-20'!E51","v":0},729]
[730,{"$f":"'EstExp 12-20'!E52","v":23000},-22270]
[731,{"$f":"'EstExp 12-20'!E55","v":23000},-22269]
[732,{"$f":"'EstExp 12-20'!E57","v":33000},-32268]
[733,{"$f":"'EstExp 12-20'!E58","v":0},733]
[734,{"$f":"'EstExp 12-20'!E59","v":33000},-32266]
[735,{"$f":"'EstExp 12-20'!E61","v":0},735]
[736,{"$f":"'EstExp 12-20'!E62","v":5100},-4364]
[737,{"$f":"'EstExp 12-20'!E63","v":0},737]
[738,{"$f":"'EstExp 12-20'!E64","v":0},738]
[739,{"$f":"'EstExp 12-20'!E65","v":16500},-15761]
[740,{"$f":"'EstExp 12-20'!E66","v":0},740]
[741]
[742,{"$f":"'EstExp 12-20'!E67","v":21600},-20858]
[743,{"$f":"'EstExp 12-20'!E69","v":0},743]
[744,{"$f":"'EstExp 12-20'!E70","v":0},744]
[745,{"$f":"'EstExp 12-20'!E71","v":0},745]
[746,{"$f":"'EstExp 12-20'!E72","v":0},746]
[747]
[748,{"$f":"'EstExp 12-20'!E73","v":0},748]
[749]
[750,{"$f":"'EstExp 12-20'!E74","v":0},750]
[751,{"$f":"'EstExp 12-20'!E75","v":0},751]
[752,{"$f":"'EstExp 12-20'!E76","v":103100},-102348]
[753,{"$f":"'EstExp 12-20'!E77","v":0},753]
[754,{"$f":"'EstExp 12-20'!E116","v":321100},-320346]
[755]
[756]
[757]
[758]
[759]
[760,{"$f":"'EstExp 12-20'!F5","v":50000},-49240]
[761,{"$f":"'EstExp 12-20'!F16","v":0},761]
[762]
[763]
[764]
[765]
[766]
[767,{"$f":"'EstExp 12-20'!F18","v":0},767]
[768]
[769]
[770]
[771,{"$f":"'EstExp 12-20'!F12","v":0},{"$f":"A776-B776","v":771}]
[772,{"$f":"'EstExp 12-20'!F13","v":7000},-6228]
[773,{"$f":"'EstExp 12-20'!F14","v":10000},-9227]
[774,{"$f":"'EstExp 12-20'!F15","v":0},774]
[775,{"$f":"'EstExp 12-20'!F34","v":74000},-73225]
[776,{"$f":"'EstExp 12-20'!F38","v":35500},-34724]
[777,{"$f":"'EstExp 12-20'!F39","v":0},777]
[778,{"$f":"'EstExp 12-20'!F40","v":500},278]
[779,{"$f":"'EstExp 12-20'!F41","v":40000},-39221]
[780,{"$f":"'EstExp 12-20'!F42","v":0},780]
[781,{"$f":"'EstExp 12-20'!F43","v":0},781]
[782,{"$f":"'EstExp 12-20'!F44","v":76000},-75218]
[783,{"$f":"'EstExp 12-20'!F46","v":2000},-1217]
[784,{"$f":"'EstExp 12-20'!F47","v":40000},-39216]
[785,{"$f":"'EstExp 12-20'!F48","v":0},785]
[786,{"$f":"'EstExp 12-20'!F49","v":42000},-41214]
[787,{"$f":"'EstExp 12-20'!F51","v":5000},-4213]
[788,{"$f":"'EstExp 12-20'!F52","v":7500},-6712]
[789,{"$f":"'EstExp 12-20'!F55","v":12500},-11711]
[790,{"$f":"'EstExp 12-20'!F57","v":1500},-710]
[791,{"$f":"'EstExp 12-20'!F58","v":0},791]
[792,{"$f":"'EstExp 12-20'!F59","v":1500},-708]
[793,{"$f":"'EstExp 12-20'!F61","v":0},793]
[794,{"$f":"'EstExp 12-20'!F62","v":24000},-23206]
[795,{"$f":"'EstExp 12-20'!F63","v":0},795]
[796,{"$f":"'EstExp 12-20'!F64","v":0},796]
[797,{"$f":"'EstExp 12-20'!F65","v":1000},-203]
[798,{"$f":"'EstExp 12-20'!F66","v":0},798]
[799]
[800,{"$f":"'EstExp 12-20'!F67","v":25000},-24200]
[801,{"$f":"'EstExp 12-20'!F69","v":0},801]
[802,{"$f":"'EstExp 12-20'!F70","v":0},802]
[803,{"$f":"'EstExp 12-20'!F71","v":0},803]
[804,{"$f":"'EstExp 12-20'!F72","v":0},804]
[805]
[806,{"$f":"'EstExp 12-20'!F73","v":0},806]
[807]
[808,{"$f":"'EstExp 12-20'!F74","v":0},808]
[809,{"$f":"'EstExp 12-20'!F75","v":0},809]
[810,{"$f":"'EstExp 12-20'!F76","v":157000},-156190]
[811,{"$f":"'EstExp 12-20'!F77","v":0},811]
[812,{"$f":"'EstExp 12-20'!F116","v":266000},-265188]
[813]
[814]
[815]
[816]
[817]
[818,{"$f":"'EstExp 12-20'!G5","v":50000},-49182]
[819,{"$f":"'EstExp 12-20'!G16","v":0},819]
[820]
[821]
[822]
[823]
[824]
[825,{"$f":"'EstExp 12-20'!G18","v":0},825]
[826]
[827]
[828]
[829,{"$f":"'EstExp 12-20'!G12","v":0},829]
[830,{"$f":"'EstExp 12-20'!G13","v":0},830]
[831,{"$f":"'EstExp 12-20'!G14","v":700},131]
[832,{"$f":"'EstExp 12-20'!G15","v":0},832]
[833,{"$f":"'EstExp 12-20'!G34","v":56100},-55267]
[834,{"$f":"'EstExp 12-20'!G38","v":0},834]
[835,{"$f":"'EstExp 12-20'!G39","v":0},{"$f":"A840-B840","v":835}]
[836,{"$f":"'EstExp 12-20'!G40","v":125},711]
[837,{"$f":"'EstExp 12-20'!G41","v":0},837]
[838,{"$f":"'EstExp 12-20'!G42","v":1000},-162]
[839,{"$f":"'EstExp 12-20'!G43","v":0},839]
[840,{"$f":"'EstExp 12-20'!G44","v":1125},-285]
[841,{"$f":"'EstExp 12-20'!G46","v":0},841]
[842,{"$f":"'EstExp 12-20'!G47","v":0},842]
[843,{"$f":"'EstExp 12-20'!G48","v":0},843]
[844,{"$f":"'EstExp 12-20'!G49","v":0},844]
[845,{"$f":"'EstExp 12-20'!G51","v":1000},-155]
[846,{"$f":"'EstExp 12-20'!G52","v":0},846]
[847,{"$f":"'EstExp 12-20'!G55","v":1000},-153]
[848,{"$f":"'EstExp 12-20'!G57","v":0},848]
[849,{"$f":"'EstExp 12-20'!G58","v":0},849]
[850,{"$f":"'EstExp 12-20'!G59","v":0},850]
[851,{"$f":"'EstExp 12-20'!G61","v":0},851]
[852,{"$f":"'EstExp 12-20'!G62","v":1200},-348]
[853,{"$f":"'EstExp 12-20'!G63","v":0},853]
[854,{"$f":"'EstExp 12-20'!G64","v":0},854]
[855,{"$f":"'EstExp 12-20'!G65","v":100000},-99145]
[856,{"$f":"'EstExp 12-20'!G66","v":0},856]
[857]
[858,{"$f":"'EstExp 12-20'!G67","v":101200},-100342]
[859,{"$f":"'EstExp 12-20'!G69","v":0},859]
[860,{"$f":"'EstExp 12-20'!G70","v":0},860]
[861,{"$f":"'EstExp 12-20'!G71","v":0},861]
[862,{"$f":"'EstExp 12-20'!G72","v":0},862]
[863]
[864,{"$f":"'EstExp 12-20'!G73","v":0},864]
[865]
[866,{"$f":"'EstExp 12-20'!G74","v":0},866]
[867,{"$f":"'EstExp 12-20'!G75","v":0},867]
[868,{"$f":"'EstExp 12-20'!G76","v":103325},-102457]
[869,{"$f":"'EstExp 12-20'!G77","v":0},869]
[870,{"$f":"'EstExp 12-20'!G116","v":159425},-158555]
[871]
[872]
[873]
[874]
[875]
[876,{"$f":"'EstExp 12-20'!H5","v":20000},-19124]
[877,{"$f":"'EstExp 12-20'!H16","v":0},877]
[878]
[879]
[880]
[881]
[882]
[883,{"$f":"'EstExp 12-20'!H18","v":0},883]
[884]
[885]
[886]
[887,{"$f":"'EstExp 12-20'!H12","v":0},887]
[888,{"$f":"'EstExp 12-20'!H13","v":0},888]
[889,{"$f":"'EstExp 12-20'!H14","v":0},889]
[890,{"$f":"'EstExp 12-20'!H15","v":0},890]
[891,{"$f":"'EstExp 12-20'!H34","v":36000},-35109]
[892,{"$f":"'EstExp 12-20'!H38","v":0},892]
[893,{"$f":"'EstExp 12-20'!H39","v":0},893]
[894,{"$f":"'EstExp 12-20'!H40","v":0},894]
[895,{"$f":"'EstExp 12-20'!H41","v":0},895]
[896,{"$f":"'EstExp 12-20'!H42","v":0},896]
[897,{"$f":"'EstExp 12-20'!H43","v":0},897]
[898,{"$f":"'EstExp 12-20'!H44","v":0},898]
[899,{"$f":"'EstExp 12-20'!H46","v":0},{"$f":"A904-B904","v":899}]
[900,{"$f":"'EstExp 12-20'!H47","v":0},900]
[901,{"$f":"'EstExp 12-20'!H48","v":0},901]
[902,{"$f":"'EstExp 12-20'!H49","v":0},902]
[903,{"$f":"'EstExp 12-20'!H51","v":0},903]
[904,{"$f":"'EstExp 12-20'!H52","v":0},904]
[905,{"$f":"'EstExp 12-20'!H55","v":0},905]
[906,{"$f":"'EstExp 12-20'!H57","v":0},906]
[907,{"$f":"'EstExp 12-20'!H58","v":0},907]
[908,{"$f":"'EstExp 12-20'!H59","v":0},908]
[909,{"$f":"'EstExp 12-20'!H61","v":0},909]
[910,{"$f":"'EstExp 12-20'!H62","v":0},910]
[911,{"$f":"'EstExp 12-20'!H63","v":0},911]
[912,{"$f":"'EstExp 12-20'!H64","v":0},912]
[913,{"$f":"'EstExp 12-20'!H65","v":0},913]
[914,{"$f":"'EstExp 12-20'!H66","v":0},914]
[915]
[916,{"$f":"'EstExp 12-20'!H67","v":0},916]
[917,{"$f":"'EstExp 12-20'!H69","v":0},917]
[918,{"$f":"'EstExp 12-20'!H70","v":0},918]
[919,{"$f":"'EstExp 12-20'!H71","v":0},919]
[920,{"$f":"'EstExp 12-20'!H72","v":0},920]
[921]
[922,{"$f":"'EstExp 12-20'!H73","v":0},922]
[923]
[924,{"$f":"'EstExp 12-20'!H74","v":0},924]
[925,{"$f":"'EstExp 12-20'!H75","v":0},925]
[926,{"$f":"'EstExp 12-20'!H76","v":0},926]
[927,{"$f":"'EstExp 12-20'!H77","v":0},927]
[928,{"$f":"'EstExp 12-20'!H116","v":36000},-35072]
[929]
[930]
[931]
[932]
[933]
[934,{"$f":"'EstExp 12-20'!I5","v":0},934]
[935,{"$f":"'EstExp 12-20'!I16","v":0},935]
[936]
[937]
[938]
[939]
[940]
[941,{"$f":"'EstExp 12-20'!I18","v":0},941]
[942]
[943]
[944]
[945,{"$f":"'EstExp 12-20'!I12","v":0},945]
[946,{"$f":"'EstExp 12-20'!I13","v":0},946]
[947,{"$f":"'EstExp 12-20'!I14","v":0},947]
[948,{"$f":"'EstExp 12-20'!I15","v":0},948]
[949,{"$f":"'EstExp 12-20'!I34","v":0},949]
[950,{"$f":"'EstExp 12-20'!I38","v":0},950]
[951,{"$f":"'EstExp 12-20'!I39","v":0},951]
[952,{"$f":"'EstExp 12-20'!I40","v":0},952]
[953,{"$f":"'EstExp 12-20'!I41","v":0},953]
[954,{"$f":"'EstExp 12-20'!I42","v":0},954]
[955,{"$f":"'EstExp 12-20'!I43","v":0},955]
[956,{"$f":"'EstExp 12-20'!I44","v":0},956]
[957,{"$f":"'EstExp 12-20'!I46","v":0},957]
[958,{"$f":"'EstExp 12-20'!I47","v":0},958]
[959,{"$f":"'EstExp 12-20'!I48","v":0},959]
[960,{"$f":"'EstExp 12-20'!I49","v":0},960]
[961,{"$f":"'EstExp 12-20'!I51","v":0},961]
[962,{"$f":"'EstExp 12-20'!I52","v":0},962]
[963,{"$f":"'EstExp 12-20'!I55","v":0},{"$f":"A968-B968","v":963}]
[964,{"$f":"'EstExp 12-20'!I57","v":0},964]
[965,{"$f":"'EstExp 12-20'!I58","v":0},965]
[966,{"$f":"'EstExp 12-20'!I59","v":0},966]
[967,{"$f":"'EstExp 12-20'!I61","v":0},967]
[968,{"$f":"'EstExp 12-20'!I62","v":0},968]
[969,{"$f":"'EstExp 12-20'!I63","v":0},969]
[970,{"$f":"'EstExp 12-20'!I64","v":0},970]
[971,{"$f":"'EstExp 12-20'!I65","v":0},971]
[972,{"$f":"'EstExp 12-20'!I66","v":0},972]
[973]
[974,{"$f":"'EstExp 12-20'!I67","v":0},974]
[975,{"$f":"'EstExp 12-20'!I69","v":0},975]
[976,{"$f":"'EstExp 12-20'!I70","v":0},976]
[977,{"$f":"'EstExp 12-20'!I71","v":0},977]
[978,{"$f":"'EstExp 12-20'!I72","v":0},978]
[979]
[980,{"$f":"'EstExp 12-20'!I73","v":0},980]
[981]
[982,{"$f":"'EstExp 12-20'!I74","v":0},982]
[983,{"$f":"'EstExp 12-20'!I75","v":0},983]
[984,{"$f":"'EstExp 12-20'!I76","v":0},984]
[985,{"$f":"'EstExp 12-20'!I77","v":0},985]
[986,{"$f":"'EstExp 12-20'!I104","v":85000},-84014]
[987,{"$f":"'EstExp 12-20'!I107","v":0},987]
[988,{"$f":"'EstExp 12-20'!I108","v":0},988]
[989,null,null,"Closed 2008"]
[990,{"$f":"'EstExp 12-20'!I111","v":0},990]
[991]
[992,{"$f":"'EstExp 12-20'!I114","v":0},992]
[993,{"$f":"'EstExp 12-20'!I116","v":85000},-84007]
[994]
[995,null,null,"Closed 2008"]
[996,null,null,"Closed 2008"]
[997]
[998]
[999]
[1000]
[1001]
[1002,null,null,"Closed 2008"]
[1003,null,null,"Closed 2008"]
[1004]
[1005]
[1006]
[1007]
[1008]
[1009,null,null,"Closed 2008"]
[1010]
[1011]
[1012]
[1013,null,null,"Closed 2008"]
[1014,null,null,"Closed 2008"]
[1015,null,null,"Closed 2008"]
[1016,null,null,"Closed 2008"]
[1017,null,null,"Closed 2008"]
[1018]
[1019]
[1020]
[1021]
[1022]
[1023]
[1024]
[1025,null,null,"Closed 2008"]
[1026,null,null,"Closed 2008"]
[1027]
[1028]
[1029]
[1030]
[1031]
[1032,{"$f":"'EstExp 12-20'!L5","v":1210000},{"$f":"A1037-B1037","v":-1208968}]
[1033,{"$f":"'EstExp 12-20'!L16","v":0},1033]
[1034]
[1035]
[1036]
[1037]
[1038]
[1039,{"$f":"'EstExp 12-20'!L18","v":0},1039]
[1040]
[1041]
[1042]
[1043,{"$f":"'EstExp 12-20'!L12","v":0},1043]
[1044,{"$f":"'EstExp 12-20'!L13","v":7000},-5956]
[1045,{"$f":"'EstExp 12-20'!L14","v":21200},-20155]
[1046,{"$f":"'EstExp 12-20'!L15","v":0},1046]
[1047,{"$f":"'EstExp 12-20'!L34","v":1592100},-1591053]
[1048,{"$f":"'EstExp 12-20'!L38","v":35500},-34452]
[1049,{"$f":"'EstExp 12-20'!L39","v":37440},-36391]
[1050,{"$f":"'EstExp 12-20'!L40","v":625},425]
[1051,{"$f":"'EstExp 12-20'!L41","v":40000},-38949]
[1052,{"$f":"'EstExp 12-20'!L42","v":37000},-35948]
[1053,{"$f":"'EstExp 12-20'!L43","v":0},1053]
[1054,{"$f":"'EstExp 12-20'!L44","v":150565},-149511]
[1055,{"$f":"'EstExp 12-20'!L46","v":15000},-13945]
[1056,{"$f":"'EstExp 12-20'!L47","v":40000},-38944]
[1057,{"$f":"'EstExp 12-20'!L48","v":0},1057]
[1058,{"$f":"'EstExp 12-20'!L49","v":55000},-53942]
[1059,{"$f":"'EstExp 12-20'!L51","v":6000},-4941]
[1060,{"$f":"'EstExp 12-20'!L52","v":180600},-179540]
[1061,{"$f":"'EstExp 12-20'!L55","v":186600},-185539]
[1062,{"$f":"'EstExp 12-20'!L57","v":129500},-128438]
[1063,{"$f":"'EstExp 12-20'!L58","v":0},1063]
[1064,{"$f":"'EstExp 12-20'!L59","v":129500},-128436]
[1065,{"$f":"'EstExp 12-20'!L61","v":0},1065]
[1066,{"$f":"'EstExp 12-20'!L62","v":100300},-99234]
[1067,{"$f":"'EstExp 12-20'!L63","v":0},1067]
[1068,{"$f":"'EstExp 12-20'!L64","v":0},1068]
[1069,{"$f":"'EstExp 12-20'!L65","v":169500},-168431]
[1070,{"$f":"'EstExp 12-20'!L66","v":0},1070]
[1071]
[1072,{"$f":"'EstExp 12-20'!L67","v":269800},-268728]
[1073,{"$f":"'EstExp 12-20'!L69","v":0},1073]
[1074,{"$f":"'EstExp 12-20'!L70","v":0},1074]
[1075,{"$f":"'EstExp 12-20'!L71","v":0},1075]
[1076,{"$f":"'EstExp 12-20'!L72","v":0},1076]
[1077]
[1078,{"$f":"'EstExp 12-20'!L73","v":0},1078]
[1079]
[1080,{"$f":"'EstExp 12-20'!L74","v":0},1080]
[1081,{"$f":"'EstExp 12-20'!L75","v":0},1081]
[1082,{"$f":"'EstExp 12-20'!L76","v":791465},-790383]
[1083,{"$f":"'EstExp 12-20'!L77","v":0},1083]
[1084,{"$f":"'EstExp 12-20'!L104","v":120000},-118916]
[1085,{"$f":"'EstExp 12-20'!L107","v":0},1085]
[1086,{"$f":"'EstExp 12-20'!L108","v":0},1086]
[1087,null,null,"Closed 2008"]
[1088,{"$f":"'EstExp 12-20'!L111","v":0},1088]
[1089]
[1090,{"$f":"'EstExp 12-20'!L114","v":0},1090]
[1091,{"$f":"'EstExp 12-20'!L116","v":2503565},{"$f":"A1096-B1096","v":-2502474}]
[1092,{"$f":"'EstExp 12-20'!L118","v":78441},-77349]
[1093]
[1094]
[1095]
[1096]
[1097]
[1098]
[1099]
[1100]
[1101]
[1102]
[1103]
[1104]
[1105]
[1106]
[1107]
[1108]
[1109]
[1110]
[1111]
[1112]
[1113]
[1114]
[1115]
[1116]
[1117]
[1118]
[1119]
[1120]
[1121]
[1122]
[1123]
[1124]
[1125]
[1126]
[1127]
[1128]
[1129]
[1130]
[1131]
[1132]
[1133]
[1134]
[1135]
[1136]
[1137]
[1138]
[1139]
[1140]
[1141]
[1142]
[1143]
[1144]
[1145]
[1146]
[1147]
[1148]
[1149]
[1150]
[1151]
[1152]
[1153]
[1154]
[1155]
[1156]
[1157]
[1158,{"$f":"'EstExp 12-20'!D126","v":0},{"$f":"A1163-B1163","v":1158}]
[1159,{"$f":"'EstExp 12-20'!D127","v":0},1159]
[1160,{"$f":"'EstExp 12-20'!D128","v":115000},-113840]
[1161]
[1162,{"$f":"'EstExp 12-20'!D131","v":115000},-113838]
[1163,{"$f":"'EstExp 12-20'!D132","v":0},1163]
[1164,{"$f":"'EstExp 12-20'!D133","v":115000},-113836]
[1165,{"$f":"'EstExp 12-20'!D155","v":115000},-113835]
[1166,{"$f":"'EstExp 12-20'!E126","v":0},1166]
[1167,{"$f":"'EstExp 12-20'!E127","v":0},1167]
[1168,{"$f":"'EstExp 12-20'!E128","v":8000},-6832]
[1169]
[1170,{"$f":"'EstExp 12-20'!E131","v":8000},-6830]
[1171,{"$f":"'EstExp 12-20'!E132","v":0},1171]
[1172,{"$f":"'EstExp 12-20'!E133","v":8000},-6828]
[1173,{"$f":"'EstExp 12-20'!E155","v":8000},-6827]
[1174,{"$f":"'EstExp 12-20'!F126","v":0},1174]
[1175,{"$f":"'EstExp 12-20'!F127","v":0},1175]
[1176,{"$f":"'EstExp 12-20'!F128","v":175000},-173824]
[1177]
[1178,{"$f":"'EstExp 12-20'!F131","v":175000},-173822]
[1179,{"$f":"'EstExp 12-20'!F132","v":0},1179]
[1180,{"$f":"'EstExp 12-20'!F133","v":175000},-173820]
[1181,{"$f":"'EstExp 12-20'!F155","v":175000},-173819]
[1182,{"$f":"'EstExp 12-20'!G126","v":0},1182]
[1183,{"$f":"'EstExp 12-20'!G127","v":0},1183]
[1184,{"$f":"'EstExp 12-20'!G128","v":60000},-58816]
[1185]
[1186,{"$f":"'EstExp 12-20'!G131","v":60000},-58814]
[1187,{"$f":"'EstExp 12-20'!G132","v":0},1187]
[1188,{"$f":"'EstExp 12-20'!G133","v":60000},-58812]
[1189,{"$f":"'EstExp 12-20'!G155","v":60000},-58811]
[1190,{"$f":"'EstExp 12-20'!H126","v":0},1190]
[1191,{"$f":"'EstExp 12-20'!H127","v":405000},-403809]
[1192,{"$f":"'EstExp 12-20'!H128","v":159000},-157808]
[1193,{"$f":"'EstExp 12-20'!H130","v":0},1193]
[1194]
[1195,{"$f":"'EstExp 12-20'!H131","v":564000},-562805]
[1196,{"$f":"'EstExp 12-20'!H132","v":0},1196]
[1197,{"$f":"'EstExp 12-20'!H133","v":564000},-562803]
[1198,{"$f":"'EstExp 12-20'!H155","v":564000},-562802]
[1199,{"$f":"'EstExp 12-20'!I126","v":0},1199]
[1200,{"$f":"'EstExp 12-20'!I127","v":0},1200]
[1201,{"$f":"'EstExp 12-20'!I128","v":0},1201]
[1202]
[1203,{"$f":"'EstExp 12-20'!I131","v":0},1203]
[1204,{"$f":"'EstExp 12-20'!I132","v":0},1204]
[1205,{"$f":"'EstExp 12-20'!I133","v":0},1205]
[1206,{"$f":"'EstExp 12-20'!I143","v":0},1206]
[1207,{"$f":"'EstExp 12-20'!I146","v":0},1207]
[1208,{"$f":"'EstExp 12-20'!I147","v":0},1208]
[1209,{"$f":"'EstExp 12-20'!I150","v":0},1209]
[1210]
[1211,{"$f":"'EstExp 12-20'!I153","v":0},1211]
[1212,{"$f":"'EstExp 12-20'!I155","v":0},1212]
[1213,{"$f":"'EstExp 12-20'!L126","v":0},1213]
[1214,{"$f":"'EstExp 12-20'!L127","v":405000},-403786]
[1215,{"$f":"'EstExp 12-20'!L128","v":517000},-515785]
[1216,{"$f":"'EstExp 12-20'!L130","v":0},1216]
[1217]
[1218,{"$f":"'EstExp 12-20'!L131","v":922000},-920782]
[1219,{"$f":"'EstExp 12-20'!L132","v":0},{"$f":"A1224-B1224","v":1219}]
[1220,{"$f":"'EstExp 12-20'!L133","v":922000},-920780]
[1221,{"$f":"'EstExp 12-20'!L143","v":0},1221]
[1222,{"$f":"'EstExp 12-20'!L146","v":0},1222]
[1223,{"$f":"'EstExp 12-20'!L147","v":0},1223]
[1224,{"$f":"'EstExp 12-20'!L150","v":0},1224]
[1225]
[1226,{"$f":"'EstExp 12-20'!L153","v":0},1226]
[1227,{"$f":"'EstExp 12-20'!L155","v":922000},-920773]
[1228,{"$f":"'EstExp 12-20'!L156","v":-369923},371151]
[1229]
[1230]
[1231]
[1232]
[1233]
[1234]
[1235]
[1236]
[1237]
[1238]
[1239]
[1240]
[1241]
[1242]
[1243]
[1244]
[1245]
[1246,{"$f":"'EstExp 12-20'!F175","v":0},1246]
[1247,{"$f":"'EstExp 12-20'!F176","v":0},1247]
[1248,{"$f":"'EstExp 12-20'!F178","v":0},1248]
[1249,{"$f":"'EstExp 12-20'!I167","v":0},1249]
[1250,{"$f":"'EstExp 12-20'!I168","v":0},1250]
[1251,{"$f":"'EstExp 12-20'!I173","v":73814},-72563]
[1252,{"$f":"'EstExp 12-20'!I171","v":0},1252]
[1253,{"$f":"'EstExp 12-20'!I172","v":0},1253]
[1254,{"$f":"'EstExp 12-20'!I174","v":263000},-261746]
[1255,{"$f":"'EstExp 12-20'!I175","v":0},1255]
[1256,{"$f":"'EstExp 12-20'!I176","v":336814},-335558]
[1257,{"$f":"'EstExp 12-20'!I178","v":336814},-335557]
[1258,null,null,"Closed 2008"]
[1259,null,null,"Closed 2008"]
[1260,null,null,"Closed 2008"]
[1261,null,null,"Closed 2008"]
[1262,null,null,"Closed   "]
[1263,{"$f":"'EstExp 12-20'!L167","v":0},1263]
[1264,{"$f":"'EstExp 12-20'!L168","v":0},1264]
[1265,{"$f":"'EstExp 12-20'!L173","v":73814},-72549]
[1266,{"$f":"'EstExp 12-20'!L171","v":0},1266]
[1267,{"$f":"'EstExp 12-20'!L172","v":0},1267]
[1268,{"$f":"'EstExp 12-20'!L174","v":263000},-261732]
[1269,{"$f":"'EstExp 12-20'!L175","v":0},1269]
[1270,{"$f":"'EstExp 12-20'!L176","v":336814},-335544]
[1271,{"$f":"'EstExp 12-20'!L178","v":336814},-335543]
[1272,{"$f":"'EstExp 12-20'!L179","v":5367},-4095]
[1273]
[1274,{"$f":"'EstExp 12-20'!D186","v":120000},-118726]
[1275]
[1276]
[1277,{"$f":"'EstExp 12-20'!D187","v":0},1277]
[1278,{"$f":"'EstExp 12-20'!D188","v":120000},-118722]
[1279,{"$f":"'EstExp 12-20'!D214","v":120000},-118721]
[1280,{"$f":"'EstExp 12-20'!E186","v":4500},-3220]
[1281]
[1282]
[1283,{"$f":"'EstExp 12-20'!E187","v":0},{"$f":"A1288-B1288","v":1283}]
[1284,{"$f":"'EstExp 12-20'!E188","v":4500},-3216]
[1285,{"$f":"'EstExp 12-20'!E214","v":4500},-3215]
[1286,{"$f":"'EstExp 12-20'!F186","v":117000},-115714]
[1287]
[1288]
[1289,{"$f":"'EstExp 12-20'!F187","v":0},1289]
[1290,{"$f":"'EstExp 12-20'!F188","v":117000},-115710]
[1291,{"$f":"'EstExp 12-20'!F200","v":0},1291]
[1292,{"$f":"'EstExp 12-20'!F214","v":117000},-115708]
[1293,{"$f":"'EstExp 12-20'!G186","v":27000},-25707]
[1294]
[1295]
[1296,{"$f":"'EstExp 12-20'!G187","v":0},1296]
[1297,{"$f":"'EstExp 12-20'!G188","v":27000},-25703]
[1298,{"$f":"'EstExp 12-20'!G214","v":27000},-25702]
[1299,{"$f":"'EstExp 12-20'!H186","v":0},1299]
[1300]
[1301]
[1302,{"$f":"'EstExp 12-20'!H187","v":0},1302]
[1303,{"$f":"'EstExp 12-20'!H188","v":0},1303]
[1304,{"$f":"'EstExp 12-20'!H214","v":0},1304]
[1305,{"$f":"'EstExp 12-20'!I186","v":0},1305]
[1306]
[1307]
[1308,{"$f":"'EstExp 12-20'!I187","v":0},1308]
[1309,{"$f":"'EstExp 12-20'!I188","v":0},1309]
[1310,{"$f":"'EstExp 12-20'!I203","v":0},1310]
[1311,{"$f":"'EstExp 12-20'!I204","v":0},1311]
[1312,{"$f":"'EstExp 12-20'!I207","v":0},1312]
[1313]
[1314,{"$f":"'EstExp 12-20'!I212","v":0},1314]
[1315,{"$f":"'EstExp 12-20'!I214","v":0},1315]
[1316,{"$f":"'EstExp 12-20'!L186","v":268500},-267184]
[1317]
[1318]
[1319,{"$f":"'EstExp 12-20'!L187","v":0},1319]
[1320,{"$f":"'EstExp 12-20'!L188","v":268500},-267180]
[1321,{"$f":"'EstExp 12-20'!L200","v":0},1321]
[1322,{"$f":"'EstExp 12-20'!L203","v":0},1322]
[1323,{"$f":"'EstExp 12-20'!L204","v":0},1323]
[1324,{"$f":"'EstExp 12-20'!L207","v":0},1324]
[1325]
[1326,{"$f":"'EstExp 12-20'!L212","v":0},1326]
[1327,{"$f":"'EstExp 12-20'!L214","v":268500},-267173]
[1328,{"$f":"'EstExp 12-20'!L215","v":269},1059]
[1329]
[1330]
[1331]
[1332]
[1333]
[1334]
[1335,{"$f":"'EstExp 12-20'!E229","v":0},1335]
[1336]
[1337]
[1338]
[1339]
[1340]
[1341,{"$f":"'EstExp 12-20'!E231","v":0},1341]
[1342]
[1343]
[1344]
[1345,{"$f":"'EstExp 12-20'!E225","v":0},1345]
[1346,{"$f":"'EstExp 12-20'!E226","v":0},1346]
[1347,{"$f":"'EstExp 12-20'!E227","v":150},{"$f":"A1352-B1352","v":1197}]
[1348,{"$f":"'EstExp 12-20'!E228","v":0},1348]
[1349,{"$f":"'EstExp 12-20'!E233","v":24600},-23251]
[1350,{"$f":"'EstExp 12-20'!E236","v":0},1350]
[1351,{"$f":"'EstExp 12-20'!E237","v":400},951]
[1352,{"$f":"'EstExp 12-20'!E238","v":0},1352]
[1353,{"$f":"'EstExp 12-20'!E239","v":0},1353]
[1354,{"$f":"'EstExp 12-20'!E240","v":550},804]
[1355,{"$f":"'EstExp 12-20'!E241","v":0},1355]
[1356,{"$f":"'EstExp 12-20'!E242","v":950},406]
[1357,{"$f":"'EstExp 12-20'!E244","v":0},1357]
[1358,{"$f":"'EstExp 12-20'!E245","v":0},1358]
[1359,{"$f":"'EstExp 12-20'!E246","v":0},1359]
[1360,{"$f":"'EstExp 12-20'!E247","v":0},1360]
[1361,{"$f":"'EstExp 12-20'!E249","v":0},1361]
[1362,{"$f":"'EstExp 12-20'!E250","v":3000},-1638]
[1363,{"$f":"'EstExp 12-20'!E254","v":3000},-1637]
[1364,{"$f":"'EstExp 12-20'!E256","v":7500},-6136]
[1365,{"$f":"'EstExp 12-20'!E257","v":0},1365]
[1366,{"$f":"'EstExp 12-20'!E258","v":7500},-6134]
[1367,{"$f":"'EstExp 12-20'!E260","v":0},1367]
[1368,{"$f":"'EstExp 12-20'!E261","v":9000},-7632]
[1369,{"$f":"'EstExp 12-20'!E262","v":0},1369]
[1370,{"$f":"'EstExp 12-20'!E263","v":14000},-12630]
[1371,{"$f":"'EstExp 12-20'!E264","v":17000},-15629]
[1372,{"$f":"'EstExp 12-20'!E265","v":10000},-8628]
[1373,{"$f":"'EstExp 12-20'!E266","v":0},1373]
[1374]
[1375,{"$f":"'EstExp 12-20'!E267","v":50000},-48625]
[1376,{"$f":"'EstExp 12-20'!E269","v":0},1376]
[1377,{"$f":"'EstExp 12-20'!E270","v":0},1377]
[1378,{"$f":"'EstExp 12-20'!E271","v":0},1378]
[1379,{"$f":"'EstExp 12-20'!E272","v":0},1379]
[1380]
[1381,{"$f":"'EstExp 12-20'!E273","v":0},1381]
[1382]
[1383,{"$f":"'EstExp 12-20'!E274","v":0},1383]
[1384,{"$f":"'EstExp 12-20'!E275","v":0},1384]
[1385,{"$f":"'EstExp 12-20'!E276","v":61450},-60065]
[1386,{"$f":"'EstExp 12-20'!E277","v":0},1386]
[1387,{"$f":"'EstExp 12-20'!E292","v":86050},-84663]
[1388,{"$f":"'EstExp 12-20'!I285","v":0},1388]
[1389,{"$f":"'EstExp 12-20'!I286","v":0},1389]
[1390,{"$f":"'EstExp 12-20'!I289","v":0},1390]
[1391,{"$f":"'EstExp 12-20'!I290","v":0},1391]
[1392]
[1393,{"$f":"'EstExp 12-20'!I292","v":0},1393]
[1394]
[1395]
[1396]
[1397]
[1398]
[1399,{"$f":"'EstExp 12-20'!L229","v":0},1399]
[1400]
[1401]
[1402]
[1403]
[1404]
[1405,{"$f":"'EstExp 12-20'!L231","v":0},1405]
[1406]
[1407]
[1408]
[1409,{"$f":"'EstExp 12-20'!L225","v":0},1409]
[1410,{"$f":"'EstExp 12-20'!L226","v":0},1410]
[1411,{"$f":"'EstExp 12-20'!L227","v":150},{"$f":"A1416-B1416","v":1261}]
[1412,{"$f":"'EstExp 12-20'!L228","v":0},1412]
[1413,{"$f":"'EstExp 12-20'!L233","v":24600},-23187]
[1414,{"$f":"'EstExp 12-20'!L236","v":0},1414]
[1415,{"$f":"'EstExp 12-20'!L237","v":400},1015]
[1416,{"$f":"'EstExp 12-20'!L238","v":0},1416]
[1417,{"$f":"'EstExp 12-20'!L239","v":0},1417]
[1418,{"$f":"'EstExp 12-20'!L240","v":550},868]
[1419,{"$f":"'EstExp 12-20'!L241","v":0},1419]
[1420,{"$f":"'EstExp 12-20'!L242","v":950},470]
[1421,{"$f":"'EstExp 12-20'!L244","v":0},1421]
[1422,{"$f":"'EstExp 12-20'!L245","v":0},1422]
[1423,{"$f":"'EstExp 12-20'!L246","v":0},1423]
[1424,{"$f":"'EstExp 12-20'!L247","v":0},1424]
[1425,{"$f":"'EstExp 12-20'!L249","v":0},1425]
[1426,{"$f":"'EstExp 12-20'!L250","v":3000},-1574]
[1427,{"$f":"'EstExp 12-20'!L254","v":3000},-1573]
[1428,{"$f":"'EstExp 12-20'!L256","v":7500},-6072]
[1429,{"$f":"'EstExp 12-20'!L257","v":0},1429]
[1430,{"$f":"'EstExp 12-20'!L258","v":7500},-6070]
[1431,{"$f":"'EstExp 12-20'!L260","v":0},1431]
[1432,{"$f":"'EstExp 12-20'!L261","v":9000},-7568]
[1433,{"$f":"'EstExp 12-20'!L262","v":0},1433]
[1434,{"$f":"'EstExp 12-20'!L263","v":14000},-12566]
[1435,{"$f":"'EstExp 12-20'!L264","v":17000},-15565]
[1436,{"$f":"'EstExp 12-20'!L265","v":10000},-8564]
[1437,{"$f":"'EstExp 12-20'!L266","v":0},1437]
[1438]
[1439,{"$f":"'EstExp 12-20'!L267","v":50000},-48561]
[1440,{"$f":"'EstExp 12-20'!L269","v":0},1440]
[1441,{"$f":"'EstExp 12-20'!L270","v":0},1441]
[1442,{"$f":"'EstExp 12-20'!L271","v":0},1442]
[1443,{"$f":"'EstExp 12-20'!L272","v":0},1443]
[1444]
[1445,{"$f":"'EstExp 12-20'!L273","v":0},1445]
[1446]
[1447,{"$f":"'EstExp 12-20'!L274","v":0},1447]
[1448,{"$f":"'EstExp 12-20'!L275","v":0},1448]
[1449,{"$f":"'EstExp 12-20'!L276","v":61450},-60001]
[1450,{"$f":"'EstExp 12-20'!L277","v":0},1450]
[1451,{"$f":"'EstExp 12-20'!L285","v":0},1451]
[1452,{"$f":"'EstExp 12-20'!L286","v":0},1452]
[1453,{"$f":"'EstExp 12-20'!L289","v":0},1453]
[1454,{"$f":"'EstExp 12-20'!L290","v":0},1454]
[1455]
[1456,{"$f":"'EstExp 12-20'!L292","v":86050},-84594]
[1457,{"$f":"'EstExp 12-20'!L293","v":50240},-48783]
[1458,{"$f":"'EstExp 12-20'!D298","v":0},1458]
[1459]
[1460]
[1461,{"$f":"'EstExp 12-20'!D299","v":0},1461]
[1462,{"$f":"'EstExp 12-20'!D300","v":0},1462]
[1463,{"$f":"'EstExp 12-20'!D309","v":0},1463]
[1464,{"$f":"'EstExp 12-20'!E298","v":0},1464]
[1465]
[1466]
[1467,{"$f":"'EstExp 12-20'!E299","v":0},1467]
[1468,{"$f":"'EstExp 12-20'!E300","v":0},1468]
[1469,{"$f":"'EstExp 12-20'!E309","v":0},1469]
[1470,{"$f":"'EstExp 12-20'!F298","v":0},1470]
[1471]
[1472]
[1473,{"$f":"'EstExp 12-20'!F299","v":0},1473]
[1474,{"$f":"'EstExp 12-20'!F300","v":0},1474]
[1475,{"$f":"'EstExp 12-20'!F309","v":0},{"$f":"A1480-B1480","v":1475}]
[1476,{"$f":"'EstExp 12-20'!G298","v":0},1476]
[1477]
[1478]
[1479,{"$f":"'EstExp 12-20'!G299","v":0},1479]
[1480,{"$f":"'EstExp 12-20'!G300","v":0},1480]
[1481,{"$f":"'EstExp 12-20'!G309","v":0},1481]
[1482,{"$f":"'EstExp 12-20'!H298","v":0},1482]
[1483]
[1484]
[1485,{"$f":"'EstExp 12-20'!H299","v":0},1485]
[1486,{"$f":"'EstExp 12-20'!H300","v":0},1486]
[1487,{"$f":"'EstExp 12-20'!H309","v":0},1487]
[1488,{"$f":"'EstExp 12-20'!I298","v":0},1488]
[1489]
[1490]
[1491,{"$f":"'EstExp 12-20'!I299","v":0},1491]
[1492,{"$f":"'EstExp 12-20'!I300","v":0},1492]
[1493,{"$f":"'EstExp 12-20'!I309","v":0},1493]
[1494,{"$f":"'EstExp 12-20'!L298","v":0},1494]
[1495]
[1496]
[1497,{"$f":"'EstExp 12-20'!L299","v":0},1497]
[1498,{"$f":"'EstExp 12-20'!L300","v":0},1498]
[1499,{"$f":"'EstExp 12-20'!L309","v":0},1499]
[1500,{"$f":"'EstExp 12-20'!L310","v":14450},-12950]
[1501]
[1502]
[1503]
[1504]
[1505]
[1506]
[1507,null,null,"Closed 2008"]
[1508,null,null,"Closed 2008"]
[1509,null,null,"Closed 2008"]
[1510,null,null,"Closed 2008"]
[1511,null,null,"Closed 2008"]
[1512,null,null,"Closed 2008"]
[1513,null,null,"Closed 2008"]
[1514,null,null,"Closed 2008"]
[1515,null,null,"Closed 2008"]
[1516,null,null,"Closed 2008"]
[1517]
[1518]
[1519]
[1520]
[1521]
[1522]
[1523]
[1524]
[1525]
[1526]
[1527]
[1528]
[1529]
[1530]
[1531]
[1532]
[1533]
[1534]
[1535]
[1536]
[1537]
[1538]
[1539]
[1540]
[1541]
[1542]
[1543]
[1544]
[1545]
[1546]
[1547]
[1548]
[1549]
[1550]
[1551]
[1552]
[1553]
[1554]
[1555]
[1556,{"$f":"'BudgetSum 2-4'!C3","v":1428677},{"$f":"A1561-B1561","v":-1427121}]
[1557]
[1558]
[1559]
[1560]
[1561]
[1562]
[1563]
[1564]
[1565]
[1566]
[1567]
[1568]
[1569,{"$f":"'BudgetSum 2-4'!C81","v":1507118},-1505549]
[1570,{"$f":"'BudgetSum 2-4'!D3","v":516691},-515121]
[1571]
[1572]
[1573]
[1574]
[1575]
[1576]
[1577]
[1578]
[1579]
[1580]
[1581]
[1582]
[1583,{"$f":"'BudgetSum 2-4'!D81","v":146768},-145185]
[1584,{"$f":"'BudgetSum 2-4'!E3","v":25082},-23498]
[1585]
[1586]
[1587]
[1588]
[1589]
[1590]
[1591]
[1592]
[1593]
[1594]
[1595]
[1596]
[1597,{"$f":"'BudgetSum 2-4'!E81","v":30449},-28852]
[1598,{"$f":"'BudgetSum 2-4'!F3","v":74352},-72754]
[1599]
[1600]
[1601]
[1602]
[1603]
[1604]
[1605]
[1606]
[1607]
[1608]
[1609]
[1610]
[1611,{"$f":"'BudgetSum 2-4'!F81","v":74621},{"$f":"A1616-B1616","v":-73010}]
[1612,{"$f":"'BudgetSum 2-4'!G3","v":31103},-29491]
[1613]
[1614]
[1615]
[1616]
[1617]
[1618]
[1619]
[1620]
[1621]
[1622]
[1623]
[1624]
[1625,{"$f":"'BudgetSum 2-4'!G81","v":81343},-79718]
[1626,{"$f":"'BudgetSum 2-4'!H3","v":93065},-91439]
[1627]
[1628]
[1629]
[1630]
[1631]
[1632]
[1633]
[1634]
[1635]
[1636]
[1637]
[1638]
[1639,{"$f":"'BudgetSum 2-4'!H81","v":107515},-105876]
[1640]
[1641]
[1642]
[1643]
[1644]
[1645]
[1646]
[1647]
[1648]
[1649]
[1650]
[1651]
[1652]
[1653]
[1654,null,null,"Closed 2008"]
[1655]
[1656]
[1657]
[1658]
[1659]
[1660]
[1661]
[1662]
[1663]
[1664]
[1665]
[1666]
[1667,null,null,"Closed 2008"]
[1668]
[1669]
[1670]
[1671]
[1672]
[1673]
[1674]
[1675]
[1676]
[1677]
[1678]
[1679]
[1680]
[1681]
[1682]
[1683]
[1684]
[1685]
[1686]
[1687]
[1688]
[1689]
[1690]
[1691]
[1692]
[1693]
[1694]
[1695]
[1696]
[1697]
[1698]
[1699]
[1700]
[1701]
[1702]
[1703]
[1704]
[1705]
[1706]
[1707]
[1708]
[1709]
[1710]
[1711]
[1712]
[1713]
[1714]
[1715]
[1716]
[1717]
[1718]
[1719]
[1720]
[1721]
[1722]
[1723]
[1724]
[1725]
[1726]
[1727]
[1728]
[1729]
[1730]
[1731]
[1732]
[1733]
[1734]
[1735]
[1736]
[1737]
[1738]
[1739]
[1740]
[1741]
[1742]
[1743]
[1744]
[1745]
[1746]
[1747]
[1748]
[1749]
[1750]
[1751]
[1752]
[1753]
[1754]
[1755]
[1756]
[1757]
[1758]
[1759]
[1760]
[1761]
[1762]
[1763]
[1764]
[1765]
[1766]
[1767]
[1768]
[1769]
[1770]
[1771]
[1772]
[1773]
[1774]
[1775]
[1776]
[1777]
[1778]
[1779]
[1780]
[1781]
[1782]
[1783]
[1784]
[1785]
[1786]
[1787]
[1788]
[1789]
[1790]
[1791]
[1792]
[1793]
[1794]
[1795]
[1796]
[1797]
[1798]
[1799]
[1800]
[1801]
[1802]
[1803]
[1804]
[1805]
[1806]
[1807]
[1808]
[1809]
[1810]
[1811]
[1812]
[1813]
[1814]
[1815]
[1816]
[1817]
[1818]
[1819]
[1820]
[1821]
[1822]
[1823]
[1824]
[1825]
[1826]
[1827]
[1828]
[1829]
[1830]
[1831]
[1832]
[1833]
[1834]
[1835]
[1836]
[1837]
[1838]
[1839]
[1840]
[1841]
[1842]
[1843]
[1844]
[1845]
[1846]
[1847]
[1848]
[1849]
[1850]
[1851]
[1852]
[1853]
[1854]
[1855]
[1856]
[1857]
[1858]
[1859]
[1860]
[1861]
[1862]
[1863]
[1864]
[1865]
[1866]
[1867]
[1868]
[1869]
[1870]
[1871]
[1872]
[1873]
[1874]
[1875]
[1876]
[1877]
[1878]
[1879]
[1880]
[1881]
[1882]
[1883]
[1884]
[1885]
[1886]
[1887]
[1888]
[1889]
[1890]
[1891]
[1892]
[1893]
[1894]
[1895]
[1896]
[1897]
[1898]
[1899]
[1900]
[1901]
[1902]
[1903]
[1904]
[1905]
[1906]
[1907]
[1908]
[1909]
[1910]
[1911]
[1912]
[1913]
[1914]
[1915]
[1916]
[1917]
[1918]
[1919]
[1920]
[1921]
[1922]
[1923]
[1924]
[1925]
[1926]
[1927]
[1928]
[1929]
[1930]
[1931]
[1932]
[1933]
[1934]
[1935]
[1936]
[1937]
[1938]
[1939]
[1940]
[1941]
[1942]
[1943]
[1944]
[1945]
[1946]
[1947]
[1948]
[1949]
[1950]
[1951]
[1952]
[1953]
[1954]
[1955]
[1956]
[1957]
[1958]
[1959]
[1960]
[1961]
[1962]
[1963]
[1964]
[1965]
[1966]
[1967]
[1968]
[1969]
[1970]
[1971]
[1972]
[1973]
[1974]
[1975]
[1976]
[1977]
[1978]
[1979]
[1980]
[1981]
[1982]
[1983]
[1984]
[1985]
[1986]
[1987]
[1988]
[1989]
[1990]
[1991]
[1992]
[1993]
[1994]
[1995]
[1996]
[1997]
[1998]
[1999]
[2000]
[2001]
[2002]
[2003]
[2004]
[2005]
[2006]
[2007]
[2008]
[2009]
[2010]
[2011]
[2012]
[2013]
[2014]
[2015]
[2016,null,null,"Closed 2008"]
[2017,null,null,"Closed 2008"]
[2018]
[2019]
[2020,{"$f":"'EstExp 12-20'!I86","v":50000},{"$f":"A2025-B2025","v":-47980}]
[2021,null,null,"Closed 2008"]
[2022,null,null,"Closed 2008"]
[2023,null,null,"Closed 2008"]
[2024,null,null,"Closed 2008"]
[2025,null,null,"Closed 2008"]
[2026,{"$f":"'EstExp 12-20'!L103","v":0},2026,"to fix link error 2019"]
[2027,{"$f":"'EstExp 12-20'!L86","v":85000},-82973]
[2028,{"$f":"'EstExp 12-20'!L94","v":35000},-32972]
[2029,{"$f":"'EstExp 12-20'!L102","v":0},2029,"to fix link error 2019"]
[2030,{"$f":"'EstExp 12-20'!I141","v":0},2030]
[2031,{"$f":"'EstExp 12-20'!I142","v":0},2031]
[2032,{"$f":"'EstExp 12-20'!L141","v":0},2032]
[2033,{"$f":"'EstExp 12-20'!L142","v":0},2033]
[2034]
[2035]
[2036]
[2037,null,null,"Closed 2008"]
[2038,null,null,"Closed 2008"]
[2039]
[2040,null,null,"Closed 2008"]
[2041,{"$f":"'EstExp 12-20'!L307","v":0},2041]
[2042]
[2043]
[2044,{"$f":"'BudgetSum 2-4'!I50","v":0},2044]
[2045,{"$f":"'BudgetSum 2-4'!I51","v":0},2045]
[2046]
[2047,null,null,"Closed 2008"]
[2048,null,null,"Closed 2008"]
[2049,null,null,"Closed 2008"]
[2050,null,null,"Closed 2008"]
[2051,null,null,"Closed 2008"]
[2052]
[2053,null,null,"Closed 2008"]
[2054]
[2055]
[2056]
[2057]
[2058]
[2059]
[2060]
[2061]
[2062]
[2063]
[2064]
[2065]
[2066]
[2067]
[2068]
[2069]
[2070,null,null,"Closed 2008"]
[2071]
[2072]
[2073]
[2074]
[2075]
[2076]
[2077]
[2078]
[2079]
[2080]
[2081]
[2082]
[2083]
[2084]
[2085]
[2086]
[2087]
[2088]
[2089]
[2090]
[2091]
[2092]
[2093]
[2094]
[2095]
[2096]
[2097]
[2098]
[2099]
[2100]
[2101]
[2102]
[2103]
[2104]
[2105]
[2106]
[2107]
[2108]
[2109]
[2110]
[2111]
[2112]
[2113]
[2114]
[2115]
[2116]
[2117]
[2118]
[2119]
[2120]
[2121]
[2122]
[2123]
[2124]
[2125]
[2126]
[2127]
[2128]
[2129]
[2130]
[2131]
[2132]
[2133]
[2134]
[2135]
[2136]
[2137]
[2138]
[2139]
[2140]
[2141]
[2142]
[2143]
[2144]
[2145]
[2146]
[2147]
[2148]
[2149]
[2150]
[2151]
[2152]
[2153]
[2154]
[2155]
[2156]
[2157]
[2158]
[2159]
[2160]
[2161]
[2162]
[2163]
[2164]
[2165]
[2166]
[2167]
[2168]
[2169]
[2170]
[2171]
[2172]
[2173]
[2174]
[2175]
[2176]
[2177]
[2178]
[2179]
[2180]
[2181]
[2182]
[2183]
[2184]
[2185]
[2186]
[2187]
[2188]
[2189]
[2190]
[2191]
[2192]
[2193]
[2194]
[2195]
[2196]
[2197]
[2198]
[2199]
[2200]
[2201]
[2202]
[2203]
[2204]
[2205]
[2206]
[2207]
[2208]
[2209]
[2210]
[2211]
[2212]
[2213]
[2214]
[2215]
[2216]
[2217]
[2218]
[2219]
[2220]
[2221]
[2222]
[2223]
[2224]
[2225]
[2226]
[2227]
[2228]
[2229]
[2230]
[2231]
[2232]
[2233]
[2234]
[2235]
[2236]
[2237]
[2238]
[2239]
[2240]
[2241]
[2242]
[2243]
[2244]
[2245]
[2246]
[2247]
[2248]
[2249]
[2250]
[2251]
[2252]
[2253]
[2254]
[2255]
[2256]
[2257]
[2258]
[2259]
[2260]
[2261]
[2262]
[2263]
[2264]
[2265]
[2266]
[2267]
[2268]
[2269]
[2270]
[2271]
[2272]
[2273]
[2274]
[2275]
[2276]
[2277]
[2278]
[2279]
[2280]
[2281]
[2282]
[2283]
[2284]
[2285]
[2286]
[2287]
[2288]
[2289]
[2290]
[2291]
[2292]
[2293]
[2294]
[2295]
[2296]
[2297]
[2298]
[2299]
[2300]
[2301]
[2302]
[2303]
[2304]
[2305]
[2306]
[2307]
[2308]
[2309]
[2310]
[2311]
[2312]
[2313]
[2314]
[2315]
[2316]
[2317]
[2318]
[2319]
[2320]
[2321]
[2322]
[2323]
[2324]
[2325]
[2326]
[2327]
[2328]
[2329]
[2330]
[2331]
[2332]
[2333]
[2334]
[2335]
[2336]
[2337]
[2338]
[2339]
[2340]
[2341]
[2342]
[2343]
[2344]
[2345]
[2346]
[2347]
[2348]
[2349]
[2350]
[2351]
[2352]
[2353]
[2354]
[2355]
[2356]
[2357]
[2358]
[2359]
[2360]
[2361]
[2362]
[2363]
[2364]
[2365]
[2366]
[2367]
[2368]
[2369]
[2370]
[2371]
[2372]
[2373,null,null,"Close 2008"]
[2374]
[2375,null,null,"Close 2008"]
[2376]
[2377]
[2378]
[2379]
[2380]
[2381]
[2382]
[2383]
[2384]
[2385]
[2386]
[2387]
[2388]
[2389]
[2390]
[2391]
[2392]
[2393]
[2394]
[2395]
[2396]
[2397]
[2398]
[2399]
[2400]
[2401]
[2402]
[2403]
[2404]
[2405]
[2406]
[2407]
[2408]
[2409]
[2410]
[2411]
[2412]
[2413,null,null,"Close 2008"]
[2414]
[2415,null,null,"Close 2008"]
[2416]
[2417]
[2418]
[2419]
[2420]
[2421]
[2422]
[2423]
[2424]
[2425]
[2426]
[2427]
[2428]
[2429]
[2430]
[2431]
[2432]
[2433]
[2434]
[2435]
[2436]
[2437]
[2438]
[2439]
[2440]
[2441]
[2442,null,null,"Close 2008"]
[2443]
[2444,null,null,"Close 2008"]
[2445]
[2446]
[2447]
[2448]
[2449]
[2450]
[2451]
[2452]
[2453]
[2454]
[2455]
[2456]
[2457]
[2458]
[2459]
[2460]
[2461]
[2462]
[2463]
[2464]
[2465]
[2466]
[2467]
[2468]
[2469]
[2470]
[2471]
[2472]
[2473]
[2474]
[2475]
[2476]
[2477]
[2478]
[2479]
[2480]
[2481]
[2482]
[2483]
[2484]
[2485]
[2486]
[2487]
[2488]
[2489]
[2490,{"$f":"'BudgetSum 2-4'!C5","v":1061251},{"$f":"A2495-B2495","v":-1058761}]
[2491]
[2492,{"$f":"'BudgetSum 2-4'!C7","v":1095600},-1093108]
[2493,{"$f":"'BudgetSum 2-4'!C8","v":425155},-422662]
[2494,{"$f":"'BudgetSum 2-4'!C9","v":2582006},-2579512]
[2495,{"$f":"'BudgetSum 2-4'!C13","v":1592100},-1589605]
[2496,{"$f":"'BudgetSum 2-4'!C14","v":791465},-788969]
[2497,{"$f":"'BudgetSum 2-4'!C15","v":0},2497]
[2498,{"$f":"'BudgetSum 2-4'!C16","v":120000},-117502]
[2499,{"$f":"'BudgetSum 2-4'!C17","v":0},{"$f":"A2504-B2504","v":2499}]
[2500,{"$f":"'BudgetSum 2-4'!C19","v":2503565},-2501065]
[2501,{"$f":"'BudgetSum 2-4'!C22","v":78441},-75940]
[2502]
[2503,{"$f":"'BudgetSum 2-4'!D5","v":226077},-223574]
[2504]
[2505,{"$f":"'BudgetSum 2-4'!D7","v":50000},-47495]
[2506,{"$f":"'BudgetSum 2-4'!D8","v":276000},-273494]
[2507,{"$f":"'BudgetSum 2-4'!D9","v":552077},-549570]
[2508,{"$f":"'BudgetSum 2-4'!D14","v":922000},-919492]
[2509,{"$f":"'BudgetSum 2-4'!D15","v":0},2509]
[2510,{"$f":"'BudgetSum 2-4'!D16","v":0},2510]
[2511,{"$f":"'BudgetSum 2-4'!D17","v":0},2511]
[2512,{"$f":"'BudgetSum 2-4'!D19","v":922000},-919488]
[2513,{"$f":"'BudgetSum 2-4'!D22","v":-369923},372436]
[2514]
[2515]
[2516]
[2517]
[2518]
[2519]
[2520]
[2521]
[2522]
[2523]
[2524]
[2525]
[2526]
[2527]
[2528]
[2529]
[2530,{"$f":"'BudgetSum 2-4'!F5","v":139769},-137239]
[2531]
[2532,{"$f":"'BudgetSum 2-4'!F7","v":129000},-126468]
[2533,{"$f":"'BudgetSum 2-4'!F8","v":0},2533]
[2534,{"$f":"'BudgetSum 2-4'!F9","v":268769},-266235]
[2535,{"$f":"'BudgetSum 2-4'!F14","v":268500},-265965]
[2536,{"$f":"'BudgetSum 2-4'!F15","v":0},2536]
[2537,{"$f":"'BudgetSum 2-4'!F16","v":0},2537]
[2538,{"$f":"'BudgetSum 2-4'!F17","v":0},2538]
[2539,{"$f":"'BudgetSum 2-4'!F19","v":268500},-265961]
[2540,{"$f":"'BudgetSum 2-4'!F22","v":269},2271]
[2541]
[2542,{"$f":"'BudgetSum 2-4'!G5","v":136290},-133748]
[2543,{"$f":"'BudgetSum 2-4'!G7","v":0},2543]
[2544,{"$f":"'BudgetSum 2-4'!G8","v":0},2544]
[2545,{"$f":"'BudgetSum 2-4'!G9","v":136290},-133745]
[2546,{"$f":"'BudgetSum 2-4'!G13","v":24600},-22054]
[2547,{"$f":"'BudgetSum 2-4'!G14","v":61450},-58903]
[2548,{"$f":"'BudgetSum 2-4'!G15","v":0},2548]
[2549]
[2550,{"$f":"'BudgetSum 2-4'!G17","v":0},2550]
[2551,{"$f":"'BudgetSum 2-4'!G19","v":86050},-83499]
[2552,{"$f":"'BudgetSum 2-4'!G22","v":50240},-47688]
[2553]
[2554]
[2555]
[2556]
[2557]
[2558]
[2559]
[2560]
[2561]
[2562]
[2563]
[2564]
[2565]
[2566]
[2567]
[2568]
[2569,{"$f":"'BudgetSum 2-4'!E5","v":342181},{"$f":"A2574-B2574","v":-339612}]
[2570,{"$f":"'BudgetSum 2-4'!E7","v":0},2570]
[2571,{"$f":"'BudgetSum 2-4'!E9","v":342181},-339610]
[2572,{"$f":"'BudgetSum 2-4'!E16","v":0},2572]
[2573,{"$f":"'BudgetSum 2-4'!E17","v":336814},-334241]
[2574,{"$f":"'BudgetSum 2-4'!E19","v":336814},-334240]
[2575,{"$f":"'BudgetSum 2-4'!E22","v":5367},-2792]
[2576]
[2577,null,null,"Closed 2008"]
[2578,null,null,"Closed 2008"]
[2579,null,null,"Closed 2008"]
[2580,null,null,"Closed 2008"]
[2581,null,null,"Closed 2008"]
[2582,null,null,"Closed 2008"]
[2583]
[2584]
[2585]
[2586]
[2587]
[2588]
[2589]
[2590]
[2591]
[2592]
[2593]
[2594,{"$f":"'BudgetSum 2-4'!H5","v":14450},-11856]
[2595,{"$f":"'BudgetSum 2-4'!H7","v":0},2595]
[2596,{"$f":"'BudgetSum 2-4'!H8","v":0},2596]
[2597,{"$f":"'BudgetSum 2-4'!H9","v":14450},-11853]
[2598,{"$f":"'BudgetSum 2-4'!H14","v":0},2598]
[2599,{"$f":"'BudgetSum 2-4'!H16","v":0},2599]
[2600,{"$f":"'BudgetSum 2-4'!H19","v":0},2600]
[2601,{"$f":"'BudgetSum 2-4'!H22","v":14450},-11849]
[2602]
[2603]
[2604]
[2605]
[2606]
[2607]
[2608]
[2609]
[2610]
[2611]
[2612]
[2613]
[2614]
[2615]
[2616]
[2617]
[2618]
[2619]
[2620]
[2621]
[2622]
[2623]
[2624]
[2625]
[2626]
[2627]
[2628]
[2629]
[2630]
[2631]
[2632]
[2633]
[2634]
[2635]
[2636]
[2637]
[2638]
[2639]
[2640]
[2641]
[2642]
[2643]
[2644]
[2645]
[2646]
[2647]
[2648]
[2649]
[2650]
[2651]
[2652]
[2653]
[2654]
[2655]
[2656]
[2657,{"$f":"'EstExp 12-20'!D53","v":0},{"$f":"A2662-B2662","v":2657}]
[2658,{"$f":"'EstExp 12-20'!E53","v":0},2658]
[2659,{"$f":"'EstExp 12-20'!F53","v":0},2659]
[2660,{"$f":"'EstExp 12-20'!G53","v":0},2660]
[2661,{"$f":"'EstExp 12-20'!H53","v":0},2661]
[2662,{"$f":"'EstExp 12-20'!I53","v":0},2662]
[2663,{"$f":"'EstExp 12-20'!L53","v":0},2663]
[2664,{"$f":"'EstExp 12-20'!E251","v":0},2664]
[2665,{"$f":"'EstExp 12-20'!L251","v":0},2665]
[2666]
[2667]
[2668]
[2669]
[2670]
[2671]
[2672]
[2673]
[2674]
[2675]
[2676]
[2677]
[2678]
[2679]
[2680]
[2681]
[2682]
[2683]
[2684]
[2685]
[2686]
[2687]
[2688]
[2689]
[2690]
[2691]
[2692]
[2693]
[2694]
[2695]
[2696,{"$f":"'BudgetSum 2-4'!C30","v":0},{"$f":"A2701-B2701","v":2696}]
[2697,{"$f":"'BudgetSum 2-4'!D30","v":0},2697]
[2698]
[2699,{"$f":"'BudgetSum 2-4'!E30","v":0},2699]
[2700]
[2701,{"$f":"'BudgetSum 2-4'!F28","v":0},2701]
[2702,{"$f":"'BudgetSum 2-4'!F30","v":0},2702]
[2703]
[2704]
[2705,{"$f":"'BudgetSum 2-4'!G30","v":0},2705]
[2706]
[2707]
[2708,{"$f":"'BudgetSum 2-4'!H30","v":0},2708]
[2709]
[2710]
[2711,{"$f":"'BudgetSum 2-4'!I30","v":0},2711]
[2712]
[2713]
[2714]
[2715,null,null,"Closed 2008"]
[2716]
[2717]
[2718]
[2719]
[2720]
[2721]
[2722]
[2723]
[2724]
[2725]
[2726]
[2727]
[2728,{"$f":"'EstExp 12-20'!F86","v":35000},-32272]
[2729,{"$f":"'EstExp 12-20'!F104","v":35000},-32271]
[2730,{"$f":"'EstExp 12-20'!I109","v":0},2730]
[2731,{"$f":"'EstExp 12-20'!I110","v":0},2731]
[2732]
[2733,{"$f":"'BudgetSum 2-4'!C53","v":0},2733]
[2734,{"$f":"'EstExp 12-20'!L109","v":0},2734]
[2735,{"$f":"'EstExp 12-20'!L110","v":0},2735]
[2736,{"$f":"'EstExp 12-20'!D134","v":0},2736]
[2737,{"$f":"'EstExp 12-20'!E134","v":0},2737]
[2738,{"$f":"'EstExp 12-20'!F134","v":0},2738]
[2739,{"$f":"'EstExp 12-20'!G134","v":0},2739]
[2740,{"$f":"'EstExp 12-20'!H134","v":0},2740]
[2741,{"$f":"'EstExp 12-20'!I134","v":0},2741]
[2742]
[2743,null,null,"Closed 2008"]
[2744,{"$f":"'EstExp 12-20'!L134","v":0},2744]
[2745,{"$f":"'BudgetSum 2-4'!D53","v":0},2745]
[2746,{"$f":"'EstExp 12-20'!I148","v":0},2746]
[2747,{"$f":"'EstExp 12-20'!I149","v":0},2747]
[2748,null,null,"Closed 2008"]
[2749,{"$f":"'EstExp 12-20'!L148","v":0},2749]
[2750,{"$f":"'EstExp 12-20'!L149","v":0},2750]
[2751,{"$f":"'EstExp 12-20'!I169","v":0},2751]
[2752,{"$f":"'EstExp 12-20'!I170","v":0},2752]
[2753,null,null,"Closed 2008"]
[2754]
[2755,null,null,"Closed 2008"]
[2756,{"$f":"'BudgetSum 2-4'!E53","v":0},{"$f":"A2761-B2761","v":2756}]
[2757,{"$f":"'EstExp 12-20'!L169","v":0},2757]
[2758,{"$f":"'EstExp 12-20'!L170","v":0},2758]
[2759,{"$f":"'EstExp 12-20'!D189","v":0},2759]
[2760,{"$f":"'EstExp 12-20'!E189","v":0},2760]
[2761,{"$f":"'EstExp 12-20'!F189","v":0},2761]
[2762,{"$f":"'EstExp 12-20'!F198","v":0},2762]
[2763,{"$f":"'EstExp 12-20'!F199","v":0},2763]
[2764,{"$f":"'EstExp 12-20'!G189","v":0},2764]
[2765,{"$f":"'EstExp 12-20'!H189","v":0},2765]
[2766,{"$f":"'EstExp 12-20'!I189","v":0},2766]
[2767,{"$f":"'EstExp 12-20'!I198","v":0},2767]
[2768,{"$f":"'EstExp 12-20'!I199","v":0},2768]
[2769,{"$f":"'EstExp 12-20'!I200","v":0},2769]
[2770,{"$f":"'EstExp 12-20'!I205","v":0},2770]
[2771,{"$f":"'EstExp 12-20'!I206","v":0},2771]
[2772,null,null,"Closed 2008"]
[2773,null,null,"Closed 2008"]
[2774]
[2775,{"$f":"'EstExp 12-20'!L189","v":0},2775]
[2776,{"$f":"'EstExp 12-20'!L198","v":0},2776]
[2777]
[2778,{"$f":"'EstExp 12-20'!L199","v":0},2778]
[2779,{"$f":"'BudgetSum 2-4'!F53","v":0},2779]
[2780,{"$f":"'EstExp 12-20'!L205","v":0},2780]
[2781,{"$f":"'EstExp 12-20'!L206","v":0},2781]
[2782,{"$f":"'EstExp 12-20'!I287","v":0},2782]
[2783,{"$f":"'EstExp 12-20'!I288","v":0},2783]
[2784,{"$f":"'EstExp 12-20'!L287","v":0},2784]
[2785,{"$f":"'EstExp 12-20'!L288","v":0},2785]
[2786]
[2787,{"$f":"'BudgetSum 2-4'!H53","v":0},2787]
[2788]
[2789]
[2790]
[2791,null,null,"Closed 2008"]
[2792]
[2793]
[2794]
[2795]
[2796]
[2797]
[2798]
[2799]
[2800]
[2801]
[2802]
[2803]
[2804]
[2805]
[2806]
[2807]
[2808]
[2809]
[2810]
[2811]
[2812]
[2813]
[2814]
[2815]
[2816]
[2817]
[2818]
[2819]
[2820]
[2821]
[2822]
[2823]
[2824]
[2825]
[2826]
[2827]
[2828]
[2829]
[2830]
[2831]
[2832]
[2833]
[2834]
[2835]
[2836]
[2837]
[2838]
[2839]
[2840]
[2841]
[2842]
[2843]
[2844]
[2845]
[2846]
[2847]
[2848,null,null,"Closed 2008"]
[2849]
[2850]
[2851]
[2852]
[2853]
[2854]
[2855]
[2856]
[2857]
[2858]
[2859]
[2860]
[2861]
[2862]
[2863]
[2864]
[2865]
[2866]
[2867]
[2868]
[2869]
[2870]
[2871]
[2872]
[2873]
[2874]
[2875]
[2876]
[2877]
[2878]
[2879]
[2880]
[2881]
[2882]
[2883]
[2884]
[2885]
[2886,{"$f":"'EstExp 12-20'!F103","v":0},{"$f":"A2891-B2891","v":2886}]
[2887]
[2888,{"$f":"'EstExp 12-20'!F80","v":0},2888]
[2889,{"$f":"'EstExp 12-20'!F81","v":35000},-32111]
[2890,{"$f":"'EstExp 12-20'!F82","v":0},2890]
[2891,{"$f":"'EstExp 12-20'!F83","v":0},2891]
[2892,{"$f":"'EstExp 12-20'!F84","v":0},2892]
[2893,{"$f":"'EstExp 12-20'!F85","v":0},2893]
[2894,{"$f":"'EstExp 12-20'!I80","v":0},2894]
[2895,{"$f":"'EstExp 12-20'!I81","v":50000},-47105]
[2896,{"$f":"'EstExp 12-20'!I82","v":0},2896]
[2897,{"$f":"'EstExp 12-20'!I83","v":0},2897]
[2898,{"$f":"'EstExp 12-20'!I84","v":0},2898]
[2899,{"$f":"'EstExp 12-20'!I85","v":0},2899]
[2900,null,null,"Closed 2008"]
[2901,null,null,"Closed 2008"]
[2902,null,null,"Closed 2008"]
[2903,null,null,"Closed 2008"]
[2904,null,null,"Closed 2008"]
[2905,null,null,"Closed 2008"]
[2906,null,null,"Closed 2008"]
[2907,null,null,"Closed 2008"]
[2908,null,null,"Closed 2008"]
[2909,null,null,"Closed 2008"]
[2910,null,null,"Closed 2008"]
[2911,null,null,"Closed 2008"]
[2912,{"$f":"'EstExp 12-20'!L80","v":0},2912]
[2913,{"$f":"'EstExp 12-20'!L81","v":85000},-82087]
[2914,{"$f":"'EstExp 12-20'!L82","v":0},2914]
[2915,{"$f":"'EstExp 12-20'!L83","v":0},2915]
[2916,{"$f":"'EstExp 12-20'!L84","v":0},2916]
[2917,{"$f":"'EstExp 12-20'!L85","v":0},2917]
[2918,{"$f":"'EstExp 12-20'!I138","v":0},2918]
[2919,{"$f":"'EstExp 12-20'!I139","v":0},2919]
[2920,{"$f":"'EstExp 12-20'!I140","v":0},2920]
[2921,null,null,"Closed 2008"]
[2922,null,null,"Closed 2008"]
[2923,null,null,"Closed 2008"]
[2924,null,null,"Closed 2008"]
[2925,{"$f":"'EstExp 12-20'!L138","v":0},2925]
[2926,{"$f":"'EstExp 12-20'!L139","v":0},2926]
[2927,{"$f":"'EstExp 12-20'!L140","v":0},2927]
[2928,{"$f":"'EstExp 12-20'!F192","v":0},2928]
[2929,{"$f":"'EstExp 12-20'!F193","v":0},2929]
[2930,{"$f":"'EstExp 12-20'!F194","v":0},2930]
[2931,{"$f":"'EstExp 12-20'!F195","v":0},2931]
[2932,{"$f":"'EstExp 12-20'!F196","v":0},2932]
[2933,{"$f":"'EstExp 12-20'!F197","v":0},2933]
[2934,{"$f":"'EstExp 12-20'!I192","v":0},2934]
[2935,{"$f":"'EstExp 12-20'!I193","v":0},2935]
[2936,{"$f":"'EstExp 12-20'!I194","v":0},2936]
[2937,{"$f":"'EstExp 12-20'!I195","v":0},2937]
[2938,{"$f":"'EstExp 12-20'!I196","v":0},2938]
[2939,{"$f":"'EstExp 12-20'!I197","v":0},2939]
[2940]
[2941]
[2942]
[2943]
[2944]
[2945]
[2946,{"$f":"'EstExp 12-20'!L192","v":0},2946]
[2947,{"$f":"'EstExp 12-20'!L193","v":0},{"$f":"A2952-B2952","v":2947}]
[2948,{"$f":"'EstExp 12-20'!L194","v":0},2948]
[2949,{"$f":"'EstExp 12-20'!L195","v":0},2949]
[2950,{"$f":"'EstExp 12-20'!L196","v":0},2950]
[2951,{"$f":"'EstExp 12-20'!L197","v":0},2951]
[2952]
[2953]
[2954]
[2955]
[2956]
[2957]
[2958]
[2959]
[2960]
[2961]
[2962]
[2963]
[2964]
[2965]
[2966]
[2967]
[2968]
[2969]
[2970]
[2971]
[2972]
[2973]
[2974]
[2975]
[2976]
[2977]
[2978]
[2979]
[2980]
[2981]
[2982]
[2983]
[2984]
[2985]
[2986]
[2987]
[2988]
[2989]
[2990]
[2991]
[2992]
[2993]
[2994,{"$f":"'EstExp 12-20'!D10","v":65000},-62006]
[2995,{"$f":"'EstExp 12-20'!E10","v":18500},-15505]
[2996,{"$f":"'EstExp 12-20'!F10","v":5500},-2504]
[2997,{"$f":"'EstExp 12-20'!G10","v":2900},97]
[2998,{"$f":"'EstExp 12-20'!H10","v":11000},-8002]
[2999,{"$f":"'EstExp 12-20'!I10","v":0},2999]
[3000,null,null,"Closed 2008"]
[3001,{"$f":"'EstExp 12-20'!L10","v":102900},-99899]
[3002,null,null,"Closed 2008"]
[3003,{"$f":"'EstExp 12-20'!E223","v":800},2203]
[3004,{"$f":"'EstExp 12-20'!L223","v":800},2204]
[3005]
[3006]
[3007]
[3008]
[3009]
[3010]
[3011]
[3012]
[3013]
[3014]
[3015]
[3016]
[3017,{"$f":"'BudgetSum 2-4'!D35","v":0},{"$f":"A3022-B3022","v":3017}]
[3018,{"$f":"'BudgetSum 2-4'!D36","v":0},3018]
[3019,{"$f":"'BudgetSum 2-4'!D37","v":0},3019]
[3020]
[3021,{"$f":"'BudgetSum 2-4'!E35","v":0},3021]
[3022,{"$f":"'BudgetSum 2-4'!F35","v":0},3022]
[3023,{"$f":"'BudgetSum 2-4'!F36","v":0},3023]
[3024,{"$f":"'BudgetSum 2-4'!F37","v":0},3024]
[3025]
[3026]
[3027]
[3028]
[3029]
[3030]
[3031]
[3032]
[3033]
[3034]
[3035]
[3036]
[3037]
[3038]
[3039]
[3040]
[3041]
[3042]
[3043]
[3044]
[3045]
[3046]
[3047]
[3048]
[3049]
[3050]
[3051]
[3052]
[3053]
[3054]
[3055]
[3056]
[3057]
[3058]
[3059]
[3060]
[3061]
[3062]
[3063]
[3064]
[3065]
[3066]
[3067]
[3068]
[3069]
[3070]
[3071]
[3072]
[3073]
[3074]
[3075]
[3076]
[3077]
[3078]
[3079]
[3080]
[3081]
[3082]
[3083]
[3084]
[3085]
[3086]
[3087]
[3088]
[3089]
[3090]
[3091]
[3092]
[3093]
[3094]
[3095]
[3096]
[3097]
[3098]
[3099]
[3100,{"$f":"'BudgetSum 2-4'!D31","v":0},{"$f":"A3105-B3105","v":3100}]
[3101,null,null,"Closed 2008"]
[3102]
[3103]
[3104]
[3105]
[3106]
[3107,null,null,"Closed 2008"]
[3108]
[3109,{"$f":"'BudgetSum 2-4'!H54","v":0},3109]
[3110]
[3111]
[3112]
[3113]
[3114]
[3115]
[3116]
[3117]
[3118]
[3119]
[3120]
[3121]
[3122]
[3123]
[3124]
[3125]
[3126]
[3127]
[3128]
[3129]
[3130]
[3131]
[3132]
[3133]
[3134]
[3135]
[3136]
[3137]
[3138]
[3139]
[3140]
[3141]
[3142]
[3143]
[3144]
[3145]
[3146]
[3147]
[3148]
[3149]
[3150]
[3151]
[3152]
[3153]
[3154]
[3155]
[3156]
[3157]
[3158]
[3159]
[3160]
[3161]
[3162]
[3163]
[3164,{"$f":"'BudgetSum 2-4'!I5","v":15039},{"$f":"A3169-B3169","v":-11875}]
[3165,{"$f":"'BudgetSum 2-4'!I9","v":15039},-11874]
[3166,{"$f":"'BudgetSum 2-4'!I22","v":15039},-11873]
[3167,{"$f":"'BudgetSum 2-4'!C45","v":0},3167]
[3168,{"$f":"'BudgetSum 2-4'!C46","v":0},3168]
[3169,{"$f":"'BudgetSum 2-4'!C78","v":0},3169]
[3170,{"$f":"'BudgetSum 2-4'!C79","v":0},3170]
[3171,{"$f":"'BudgetSum 2-4'!C80","v":0},3171]
[3172]
[3173,{"$f":"'BudgetSum 2-4'!D45","v":0},3173]
[3174,{"$f":"'BudgetSum 2-4'!D46","v":0},3174]
[3175,{"$f":"'BudgetSum 2-4'!D78","v":0},3175]
[3176,{"$f":"'BudgetSum 2-4'!D79","v":0},3176]
[3177,{"$f":"'BudgetSum 2-4'!D80","v":0},3177]
[3178]
[3179]
[3180]
[3181]
[3182]
[3183]
[3184]
[3185]
[3186]
[3187]
[3188]
[3189]
[3190,{"$f":"'BudgetSum 2-4'!F45","v":0},3190]
[3191,{"$f":"'BudgetSum 2-4'!F46","v":0},3191]
[3192,{"$f":"'BudgetSum 2-4'!F78","v":0},3192]
[3193,{"$f":"'BudgetSum 2-4'!F79","v":0},3193]
[3194,{"$f":"'BudgetSum 2-4'!F80","v":0},3194]
[3195]
[3196,{"$f":"'BudgetSum 2-4'!G45","v":0},3196]
[3197,{"$f":"'BudgetSum 2-4'!G46","v":0},3197]
[3198,{"$f":"'BudgetSum 2-4'!G53","v":0},3198]
[3199,{"$f":"'BudgetSum 2-4'!G79","v":0},3199]
[3200,{"$f":"'BudgetSum 2-4'!G80","v":0},3200]
[3201]
[3202]
[3203]
[3204]
[3205]
[3206]
[3207]
[3208]
[3209]
[3210]
[3211]
[3212,{"$f":"'BudgetSum 2-4'!E45","v":0},{"$f":"A3217-B3217","v":3212}]
[3213,{"$f":"'BudgetSum 2-4'!E46","v":0},3213]
[3214,{"$f":"'BudgetSum 2-4'!E78","v":0},3214]
[3215,{"$f":"'BudgetSum 2-4'!E79","v":0},3215]
[3216,{"$f":"'BudgetSum 2-4'!E80","v":0},3216]
[3217]
[3218,null,null,"Closed 2008"]
[3219,null,null,"Closed 2008"]
[3220,null,null,"Closed 2008"]
[3221,null,null,"Closed 2008"]
[3222,null,null,"Closed 2008"]
[3223]
[3224]
[3225]
[3226]
[3227]
[3228]
[3229]
[3230]
[3231]
[3232]
[3233]
[3234,{"$f":"'BudgetSum 2-4'!H45","v":0},3234]
[3235,{"$f":"'BudgetSum 2-4'!H46","v":0},3235]
[3236,{"$f":"'BudgetSum 2-4'!H78","v":0},3236]
[3237,{"$f":"'BudgetSum 2-4'!H79","v":0},3237]
[3238,{"$f":"'BudgetSum 2-4'!H80","v":0},3238]
[3239]
[3240]
[3241]
[3242]
[3243]
[3244]
[3245]
[3246]
[3247]
[3248]
[3249]
[3250]
[3251]
[3252]
[3253]
[3254]
[3255,{"$f":"'BudgetSum 2-4'!I45","v":0},3255]
[3256,{"$f":"'BudgetSum 2-4'!I46","v":0},3256]
[3257,{"$f":"'BudgetSum 2-4'!I79","v":0},3257]
[3258,{"$f":"'BudgetSum 2-4'!I80","v":0},3258]
[3259]
[3260,{"$f":"'BudgetSum 2-4'!I3","v":129929},-126669]
[3261]
[3262,{"$f":"'BudgetSum 2-4'!I81","v":144968},-141706]
[3263]
[3264]
[3265]
[3266]
[3267]
[3268]
[3269]
[3270]
[3271]
[3272]
[3273]
[3274]
[3275]
[3276]
[3277]
[3278]
[3279]
[3280]
[3281]
[3282]
[3283]
[3284]
[3285]
[3286]
[3287]
[3288]
[3289]
[3290]
[3291]
[3292]
[3293]
[3294]
[3295]
[3296]
[3297]
[3298]
[3299]
[3300]
[3301]
[3302]
[3303]
[3304]
[3305,{"$f":"'EstExp 12-20'!D8","v":175000},{"$f":"A3310-B3310","v":-171695}]
[3306,{"$f":"'EstExp 12-20'!D19","v":0},3306]
[3307,{"$f":"'EstExp 12-20'!E8","v":13000},-9693]
[3308,{"$f":"'EstExp 12-20'!E19","v":0},3308]
[3309,{"$f":"'EstExp 12-20'!F8","v":0},3309]
[3310,{"$f":"'EstExp 12-20'!F19","v":0},3310]
[3311,{"$f":"'EstExp 12-20'!G8","v":500},2811]
[3312,{"$f":"'EstExp 12-20'!G19","v":0},3312]
[3313,{"$f":"'EstExp 12-20'!H8","v":0},3313]
[3314,{"$f":"'EstExp 12-20'!H19","v":0},3314]
[3315,{"$f":"'EstExp 12-20'!I8","v":0},3315]
[3316,{"$f":"'EstExp 12-20'!I19","v":0},3316]
[3317,null,null,"Closed 2008"]
[3318,null,null,"Closed 2008"]
[3319,{"$f":"'EstExp 12-20'!L8","v":188500},-185181]
[3320,{"$f":"'EstExp 12-20'!L19","v":0},3320]
[3321]
[3322]
[3323]
[3324]
[3325]
[3326,{"$f":"'EstExp 12-20'!E219","v":8500},-5174]
[3327,{"$f":"'EstExp 12-20'!E221","v":13000},-9673]
[3328,{"$f":"'EstExp 12-20'!E232","v":0},3328]
[3329,{"$f":"'EstExp 12-20'!L219","v":8500},-5171]
[3330,{"$f":"'EstExp 12-20'!L221","v":13000},-9670]
[3331,{"$f":"'EstExp 12-20'!L232","v":0},{"$f":"A3336-B3336","v":3331}]
[3332]
[3333]
[3334]
[3335]
[3336]
[3337]
[3338]
[3339]
[3340]
[3341]
[3342]
[3343]
[3344,{"$f":"'BudgetSum 2-4'!C6","v":0},3344]
[3345,{"$f":"'BudgetSum 2-4'!D6","v":0},3345]
[3346]
[3347,{"$f":"'BudgetSum 2-4'!F6","v":0},3347]
[3348,{"$f":"'BudgetSum 2-4'!G6","v":0},3348]
[3349]
[3350,{"$f":"'CashSum 5'!C3","v":1428677},-1425327]
[3351]
[3352]
[3353,{"$f":"'CashSum 5'!D3","v":516691},-513338]
[3354]
[3355]
[3356,{"$f":"'CashSum 5'!E3","v":25082},-21726]
[3357]
[3358,{"$f":"'CashSum 5'!F3","v":74352},-70994]
[3359]
[3360]
[3361,{"$f":"'CashSum 5'!G3","v":31103},-27742]
[3362]
[3363]
[3364,{"$f":"'CashSum 5'!H3","v":93065},-89701]
[3365]
[3366,{"$f":"'CashSum 5'!I3","v":129929},-126563]
[3367]
[3368]
[3369,null,null,"Closed 2008"]
[3370]
[3371]
[3372]
[3373]
[3374]
[3375]
[3376]
[3377]
[3378]
[3379]
[3380]
[3381,null,null,"Closed 2008"]
[3382,null,null,"Closed 2008"]
[3383,null,null,"Closed 2008"]
[3384,null,null,"Closed 2008"]
[3385]
[3386]
[3387]
[3388]
[3389]
[3390]
[3391]
[3392]
[3393]
[3394]
[3395]
[3396]
[3397]
[3398]
[3399]
[3400]
[3401]
[3402]
[3403]
[3404]
[3405]
[3406]
[3407]
[3408]
[3409]
[3410]
[3411]
[3412]
[3413]
[3414]
[3415]
[3416]
[3417]
[3418]
[3419]
[3420]
[3421,{"$f":"'EstExp 12-20'!D129","v":0},{"$f":"A3426-B3426","v":3421}]
[3422,{"$f":"'EstExp 12-20'!E129","v":0},3422]
[3423,{"$f":"'EstExp 12-20'!F129","v":0},3423]
[3424,{"$f":"'EstExp 12-20'!G129","v":0},3424]
[3425,{"$f":"'EstExp 12-20'!H129","v":0},3425]
[3426,{"$f":"'EstExp 12-20'!I129","v":0},3426]
[3427,{"$f":"'EstExp 12-20'!L129","v":0},3427]
[3428]
[3429,{"$f":"'BudgetSum 2-4'!E28","v":0},3429]
[3430]
[3431,{"$f":"'BudgetSum 2-4'!G28","v":0},3431]
[3432,{"$f":"'BudgetSum 2-4'!H28","v":0},3432]
[3433]
[3434,null,null,"Closed 2008"]
[3435]
[3436]
[3437]
[3438]
[3439]
[3440]
[3441]
[3442]
[3443]
[3444]
[3445]
[3446]
[3447]
[3448]
[3449]
[3450]
[3451]
[3452,null,null,"Closed 2008"]
[3453]
[3454]
[3455]
[3456]
[3457]
[3458]
[3459]
[3460]
[3461]
[3462]
[3463]
[3464]
[3465]
[3466]
[3467]
[3468]
[3469,{"$f":"'BudgetSum 2-4'!C38","v":0},{"$f":"A3474-B3474","v":3469}]
[3470,{"$f":"'BudgetSum 2-4'!D38","v":0},3470]
[3471,{"$f":"'BudgetSum 2-4'!F38","v":0},3471]
[3472,{"$f":"'BudgetSum 2-4'!G38","v":0},3472]
[3473,{"$f":"'BudgetSum 2-4'!H38","v":0},3473]
[3474]
[3475,null,null,"Closed 2008"]
[3476]
[3477]
[3478]
[3479]
[3480]
[3481]
[3482]
[3483]
[3484]
[3485,{"$f":"'CashSum 5'!K3","v":86120},-82635]
[3486]
[3487]
[3488]
[3489]
[3490]
[3491]
[3492]
[3493,null,null,"Closed 2008"]
[3494]
[3495,null,null,"Closed 2008"]
[3496]
[3497]
[3498]
[3499]
[3500]
[3501]
[3502]
[3503]
[3504]
[3505]
[3506]
[3507]
[3508,{"$f":"'BudgetSum 2-4'!K5","v":2114839},-2111331]
[3509,{"$f":"'BudgetSum 2-4'!K7","v":0},3509]
[3510,{"$f":"'BudgetSum 2-4'!K9","v":2114839},-2111329]
[3511,{"$f":"'BudgetSum 2-4'!K14","v":1000},2511]
[3512,{"$f":"'BudgetSum 2-4'!K16","v":0},3512]
[3513,{"$f":"'BudgetSum 2-4'!K17","v":0},3513]
[3514,{"$f":"'BudgetSum 2-4'!K19","v":1000},2514]
[3515,{"$f":"'BudgetSum 2-4'!K22","v":2113839},-2110324]
[3516,{"$f":"'BudgetSum 2-4'!K28","v":0},3516]
[3517,{"$f":"'BudgetSum 2-4'!K30","v":0},3517]
[3518,{"$f":"'BudgetSum 2-4'!K35","v":0},3518]
[3519,{"$f":"'BudgetSum 2-4'!K36","v":0},3519]
[3520,{"$f":"'BudgetSum 2-4'!K37","v":0},3520]
[3521,{"$f":"'BudgetSum 2-4'!K38","v":0},3521]
[3522,{"$f":"'BudgetSum 2-4'!K45","v":0},3522]
[3523,{"$f":"'BudgetSum 2-4'!K46","v":0},{"$f":"A3528-B3528","v":3523}]
[3524]
[3525,{"$f":"'BudgetSum 2-4'!K79","v":0},3525]
[3526,{"$f":"'BudgetSum 2-4'!K80","v":0},3526]
[3527]
[3528,{"$f":"'BudgetSum 2-4'!K3","v":86120},-82592]
[3529]
[3530,{"$f":"'BudgetSum 2-4'!K81","v":2199959},-2196429]
[3531]
[3532]
[3533]
[3534]
[3535]
[3536]
[3537]
[3538]
[3539]
[3540]
[3541]
[3542]
[3543]
[3544]
[3545]
[3546]
[3547]
[3548]
[3549]
[3550]
[3551]
[3552]
[3553]
[3554]
[3555]
[3556,{"$f":"'EstExp 12-20'!D434","v":0},3556]
[3557,{"$f":"'EstExp 12-20'!D435","v":0},3557]
[3558,{"$f":"'EstExp 12-20'!D436","v":0},3558]
[3559,{"$f":"'EstExp 12-20'!D437","v":0},3559]
[3560,{"$f":"'EstExp 12-20'!D438","v":0},3560]
[3561,{"$f":"'EstExp 12-20'!D453","v":0},3561]
[3562]
[3563,{"$f":"'EstExp 12-20'!E434","v":0},3563]
[3564,{"$f":"'EstExp 12-20'!E435","v":0},3564]
[3565,{"$f":"'EstExp 12-20'!E436","v":0},3565]
[3566,{"$f":"'EstExp 12-20'!E437","v":0},3566]
[3567,{"$f":"'EstExp 12-20'!E438","v":0},3567]
[3568,{"$f":"'EstExp 12-20'!E453","v":0},3568]
[3569]
[3570,{"$f":"'EstExp 12-20'!F434","v":0},3570]
[3571,{"$f":"'EstExp 12-20'!F435","v":1000},2571]
[3572,{"$f":"'EstExp 12-20'!F436","v":1000},2572]
[3573,{"$f":"'EstExp 12-20'!F437","v":0},3573]
[3574,{"$f":"'EstExp 12-20'!F438","v":1000},2574]
[3575,{"$f":"'EstExp 12-20'!F453","v":1000},2575]
[3576]
[3577,{"$f":"'EstExp 12-20'!G434","v":0},3577]
[3578,{"$f":"'EstExp 12-20'!G435","v":0},3578]
[3579,{"$f":"'EstExp 12-20'!G436","v":0},3579]
[3580,{"$f":"'EstExp 12-20'!G437","v":0},3580]
[3581,{"$f":"'EstExp 12-20'!G438","v":0},3581]
[3582,{"$f":"'EstExp 12-20'!G453","v":0},3582]
[3583]
[3584,{"$f":"'EstExp 12-20'!H434","v":0},3584]
[3585,{"$f":"'EstExp 12-20'!H435","v":0},3585]
[3586,{"$f":"'EstExp 12-20'!H436","v":0},3586]
[3587,{"$f":"'EstExp 12-20'!H437","v":0},{"$f":"A3592-B3592","v":3587}]
[3588,{"$f":"'EstExp 12-20'!H438","v":0},3588]
[3589,{"$f":"'EstExp 12-20'!H453","v":0},3589]
[3590]
[3591,{"$f":"'EstExp 12-20'!I434","v":0},3591]
[3592,{"$f":"'EstExp 12-20'!I435","v":0},3592]
[3593,{"$f":"'EstExp 12-20'!I436","v":0},3593]
[3594,{"$f":"'EstExp 12-20'!I437","v":0},3594]
[3595,{"$f":"'EstExp 12-20'!I438","v":0},3595]
[3596,{"$f":"'EstExp 12-20'!I446","v":0},3596]
[3597,{"$f":"'EstExp 12-20'!I451","v":0},3597]
[3598]
[3599,{"$f":"'EstExp 12-20'!I453","v":0},3599]
[3600]
[3601,{"$f":"'EstExp 12-20'!I442","v":0},3601,"Closed 2008"]
[3602,{"$f":"'EstExp 12-20'!I443","v":0},3602,"Closed 2008"]
[3603,null,null,"Closed 2008"]
[3604]
[3605]
[3606]
[3607,{"$f":"'EstExp 12-20'!L434","v":0},3607]
[3608,{"$f":"'EstExp 12-20'!L435","v":1000},2608]
[3609,{"$f":"'EstExp 12-20'!L436","v":1000},2609]
[3610,{"$f":"'EstExp 12-20'!L437","v":0},3610]
[3611,{"$f":"'EstExp 12-20'!L438","v":1000},2611]
[3612,{"$f":"'EstExp 12-20'!L442","v":0},3612]
[3613,{"$f":"'EstExp 12-20'!L443","v":0},3613]
[3614,{"$f":"'EstExp 12-20'!L446","v":0},3614]
[3615,{"$f":"'EstExp 12-20'!L451","v":0},3615]
[3616]
[3617,{"$f":"'EstExp 12-20'!L453","v":1000},2617]
[3618]
[3619]
[3620,{"$f":"'EstExp 12-20'!L454","v":2113839},-2110219]
[3621]
[3622]
[3623]
[3624]
[3625]
[3626]
[3627]
[3628]
[3629]
[3630]
[3631]
[3632]
[3633]
[3634]
[3635]
[3636]
[3637,{"$f":"'BudgetSum 2-4'!D32","v":0},3637]
[3638,{"$f":"'BudgetSum 2-4'!E33","v":0},3638]
[3639]
[3640]
[3641,{"$f":"'BudgetSum 2-4'!K55","v":0},3641]
[3642,{"$f":"'BudgetSum 2-4'!K56","v":0},3642]
[3643]
[3644]
[3645]
[3646]
[3647]
[3648]
[3649]
[3650]
[3651]
[3652]
[3653]
[3654]
[3655,null,null,"Closed 2008"]
[3656,{"$f":"'EstExp 12-20'!L306","v":0},{"$f":"A3661-B3661","v":3656}]
[3657,{"$f":"'BudgetSum 2-4'!K8","v":0},3657]
[3658]
[3659]
[3660,{"$f":"'EstExp 12-20'!E280","v":0},3660]
[3661,{"$f":"'EstExp 12-20'!E282","v":0},3661]
[3662,{"$f":"'EstExp 12-20'!L280","v":0},3662]
[3663,{"$f":"'EstExp 12-20'!L282","v":0},3663]
[3664]
[3665]
[3666]
[3667]
[3668]
[3669]
[3670]
[3671]
[3672]
[3673]
[3674]
[3675]
[3676]
[3677]
[3678]
[3679]
[3680]
[3681]
[3682]
[3683]
[3684]
[3685]
[3686]
[3687]
[3688]
[3689]
[3690]
[3691]
[3692]
[3693]
[3694]
[3695]
[3696]
[3697]
[3698]
[3699]
[3700]
[3701]
[3702]
[3703]
[3704]
[3705]
[3706]
[3707]
[3708]
[3709]
[3710]
[3711]
[3712]
[3713]
[3714]
[3715]
[3716]
[3717]
[3718]
[3719]
[3720]
[3721]
[3722]
[3723]
[3724]
[3725]
[3726]
[3727]
[3728]
[3729]
[3730]
[3731]
[3732]
[3733]
[3734]
[3735]
[3736]
[3737]
[3738]
[3739]
[3740]
[3741]
[3742]
[3743]
[3744]
[3745]
[3746]
[3747]
[3748]
[3749]
[3750]
[3751]
[3752]
[3753]
[3754]
[3755]
[3756]
[3757]
[3758]
[3759]
[3760]
[3761]
[3762]
[3763]
[3764]
[3765]
[3766]
[3767]
[3768]
[3769]
[3770]
[3771]
[3772]
[3773]
[3774]
[3775]
[3776]
[3777]
[3778]
[3779]
[3780]
[3781]
[3782]
[3783]
[3784]
[3785]
[3786]
[3787]
[3788]
[3789]
[3790]
[3791]
[3792]
[3793]
[3794]
[3795]
[3796]
[3797]
[3798]
[3799]
[3800]
[3801]
[3802]
[3803]
[3804]
[3805]
[3806]
[3807]
[3808]
[3809]
[3810]
[3811]
[3812]
[3813]
[3814]
[3815]
[3816]
[3817]
[3818]
[3819]
[3820]
[3821]
[3822]
[3823]
[3824]
[3825]
[3826]
[3827]
[3828]
[3829]
[3830]
[3831]
[3832]
[3833]
[3834]
[3835]
[3836]
[3837]
[3838]
[3839]
[3840]
[3841]
[3842]
[3843]
[3844]
[3845]
[3846]
[3847]
[3848]
[3849]
[3850]
[3851]
[3852]
[3853]
[3854]
[3855]
[3856]
[3857]
[3858]
[3859]
[3860]
[3861]
[3862]
[3863]
[3864]
[3865]
[3866]
[3867]
[3868]
[3869]
[3870]
[3871]
[3872]
[3873]
[3874]
[3875]
[3876]
[3877]
[3878]
[3879]
[3880]
[3881]
[3882]
[3883]
[3884]
[3885]
[3886]
[3887]
[3888]
[3889]
[3890]
[3891]
[3892]
[3893]
[3894]
[3895]
[3896]
[3897]
[3898]
[3899]
[3900]
[3901]
[3902]
[3903]
[3904]
[3905]
[3906]
[3907]
[3908]
[3909]
[3910]
[3911]
[3912]
[3913]
[3914]
[3915]
[3916]
[3917]
[3918]
[3919]
[3920]
[3921]
[3922]
[3923]
[3924]
[3925]
[3926]
[3927]
[3928]
[3929]
[3930]
[3931]
[3932]
[3933]
[3934]
[3935]
[3936]
[3937]
[3938]
[3939]
[3940]
[3941]
[3942]
[3943]
[3944]
[3945]
[3946]
[3947]
[3948]
[3949]
[3950]
[3951]
[3952]
[3953]
[3954]
[3955]
[3956]
[3957]
[3958]
[3959]
[3960]
[3961]
[3962]
[3963]
[3964]
[3965]
[3966]
[3967]
[3968]
[3969]
[3970]
[3971]
[3972]
[3973]
[3974]
[3975]
[3976]
[3977]
[3978]
[3979]
[3980]
[3981]
[3982]
[3983]
[3984]
[3985]
[3986]
[3987]
[3988]
[3989]
[3990]
[3991]
[3992]
[3993]
[3994]
[3995]
[3996]
[3997]
[3998]
[3999]
[4000]
[4001]
[4002]
[4003]
[4004]
[4005]
[4006]
[4007]
[4008]
[4009]
[4010]
[4011]
[4012]
[4013,{"$f":"'EstExp 12-20'!D124","v":0},{"$f":"A4018-B4018","v":4013}]
[4014,{"$f":"'EstExp 12-20'!E124","v":0},4014]
[4015,{"$f":"'EstExp 12-20'!F124","v":0},4015]
[4016,{"$f":"'EstExp 12-20'!G124","v":0},4016]
[4017,{"$f":"'EstExp 12-20'!H124","v":0},4017]
[4018,{"$f":"'EstExp 12-20'!I124","v":0},4018]
[4019,{"$f":"'EstExp 12-20'!L124","v":0},4019]
[4020,{"$f":"'EstExp 12-20'!D184","v":0},4020]
[4021,{"$f":"'EstExp 12-20'!E184","v":0},4021]
[4022,{"$f":"'EstExp 12-20'!F184","v":0},4022]
[4023,{"$f":"'EstExp 12-20'!G184","v":0},4023]
[4024,{"$f":"'EstExp 12-20'!H184","v":0},4024]
[4025,{"$f":"'EstExp 12-20'!I184","v":0},4025]
[4026,{"$f":"'EstExp 12-20'!L184","v":0},4026]
[4027]
[4028]
[4029]
[4030]
[4031]
[4032]
[4033]
[4034]
[4035,null,null,"Closed 2008"]
[4036,null,null,"Closed 2008"]
[4037,null,null,"Closed 2008"]
[4038,{"$f":"'EstExp 12-20'!L304","v":0},{"$f":"A4043-B4043","v":4038}]
[4039,{"$f":"'EstExp 12-20'!L305","v":0},4039]
[4040,null,null,"Closed 04/09"]
[4041,null,null,"Closed 2008"]
[4042]
[4043]
[4044]
[4045]
[4046]
[4047]
[4048]
[4049]
[4050]
[4051]
[4052,{"$f":"'BudgetSum 2-4'!C10","v":0},4052]
[4053,{"$f":"'BudgetSum 2-4'!D10","v":0},4053]
[4054,{"$f":"'BudgetSum 2-4'!E10","v":0},4054]
[4055,{"$f":"'BudgetSum 2-4'!F10","v":0},4055]
[4056,{"$f":"'BudgetSum 2-4'!G10","v":0},4056]
[4057,{"$f":"'BudgetSum 2-4'!H10","v":0},4057]
[4058]
[4059]
[4060,{"$f":"'BudgetSum 2-4'!K10","v":0},4060]
[4061,{"$f":"'BudgetSum 2-4'!C11","v":2582006},-2577945]
[4062,{"$f":"'BudgetSum 2-4'!D11","v":552077},-548015]
[4063,{"$f":"'BudgetSum 2-4'!E11","v":342181},-338118]
[4064,{"$f":"'BudgetSum 2-4'!F11","v":268769},-264705]
[4065,{"$f":"'BudgetSum 2-4'!G11","v":136290},-132225]
[4066,{"$f":"'BudgetSum 2-4'!H11","v":14450},-10384]
[4067,{"$f":"'BudgetSum 2-4'!I11","v":15039},-10972]
[4068,null,null,"Closed 2008"]
[4069,{"$f":"'BudgetSum 2-4'!K11","v":2114839},-2110770]
[4070,{"$f":"'BudgetSum 2-4'!C20","v":0},4070]
[4071,{"$f":"'BudgetSum 2-4'!D20","v":0},4071]
[4072,{"$f":"'BudgetSum 2-4'!F20","v":0},4072]
[4073,{"$f":"'BudgetSum 2-4'!H20","v":0},4073]
[4074,{"$f":"'BudgetSum 2-4'!K20","v":0},4074]
[4075,{"$f":"'BudgetSum 2-4'!C21","v":2503565},-2499490]
[4076,{"$f":"'BudgetSum 2-4'!D21","v":922000},-917924]
[4077,{"$f":"'BudgetSum 2-4'!E21","v":336814},-332737]
[4078,{"$f":"'BudgetSum 2-4'!F21","v":268500},-264422]
[4079,{"$f":"'BudgetSum 2-4'!G21","v":86050},-81971]
[4080,{"$f":"'BudgetSum 2-4'!H21","v":0},4080]
[4081]
[4082,null,null,"Closed 2008"]
[4083,{"$f":"'BudgetSum 2-4'!K21","v":1000},3083]
[4084,null,null,"Closed 2008"]
[4085]
[4086]
[4087]
[4088]
[4089,null,null,"Closed 2008"]
[4090,null,null,"Closed 2008"]
[4091]
[4092]
[4093]
[4094]
[4095,{"$f":"'EstExp 12-20'!I208","v":0},4095]
[4096,{"$f":"'EstExp 12-20'!L208","v":0},4096]
[4097]
[4098]
[4099]
[4100,null,null,"Closed 2008"]
[4101,null,null,"Closed 2008"]
[4102,null,null,"Closed 2008"]
[4103]
[4104,{"$f":"'EstExp 12-20'!E281","v":0},{"$f":"A4109-B4109","v":4104}]
[4105,{"$f":"'EstExp 12-20'!L281","v":0},4105]
[4106]
[4107]
[4108]
[4109,null,null,"Closed 2008"]
[4110]
[4111]
[4112]
[4113]
[4114,{"$f":"'BudgetSum 2-4'!E20","v":0},4114]
[4115,{"$f":"'BudgetSum 2-4'!G20","v":0},4115]
[4116]
[4117,null,null,"Closed 2008"]
[4118,{"$f":"'EstRev 6-11'!E163","v":0},4118]
[4119,{"$f":"'EstRev 6-11'!G163","v":0},4119]
[4120,{"$f":"'EstRev 6-11'!H163","v":0},4120]
[4121]
[4122]
[4123]
[4124]
[4125]
[4126]
[4127]
[4128,{"$f":"'EstRev 6-11'!D262","v":0},4128]
[4129,{"$f":"'EstRev 6-11'!E262","v":0},4129]
[4130,{"$f":"'EstRev 6-11'!G262","v":0},4130]
[4131,{"$f":"'EstRev 6-11'!H262","v":0},4131]
[4132]
[4133]
[4134]
[4135]
[4136,null,null,"Closed 2008"]
[4137,null,null,"Closed 2008"]
[4138,{"$f":"'EstExp 12-20'!F138","v":0},4138]
[4139,{"$f":"'EstExp 12-20'!F139","v":0},4139]
[4140,{"$f":"'EstExp 12-20'!F140","v":0},4140]
[4141,{"$f":"'EstExp 12-20'!F141","v":0},4141]
[4142,{"$f":"'EstExp 12-20'!F143","v":0},4142]
[4143,null,null,"Closed 2008"]
[4144,null,null,"Closed 2008"]
[4145,null,null,"Closed 2008"]
[4146,null,null,"Closed 2008"]
[4147,null,null,"Closed 2008"]
[4148,null,null,"Closed 2008"]
[4149,{"$f":"'EstExp 12-20'!I210","v":0},4149]
[4150,{"$f":"'EstExp 12-20'!L210","v":0},4150]
[4151,null,null,"Closed 2008"]
[4152,null,null,"Closed 2008"]
[4153,null,null,"Closed 2008"]
[4154,{"$f":"'EstRev 6-11'!J170","v":0},4154]
[4155,{"$f":"'EstRev 6-11'!J172","v":0},4155]
[4156,{"$f":"'BudgetSum 2-4'!E38","v":0},4156]
[4157,null,null,"Closed 2008"]
[4158,null,null,"Closed 2008"]
[4159]
[4160]
[4161]
[4162]
[4163]
[4164]
[4165]
[4166,{"$f":"'EstRev 6-11'!D142","v":0},{"$f":"A4171-B4171","v":4166}]
[4167,{"$f":"'EstRev 6-11'!E142","v":0},4167]
[4168,null,null,"Closed 2008"]
[4169,{"$f":"'EstRev 6-11'!H142","v":0},4169]
[4170]
[4171]
[4172]
[4173]
[4174]
[4175]
[4176]
[4177]
[4178]
[4179]
[4180]
[4181]
[4182]
[4183]
[4184]
[4185]
[4186]
[4187]
[4188]
[4189]
[4190,null,null,"Closed 2008"]
[4191,null,null,"Closed 2008"]
[4192,null,null,"Closed 2008"]
[4193,null,null,"Closed 2008"]
[4194,null,null,"Closed 2008"]
[4195,null,null,"Closed 2008"]
[4196,null,null,"Closed 2008"]
[4197]
[4198]
[4199]
[4200]
[4201,null,null,"Closed 2008"]
[4202,null,null,"Closed 2008"]
[4203]
[4204]
[4205]
[4206]
[4207]
[4208]
[4209]
[4210]
[4211]
[4212]
[4213]
[4214]
[4215]
[4216]
[4217]
[4218]
[4219]
[4220]
[4221]
[4222]
[4223]
[4224]
[4225]
[4226]
[4227]
[4228]
[4229]
[4230]
[4231]
[4232]
[4233]
[4234]
[4235]
[4236]
[4237]
[4238]
[4239]
[4240]
[4241]
[4242]
[4243]
[4244]
[4245]
[4246]
[4247]
[4248,{"$f":"'EstRev 6-11'!D133","v":0},{"$f":"A4253-B4253","v":4248}]
[4249,{"$f":"'EstRev 6-11'!E133","v":0},4249]
[4250,{"$f":"'EstRev 6-11'!G133","v":0},4250]
[4251,{"$f":"'EstRev 6-11'!D152","v":0},4251]
[4252,{"$f":"'EstRev 6-11'!E152","v":0},4252]
[4253,{"$f":"'EstRev 6-11'!D156","v":0},4253]
[4254,{"$f":"'EstRev 6-11'!E156","v":0},4254]
[4255,{"$f":"'EstRev 6-11'!G156","v":0},4255]
[4256,{"$f":"'EstRev 6-11'!D166","v":0},4256]
[4257,{"$f":"'EstRev 6-11'!G166","v":0},4257]
[4258]
[4259]
[4260,{"$f":"'EstRev 6-11'!D167","v":0},4260]
[4261,{"$f":"'EstRev 6-11'!G167","v":0},4261]
[4262,null,null,"Closed 2008"]
[4263,null,null,"Closed 2008"]
[4264]
[4265]
[4266,{"$f":"'EstRev 6-11'!E168","v":0},4266]
[4267,{"$f":"'EstRev 6-11'!I168","v":0},4267]
[4268,{"$f":"'EstRev 6-11'!E169","v":50000},-45732]
[4269,{"$f":"'EstRev 6-11'!L169","v":0},4269]
[4270,{"$f":"'EstRev 6-11'!D199","v":8700},-4430]
[4271,{"$f":"'EstRev 6-11'!D205","v":18000},-13729]
[4272,{"$f":"'EstRev 6-11'!E205","v":0},4272]
[4273,{"$f":"'EstRev 6-11'!G205","v":0},4273]
[4274,{"$f":"'EstRev 6-11'!H205","v":0},4274]
[4275,{"$f":"'EstRev 6-11'!D210","v":0},4275]
[4276,{"$f":"'EstRev 6-11'!E210","v":0},4276]
[4277,{"$f":"'EstRev 6-11'!G210","v":0},4277]
[4278,{"$f":"'EstRev 6-11'!H210","v":0},4278]
[4279,{"$f":"'EstRev 6-11'!D218","v":0},4279]
[4280,{"$f":"'EstRev 6-11'!E218","v":0},4280]
[4281,{"$f":"'EstRev 6-11'!G218","v":0},4281]
[4282,{"$f":"'EstRev 6-11'!H218","v":0},4282]
[4283,{"$f":"'EstRev 6-11'!D222","v":0},4283]
[4284,{"$f":"'EstRev 6-11'!E222","v":0},4284]
[4285,{"$f":"'EstRev 6-11'!H222","v":0},4285]
[4286]
[4287]
[4288]
[4289]
[4290,{"$f":"'EstRev 6-11'!D149","v":0},4290]
[4291,{"$f":"'EstRev 6-11'!E149","v":0},{"$f":"A4296-B4296","v":4291}]
[4292,{"$f":"'EstRev 6-11'!H149","v":0},4292]
[4293,{"$f":"'EstRev 6-11'!G152","v":0},4293]
[4294,{"$f":"'EstRev 6-11'!H152","v":0},4294]
[4295,{"$f":"'EstRev 6-11'!H156","v":0},4295]
[4296,{"$f":"'EstRev 6-11'!H157","v":0},4296]
[4297,{"$f":"'EstRev 6-11'!D265","v":14000},-9703]
[4298,{"$f":"'EstRev 6-11'!E265","v":0},4298]
[4299,{"$f":"'EstRev 6-11'!G265","v":0},4299]
[4300,{"$f":"'EstRev 6-11'!H265","v":0},4300]
[4301,{"$f":"'EstRev 6-11'!D266","v":12000},-7699]
[4302,{"$f":"'EstRev 6-11'!J171","v":0},4302]
[4303,{"$f":"'EstRev 6-11'!F175","v":0},4303]
[4304,{"$f":"'EstRev 6-11'!I175","v":0},4304]
[4305,{"$f":"'EstRev 6-11'!J175","v":0},4305]
[4306,null,null,"Closed 2008"]
[4307,{"$f":"'EstRev 6-11'!L175","v":0},4307]
[4308,{"$f":"'EstRev 6-11'!F176","v":0},4308]
[4309,{"$f":"'EstRev 6-11'!J176","v":0},4309]
[4310,null,null,"Closed 2008"]
[4311,{"$f":"'EstRev 6-11'!F177","v":0},4311]
[4312,{"$f":"'EstRev 6-11'!J177","v":0},4312]
[4313,null,null,"Closed 2008"]
[4314,{"$f":"'EstRev 6-11'!D187","v":0},4314]
[4315,{"$f":"'EstRev 6-11'!E187","v":0},4315]
[4316,{"$f":"'EstRev 6-11'!G187","v":0},4316]
[4317,{"$f":"'EstRev 6-11'!H187","v":0},4317]
[4318,{"$f":"'EstRev 6-11'!D188","v":16300},-11982]
[4319,{"$f":"'EstRev 6-11'!E188","v":0},4319]
[4320,{"$f":"'EstRev 6-11'!G188","v":0},4320]
[4321,{"$f":"'EstRev 6-11'!H188","v":0},4321]
[4322,null,null,"Closed 2008"]
[4323,null,null,"Closed 2008"]
[4324,null,null,"Closed 2008"]
[4325,null,null,"Closed 2008"]
[4326,null,null,"Closed 2008"]
[4327,null,null,"Closed 2008"]
[4328,null,null,"Closed 2008"]
[4329,null,null,"Closed 2008"]
[4330,{"$f":"'EstRev 6-11'!D189","v":0},4330]
[4331,{"$f":"'EstRev 6-11'!E189","v":0},4331]
[4332,{"$f":"'EstRev 6-11'!G189","v":0},4332]
[4333,{"$f":"'EstRev 6-11'!H189","v":0},4333]
[4334,{"$f":"'EstRev 6-11'!D190","v":16300},-11966]
[4335,{"$f":"'EstRev 6-11'!E190","v":0},4335]
[4336,{"$f":"'EstRev 6-11'!G190","v":0},4336]
[4337,{"$f":"'EstRev 6-11'!H190","v":0},4337]
[4338,null,null,"Closed 2018"]
[4339,null,null,"Closed 2018"]
[4340,null,null,"Closed 2018"]
[4341,null,null,"Closed 2018"]
[4342,null,null,"Closed 2008"]
[4343,null,null,"Closed 2008"]
[4344,null,null,"Closed 2008"]
[4345,null,null,"Closed 2008"]
[4346,{"$f":"'EstRev 6-11'!D209","v":0},4346]
[4347,{"$f":"'EstRev 6-11'!E209","v":0},4347]
[4348,{"$f":"'EstRev 6-11'!G209","v":0},4348]
[4349,{"$f":"'EstRev 6-11'!H209","v":0},4349]
[4350,{"$f":"'EstRev 6-11'!D211","v":2455},1895]
[4351,{"$f":"'EstRev 6-11'!E211","v":0},4351]
[4352,{"$f":"'EstRev 6-11'!G211","v":0},4352]
[4353,{"$f":"'EstRev 6-11'!H211","v":0},4353]
[4354,{"$f":"'EstRev 6-11'!D258","v":0},4354]
[4355,{"$f":"'EstRev 6-11'!G258","v":0},{"$f":"A4360-B4360","v":4355}]
[4356,{"$f":"'EstRev 6-11'!H258","v":0},4356]
[4357,{"$f":"'EstRev 6-11'!D261","v":0},4357]
[4358,{"$f":"'EstRev 6-11'!E261","v":0},4358]
[4359,{"$f":"'EstRev 6-11'!G261","v":0},4359]
[4360,{"$f":"'EstRev 6-11'!H261","v":0},4360]
[4361,null,null,"Closed 2008"]
[4362,null,null,"Closed 2008"]
[4363,null,null,"Closed 2008"]
[4364,null,null,"Closed 2008"]
[4365,null,null,"Closed 2008"]
[4366,null,null,"Closed 2008"]
[4367,null,null,"Closed 2008"]
[4368,null,null,"Closed 2008"]
[4369,null,null,"Closed 2008"]
[4370,null,null,"Closed 2008"]
[4371,null,null,"Closed 2008"]
[4372,null,null,"Closed 2008"]
[4373,{"$f":"'EstRev 6-11'!F269","v":0},4373]
[4374,{"$f":"'EstRev 6-11'!J269","v":0},4374]
[4375,null,null,"Closed 2008"]
[4376]
[4377,null,null,"Closed 2008"]
[4378,null,null,"Closed 2008"]
[4379,null,null,"Closed 2008"]
[4380,{"$f":"'EstRev 6-11'!I268","v":0},4380]
[4381,{"$f":"'EstRev 6-11'!L268","v":0},4381]
[4382,{"$f":"'BudgetSum 2-4'!E8","v":0},4382]
[4383,{"$f":"'BudgetSum 2-4'!I8","v":0},4383]
[4384,null,null,"Closed 2008"]
[4385,{"$f":"'EstRev 6-11'!E266","v":0},4385]
[4386,{"$f":"'EstRev 6-11'!G266","v":0},4386]
[4387,{"$f":"'EstRev 6-11'!H266","v":0},4387]
[4388]
[4389]
[4390]
[4391]
[4392]
[4393]
[4394]
[4395]
[4396]
[4397]
[4398]
[4399]
[4400]
[4401]
[4402]
[4403]
[4404]
[4405]
[4406]
[4407]
[4408]
[4409]
[4410]
[4411]
[4412]
[4413]
[4414]
[4415]
[4416]
[4417]
[4418]
[4419]
[4420]
[4421]
[4422]
[4423]
[4424]
[4425]
[4426]
[4427]
[4428]
[4429]
[4430]
[4431]
[4432]
[4433]
[4434]
[4435]
[4436]
[4437]
[4438]
[4439]
[4440]
[4441]
[4442]
[4443]
[4444]
[4445]
[4446]
[4447]
[4448]
[4449]
[4450]
[4451]
[4452]
[4453]
[4454]
[4455]
[4456]
[4457]
[4458]
[4459]
[4460]
[4461]
[4462]
[4463]
[4464]
[4465]
[4466]
[4467]
[4468]
[4469]
[4470]
[4471]
[4472]
[4473]
[4474]
[4475]
[4476]
[4477]
[4478]
[4479]
[4480]
[4481]
[4482]
[4483]
[4484]
[4485]
[4486]
[4487]
[4488]
[4489]
[4490]
[4491]
[4492]
[4493]
[4494]
[4495]
[4496]
[4497]
[4498]
[4499]
[4500]
[4501]
[4502]
[4503]
[4504]
[4505]
[4506]
[4507]
[4508]
[4509]
[4510]
[4511]
[4512]
[4513]
[4514]
[4515]
[4516]
[4517]
[4518]
[4519]
[4520]
[4521]
[4522]
[4523]
[4524]
[4525]
[4526]
[4527]
[4528]
[4529]
[4530]
[4531]
[4532]
[4533]
[4534]
[4535]
[4536]
[4537]
[4538]
[4539]
[4540]
[4541]
[4542]
[4543]
[4544]
[4545]
[4546]
[4547]
[4548]
[4549]
[4550]
[4551]
[4552]
[4553]
[4554]
[4555]
[4556]
[4557]
[4558]
[4559]
[4560]
[4561]
[4562]
[4563]
[4564]
[4565]
[4566]
[4567]
[4568]
[4569]
[4570]
[4571]
[4572]
[4573]
[4574]
[4575]
[4576]
[4577]
[4578]
[4579]
[4580]
[4581]
[4582]
[4583]
[4584]
[4585]
[4586]
[4587]
[4588]
[4589]
[4590]
[4591]
[4592]
[4593]
[4594]
[4595]
[4596]
[4597]
[4598]
[4599]
[4600]
[4601]
[4602]
[4603]
[4604]
[4605]
[4606]
[4607]
[4608]
[4609]
[4610]
[4611]
[4612]
[4613]
[4614]
[4615]
[4616]
[4617]
[4618]
[4619]
[4620]
[4621]
[4622]
[4623]
[4624]
[4625]
[4626]
[4627]
[4628]
[4629]
[4630]
[4631]
[4632]
[4633]
[4634]
[4635]
[4636]
[4637]
[4638]
[4639]
[4640]
[4641]
[4642]
[4643]
[4644]
[4645]
[4646]
[4647]
[4648]
[4649]
[4650]
[4651]
[4652]
[4653]
[4654]
[4655]
[4656]
[4657]
[4658]
[4659]
[4660]
[4661]
[4662]
[4663]
[4664]
[4665]
[4666]
[4667]
[4668]
[4669]
[4670]
[4671]
[4672]
[4673]
[4674]
[4675]
[4676]
[4677]
[4678]
[4679]
[4680]
[4681]
[4682]
[4683]
[4684]
[4685]
[4686]
[4687]
[4688]
[4689]
[4690]
[4691]
[4692]
[4693]
[4694]
[4695]
[4696]
[4697]
[4698]
[4699]
[4700,{"$f":"'EstRev 6-11'!D106","v":103000},{"$f":"A4705-B4705","v":-98300}]
[4701]
[4702]
[4703]
[4704]
[4705]
[4706,null,null,"Close 2008"]
[4707,null,null,"Close 2008"]
[4708,null,null,"Close 2008"]
[4709,null,null,"Close 2008"]
[4710,{"$f":"'EstRev 6-11'!H138","v":0},4710]
[4711]
[4712]
[4713]
[4714]
[4715]
[4716]
[4717]
[4718]
[4719]
[4720]
[4721]
[4722]
[4723]
[4724]
[4725]
[4726]
[4727]
[4728]
[4729,null,null,"Close 2008"]
[4730,null,null,"Close 2008"]
[4731,{"$f":"'EstRev 6-11'!D170","v":0},4731]
[4732,{"$f":"'EstRev 6-11'!E170","v":0},4732]
[4733,{"$f":"'EstRev 6-11'!F170","v":0},4733]
[4734,{"$f":"'EstRev 6-11'!G170","v":0},4734]
[4735,{"$f":"'EstRev 6-11'!H170","v":0},4735]
[4736,{"$f":"'EstRev 6-11'!I170","v":0},4736]
[4737,null,null,"Close 2008"]
[4738,{"$f":"'EstRev 6-11'!L170","v":0},4738]
[4739,null,null,"Close 2008"]
[4740,{"$f":"'EstRev 6-11'!D181","v":0},{"$f":"A4745-B4745","v":4740}]
[4741,{"$f":"'EstRev 6-11'!E181","v":0},4741]
[4742]
[4743,{"$f":"'EstRev 6-11'!G181","v":0},4743]
[4744,{"$f":"'EstRev 6-11'!D182","v":0},4744]
[4745,{"$f":"'EstRev 6-11'!E182","v":0},4745]
[4746]
[4747,{"$f":"'EstRev 6-11'!G182","v":0},4747]
[4748]
[4749,{"$f":"'EstRev 6-11'!H181","v":0},4749]
[4750,{"$f":"'EstRev 6-11'!I181","v":0},4750]
[4751]
[4752,{"$f":"'EstRev 6-11'!H182","v":0},4752]
[4753,{"$f":"'EstRev 6-11'!I182","v":0},4753]
[4754]
[4755,{"$f":"'EstRev 6-11'!L182","v":0},4755]
[4756]
[4757]
[4758]
[4759]
[4760]
[4761]
[4762]
[4763]
[4764]
[4765]
[4766]
[4767]
[4768]
[4769]
[4770,null,null,"Close 2008"]
[4771,null,null,"Close 2008"]
[4772,null,null,"Close 2008"]
[4773]
[4774]
[4775]
[4776]
[4777]
[4778]
[4779]
[4780]
[4781]
[4782]
[4783]
[4784]
[4785,null,null,"Close 2008"]
[4786,null,null,"Close 2008"]
[4787,null,null,"Close 2008"]
[4788]
[4789]
[4790]
[4791,{"$f":"'EstRev 6-11'!D267","v":85100},-80309]
[4792,{"$f":"'EstRev 6-11'!E267","v":276000},-271208]
[4793]
[4794,{"$f":"'EstRev 6-11'!G267","v":0},4794]
[4795]
[4796,null,null,"Close 2008"]
[4797]
[4798]
[4799]
[4800]
[4801,null,null,"Closed 2008"]
[4802]
[4803,{"$f":"'EstRev 6-11'!H267","v":0},{"$f":"A4808-B4808","v":4803}]
[4804,{"$f":"'EstRev 6-11'!I267","v":0},4804]
[4805]
[4806]
[4807,{"$f":"'EstRev 6-11'!L267","v":0},4807]
[4808]
[4809]
[4810]
[4811,null,null,"Close 2008"]
[4812]
[4813,null,null,"Closed 2018"]
[4814,null,null,"Closed 2018"]
[4815,null,null,"Closed 2018"]
[4816,null,null,"Closed 2018"]
[4817,null,null,"Closed 2018"]
[4818,null,null,"Closed 2018"]
[4819,null,null,"Close 2008"]
[4820,null,null,"Closed 2018"]
[4821,{"$f":"'EstRev 6-11'!D123","v":0},4821]
[4822,{"$f":"'EstRev 6-11'!E123","v":0},4822]
[4823,{"$f":"'EstRev 6-11'!F123","v":0},4823]
[4824,{"$f":"'EstRev 6-11'!G123","v":0},4824]
[4825,{"$f":"'EstRev 6-11'!H123","v":0},4825]
[4826,{"$f":"'EstRev 6-11'!I123","v":0},4826]
[4827,null,null,"Close 2008"]
[4828,{"$f":"'EstRev 6-11'!L123","v":0},4828]
[4829]
[4830]
[4831]
[4832]
[4833]
[4834]
[4835]
[4836]
[4837]
[4838,null,null,"Close 2008"]
[4839,null,null,"Close 2008"]
[4840,null,null,"Close 2008"]
[4841]
[4842]
[4843]
[4844]
[4845]
[4846]
[4847]
[4848]
[4849]
[4850]
[4851]
[4852]
[4853]
[4854,{"$f":"'EstRev 6-11'!D164","v":0},4854]
[4855,{"$f":"'EstRev 6-11'!E164","v":0},4855]
[4856,{"$f":"'EstRev 6-11'!F164","v":0},4856]
[4857,{"$f":"'EstRev 6-11'!G164","v":0},4857]
[4858,{"$f":"'EstRev 6-11'!H164","v":0},4858]
[4859,{"$f":"'EstRev 6-11'!I164","v":0},4859]
[4860]
[4861,{"$f":"'EstRev 6-11'!L164","v":0},4861]
[4862]
[4863]
[4864]
[4865]
[4866]
[4867]
[4868]
[4869]
[4870]
[4871,null,null,"Close 2008"]
[4872,null,null,"Close 2008"]
[4873,null,null,"Close 2008"]
[4874]
[4875]
[4876]
[4877]
[4878]
[4879]
[4880]
[4881]
[4882]
[4883,{"$f":"'EstRev 6-11'!D176","v":0},{"$f":"A4888-B4888","v":4883}]
[4884,{"$f":"'EstRev 6-11'!E176","v":0},4884]
[4885,{"$f":"'EstRev 6-11'!G176","v":0},4885]
[4886,{"$f":"'EstRev 6-11'!H176","v":0},4886]
[4887,{"$f":"'EstRev 6-11'!I176","v":0},4887]
[4888,{"$f":"'EstRev 6-11'!L176","v":0},4888]
[4889,{"$f":"'EstRev 6-11'!I177","v":0},4889]
[4890,{"$f":"'EstRev 6-11'!L177","v":0},4890]
[4891]
[4892]
[4893]
[4894]
[4895]
[4896]
[4897]
[4898]
[4899]
[4900]
[4901]
[4902]
[4903]
[4904]
[4905]
[4906]
[4907]
[4908]
[4909]
[4910]
[4911]
[4912]
[4913]
[4914]
[4915]
[4916]
[4917]
[4918]
[4919]
[4920]
[4921]
[4922]
[4923]
[4924]
[4925]
[4926]
[4927]
[4928]
[4929]
[4930]
[4931]
[4932]
[4933]
[4934]
[4935]
[4936]
[4937]
[4938,null,null,"Close 2008"]
[4939,{"$f":"'EstRev 6-11'!L171","v":0},{"$f":"A4944-B4944","v":4939}]
[4940]
[4941]
[4942]
[4943]
[4944]
[4945]
[4946]
[4947]
[4948]
[4949]
[4950,{"$f":"'BudgetSum 2-4'!I7","v":0},4950,"fixed B16"]
[4951,{"$f":"'BudgetSum 2-4'!C29","v":0},4951]
[4952,{"$f":"'BudgetSum 2-4'!D29","v":0},4952]
[4953,{"$f":"'BudgetSum 2-4'!F29","v":0},4953]
[4954,null,null,"Close 2008"]
[4955,null,null,"Close 2008"]
[4956,null,null,"Close 2008"]
[4957,null,null,"Close 2008"]
[4958,null,null,"Close 2008"]
[4959,null,null,"Close 2008"]
[4960,null,null,"Close 2008"]
[4961,{"$f":"'BudgetSum 2-4'!C52","v":0},4961]
[4962,{"$f":"'BudgetSum 2-4'!D52","v":0},4962]
[4963,{"$f":"'BudgetSum 2-4'!F52","v":0},4963]
[4964,null,null,"Close 2008"]
[4965,{"$f":"'EstRev 6-11'!D6","v":14000},-9035]
[4966,{"$f":"'EstRev 6-11'!G106","v":0},4966]
[4967]
[4968]
[4969]
[4970]
[4971]
[4972]
[4973]
[4974]
[4975]
[4976]
[4977]
[4978]
[4979]
[4980]
[4981]
[4982]
[4983]
[4984]
[4985]
[4986]
[4987]
[4988]
[4989]
[4990]
[4991]
[4992]
[4993]
[4994]
[4995,{"$f":"'EstRev 6-11'!D162","v":0},{"$f":"A5000-B5000","v":4995}]
[4996,{"$f":"'EstRev 6-11'!E162","v":0},4996]
[4997,{"$f":"'EstRev 6-11'!G162","v":0},4997]
[4998,{"$f":"'EstRev 6-11'!H162","v":0},4998]
[4999,{"$f":"'EstRev 6-11'!D163","v":0},4999]
[5000,{"$f":"'EstRev 6-11'!D5","v":720000},-715000]
[5001,null,null,"Close 2008"]
[5002,{"$f":"'EstRev 6-11'!D7","v":11551},-6549]
[5003,{"$f":"'EstRev 6-11'!D10","v":0},5003]
[5004,{"$f":"'EstRev 6-11'!D11","v":0},5004]
[5005,{"$f":"'EstRev 6-11'!D12","v":745551},-740546]
[5006,{"$f":"'EstRev 6-11'!D14","v":0},5006]
[5007,{"$f":"'EstRev 6-11'!D15","v":0},5007]
[5008,{"$f":"'EstRev 6-11'!D16","v":127000},-121992]
[5009,{"$f":"'EstRev 6-11'!D17","v":0},5009]
[5010,{"$f":"'EstRev 6-11'!D18","v":127000},-121990]
[5011,{"$f":"'EstRev 6-11'!D20","v":0},5011]
[5012,{"$f":"'EstRev 6-11'!D21","v":0},5012]
[5013,{"$f":"'EstRev 6-11'!D22","v":0},5013]
[5014,{"$f":"'EstRev 6-11'!D24","v":0},5014]
[5015,{"$f":"'EstRev 6-11'!D25","v":0},5015]
[5016,{"$f":"'EstRev 6-11'!D26","v":0},5016]
[5017,{"$f":"'EstRev 6-11'!D28","v":0},5017]
[5018,{"$f":"'EstRev 6-11'!D29","v":0},5018]
[5019,{"$f":"'EstRev 6-11'!D30","v":0},5019]
[5020,{"$f":"'EstRev 6-11'!D32","v":0},5020]
[5021,{"$f":"'EstRev 6-11'!D33","v":0},5021]
[5022,{"$f":"'EstRev 6-11'!D34","v":0},5022]
[5023,{"$f":"'EstRev 6-11'!D36","v":0},5023]
[5024,{"$f":"'EstRev 6-11'!D37","v":0},5024]
[5025,{"$f":"'EstRev 6-11'!D38","v":0},5025]
[5026,{"$f":"'EstRev 6-11'!D40","v":0},5026]
[5027,{"$f":"'EstRev 6-11'!D65","v":8600},-3573]
[5028,{"$f":"'EstRev 6-11'!D66","v":0},5028]
[5029,{"$f":"'EstRev 6-11'!D67","v":8600},-3571]
[5030,{"$f":"'EstRev 6-11'!D70","v":0},5030]
[5031,{"$f":"'EstRev 6-11'!D71","v":2200},2831]
[5032,{"$f":"'EstRev 6-11'!D72","v":0},5032]
[5033,{"$f":"'EstRev 6-11'!D73","v":0},5033]
[5034,{"$f":"'EstRev 6-11'!D74","v":0},5034]
[5035,{"$f":"'EstRev 6-11'!D75","v":2200},2835]
[5036,{"$f":"'EstRev 6-11'!D77","v":11500},-6464]
[5037,{"$f":"'EstRev 6-11'!D78","v":1500},3537]
[5038,{"$f":"'EstRev 6-11'!D79","v":1750},3288]
[5039,{"$f":"'EstRev 6-11'!D80","v":0},5039]
[5040,{"$f":"'EstRev 6-11'!D81","v":0},5040]
[5041,{"$f":"'EstRev 6-11'!D83","v":14750},-9709]
[5042,{"$f":"'EstRev 6-11'!D86","v":1000},4042]
[5043,{"$f":"'EstRev 6-11'!D87","v":0},5043]
[5044,{"$f":"'EstRev 6-11'!D88","v":0},5044]
[5045,{"$f":"'EstRev 6-11'!D89","v":4700},345]
[5046,{"$f":"'EstRev 6-11'!D90","v":0},5046]
[5047,{"$f":"'EstRev 6-11'!D91","v":0},5047]
[5048,{"$f":"'EstRev 6-11'!D92","v":0},5048]
[5049,{"$f":"'EstRev 6-11'!D93","v":600},4449]
[5050,{"$f":"'EstRev 6-11'!D94","v":50},5000]
[5051,{"$f":"'EstRev 6-11'!D95","v":6350},-1299]
[5052,{"$f":"'EstRev 6-11'!D97","v":13000},-7948]
[5053,{"$f":"'EstRev 6-11'!D98","v":0},5053]
[5054,{"$f":"'EstRev 6-11'!D100","v":0},5054]
[5055,{"$f":"'EstRev 6-11'!D101","v":0},5055]
[5056,{"$f":"'EstRev 6-11'!D107","v":0},5056]
[5057,{"$f":"'EstRev 6-11'!D108","v":0},5057]
[5058,{"$f":"'EstRev 6-11'!D109","v":31600},-26542]
[5059,{"$f":"'EstRev 6-11'!D110","v":156800},{"$f":"A5064-B5064","v":-151741}]
[5060,{"$f":"'EstRev 6-11'!D111","v":1061251},-1056191]
[5061,{"$f":"'EstRev 6-11'!D114","v":0},5061]
[5062,{"$f":"'EstRev 6-11'!D115","v":0},5062]
[5063,{"$f":"'EstRev 6-11'!D116","v":0},5063]
[5064,{"$f":"'EstRev 6-11'!D117","v":0},5064]
[5065,{"$f":"'EstRev 6-11'!D120","v":1010000},-1004935]
[5066,{"$f":"'EstRev 6-11'!D121","v":0},5066]
[5067]
[5068]
[5069]
[5070]
[5071,{"$f":"'EstRev 6-11'!D124","v":1010000},-1004929]
[5072,{"$f":"'EstRev 6-11'!D127","v":0},5072]
[5073,{"$f":"'EstRev 6-11'!D128","v":0},5073]
[5074,{"$f":"'EstRev 6-11'!D129","v":0},5074]
[5075]
[5076,{"$f":"'EstRev 6-11'!D130","v":0},5076]
[5077]
[5078,{"$f":"'EstRev 6-11'!D131","v":0},5078]
[5079]
[5080]
[5081,{"$f":"'EstRev 6-11'!D132","v":0},5081]
[5082]
[5083]
[5084]
[5085]
[5086,{"$f":"'EstRev 6-11'!D134","v":0},5086]
[5087,{"$f":"'EstRev 6-11'!D136","v":0},5087]
[5088]
[5089,null,null,"Close 2008"]
[5090,null,null,"Close 2008"]
[5091,{"$f":"'EstRev 6-11'!D137","v":0},5091]
[5092,{"$f":"'EstRev 6-11'!D138","v":0},5092]
[5093]
[5094]
[5095]
[5096]
[5097]
[5098]
[5099]
[5100,{"$f":"'EstRev 6-11'!D143","v":12000},-6900]
[5101]
[5102,{"$f":"'EstRev 6-11'!D145","v":0},5102]
[5103,{"$f":"'EstRev 6-11'!D146","v":0},5103]
[5104,{"$f":"'EstRev 6-11'!D147","v":0},5104]
[5105,null,null,"Close 2008"]
[5106,{"$f":"'EstRev 6-11'!D148","v":400},4706]
[5107,{"$f":"'EstRev 6-11'!D150","v":3200},1907]
[5108]
[5109]
[5110,{"$f":"'EstRev 6-11'!D151","v":0},5110]
[5111]
[5112]
[5113]
[5114,{"$f":"'EstRev 6-11'!D154","v":0},5114]
[5115]
[5116,{"$f":"'EstRev 6-11'!D155","v":0},5116]
[5117,{"$f":"'EstRev 6-11'!D157","v":0},5117]
[5118]
[5119]
[5120,{"$f":"'EstRev 6-11'!D158","v":0},5120]
[5121]
[5122]
[5123]
[5124]
[5125]
[5126,{"$f":"'EstRev 6-11'!D159","v":0},{"$f":"A5131-B5131","v":5126}]
[5127]
[5128]
[5129]
[5130]
[5131]
[5132]
[5133,{"$f":"'EstRev 6-11'!D160","v":0},5133]
[5134]
[5135,{"$f":"'EstRev 6-11'!D161","v":70000},-64865]
[5136]
[5137]
[5138,null,null,"Closed 2018"]
[5139,null,null,"Closed 2018"]
[5140]
[5141]
[5142]
[5143]
[5144]
[5145]
[5146,null,null,"Close 2008"]
[5147,null,null,"Close 2008"]
[5148,null,null,"Close 2008"]
[5149,null,null,"Close 2008"]
[5150,null,null,"Close 2008"]
[5151,null,null,"Close 2008"]
[5152,null,null,"Close 2008"]
[5153,{"$f":"'EstRev 6-11'!D171","v":85600},-80447]
[5154]
[5155]
[5156]
[5157]
[5158]
[5159]
[5160]
[5161]
[5162,{"$f":"'EstRev 6-11'!D172","v":1095600},-1090438]
[5163,{"$f":"'EstRev 6-11'!D175","v":0},5163]
[5164,{"$f":"'EstRev 6-11'!D177","v":0},5164]
[5165,null,null,"Close 2008"]
[5166,null,null,"Close 2008"]
[5167,null,null,"Close 2008"]
[5168,null,null,"Close 2008"]
[5169,{"$f":"'EstRev 6-11'!D179","v":0},5169]
[5170,{"$f":"'EstRev 6-11'!D180","v":0},5170]
[5171,{"$f":"'EstRev 6-11'!D183","v":0},5171]
[5172,{"$f":"'EstRev 6-11'!D186","v":0},5172]
[5173]
[5174]
[5175]
[5176]
[5177]
[5178,{"$f":"'EstRev 6-11'!D193","v":80000},-74822]
[5179,{"$f":"'EstRev 6-11'!D194","v":0},5179]
[5180,{"$f":"'EstRev 6-11'!D195","v":22000},-16820]
[5181,{"$f":"'EstRev 6-11'!D196","v":0},5181]
[5182,{"$f":"'EstRev 6-11'!D197","v":0},5182]
[5183]
[5184]
[5185,{"$f":"'EstRev 6-11'!D200","v":110700},-105515]
[5186,{"$f":"'EstRev 6-11'!D202","v":98000},-92814]
[5187,{"$f":"'EstRev 6-11'!D203","v":0},{"$f":"A5192-B5192","v":5187}]
[5188]
[5189]
[5190]
[5191,null,null,"Closed 2008"]
[5192,null,null,"Closed 2008"]
[5193,null,null,"Closed 2018"]
[5194,{"$f":"'EstRev 6-11'!D204","v":0},5194]
[5195,{"$f":"'EstRev 6-11'!D208","v":2455},2740]
[5196,null,null,"Closed 2008"]
[5197]
[5198]
[5199,{"$f":"'EstRev 6-11'!D206","v":116000},-110801]
[5200]
[5201]
[5202]
[5203]
[5204]
[5205]
[5206]
[5207]
[5208]
[5209]
[5210]
[5211]
[5212]
[5213,{"$f":"'EstRev 6-11'!D213","v":1600},3613]
[5214,{"$f":"'EstRev 6-11'!D214","v":0},5214]
[5215]
[5216]
[5217,{"$f":"'EstRev 6-11'!D215","v":67000},-61783]
[5218,{"$f":"'EstRev 6-11'!D216","v":0},5218]
[5219,{"$f":"'EstRev 6-11'!D217","v":0},5219]
[5220]
[5221]
[5222]
[5223]
[5224]
[5225,{"$f":"'EstRev 6-11'!D219","v":68600},-63375]
[5226]
[5227]
[5228]
[5229]
[5230,null,null,"Closed 2008"]
[5231]
[5232]
[5233]
[5234]
[5235,null,null,"Closed 2008"]
[5236,null,null,"Closed 2008"]
[5237]
[5238]
[5239]
[5240,{"$f":"'EstRev 6-11'!D221","v":0},5240]
[5241]
[5242]
[5243,{"$f":"'EstRev 6-11'!D223","v":0},5243]
[5244]
[5245]
[5246]
[5247]
[5248]
[5249,{"$f":"'EstRev 6-11'!D224","v":0},5249]
[5250]
[5251,{"$f":"'EstRev 6-11'!D257","v":0},{"$f":"A5256-B5256","v":5251}]
[5252,null,null,"Closed 2018"]
[5253]
[5254,{"$f":"'EstRev 6-11'!D259","v":0},5254]
[5255]
[5256,{"$f":"'EstRev 6-11'!D260","v":0},5256]
[5257]
[5258,null,null,"Closed 2008"]
[5259,{"$f":"'EstRev 6-11'!D268","v":425155},-419896]
[5260]
[5261]
[5262]
[5263]
[5264]
[5265,{"$f":"'EstRev 6-11'!D269","v":425155},-419890]
[5266,{"$f":"'EstRev 6-11'!D270","v":2582006},-2576740]
[5267,{"$f":"'EstRev 6-11'!E5","v":216577},-211310]
[5268,null,null,"Closed 2008"]
[5269,{"$f":"'EstRev 6-11'!E6","v":7000},-1731]
[5270,{"$f":"'EstRev 6-11'!E7","v":0},5270]
[5271,{"$f":"'EstRev 6-11'!E9","v":0},5271]
[5272,{"$f":"'EstRev 6-11'!E11","v":0},5272]
[5273,{"$f":"'EstRev 6-11'!E12","v":223577},-218304]
[5274,{"$f":"'EstRev 6-11'!E14","v":0},5274]
[5275,{"$f":"'EstRev 6-11'!E15","v":0},5275]
[5276,{"$f":"'EstRev 6-11'!E16","v":0},5276]
[5277,{"$f":"'EstRev 6-11'!E17","v":0},5277]
[5278,{"$f":"'EstRev 6-11'!E18","v":0},5278]
[5279,{"$f":"'EstRev 6-11'!E65","v":2500},2779]
[5280,{"$f":"'EstRev 6-11'!E66","v":0},5280]
[5281,{"$f":"'EstRev 6-11'!E67","v":2500},2781]
[5282,{"$f":"'EstRev 6-11'!E77","v":0},5282]
[5283,{"$f":"'EstRev 6-11'!E78","v":0},5283]
[5284,{"$f":"'EstRev 6-11'!E79","v":0},5284]
[5285,{"$f":"'EstRev 6-11'!E80","v":0},5285]
[5286,{"$f":"'EstRev 6-11'!E81","v":0},5286]
[5287,{"$f":"'EstRev 6-11'!E83","v":0},5287]
[5288,{"$f":"'EstRev 6-11'!E97","v":0},5288]
[5289,{"$f":"'EstRev 6-11'!E98","v":0},5289]
[5290,{"$f":"'EstRev 6-11'!E100","v":0},5290]
[5291,{"$f":"'EstRev 6-11'!E101","v":0},5291]
[5292,{"$f":"'EstRev 6-11'!E106","v":0},5292]
[5293,{"$f":"'EstRev 6-11'!E109","v":0},5293]
[5294,{"$f":"'EstRev 6-11'!E110","v":0},5294]
[5295,{"$f":"'EstRev 6-11'!E111","v":226077},-220782]
[5296,{"$f":"'EstRev 6-11'!E114","v":0},5296]
[5297,{"$f":"'EstRev 6-11'!E115","v":0},5297]
[5298,{"$f":"'EstRev 6-11'!E116","v":0},5298]
[5299,{"$f":"'EstRev 6-11'!E117","v":0},5299]
[5300,{"$f":"'EstRev 6-11'!E120","v":0},5300]
[5301,{"$f":"'EstRev 6-11'!E121","v":0},5301]
[5302]
[5303]
[5304]
[5305]
[5306,{"$f":"'EstRev 6-11'!E124","v":0},5306]
[5307,{"$f":"'EstRev 6-11'!E129","v":0},5307]
[5308,{"$f":"'EstRev 6-11'!E134","v":0},5308]
[5309,{"$f":"'EstRev 6-11'!E136","v":0},5309]
[5310]
[5311,null,null,"Closed 2008"]
[5312,null,null,"Closed 2008"]
[5313,{"$f":"'EstRev 6-11'!E137","v":0},5313]
[5314,{"$f":"'EstRev 6-11'!E138","v":0},5314]
[5315]
[5316]
[5317]
[5318]
[5319]
[5320]
[5321]
[5322,{"$f":"'EstRev 6-11'!E143","v":0},{"$f":"A5327-B5327","v":5322}]
[5323,{"$f":"'EstRev 6-11'!E150","v":0},5323]
[5324]
[5325]
[5326,{"$f":"'EstRev 6-11'!E151","v":0},5326]
[5327]
[5328]
[5329]
[5330,{"$f":"'EstRev 6-11'!E154","v":0},5330]
[5331]
[5332,{"$f":"'EstRev 6-11'!E155","v":0},5332]
[5333,{"$f":"'EstRev 6-11'!E157","v":0},5333]
[5334,{"$f":"'EstRev 6-11'!E159","v":0},5334]
[5335]
[5336]
[5337]
[5338]
[5339]
[5340,{"$f":"'EstRev 6-11'!E161","v":0},5340]
[5341]
[5342]
[5343]
[5344]
[5345]
[5346,null,null,"Closed 2008"]
[5347]
[5348]
[5349,null,null,"Closed 2008"]
[5350,null,null,"Closed 2008"]
[5351,{"$f":"'EstRev 6-11'!E171","v":50000},-44649]
[5352]
[5353]
[5354]
[5355]
[5356]
[5357]
[5358]
[5359]
[5360,{"$f":"'EstRev 6-11'!E172","v":50000},-44640]
[5361,{"$f":"'EstRev 6-11'!E175","v":0},5361]
[5362,{"$f":"'EstRev 6-11'!E177","v":0},5362]
[5363,{"$f":"'EstRev 6-11'!E180","v":0},5363]
[5364,{"$f":"'EstRev 6-11'!E183","v":0},5364]
[5365,{"$f":"'EstRev 6-11'!E186","v":0},5365]
[5366]
[5367]
[5368]
[5369]
[5370,{"$f":"'EstRev 6-11'!E202","v":0},5370]
[5371,{"$f":"'EstRev 6-11'!E203","v":0},5371]
[5372]
[5373]
[5374]
[5375,null,null,"Closed 2008"]
[5376,null,null,"Closed 2008"]
[5377,null,null,"Closed 2018"]
[5378,{"$f":"'EstRev 6-11'!E204","v":0},5378]
[5379,{"$f":"'EstRev 6-11'!E208","v":0},{"$f":"A5384-B5384","v":5379}]
[5380,null,null,"Closed 2008"]
[5381]
[5382]
[5383,{"$f":"'EstRev 6-11'!E206","v":0},5383]
[5384]
[5385]
[5386]
[5387]
[5388]
[5389]
[5390]
[5391]
[5392]
[5393]
[5394]
[5395]
[5396]
[5397,{"$f":"'EstRev 6-11'!E213","v":0},5397]
[5398,{"$f":"'EstRev 6-11'!E214","v":0},5398]
[5399]
[5400]
[5401,{"$f":"'EstRev 6-11'!E215","v":0},5401]
[5402,{"$f":"'EstRev 6-11'!E216","v":0},5402]
[5403,{"$f":"'EstRev 6-11'!E217","v":0},5403]
[5404]
[5405]
[5406]
[5407]
[5408]
[5409,{"$f":"'EstRev 6-11'!E219","v":0},5409]
[5410]
[5411]
[5412]
[5413]
[5414,null,null,"Closed 2008"]
[5415]
[5416]
[5417]
[5418]
[5419,null,null,"Closed 2008"]
[5420,null,null,"Closed 2008"]
[5421]
[5422]
[5423]
[5424,{"$f":"'EstRev 6-11'!E221","v":0},5424]
[5425]
[5426]
[5427,{"$f":"'EstRev 6-11'!E223","v":0},5427]
[5428]
[5429]
[5430]
[5431]
[5432]
[5433,{"$f":"'EstRev 6-11'!E224","v":0},5433]
[5434]
[5435,{"$f":"'EstRev 6-11'!E259","v":0},5435]
[5436]
[5437,{"$f":"'EstRev 6-11'!E260","v":0},5437]
[5438]
[5439,null,null,"Closed 2008"]
[5440,{"$f":"'EstRev 6-11'!E268","v":276000},-270560]
[5441]
[5442]
[5443]
[5444]
[5445]
[5446,{"$f":"'EstRev 6-11'!E269","v":276000},{"$f":"A5451-B5451","v":-270554}]
[5447,{"$f":"'EstRev 6-11'!E270","v":552077},-546630]
[5448,{"$f":"'EstRev 6-11'!F5","v":287000},-281552]
[5449,null,null,"Closed 2008"]
[5450,{"$f":"'EstRev 6-11'!F9","v":0},5450]
[5451,{"$f":"'EstRev 6-11'!F11","v":0},5451]
[5452,{"$f":"'EstRev 6-11'!F12","v":287000},-281548]
[5453,{"$f":"'EstRev 6-11'!F14","v":0},5453]
[5454,{"$f":"'EstRev 6-11'!F15","v":0},5454]
[5455,{"$f":"'EstRev 6-11'!F16","v":1000},4455]
[5456,{"$f":"'EstRev 6-11'!F17","v":0},5456]
[5457,{"$f":"'EstRev 6-11'!F18","v":1000},4457]
[5458,{"$f":"'EstRev 6-11'!F65","v":400},5058]
[5459,{"$f":"'EstRev 6-11'!F66","v":0},5459]
[5460,{"$f":"'EstRev 6-11'!F67","v":400},5060]
[5461,{"$f":"'EstRev 6-11'!F98","v":0},5461]
[5462,{"$f":"'EstRev 6-11'!F101","v":0},5462]
[5463,{"$f":"'EstRev 6-11'!F106","v":0},5463]
[5464,{"$f":"'EstRev 6-11'!F109","v":0},5464]
[5465,{"$f":"'EstRev 6-11'!F110","v":53781},-48316]
[5466,{"$f":"'EstRev 6-11'!F111","v":342181},-336715]
[5467,{"$f":"'EstRev 6-11'!F120","v":0},5467]
[5468,{"$f":"'EstRev 6-11'!F121","v":0},5468]
[5469]
[5470]
[5471]
[5472]
[5473,{"$f":"'EstRev 6-11'!F124","v":0},5473]
[5474]
[5475]
[5476,{"$f":"'EstRev 6-11'!F171","v":0},5476]
[5477]
[5478]
[5479]
[5480]
[5481]
[5482]
[5483,{"$f":"'EstRev 6-11'!F172","v":0},5483]
[5484]
[5485]
[5486]
[5487]
[5488]
[5489]
[5490]
[5491,{"$f":"'EstRev 6-11'!F270","v":342181},-336690]
[5492,{"$f":"'EstRev 6-11'!G5","v":57754},-52262]
[5493,null,null,"Closed 2008"]
[5494,{"$f":"'EstRev 6-11'!G7","v":0},5494]
[5495,{"$f":"'EstRev 6-11'!G11","v":0},5495]
[5496,{"$f":"'EstRev 6-11'!G12","v":57754},-52258]
[5497,{"$f":"'EstRev 6-11'!G14","v":0},5497]
[5498,{"$f":"'EstRev 6-11'!G15","v":0},5498]
[5499,{"$f":"'EstRev 6-11'!G16","v":82000},-76501]
[5500,{"$f":"'EstRev 6-11'!G17","v":0},5500]
[5501,{"$f":"'EstRev 6-11'!G18","v":82000},-76499]
[5502,{"$f":"'EstRev 6-11'!G42","v":0},5502]
[5503,{"$f":"'EstRev 6-11'!G43","v":0},5503]
[5504,{"$f":"'EstRev 6-11'!G44","v":0},5504]
[5505,{"$f":"'EstRev 6-11'!G45","v":0},5505]
[5506,{"$f":"'EstRev 6-11'!G47","v":0},5506]
[5507,{"$f":"'EstRev 6-11'!G48","v":0},{"$f":"A5512-B5512","v":5507}]
[5508,{"$f":"'EstRev 6-11'!G49","v":0},5508]
[5509,{"$f":"'EstRev 6-11'!G51","v":0},5509]
[5510,{"$f":"'EstRev 6-11'!G52","v":0},5510]
[5511,{"$f":"'EstRev 6-11'!G53","v":0},5511]
[5512,{"$f":"'EstRev 6-11'!G55","v":0},5512]
[5513,{"$f":"'EstRev 6-11'!G56","v":0},5513]
[5514,{"$f":"'EstRev 6-11'!G57","v":0},5514]
[5515,{"$f":"'EstRev 6-11'!G59","v":0},5515]
[5516,{"$f":"'EstRev 6-11'!G60","v":0},5516]
[5517,{"$f":"'EstRev 6-11'!G61","v":0},5517]
[5518,{"$f":"'EstRev 6-11'!G63","v":0},5518]
[5519,{"$f":"'EstRev 6-11'!G65","v":15},5504]
[5520,{"$f":"'EstRev 6-11'!G66","v":0},5520]
[5521,{"$f":"'EstRev 6-11'!G67","v":15},5506]
[5522,{"$f":"'EstRev 6-11'!G98","v":0},5522]
[5523,{"$f":"'EstRev 6-11'!G100","v":0},5523]
[5524,{"$f":"'EstRev 6-11'!G101","v":0},5524]
[5525,{"$f":"'EstRev 6-11'!G109","v":0},5525]
[5526,{"$f":"'EstRev 6-11'!G110","v":0},5526]
[5527,{"$f":"'EstRev 6-11'!G111","v":139769},-134242]
[5528,{"$f":"'EstRev 6-11'!G114","v":0},5528]
[5529,{"$f":"'EstRev 6-11'!G115","v":0},5529]
[5530,{"$f":"'EstRev 6-11'!G116","v":0},5530]
[5531,{"$f":"'EstRev 6-11'!G117","v":0},5531]
[5532,{"$f":"'EstRev 6-11'!G120","v":0},5532]
[5533,{"$f":"'EstRev 6-11'!G121","v":0},5533]
[5534]
[5535]
[5536]
[5537]
[5538,{"$f":"'EstRev 6-11'!G124","v":0},5538]
[5539,{"$f":"'EstRev 6-11'!G127","v":0},5539]
[5540,{"$f":"'EstRev 6-11'!G128","v":0},5540]
[5541,{"$f":"'EstRev 6-11'!G129","v":0},5541]
[5542]
[5543,{"$f":"'EstRev 6-11'!G130","v":0},5543]
[5544]
[5545,{"$f":"'EstRev 6-11'!G131","v":0},5545]
[5546]
[5547]
[5548,{"$f":"'EstRev 6-11'!G132","v":0},5548]
[5549]
[5550]
[5551]
[5552]
[5553,{"$f":"'EstRev 6-11'!G134","v":0},5553]
[5554,{"$f":"'EstRev 6-11'!G154","v":75000},-69446]
[5555]
[5556,{"$f":"'EstRev 6-11'!G155","v":54000},-48444]
[5557,{"$f":"'EstRev 6-11'!G157","v":129000},-123443]
[5558,{"$f":"'EstRev 6-11'!G159","v":0},5558]
[5559]
[5560]
[5561]
[5562]
[5563]
[5564,{"$f":"'EstRev 6-11'!G160","v":0},5564]
[5565]
[5566,{"$f":"'EstRev 6-11'!G161","v":0},5566]
[5567]
[5568]
[5569,null,null,"Closed 2018"]
[5570,null,null,"Closed 2018"]
[5571]
[5572]
[5573]
[5574]
[5575]
[5576,null,null,"Closed 2008"]
[5577]
[5578]
[5579,null,null,"Closed 2008"]
[5580,null,null,"Closed 2008"]
[5581,null,null,"Closed 2008"]
[5582,null,null,"Closed 2008"]
[5583,{"$f":"'EstRev 6-11'!G171","v":129000},{"$f":"A5588-B5588","v":-123417}]
[5584]
[5585]
[5586]
[5587]
[5588]
[5589]
[5590]
[5591]
[5592,{"$f":"'EstRev 6-11'!G172","v":129000},-123408]
[5593,{"$f":"'EstRev 6-11'!G175","v":0},5593]
[5594,{"$f":"'EstRev 6-11'!G177","v":0},5594]
[5595,null,null,"Closed 2008"]
[5596,null,null,"Closed 2008"]
[5597,{"$f":"'EstRev 6-11'!G183","v":0},5597]
[5598,{"$f":"'EstRev 6-11'!G186","v":0},5598]
[5599]
[5600]
[5601]
[5602]
[5603,{"$f":"'EstRev 6-11'!G202","v":0},5603]
[5604,{"$f":"'EstRev 6-11'!G203","v":0},5604]
[5605]
[5606]
[5607]
[5608,null,null,"Closed 2008"]
[5609,null,null,"Closed 2008"]
[5610,null,null,"Closed 2018"]
[5611,{"$f":"'EstRev 6-11'!G204","v":0},5611]
[5612,{"$f":"'EstRev 6-11'!G208","v":0},5612]
[5613,null,null,"Closed 2008"]
[5614]
[5615]
[5616,{"$f":"'EstRev 6-11'!G206","v":0},5616]
[5617]
[5618]
[5619]
[5620]
[5621]
[5622]
[5623]
[5624]
[5625]
[5626]
[5627]
[5628]
[5629]
[5630,{"$f":"'EstRev 6-11'!G213","v":0},5630]
[5631,{"$f":"'EstRev 6-11'!G214","v":0},5631]
[5632]
[5633]
[5634,{"$f":"'EstRev 6-11'!G215","v":0},5634]
[5635,{"$f":"'EstRev 6-11'!G216","v":0},{"$f":"A5640-B5640","v":5635}]
[5636,{"$f":"'EstRev 6-11'!G217","v":0},5636]
[5637]
[5638]
[5639]
[5640]
[5641]
[5642,{"$f":"'EstRev 6-11'!G219","v":0},5642]
[5643]
[5644,{"$f":"'EstRev 6-11'!G257","v":0},5644]
[5645]
[5646,null,null,"Closed 2018"]
[5647,{"$f":"'EstRev 6-11'!G259","v":0},5647]
[5648]
[5649,{"$f":"'EstRev 6-11'!G260","v":0},5649]
[5650]
[5651,null,null,"Closed 2008"]
[5652,{"$f":"'EstRev 6-11'!G268","v":0},5652]
[5653]
[5654]
[5655]
[5656]
[5657]
[5658,{"$f":"'EstRev 6-11'!G269","v":0},5658]
[5659,{"$f":"'EstRev 6-11'!G270","v":268769},-263110]
[5660,{"$f":"'EstRev 6-11'!H5","v":55000},-49340]
[5661,{"$f":"'EstRev 6-11'!H7","v":0},5661]
[5662,{"$f":"'EstRev 6-11'!H8","v":51000},-45338]
[5663,{"$f":"'EstRev 6-11'!H11","v":0},5663]
[5664,{"$f":"'EstRev 6-11'!H12","v":106000},-100336]
[5665,{"$f":"'EstRev 6-11'!H14","v":0},5665]
[5666,{"$f":"'EstRev 6-11'!H15","v":0},5666]
[5667,{"$f":"'EstRev 6-11'!H16","v":30000},-24333]
[5668,{"$f":"'EstRev 6-11'!H17","v":0},5668]
[5669,{"$f":"'EstRev 6-11'!H18","v":30000},-24331]
[5670,{"$f":"'EstRev 6-11'!H65","v":290},5380]
[5671,{"$f":"'EstRev 6-11'!H66","v":0},5671]
[5672,{"$f":"'EstRev 6-11'!H67","v":290},5382]
[5673,{"$f":"'EstRev 6-11'!H98","v":0},5673]
[5674,{"$f":"'EstRev 6-11'!H101","v":0},5674]
[5675,{"$f":"'EstRev 6-11'!H109","v":0},5675]
[5676,{"$f":"'EstRev 6-11'!H110","v":0},5676]
[5677,{"$f":"'EstRev 6-11'!H114","v":0},5677]
[5678,{"$f":"'EstRev 6-11'!H115","v":0},5678]
[5679,{"$f":"'EstRev 6-11'!H116","v":0},5679]
[5680,{"$f":"'EstRev 6-11'!H117","v":0},5680]
[5681,{"$f":"'EstRev 6-11'!H120","v":0},5681]
[5682,{"$f":"'EstRev 6-11'!H121","v":0},5682]
[5683]
[5684]
[5685]
[5686]
[5687,{"$f":"'EstRev 6-11'!H124","v":0},5687]
[5688,{"$f":"'EstRev 6-11'!H136","v":0},5688]
[5689]
[5690,null,null,"Closed 2008"]
[5691,{"$f":"'EstRev 6-11'!H143","v":0},5691]
[5692]
[5693,{"$f":"'EstRev 6-11'!H145","v":0},5693]
[5694,{"$f":"'EstRev 6-11'!H146","v":0},5694]
[5695,{"$f":"'EstRev 6-11'!H147","v":0},5695]
[5696,{"$f":"'EstRev 6-11'!H159","v":0},5696]
[5697]
[5698]
[5699]
[5700]
[5701]
[5702,{"$f":"'EstRev 6-11'!H160","v":0},{"$f":"A5707-B5707","v":5702}]
[5703]
[5704,{"$f":"'EstRev 6-11'!H161","v":0},5704]
[5705]
[5706,null,null,"Closed 2018"]
[5707,null,null,"Closed 2018"]
[5708]
[5709,{"$f":"'EstRev 6-11'!H171","v":0},5709]
[5710]
[5711]
[5712]
[5713]
[5714]
[5715]
[5716]
[5717,{"$f":"'EstRev 6-11'!H172","v":0},5717]
[5718,{"$f":"'EstRev 6-11'!H175","v":0},5718]
[5719,{"$f":"'EstRev 6-11'!H177","v":0},5719]
[5720,null,null,"Closed 2008"]
[5721,null,null,"Closed 2008"]
[5722,null,null,"Closed 2008"]
[5723,{"$f":"'EstRev 6-11'!H183","v":0},5723]
[5724,{"$f":"'EstRev 6-11'!H186","v":0},5724]
[5725]
[5726]
[5727]
[5728]
[5729,{"$f":"'EstRev 6-11'!H202","v":0},5729]
[5730,{"$f":"'EstRev 6-11'!H203","v":0},5730]
[5731]
[5732]
[5733]
[5734,null,null,"Closed 2008"]
[5735,null,null,"Closed 2008"]
[5736,null,null,"Closed 2018"]
[5737,{"$f":"'EstRev 6-11'!H204","v":0},5737]
[5738,{"$f":"'EstRev 6-11'!H208","v":0},5738]
[5739,null,null,"Closed 2008"]
[5740]
[5741]
[5742,{"$f":"'EstRev 6-11'!H206","v":0},5742]
[5743]
[5744]
[5745]
[5746]
[5747]
[5748]
[5749]
[5750]
[5751]
[5752]
[5753]
[5754]
[5755]
[5756,{"$f":"'EstRev 6-11'!H213","v":0},5756]
[5757,{"$f":"'EstRev 6-11'!H214","v":0},5757]
[5758]
[5759]
[5760,{"$f":"'EstRev 6-11'!H215","v":0},5760]
[5761,{"$f":"'EstRev 6-11'!H216","v":0},5761]
[5762,{"$f":"'EstRev 6-11'!H217","v":0},5762]
[5763]
[5764]
[5765]
[5766]
[5767]
[5768,{"$f":"'EstRev 6-11'!H219","v":0},{"$f":"A5773-B5773","v":5768}]
[5769]
[5770]
[5771]
[5772]
[5773,null,null,"Closed 2008"]
[5774]
[5775]
[5776]
[5777]
[5778,null,null,"Closed 2008"]
[5779,null,null,"Closed 2008"]
[5780]
[5781]
[5782]
[5783,{"$f":"'EstRev 6-11'!H221","v":0},5783]
[5784]
[5785]
[5786,{"$f":"'EstRev 6-11'!H223","v":0},5786]
[5787]
[5788]
[5789]
[5790]
[5791]
[5792,{"$f":"'EstRev 6-11'!H224","v":0},5792]
[5793]
[5794,{"$f":"'EstRev 6-11'!H257","v":0},5794]
[5795,null,null,"Closed 2018"]
[5796]
[5797,{"$f":"'EstRev 6-11'!H259","v":0},5797]
[5798]
[5799,{"$f":"'EstRev 6-11'!H260","v":0},5799]
[5800]
[5801,null,null,"Closed 2008"]
[5802,{"$f":"'EstRev 6-11'!H268","v":0},5802]
[5803]
[5804]
[5805]
[5806]
[5807]
[5808,{"$f":"'EstRev 6-11'!H269","v":0},5808]
[5809,{"$f":"'EstRev 6-11'!H270","v":136290},-130481]
[5810,{"$f":"'EstRev 6-11'!I5","v":0},5810]
[5811,{"$f":"'EstRev 6-11'!I11","v":0},5811]
[5812,{"$f":"'EstRev 6-11'!I12","v":0},5812]
[5813,{"$f":"'EstRev 6-11'!I14","v":0},5813]
[5814,{"$f":"'EstRev 6-11'!I15","v":0},5814]
[5815,{"$f":"'EstRev 6-11'!I16","v":0},5815]
[5816,{"$f":"'EstRev 6-11'!I17","v":0},5816]
[5817,{"$f":"'EstRev 6-11'!I18","v":0},5817]
[5818,{"$f":"'EstRev 6-11'!I65","v":450},5368]
[5819,{"$f":"'EstRev 6-11'!I66","v":0},5819]
[5820,{"$f":"'EstRev 6-11'!I67","v":450},5370]
[5821,{"$f":"'EstRev 6-11'!I98","v":0},5821]
[5822,{"$f":"'EstRev 6-11'!I101","v":0},5822]
[5823,{"$f":"'EstRev 6-11'!I106","v":0},5823]
[5824,{"$f":"'EstRev 6-11'!I109","v":0},5824]
[5825,{"$f":"'EstRev 6-11'!I110","v":14000},-8175]
[5826,{"$f":"'EstRev 6-11'!I120","v":0},5826]
[5827,{"$f":"'EstRev 6-11'!I121","v":0},{"$f":"A5832-B5832","v":5827}]
[5828]
[5829]
[5830]
[5831]
[5832,{"$f":"'EstRev 6-11'!I124","v":0},5832]
[5833]
[5834]
[5835]
[5836]
[5837]
[5838,{"$f":"'EstRev 6-11'!I171","v":0},5838]
[5839]
[5840]
[5841]
[5842]
[5843]
[5844]
[5845,{"$f":"'EstRev 6-11'!I172","v":0},5845]
[5846,{"$f":"'EstRev 6-11'!I180","v":0},5846]
[5847,{"$f":"'EstRev 6-11'!I183","v":0},5847]
[5848]
[5849]
[5850]
[5851]
[5852]
[5853,{"$f":"'EstRev 6-11'!I269","v":0},5853]
[5854,{"$f":"'EstRev 6-11'!I270","v":14450},-8596]
[5855,{"$f":"'EstRev 6-11'!J5","v":14439},-8584]
[5856,{"$f":"'EstRev 6-11'!J11","v":0},5856]
[5857,{"$f":"'EstRev 6-11'!J12","v":14439},-8582]
[5858,{"$f":"'EstRev 6-11'!J14","v":0},5858]
[5859,{"$f":"'EstRev 6-11'!J15","v":0},5859]
[5860,{"$f":"'EstRev 6-11'!J16","v":0},5860]
[5861,{"$f":"'EstRev 6-11'!J17","v":0},5861]
[5862,{"$f":"'EstRev 6-11'!J18","v":0},5862]
[5863,{"$f":"'EstRev 6-11'!J65","v":600},5263]
[5864,{"$f":"'EstRev 6-11'!J66","v":0},5864]
[5865,{"$f":"'EstRev 6-11'!J67","v":600},5265]
[5866,{"$f":"'EstRev 6-11'!J98","v":0},5866]
[5867]
[5868,{"$f":"'EstRev 6-11'!J109","v":0},5868]
[5869,{"$f":"'EstRev 6-11'!J110","v":0},5869]
[5870]
[5871]
[5872]
[5873]
[5874]
[5875]
[5876]
[5877]
[5878]
[5879]
[5880]
[5881]
[5882]
[5883]
[5884]
[5885,{"$f":"'EstRev 6-11'!J270","v":15039},-9154]
[5886,null,null,"Closed 2008"]
[5887,null,null,"Closed 2008"]
[5888,null,null,"Closed 2008"]
[5889,null,null,"Closed 2008"]
[5890,null,null,"Closed 2008"]
[5891,null,null,"Closed 2008"]
[5892,null,null,"Closed 2008"]
[5893,null,null,"Closed 2008"]
[5894,null,null,"Closed 2008"]
[5895,null,null,"Closed 2008"]
[5896,null,null,"Closed 2008"]
[5897,null,null,"Closed 2008"]
[5898,null,null,"Closed 2008"]
[5899,null,null,"Closed 2008"]
[5900,null,null,"Closed 2008"]
[5901,null,null,"Closed 2008"]
[5902,null,null,"Closed 2008"]
[5903]
[5904]
[5905]
[5906]
[5907,null,null,"Closed 2008"]
[5908]
[5909]
[5910]
[5911]
[5912]
[5913]
[5914]
[5915,null,null,"Closed 2008"]
[5916]
[5917]
[5918]
[5919]
[5920]
[5921]
[5922]
[5923,null,null,"Closed 2008"]
[5924,{"$f":"'EstRev 6-11'!L5","v":14439},{"$f":"A5929-B5929","v":-8515}]
[5925,{"$f":"'EstRev 6-11'!L11","v":0},5925]
[5926,{"$f":"'EstRev 6-11'!L12","v":14439},-8513]
[5927,{"$f":"'EstRev 6-11'!L14","v":0},5927]
[5928,{"$f":"'EstRev 6-11'!L15","v":0},5928]
[5929,{"$f":"'EstRev 6-11'!L16","v":0},5929]
[5930,{"$f":"'EstRev 6-11'!L17","v":0},5930]
[5931,{"$f":"'EstRev 6-11'!L18","v":0},5931]
[5932,{"$f":"'EstRev 6-11'!L65","v":400},5532]
[5933,{"$f":"'EstRev 6-11'!L66","v":0},5933]
[5934,{"$f":"'EstRev 6-11'!L67","v":400},5534]
[5935,{"$f":"'EstRev 6-11'!L98","v":0},5935]
[5936,{"$f":"'EstRev 6-11'!L101","v":0},5936]
[5937,{"$f":"'EstRev 6-11'!L109","v":2100000},-2094063]
[5938,{"$f":"'EstRev 6-11'!L110","v":2100000},-2094062]
[5939,{"$f":"'EstRev 6-11'!L120","v":0},5939]
[5940,{"$f":"'EstRev 6-11'!L121","v":0},5940]
[5941]
[5942]
[5943]
[5944]
[5945,{"$f":"'EstRev 6-11'!L124","v":0},5945]
[5946]
[5947]
[5948]
[5949]
[5950]
[5951]
[5952]
[5953,{"$f":"'EstRev 6-11'!L172","v":0},5953]
[5954]
[5955,{"$f":"'EstRev 6-11'!L183","v":0},{"$f":"A5960-B5960","v":5955}]
[5956]
[5957]
[5958]
[5959]
[5960]
[5961,{"$f":"'EstRev 6-11'!L269","v":0},5961]
[5962,{"$f":"'EstRev 6-11'!L270","v":2114839},-2108877]
[5963,{"$f":"'EstRev 6-11'!H111","v":136290},-130327]
[5964,{"$f":"'EstRev 6-11'!I111","v":14450},-8486]
[5965,{"$f":"'EstRev 6-11'!J111","v":15039},-9074]
[5966,null,null,"Closed 2008"]
[5967,{"$f":"'EstRev 6-11'!L111","v":2114839},-2108872]
[5968]
[5969]
[5970,{"$f":"'EstRev 6-11'!D69","v":0},5970]
[5971,{"$f":"'BudgetSum 2-4'!G16","v":0},5971]
[5972]
[5973]
[5974]
[5975]
[5976]
[5977,{"$f":"'BudgetSum 2-4'!J14","v":156750},-150773]
[5978,{"$f":"'BudgetSum 2-4'!J45","v":0},5978]
[5979,{"$f":"'BudgetSum 2-4'!J53","v":0},5979]
[5980,{"$f":"'BudgetSum 2-4'!J3","v":39002},-33022,"New 2009"]
[5981,{"$f":"'BudgetSum 2-4'!J5","v":130200},-124219,"New 2009"]
[5982,{"$f":"'BudgetSum 2-4'!J7","v":0},5982,"New 2009"]
[5983,{"$f":"'BudgetSum 2-4'!J8","v":0},5983,"New 2009"]
[5984,{"$f":"'BudgetSum 2-4'!J9","v":130200},-124216,"New 2009"]
[5985,{"$f":"'BudgetSum 2-4'!J10","v":0},5985,"New 2009"]
[5986,{"$f":"'BudgetSum 2-4'!J11","v":130200},-124214,"New 2009"]
[5987,null,null,"New 2009-Closed 2021"]
[5988,{"$f":"'BudgetSum 2-4'!J19","v":163250},-157262,"New 2009"]
[5989,{"$f":"'BudgetSum 2-4'!J20","v":0},5989,"New 2009"]
[5990,{"$f":"'BudgetSum 2-4'!J21","v":163250},-157260,"New 2009"]
[5991,{"$f":"'BudgetSum 2-4'!J22","v":-33050},39041,"New 2009"]
[5992,{"$f":"'BudgetSum 2-4'!J28","v":0},5992,"New 2009"]
[5993,{"$f":"'BudgetSum 2-4'!J30","v":0},5993,"New 2009"]
[5994,{"$f":"'BudgetSum 2-4'!J35","v":0},5994,"New 2009"]
[5995,{"$f":"'BudgetSum 2-4'!J36","v":0},5995,"New 2009"]
[5996,{"$f":"'BudgetSum 2-4'!J37","v":0},5996,"New 2009"]
[5997,{"$f":"'BudgetSum 2-4'!J38","v":0},5997,"New 2009"]
[5998,{"$f":"'BudgetSum 2-4'!E39","v":0},5998,"New 2009"]
[5999,{"$f":"'BudgetSum 2-4'!E40","v":0},5999,"New 2009"]
[6000,{"$f":"'BudgetSum 2-4'!E41","v":0},6000,"New 2009"]
[6001,{"$f":"'BudgetSum 2-4'!E42","v":0},6001,"New 2009"]
[6002,{"$f":"'BudgetSum 2-4'!C44","v":0},6002,"New 2009"]
[6003,{"$f":"'BudgetSum 2-4'!D44","v":0},6003,"New 2009"]
[6004,{"$f":"'BudgetSum 2-4'!E44","v":0},6004,"New 2009"]
[6005,{"$f":"'BudgetSum 2-4'!F44","v":0},6005,"New 2009"]
[6006,{"$f":"'BudgetSum 2-4'!G44","v":0},6006,"New 2009"]
[6007,{"$f":"'BudgetSum 2-4'!H43","v":0},6007,"New 2009"]
[6008,{"$f":"'BudgetSum 2-4'!H44","v":0},6008,"New 2009"]
[6009,{"$f":"'BudgetSum 2-4'!K44","v":0},6009,"New 2009"]
[6010,{"$f":"'BudgetSum 2-4'!J46","v":0},6010,"New 2009"]
[6011,{"$f":"'BudgetSum 2-4'!C57","v":0},6011,"New 2009"]
[6012,{"$f":"'BudgetSum 2-4'!D57","v":0},6012,"New 2009"]
[6013,{"$f":"'BudgetSum 2-4'!H57","v":0},6013,"New 2009"]
[6014,{"$f":"'BudgetSum 2-4'!C61","v":0},6014,"New 2009"]
[6015,{"$f":"'BudgetSum 2-4'!D61","v":0},6015,"New 2009"]
[6016,{"$f":"'BudgetSum 2-4'!H61","v":0},6016,"New 2009"]
[6017,{"$f":"'BudgetSum 2-4'!C65","v":0},6017,"New 2009"]
[6018,{"$f":"'BudgetSum 2-4'!D65","v":0},6018,"New 2009"]
[6019,{"$f":"'BudgetSum 2-4'!C69","v":0},{"$f":"A6024-B6024","v":6019},"New 2009"]
[6020,{"$f":"'BudgetSum 2-4'!D69","v":0},6020,"New 2009"]
[6021,{"$f":"'BudgetSum 2-4'!C73","v":0},6021,"New 2009"]
[6022,{"$f":"'BudgetSum 2-4'!D73","v":0},6022,"New 2009"]
[6023,null,null,"New 2009"]
[6024,{"$f":"'BudgetSum 2-4'!C77","v":0},6024,"New 2009"]
[6025,{"$f":"'BudgetSum 2-4'!D77","v":0},6025,"New 2009"]
[6026,{"$f":"'BudgetSum 2-4'!F77","v":0},6026,"New 2009"]
[6027,{"$f":"'BudgetSum 2-4'!G77","v":0},6027,"New 2009"]
[6028,{"$f":"'BudgetSum 2-4'!H77","v":0},6028,"New 2009"]
[6029,{"$f":"'BudgetSum 2-4'!K77","v":0},6029,"New 2009"]
[6030,{"$f":"'BudgetSum 2-4'!G78","v":0},6030,"New 2009"]
[6031,{"$f":"'BudgetSum 2-4'!I78","v":0},6031,"New 2009"]
[6032,{"$f":"'BudgetSum 2-4'!J78","v":0},6032,"New 2009"]
[6033,{"$f":"'BudgetSum 2-4'!K78","v":0},6033,"New 2009"]
[6034,{"$f":"'BudgetSum 2-4'!J79","v":0},6034,"New 2009"]
[6035,{"$f":"'BudgetSum 2-4'!J80","v":0},6035,"New 2009"]
[6036,{"$f":"'BudgetSum 2-4'!J81","v":5952},84,"New 2009"]
[6037,{"$f":"'CashSum 5'!J3","v":39002},-32965,"New 2009"]
[6038,{"$f":"'CashSum 5'!J4","v":130200},-124162,"New 2009"]
[6039,{"$f":"'CashSum 5'!D6","v":0},6039,"New 2009"]
[6040,{"$f":"'CashSum 5'!F6","v":0},6040,"New 2009"]
[6041,{"$f":"'CashSum 5'!J6","v":0},6041,"New 2009"]
[6042,{"$f":"'CashSum 5'!E8","v":0},6042,"New 2009"]
[6043,{"$f":"'CashSum 5'!F8","v":0},6043,"New 2009"]
[6044,{"$f":"'CashSum 5'!G8","v":0},6044,"New 2009"]
[6045,{"$f":"'CashSum 5'!J8","v":0},6045,"New 2009"]
[6046,{"$f":"'CashSum 5'!E9","v":0},6046,"New 2009"]
[6047,{"$f":"'CashSum 5'!F9","v":0},6047,"New 2009"]
[6048,{"$f":"'CashSum 5'!G9","v":0},6048,"New 2009"]
[6049,{"$f":"'CashSum 5'!J10","v":0},6049,"New 2009"]
[6050,{"$f":"'CashSum 5'!J11","v":130200},-124150,"New 2009"]
[6051,{"$f":"'CashSum 5'!J12","v":169202},-163151,"New 2009"]
[6052,{"$f":"'CashSum 5'!J13","v":163250},-157198,"New 2009"]
[6053,{"$f":"'CashSum 5'!J16","v":0},6053,"New 2009"]
[6054,{"$f":"'CashSum 5'!J17","v":0},6054,"New 2009"]
[6055,{"$f":"'CashSum 5'!J19","v":0},6055,"New 2009"]
[6056,{"$f":"'CashSum 5'!J20","v":163250},-157194,"New 2009"]
[6057,{"$f":"'CashSum 5'!J21","v":5952},105,"New 2009"]
[6058,{"$f":"'EstRev 6-11'!K5","v":120000},-113942,"New 2009"]
[6059,{"$f":"'EstRev 6-11'!I7","v":0},6059,"New 2009"]
[6060,{"$f":"'EstRev 6-11'!I9","v":0},6060,"New 2009"]
[6061,{"$f":"'EstRev 6-11'!K11","v":0},6061,"New 2009"]
[6062,{"$f":"'EstRev 6-11'!K12","v":120000},-113938,"New 2009"]
[6063,{"$f":"'EstRev 6-11'!K14","v":0},6063,"New 2009"]
[6064,{"$f":"'EstRev 6-11'!K15","v":0},6064,"New 2009"]
[6065,{"$f":"'EstRev 6-11'!K16","v":10000},-3935,"New 2009"]
[6066,{"$f":"'EstRev 6-11'!K17","v":0},6066,"New 2009"]
[6067,{"$f":"'EstRev 6-11'!K18","v":10000},-3933,"New 2009"]
[6068,{"$f":"'EstRev 6-11'!D23","v":0},6068,"New 2009"]
[6069,{"$f":"'EstRev 6-11'!D27","v":0},6069,"New 2009"]
[6070,{"$f":"'EstRev 6-11'!D31","v":0},6070,"New 2009"]
[6071,{"$f":"'EstRev 6-11'!D35","v":0},6071,"New 2009"]
[6072,{"$f":"'EstRev 6-11'!D39","v":0},6072,"New 2009"]
[6073,{"$f":"'EstRev 6-11'!G46","v":0},6073,"New 2009"]
[6074,{"$f":"'EstRev 6-11'!G50","v":0},6074,"New 2009"]
[6075,{"$f":"'EstRev 6-11'!G54","v":0},6075,"New 2009"]
[6076,{"$f":"'EstRev 6-11'!G58","v":0},6076,"New 2009"]
[6077,{"$f":"'EstRev 6-11'!G62","v":0},6077,"New 2009"]
[6078,{"$f":"'EstRev 6-11'!K65","v":200},5878,"New 2009"]
[6079,{"$f":"'EstRev 6-11'!K66","v":0},6079,"New 2009"]
[6080,{"$f":"'EstRev 6-11'!K67","v":200},5880,"New 2009"]
[6081,{"$f":"'EstRev 6-11'!D99","v":0},6081,"New 2009"]
[6082,{"$f":"'EstRev 6-11'!E99","v":0},6082,"New 2009"]
[6083,{"$f":"'EstRev 6-11'!F99","v":0},{"$f":"A6088-B6088","v":6083},"New 2009"]
[6084,{"$f":"'EstRev 6-11'!G99","v":0},6084,"New 2009"]
[6085,{"$f":"'EstRev 6-11'!H99","v":0},6085,"New 2009"]
[6086,{"$f":"'EstRev 6-11'!I99","v":0},6086,"New 2009"]
[6087,{"$f":"'EstRev 6-11'!J99","v":0},6087,"New 2009"]
[6088,{"$f":"'EstRev 6-11'!K99","v":0},6088,"New 2009"]
[6089,{"$f":"'EstRev 6-11'!L99","v":0},6089,"New 2009"]
[6090,{"$f":"'EstRev 6-11'!K101","v":0},6090,"New 2009"]
[6091,{"$f":"'EstRev 6-11'!D102","v":8700},-2609,"New 2009"]
[6092,{"$f":"'EstRev 6-11'!E102","v":0},6092,"New 2009"]
[6093,{"$f":"'EstRev 6-11'!F102","v":0},6093,"New 2009"]
[6094,{"$f":"'EstRev 6-11'!G102","v":0},6094,"New 2009"]
[6095,{"$f":"'EstRev 6-11'!H102","v":0},6095,"New 2009"]
[6096,{"$f":"'EstRev 6-11'!I102","v":0},6096,"New 2009"]
[6097,{"$f":"'EstRev 6-11'!J102","v":0},6097,"New 2009"]
[6098,{"$f":"'EstRev 6-11'!K102","v":0},6098,"New 2009"]
[6099,{"$f":"'EstRev 6-11'!L102","v":0},6099,"New 2009"]
[6100,{"$f":"'EstRev 6-11'!D103","v":500},5600,"New 2009"]
[6101,{"$f":"'EstRev 6-11'!D104","v":0},6101,"New 2009"]
[6102,{"$f":"'EstRev 6-11'!E104","v":0},6102,"New 2009"]
[6103,{"$f":"'EstRev 6-11'!F104","v":0},6103,"New 2009"]
[6104,{"$f":"'EstRev 6-11'!G104","v":0},6104,"New 2009"]
[6105,{"$f":"'EstRev 6-11'!H104","v":0},6105,"New 2009"]
[6106,{"$f":"'EstRev 6-11'!I104","v":0},6106,"New 2009"]
[6107,{"$f":"'EstRev 6-11'!J104","v":0},6107,"New 2009"]
[6108,{"$f":"'EstRev 6-11'!K104","v":0},6108,"New 2009"]
[6109,{"$f":"'EstRev 6-11'!L104","v":0},6109,"New 2009"]
[6110,{"$f":"'EstRev 6-11'!H106","v":0},6110,"New 2009"]
[6111,{"$f":"'EstRev 6-11'!E108","v":0},6111,"New 2009"]
[6112,{"$f":"'EstRev 6-11'!F108","v":0},6112,"New 2009"]
[6113,{"$f":"'EstRev 6-11'!G108","v":0},6113,"New 2009"]
[6114,{"$f":"'EstRev 6-11'!H108","v":0},6114,"New 2009"]
[6115,{"$f":"'EstRev 6-11'!I108","v":0},6115,"New 2009"]
[6116,{"$f":"'EstRev 6-11'!K108","v":0},6116,"New 2009"]
[6117,{"$f":"'EstRev 6-11'!L108","v":0},6117,"New 2009"]
[6118,{"$f":"'EstRev 6-11'!K98","v":0},6118,"New 2009"]
[6119,{"$f":"'EstRev 6-11'!K109","v":0},6119,"New 2009"]
[6120,{"$f":"'EstRev 6-11'!K111","v":130200},-124080,"New 2009"]
[6121,{"$f":"'EstRev 6-11'!K120","v":0},6121,"New 2009"]
[6122,null,null,"New 2009-Closed 2018"]
[6123,{"$f":"'EstRev 6-11'!K121","v":0},6123,"New 2009"]
[6124,{"$f":"'EstRev 6-11'!K123","v":0},6124,"New 2009"]
[6125,{"$f":"'EstRev 6-11'!K124","v":0},6125,"New 2009"]
[6126,{"$f":"'EstRev 6-11'!D139","v":12000},-5874,"New 2009"]
[6127,{"$f":"'EstRev 6-11'!E139","v":0},6127,"New 2009"]
[6128,{"$f":"'EstRev 6-11'!H137","v":0},6128,"New 2009"]
[6129,{"$f":"'EstRev 6-11'!H139","v":0},6129,"New 2009"]
[6130,{"$f":"'EstRev 6-11'!D140","v":0},6130,"New 2009"]
[6131,{"$f":"'EstRev 6-11'!E140","v":0},6131,"New 2009"]
[6132,{"$f":"'EstRev 6-11'!H140","v":0},6132,"New 2009"]
[6133,{"$f":"'EstRev 6-11'!D141","v":0},6133,"New 2009"]
[6134,{"$f":"'EstRev 6-11'!E141","v":0},6134,"New 2009"]
[6135,{"$f":"'EstRev 6-11'!H141","v":0},6135,"New 2009"]
[6136,{"$f":"'EstRev 6-11'!F151","v":0},6136,"New 2009"]
[6137,{"$f":"'EstRev 6-11'!G151","v":0},6137,"New 2009"]
[6138,{"$f":"'EstRev 6-11'!H151","v":0},6138,"New 2009"]
[6139,{"$f":"'EstRev 6-11'!I151","v":0},6139,"New 2009"]
[6140,{"$f":"'EstRev 6-11'!J151","v":0},6140,"New 2009"]
[6141,{"$f":"'EstRev 6-11'!K151","v":0},6141,"New 2009"]
[6142,{"$f":"'EstRev 6-11'!L151","v":0},6142,"New 2009"]
[6143,{"$f":"'EstRev 6-11'!F152","v":0},6143,"New 2009"]
[6144,{"$f":"'EstRev 6-11'!I152","v":0},6144,"New 2009"]
[6145,{"$f":"'EstRev 6-11'!J152","v":0},6145,"New 2009"]
[6146,{"$f":"'EstRev 6-11'!K152","v":0},6146,"New 2009"]
[6147,{"$f":"'EstRev 6-11'!L152","v":0},{"$f":"A6152-B6152","v":6147},"New 2009"]
[6148,{"$f":"'EstRev 6-11'!H154","v":0},6148,"New 2009"]
[6149,{"$f":"'EstRev 6-11'!H155","v":0},6149,"New 2009"]
[6150,null,null,"New 2009-Closed 2018"]
[6151,null,null,"New 2009-Closed 2018"]
[6152,null,null,"New 2009-Closed 2018"]
[6153,null,null,"New 2009-Closed 2018"]
[6154,null,null,"New 2009-Closed 2018"]
[6155,null,null,"New 2009-Closed 2018"]
[6156,{"$f":"'EstRev 6-11'!D165","v":0},6156,"New 2009"]
[6157,{"$f":"'EstRev 6-11'!E165","v":0},6157,"New 2009"]
[6158,{"$f":"'EstRev 6-11'!F165","v":0},6158,"New 2009"]
[6159,{"$f":"'EstRev 6-11'!G165","v":0},6159,"New 2009"]
[6160,{"$f":"'EstRev 6-11'!H165","v":0},6160,"New 2009"]
[6161,{"$f":"'EstRev 6-11'!I165","v":0},6161,"New 2009"]
[6162,{"$f":"'EstRev 6-11'!L165","v":0},6162,"New 2009"]
[6163,{"$f":"'EstRev 6-11'!K170","v":0},6163,"New 2009"]
[6164,{"$f":"'EstRev 6-11'!K171","v":0},6164,"New 2009"]
[6165,{"$f":"'EstRev 6-11'!K172","v":0},6165,"New 2009"]
[6166,{"$f":"'EstRev 6-11'!K175","v":0},6166,"New 2009"]
[6167,{"$f":"'EstRev 6-11'!K176","v":0},6167,"New 2009"]
[6168,{"$f":"'EstRev 6-11'!K177","v":0},6168,"New 2009"]
[6169,{"$f":"'EstRev 6-11'!D192","v":0},6169,"New 2009"]
[6170,{"$f":"'EstRev 6-11'!H192","v":0},6170,"New 2009"]
[6171,{"$f":"'EstRev 6-11'!H193","v":0},6171,"New 2009"]
[6172,{"$f":"'EstRev 6-11'!H194","v":0},6172,"New 2009"]
[6173,{"$f":"'EstRev 6-11'!H195","v":0},6173,"New 2009"]
[6174,{"$f":"'EstRev 6-11'!H196","v":0},6174,"New 2009"]
[6175,{"$f":"'EstRev 6-11'!H197","v":0},6175,"New 2009"]
[6176,{"$f":"'EstRev 6-11'!H199","v":0},6176,"New 2009"]
[6177,{"$f":"'EstRev 6-11'!H200","v":0},6177,"New 2009"]
[6178,null,null,"New 2009-Closed 2018"]
[6179,null,null,"New 2009-Closed 2018"]
[6180,null,null,"New 2009-Closed 2018"]
[6181,{"$f":"'EstRev 6-11'!K269","v":0},6181,"New 2009"]
[6182,{"$f":"'EstRev 6-11'!K270","v":130200},-124018,"New 2009"]
[6183,{"$f":"'EstExp 12-20'!J5","v":0},6183,"New 2009"]
[6184,{"$f":"'EstExp 12-20'!K5","v":0},6184,"New 2009"]
[6185,{"$f":"'EstExp 12-20'!D7","v":36500},-30315,"New 2009"]
[6186,{"$f":"'EstExp 12-20'!E7","v":10000},-3814,"New 2009"]
[6187,{"$f":"'EstExp 12-20'!F7","v":1500},4687,"New 2009"]
[6188,{"$f":"'EstExp 12-20'!G7","v":2000},4188,"New 2009"]
[6189,{"$f":"'EstExp 12-20'!H7","v":5000},1189,"New 2009"]
[6190,{"$f":"'EstExp 12-20'!I7","v":0},6190,"New 2009"]
[6191,{"$f":"'EstExp 12-20'!J7","v":0},6191,"New 2009"]
[6192,{"$f":"'EstExp 12-20'!K7","v":0},6192,"New 2009"]
[6193,{"$f":"'EstExp 12-20'!L7","v":55000},-48807,"New 2009"]
[6194,{"$f":"'EstExp 12-20'!J8","v":0},6194,"New 2009"]
[6195,{"$f":"'EstExp 12-20'!K8","v":0},6195,"New 2009"]
[6196,{"$f":"'EstExp 12-20'!D9","v":0},6196,"New 2009"]
[6197,{"$f":"'EstExp 12-20'!E9","v":0},6197,"New 2009"]
[6198,{"$f":"'EstExp 12-20'!F9","v":0},6198,"New 2009"]
[6199,{"$f":"'EstExp 12-20'!G9","v":0},6199,"New 2009"]
[6200,{"$f":"'EstExp 12-20'!H9","v":0},6200,"New 2009"]
[6201,{"$f":"'EstExp 12-20'!I9","v":0},6201,"New 2009"]
[6202,{"$f":"'EstExp 12-20'!J9","v":0},6202,"New 2009"]
[6203,{"$f":"'EstExp 12-20'!K9","v":0},6203,"New 2009"]
[6204,{"$f":"'EstExp 12-20'!L9","v":0},6204,"New 2009"]
[6205,{"$f":"'EstExp 12-20'!J10","v":0},6205,"New 2009"]
[6206,{"$f":"'EstExp 12-20'!K10","v":0},6206,"New 2009"]
[6207,{"$f":"'EstExp 12-20'!D11","v":0},6207,"New 2009"]
[6208,{"$f":"'EstExp 12-20'!E11","v":0},6208,"New 2009"]
[6209,{"$f":"'EstExp 12-20'!F11","v":0},6209,"New 2009"]
[6210,{"$f":"'EstExp 12-20'!G11","v":0},6210,"New 2009"]
[6211,{"$f":"'EstExp 12-20'!H11","v":0},{"$f":"A6216-B6216","v":6211},"New 2009"]
[6212,{"$f":"'EstExp 12-20'!I11","v":0},6212,"New 2009"]
[6213,{"$f":"'EstExp 12-20'!J11","v":0},6213,"New 2009"]
[6214,{"$f":"'EstExp 12-20'!K11","v":0},6214,"New 2009"]
[6215,{"$f":"'EstExp 12-20'!L11","v":0},6215,"New 2009"]
[6216,{"$f":"'EstExp 12-20'!J12","v":0},6216,"New 2009"]
[6217,{"$f":"'EstExp 12-20'!K12","v":0},6217,"New 2009"]
[6218,{"$f":"'EstExp 12-20'!J13","v":0},6218,"New 2009"]
[6219,{"$f":"'EstExp 12-20'!K13","v":0},6219,"New 2009"]
[6220,{"$f":"'EstExp 12-20'!J14","v":0},6220,"New 2009"]
[6221,{"$f":"'EstExp 12-20'!K14","v":0},6221,"New 2009"]
[6222,{"$f":"'EstExp 12-20'!J15","v":0},6222,"New 2009"]
[6223,{"$f":"'EstExp 12-20'!K15","v":0},6223,"New 2009"]
[6224,{"$f":"'EstExp 12-20'!J16","v":0},6224,"New 2009"]
[6225,{"$f":"'EstExp 12-20'!K16","v":0},6225,"New 2009"]
[6226,{"$f":"'EstExp 12-20'!D17","v":6500},-274,"New 2009"]
[6227,{"$f":"'EstExp 12-20'!E17","v":1000},5227,"New 2009"]
[6228,{"$f":"'EstExp 12-20'!F17","v":0},6228,"New 2009"]
[6229,{"$f":"'EstExp 12-20'!G17","v":0},6229,"New 2009"]
[6230,{"$f":"'EstExp 12-20'!H17","v":0},6230,"New 2009"]
[6231,{"$f":"'EstExp 12-20'!I17","v":0},6231,"New 2009"]
[6232,{"$f":"'EstExp 12-20'!J17","v":0},6232,"New 2009"]
[6233,{"$f":"'EstExp 12-20'!K17","v":0},6233,"New 2009"]
[6234,{"$f":"'EstExp 12-20'!L17","v":7500},-1266,"New 2009"]
[6235,{"$f":"'EstExp 12-20'!J18","v":0},6235,"New 2009"]
[6236,{"$f":"'EstExp 12-20'!J19","v":0},6236,"New 2009"]
[6237,{"$f":"'EstExp 12-20'!K19","v":0},6237,"New 2009"]
[6238,{"$f":"'EstExp 12-20'!I20","v":0},6238,"New 2009"]
[6239,{"$f":"'EstExp 12-20'!L20","v":0},6239,"New 2009"]
[6240,{"$f":"'EstExp 12-20'!I21","v":0},6240,"New 2009"]
[6241,{"$f":"'EstExp 12-20'!L21","v":0},6241,"New 2009"]
[6242,{"$f":"'EstExp 12-20'!I22","v":0},6242,"New 2009"]
[6243,{"$f":"'EstExp 12-20'!L22","v":0},6243,"New 2009"]
[6244,{"$f":"'EstExp 12-20'!I23","v":0},6244,"New 2009"]
[6245,{"$f":"'EstExp 12-20'!L23","v":0},6245,"New 2009"]
[6246,{"$f":"'EstExp 12-20'!I24","v":0},6246,"New 2009"]
[6247,{"$f":"'EstExp 12-20'!L24","v":0},6247,"New 2009"]
[6248,{"$f":"'EstExp 12-20'!I25","v":0},6248,"New 2009"]
[6249,{"$f":"'EstExp 12-20'!L25","v":0},6249,"New 2009"]
[6250,{"$f":"'EstExp 12-20'!I26","v":0},6250,"New 2009"]
[6251,{"$f":"'EstExp 12-20'!L26","v":0},6251,"New 2009"]
[6252,{"$f":"'EstExp 12-20'!I27","v":0},6252,"New 2009"]
[6253,{"$f":"'EstExp 12-20'!L27","v":0},6253,"New 2009"]
[6254,{"$f":"'EstExp 12-20'!I28","v":0},6254,"New 2009"]
[6255,{"$f":"'EstExp 12-20'!L28","v":0},6255,"New 2009"]
[6256,{"$f":"'EstExp 12-20'!I29","v":0},6256,"New 2009"]
[6257,{"$f":"'EstExp 12-20'!L29","v":0},6257,"New 2009"]
[6258,{"$f":"'EstExp 12-20'!I30","v":0},6258,"New 2009"]
[6259,{"$f":"'EstExp 12-20'!L30","v":0},6259,"New 2009"]
[6260,{"$f":"'EstExp 12-20'!I31","v":0},6260,"New 2009"]
[6261,{"$f":"'EstExp 12-20'!L31","v":0},6261,"New 2009"]
[6262,{"$f":"'EstExp 12-20'!I32","v":0},6262,"New 2009"]
[6263,{"$f":"'EstExp 12-20'!L32","v":0},6263,"New 2009"]
[6264,{"$f":"'EstExp 12-20'!J34","v":0},6264,"New 2009"]
[6265,{"$f":"'EstExp 12-20'!K34","v":0},6265,"New 2009"]
[6266,{"$f":"'EstExp 12-20'!J38","v":0},6266,"New 2009"]
[6267,{"$f":"'EstExp 12-20'!K38","v":0},6267,"New 2009"]
[6268,{"$f":"'EstExp 12-20'!J39","v":0},6268,"New 2009"]
[6269,{"$f":"'EstExp 12-20'!K39","v":0},6269,"New 2009"]
[6270,{"$f":"'EstExp 12-20'!J40","v":0},6270,"New 2009"]
[6271,{"$f":"'EstExp 12-20'!K40","v":0},6271,"New 2009"]
[6272,{"$f":"'EstExp 12-20'!J41","v":0},6272,"New 2009"]
[6273,{"$f":"'EstExp 12-20'!K41","v":0},6273,"New 2009"]
[6274,{"$f":"'EstExp 12-20'!J42","v":0},6274,"New 2009"]
[6275,{"$f":"'EstExp 12-20'!K42","v":0},{"$f":"A6280-B6280","v":6275},"New 2009"]
[6276,{"$f":"'EstExp 12-20'!J43","v":0},6276,"New 2009"]
[6277,{"$f":"'EstExp 12-20'!K43","v":0},6277,"New 2009"]
[6278,{"$f":"'EstExp 12-20'!J44","v":0},6278,"New 2009"]
[6279,{"$f":"'EstExp 12-20'!K44","v":0},6279,"New 2009"]
[6280,{"$f":"'EstExp 12-20'!J46","v":0},6280,"New 2009"]
[6281,{"$f":"'EstExp 12-20'!K46","v":0},6281,"New 2009"]
[6282,{"$f":"'EstExp 12-20'!J47","v":0},6282,"New 2009"]
[6283,{"$f":"'EstExp 12-20'!K47","v":0},6283,"New 2009"]
[6284,{"$f":"'EstExp 12-20'!J48","v":0},6284,"New 2009"]
[6285,{"$f":"'EstExp 12-20'!K48","v":0},6285,"New 2009"]
[6286,{"$f":"'EstExp 12-20'!J49","v":0},6286,"New 2009"]
[6287,{"$f":"'EstExp 12-20'!K49","v":0},6287,"New 2009"]
[6288,{"$f":"'EstExp 12-20'!J51","v":0},6288,"New 2009"]
[6289,{"$f":"'EstExp 12-20'!K51","v":0},6289,"New 2009"]
[6290,{"$f":"'EstExp 12-20'!J52","v":0},6290,"New 2009"]
[6291,{"$f":"'EstExp 12-20'!K52","v":0},6291,"New 2009"]
[6292,{"$f":"'EstExp 12-20'!J53","v":0},6292,"New 2009"]
[6293,{"$f":"'EstExp 12-20'!K53","v":0},6293,"New 2009"]
[6294,{"$f":"'EstExp 12-20'!J55","v":0},6294,"New 2009"]
[6295,{"$f":"'EstExp 12-20'!K55","v":0},6295,"New 2009"]
[6296,{"$f":"'EstExp 12-20'!J57","v":0},6296,"New 2009"]
[6297,{"$f":"'EstExp 12-20'!K57","v":0},6297,"New 2009"]
[6298,{"$f":"'EstExp 12-20'!J58","v":0},6298,"New 2009"]
[6299,{"$f":"'EstExp 12-20'!K58","v":0},6299,"New 2009"]
[6300,{"$f":"'EstExp 12-20'!J59","v":0},6300,"New 2009"]
[6301,{"$f":"'EstExp 12-20'!K59","v":0},6301,"New 2009"]
[6302,{"$f":"'EstExp 12-20'!J61","v":0},6302,"New 2009"]
[6303,{"$f":"'EstExp 12-20'!K61","v":0},6303,"New 2009"]
[6304,{"$f":"'EstExp 12-20'!J62","v":0},6304,"New 2009"]
[6305,{"$f":"'EstExp 12-20'!K62","v":0},6305,"New 2009"]
[6306,{"$f":"'EstExp 12-20'!J63","v":0},6306,"New 2009"]
[6307,{"$f":"'EstExp 12-20'!K63","v":0},6307,"New 2009"]
[6308,{"$f":"'EstExp 12-20'!J64","v":0},6308,"New 2009"]
[6309,{"$f":"'EstExp 12-20'!K64","v":0},6309,"New 2009"]
[6310,{"$f":"'EstExp 12-20'!J65","v":0},6310,"New 2009"]
[6311,{"$f":"'EstExp 12-20'!K65","v":0},6311,"New 2009"]
[6312,{"$f":"'EstExp 12-20'!J66","v":0},6312,"New 2009"]
[6313,{"$f":"'EstExp 12-20'!K66","v":0},6313,"New 2009"]
[6314,{"$f":"'EstExp 12-20'!J67","v":0},6314,"New 2009"]
[6315,{"$f":"'EstExp 12-20'!K67","v":0},6315,"New 2009"]
[6316,{"$f":"'EstExp 12-20'!J69","v":0},6316,"New 2009"]
[6317,{"$f":"'EstExp 12-20'!K69","v":0},6317,"New 2009"]
[6318,{"$f":"'EstExp 12-20'!J70","v":0},6318,"New 2009"]
[6319,{"$f":"'EstExp 12-20'!K70","v":0},6319,"New 2009"]
[6320,{"$f":"'EstExp 12-20'!J71","v":0},6320,"New 2009"]
[6321,{"$f":"'EstExp 12-20'!K71","v":0},6321,"New 2009"]
[6322,{"$f":"'EstExp 12-20'!J72","v":0},6322,"New 2009"]
[6323,{"$f":"'EstExp 12-20'!K72","v":0},6323,"New 2009"]
[6324,{"$f":"'EstExp 12-20'!J73","v":0},6324,"New 2009"]
[6325,{"$f":"'EstExp 12-20'!K73","v":0},6325,"New 2009"]
[6326,{"$f":"'EstExp 12-20'!J74","v":0},6326,"New 2009"]
[6327,{"$f":"'EstExp 12-20'!K74","v":0},6327,"New 2009"]
[6328,{"$f":"'EstExp 12-20'!J75","v":0},6328,"New 2009"]
[6329,{"$f":"'EstExp 12-20'!K75","v":0},6329,"New 2009"]
[6330,{"$f":"'EstExp 12-20'!J76","v":0},6330,"New 2009"]
[6331,{"$f":"'EstExp 12-20'!K76","v":0},6331,"New 2009"]
[6332,{"$f":"'EstExp 12-20'!J77","v":0},6332,"New 2009"]
[6333,{"$f":"'EstExp 12-20'!K77","v":0},6333,"New 2009"]
[6334,{"$f":"'EstExp 12-20'!I87","v":5000},1334,"New 2009"]
[6335,{"$f":"'EstExp 12-20'!L87","v":5000},1335,"New 2009"]
[6336,{"$f":"'EstExp 12-20'!I88","v":30000},-23664,"New 2009"]
[6337,{"$f":"'EstExp 12-20'!L88","v":30000},-23663,"New 2009"]
[6338,{"$f":"'EstExp 12-20'!I89","v":0},6338,"New 2009"]
[6339,{"$f":"'EstExp 12-20'!L89","v":0},{"$f":"A6344-B6344","v":6339},"New 2009"]
[6340,{"$f":"'EstExp 12-20'!I90","v":0},6340,"New 2009"]
[6341,{"$f":"'EstExp 12-20'!L90","v":0},6341,"New 2009"]
[6342,{"$f":"'EstExp 12-20'!I91","v":0},6342,"New 2009"]
[6343,{"$f":"'EstExp 12-20'!L91","v":0},6343,"New 2009"]
[6344,{"$f":"'EstExp 12-20'!I92","v":0},6344,"New 2009"]
[6345,{"$f":"'EstExp 12-20'!L92","v":0},6345,"New 2009"]
[6346,{"$f":"'EstExp 12-20'!I93","v":0},6346,"New 2009"]
[6347,{"$f":"'EstExp 12-20'!L93","v":0},6347,"New 2009"]
[6348,{"$f":"'EstExp 12-20'!I95","v":0},6348,"New 2009"]
[6349,{"$f":"'EstExp 12-20'!L95","v":0},6349,"New 2009"]
[6350,{"$f":"'EstExp 12-20'!I96","v":0},6350,"New 2009"]
[6351,{"$f":"'EstExp 12-20'!L96","v":0},6351,"New 2009"]
[6352,{"$f":"'EstExp 12-20'!I97","v":0},6352,"New 2009"]
[6353,{"$f":"'EstExp 12-20'!L97","v":0},6353,"New 2009"]
[6354,{"$f":"'EstExp 12-20'!I98","v":0},6354,"New 2009"]
[6355,{"$f":"'EstExp 12-20'!L98","v":0},6355,"New 2009"]
[6356,{"$f":"'EstExp 12-20'!I99","v":0},6356,"New 2009"]
[6357,{"$f":"'EstExp 12-20'!L99","v":0},6357,"New 2009"]
[6358,{"$f":"'EstExp 12-20'!I100","v":0},6358,"New 2009"]
[6359,{"$f":"'EstExp 12-20'!L100","v":0},6359,"New 2009"]
[6360,{"$f":"'EstExp 12-20'!F101","v":0},6360,"New 2009"]
[6361,{"$f":"'EstExp 12-20'!I101","v":0},6361,"New 2009"]
[6362,{"$f":"'EstExp 12-20'!L101","v":0},6362,"New 2009"]
[6363,{"$f":"'EstExp 12-20'!I103","v":0},6363,"New 2009"]
[6364,{"$f":"'EstExp 12-20'!J116","v":0},6364,"New 2009"]
[6365,{"$f":"'EstExp 12-20'!K116","v":0},6365,"New 2009"]
[6366,{"$f":"'EstExp 12-20'!J124","v":0},6366,"New 2009"]
[6367,{"$f":"'EstExp 12-20'!K124","v":0},6367,"New 2009"]
[6368,{"$f":"'EstExp 12-20'!J126","v":0},6368,"New 2009"]
[6369,{"$f":"'EstExp 12-20'!K126","v":0},6369,"New 2009"]
[6370,{"$f":"'EstExp 12-20'!J127","v":0},6370,"New 2009"]
[6371,{"$f":"'EstExp 12-20'!K127","v":0},6371,"New 2009"]
[6372,{"$f":"'EstExp 12-20'!J128","v":0},6372,"New 2009"]
[6373,{"$f":"'EstExp 12-20'!K128","v":0},6373,"New 2009"]
[6374,{"$f":"'EstExp 12-20'!J129","v":0},6374,"New 2009"]
[6375,{"$f":"'EstExp 12-20'!K129","v":0},6375,"New 2009"]
[6376,{"$f":"'EstExp 12-20'!J130","v":0},6376,"New 2009"]
[6377,{"$f":"'EstExp 12-20'!J131","v":0},6377,"New 2009"]
[6378,{"$f":"'EstExp 12-20'!K131","v":0},6378,"New 2009"]
[6379,{"$f":"'EstExp 12-20'!J132","v":0},6379,"New 2009"]
[6380,{"$f":"'EstExp 12-20'!K132","v":0},6380,"New 2009"]
[6381,{"$f":"'EstExp 12-20'!J133","v":0},6381,"New 2009"]
[6382,{"$f":"'EstExp 12-20'!K133","v":0},6382,"New 2009"]
[6383,{"$f":"'EstExp 12-20'!J134","v":0},6383,"New 2009"]
[6384,{"$f":"'EstExp 12-20'!K134","v":0},6384,"New 2009"]
[6385,{"$f":"'EstExp 12-20'!J155","v":0},6385,"New 2009"]
[6386,{"$f":"'EstExp 12-20'!K155","v":0},6386,"New 2009"]
[6387,null,null,"New 2009"]
[6388,null,null,"Deleted 2009"]
[6389,null,null,"Deleted 2009"]
[6390,null,null,"Deleted 2009"]
[6391,{"$f":"'EstExp 12-20'!J184","v":0},6391,"New 2009"]
[6392,{"$f":"'EstExp 12-20'!K184","v":0},6392,"New 2009"]
[6393,{"$f":"'EstExp 12-20'!J186","v":0},6393,"New 2009"]
[6394,{"$f":"'EstExp 12-20'!K186","v":0},6394,"New 2009"]
[6395,{"$f":"'EstExp 12-20'!J187","v":0},6395,"New 2009"]
[6396,{"$f":"'EstExp 12-20'!K187","v":0},6396,"New 2009"]
[6397,{"$f":"'EstExp 12-20'!J188","v":0},6397,"New 2009"]
[6398,{"$f":"'EstExp 12-20'!K188","v":0},6398,"New 2009"]
[6399,{"$f":"'EstExp 12-20'!J189","v":0},6399,"New 2009"]
[6400,{"$f":"'EstExp 12-20'!K189","v":0},6400,"New 2009"]
[6401,{"$f":"'EstExp 12-20'!J214","v":0},6401,"New 2009"]
[6402,{"$f":"'EstExp 12-20'!K214","v":0},6402,"New 2009"]
[6403,{"$f":"'EstExp 12-20'!E220","v":2000},{"$f":"A6408-B6408","v":4403},"New 2009"]
[6404,{"$f":"'EstExp 12-20'!L220","v":2000},4404,"New 2009"]
[6405,{"$f":"'EstExp 12-20'!E222","v":0},6405,"New 2009"]
[6406,{"$f":"'EstExp 12-20'!L222","v":0},6406,"New 2009"]
[6407,{"$f":"'EstExp 12-20'!E224","v":0},6407,"New 2009"]
[6408,{"$f":"'EstExp 12-20'!L224","v":0},6408,"New 2009"]
[6409,{"$f":"'EstExp 12-20'!E230","v":150},6259,"New 2009"]
[6410,{"$f":"'EstExp 12-20'!L230","v":150},6260,"New 2009"]
[6411,null,null,"New 2009"]
[6412,null,null,"New 2009"]
[6413,{"$f":"'EstExp 12-20'!E252","v":0},6413,"New 2009"]
[6414,{"$f":"'EstExp 12-20'!L252","v":0},6414,"New 2009"]
[6415,null,null,"New 2009","Closed 2022"]
[6416,null,null,"New 2009","Closed 2022"]
[6417,null,null,"New 2009","Closed 2022"]
[6418,null,null,"New 2009","Closed 2022"]
[6419,null,null,"New 2009","Closed 2022"]
[6420,null,null,"New 2009","Closed 2022"]
[6421,{"$f":"'EstExp 12-20'!E253","v":0},6421,"New 2009"]
[6422,{"$f":"'EstExp 12-20'!L253","v":0},6422,"New 2009"]
[6423,null,null,"New 2009","Closed 2022"]
[6424,null,null,"New 2009","Closed 2022"]
[6425,null,null,"New 2009","Closed 2022"]
[6426,null,null,"New 2009","Closed 2022"]
[6427,null,null,"New 2009","Closed 2022"]
[6428,null,null,"New 2009","Closed 2022"]
[6429,null,null,"New 2009","Closed 2022"]
[6430,null,null,"New 2009","Closed 2022"]
[6431,{"$f":"'EstExp 12-20'!I94","v":35000},-28569,"to correct link 2019"]
[6432,{"$f":"'EstExp 12-20'!F102","v":0},6432,"to correct link 2019"]
[6433,{"$f":"'EstExp 12-20'!I102","v":0},6433,"Deleted 2009"]
[6434,{"$f":"'EstRev 6-11'!K110","v":0},6434,"to correct link 2019, truly corrected in 2021"]
[6435,null,null,"Deleted 2009"]
[6436,null,null,"Deleted 2009"]
[6437,null,null,"Deleted 2009"]
[6438,null,null,"Deleted 2009"]
[6439,null,null,"Deleted 2009"]
[6440,null,null,"Deleted 2009"]
[6441,null,null,"Deleted 2009"]
[6442,null,null,"Deleted 2009"]
[6443,null,null,"Deleted 2009"]
[6444,null,null,"Deleted 2009"]
[6445,null,null,"Deleted 2009"]
[6446,null,null,"Deleted 2009"]
[6447,null,null,"Deleted 2009"]
[6448,null,null,"Deleted 2009"]
[6449,null,null,"Deleted 2009"]
[6450,null,null,"Deleted 2009"]
[6451,null,null,"Deleted 2009"]
[6452,null,null,"Deleted 2009"]
[6453,null,null,"Deleted 2009"]
[6454,null,null,"Deleted 2009"]
[6455,null,null,"Deleted 2009"]
[6456,null,null,"Deleted 2009"]
[6457,{"$f":"'EstExp 12-20'!J298","v":0},6457,"New 2009"]
[6458,null,null,"New 2009"]
[6459,{"$f":"'EstExp 12-20'!J299","v":0},6459,"New 2009"]
[6460,null,null,"New 2009"]
[6461,{"$f":"'EstExp 12-20'!J300","v":0},6461,"New 2009"]
[6462,null,null,"New 2009"]
[6463,null,null,"New 2009","Deleted 2017 to remove account 4100 from the Capital Projects expenditures."]
[6464,null,null,"New 2009"]
[6465,null,null,"New 2009"]
[6466,{"$f":"'EstExp 12-20'!F304","v":0},6466,"New 2009"]
[6467,{"$f":"'EstExp 12-20'!I304","v":0},{"$f":"A6472-B6472","v":6467},"New 2009"]
[6468,{"$f":"'EstExp 12-20'!F305","v":0},6468,"New 2009"]
[6469,{"$f":"'EstExp 12-20'!I305","v":0},6469,"New 2009"]
[6470,{"$f":"'EstExp 12-20'!F306","v":0},6470,"New 2009"]
[6471,{"$f":"'EstExp 12-20'!I306","v":0},6471,"New 2009"]
[6472,null,null,"Closed 2008"]
[6473,null,null,"Closed 2008"]
[6474,{"$f":"'EstExp 12-20'!F307","v":0},6474,"New 2009"]
[6475,{"$f":"'EstExp 12-20'!I307","v":0},6475,"New 2009"]
[6476,{"$f":"'EstExp 12-20'!J309","v":0},6476,"New 2009"]
[6477,null,null,"New 2009"]
[6478,{"$f":"'EstExp 12-20'!D363","v":0},6478,"New 2009"]
[6479,{"$f":"'EstExp 12-20'!E363","v":0},6479,"New 2009"]
[6480,{"$f":"'EstExp 12-20'!F363","v":0},6480,"New 2009"]
[6481,{"$f":"'EstExp 12-20'!G363","v":0},6481,"New 2009"]
[6482,{"$f":"'EstExp 12-20'!H363","v":0},6482,"New 2009"]
[6483,{"$f":"'EstExp 12-20'!I363","v":0},6483,"New 2009"]
[6484,{"$f":"'EstExp 12-20'!J363","v":0},6484,"New 2009"]
[6485,null,null,"New 2009"]
[6486,{"$f":"'EstExp 12-20'!L363","v":0},6486,"New 2009"]
[6487,null,null,"New 2009"]
[6488,null,null,"New 2009"]
[6489,null,null,"New 2009"]
[6490,null,null,"New 2009"]
[6491,null,null,"New 2009"]
[6492,null,null,"New 2009"]
[6493,null,null,"New 2009"]
[6494,null,null,"New 2009"]
[6495,null,null,"New 2009"]
[6496,null,null,"New 2009"]
[6497,null,null,"New 2009"]
[6498,null,null,"New 2009"]
[6499,null,null,"New 2009"]
[6500,null,null,"New 2009"]
[6501,null,null,"New 2009"]
[6502,null,null,"New 2009"]
[6503,null,null,"New 2009"]
[6504,null,null,"New 2009"]
[6505,null,null,"New 2009"]
[6506,null,null,"New 2009"]
[6507,null,null,"New 2009"]
[6508,null,null,"New 2009"]
[6509,null,null,"New 2009"]
[6510,null,null,"New 2009"]
[6511,null,null,"New 2009"]
[6512,null,null,"New 2009"]
[6513,null,null,"New 2009"]
[6514,{"$f":"'EstExp 12-20'!D364","v":0},6514,"New 2009"]
[6515,{"$f":"'EstExp 12-20'!E364","v":0},6515,"New 2009"]
[6516,{"$f":"'EstExp 12-20'!F364","v":70000},-63484,"New 2009"]
[6517,{"$f":"'EstExp 12-20'!G364","v":0},6517,"New 2009"]
[6518,{"$f":"'EstExp 12-20'!H364","v":0},6518,"New 2009"]
[6519,{"$f":"'EstExp 12-20'!I364","v":0},6519,"New 2009"]
[6520,{"$f":"'EstExp 12-20'!J364","v":0},6520,"New 2009"]
[6521,null,null,"New 2009"]
[6522,{"$f":"'EstExp 12-20'!L364","v":70000},-63478,"New 2009"]
[6523,null,null,"New 2009"]
[6524,null,null,"New 2009"]
[6525,null,null,"New 2009"]
[6526,null,null,"New 2009"]
[6527,null,null,"New 2009"]
[6528,null,null,"New 2009"]
[6529,null,null,"New 2009"]
[6530,null,null,"New 2009"]
[6531,null,null,"New 2009"]
[6532,null,null,"New 2009"]
[6533,null,null,"New 2009"]
[6534,null,null,"New 2009"]
[6535,null,null,"New 2009"]
[6536,null,null,"New 2009"]
[6537,null,null,"New 2009"]
[6538,null,null,"New 2009"]
[6539,null,null,"New 2009"]
[6540,null,null,"New 2009"]
[6541,null,null,"New 2009"]
[6542,null,null,"New 2009"]
[6543,null,null,"New 2009"]
[6544,null,null,"New 2009"]
[6545,null,null,"New 2009"]
[6546,null,null,"New 2009"]
[6547,null,null,"New 2009"]
[6548,null,null,"New 2009"]
[6549,null,null,"New 2009"]
[6550,null,null,"New 2009"]
[6551,null,null,"New 2009"]
[6552,null,null,"New 2009"]
[6553,null,null,"New 2009"]
[6554,null,null,"New 2009"]
[6555,null,null,"New 2009"]
[6556,null,null,"New 2009"]
[6557,null,null,"New 2009"]
[6558,null,null,"New 2009"]
[6559,{"$f":"'EstExp 12-20'!D365","v":30000},{"$f":"A6564-B6564","v":-23441},"New 2009"]
[6560,{"$f":"'EstExp 12-20'!E365","v":150},6410,"New 2009"]
[6561,{"$f":"'EstExp 12-20'!F365","v":70000},-63439,"New 2009"]
[6562,{"$f":"'EstExp 12-20'!G365","v":0},6562,"New 2009"]
[6563,{"$f":"'EstExp 12-20'!H365","v":0},6563,"New 2009"]
[6564,{"$f":"'EstExp 12-20'!I365","v":0},6564,"New 2009"]
[6565,{"$f":"'EstExp 12-20'!J365","v":0},6565,"New 2009"]
[6566,null,null,"New 2009"]
[6567,{"$f":"'EstExp 12-20'!L365","v":100150},-93583,"New 2009"]
[6568,{"$f":"'EstExp 12-20'!I418","v":0},6568,"New 2009"]
[6569,{"$f":"'EstExp 12-20'!L418","v":0},6569,"New 2009"]
[6570,{"$f":"'EstExp 12-20'!I420","v":0},6570,"New 2009"]
[6571,{"$f":"'EstExp 12-20'!L420","v":0},6571,"New 2009"]
[6572,{"$f":"'EstExp 12-20'!D428","v":91500},-84928,"New 2009"]
[6573,{"$f":"'EstExp 12-20'!E428","v":1750},4823,"New 2009"]
[6574,{"$f":"'EstExp 12-20'!G428","v":0},6574,"New 2009"]
[6575,{"$f":"'EstExp 12-20'!H428","v":0},6575,"New 2009"]
[6576,{"$f":"'EstExp 12-20'!J428","v":0},6576,"New 2009"]
[6577,null,null,"New 2009"]
[6578,{"$f":"'EstExp 12-20'!J434","v":0},6578,"New 2009"]
[6579,null,null,"New 2009"]
[6580,{"$f":"'EstExp 12-20'!J435","v":0},6580,"New 2009"]
[6581,null,null,"New 2009"]
[6582,{"$f":"'EstExp 12-20'!J436","v":0},6582,"New 2009"]
[6583,null,6583,"New 2009"]
[6584,{"$f":"'EstExp 12-20'!J437","v":0},6584,"New 2009"]
[6585,null,null,"New 2009"]
[6586,{"$f":"'EstExp 12-20'!J438","v":0},6586,"New 2009"]
[6587,null,null,"New 2009"]
[6588,{"$f":"'EstExp 12-20'!I447","v":0},6588,"New 2009"]
[6589,{"$f":"'EstExp 12-20'!L447","v":0},6589,"New 2009"]
[6590,{"$f":"'EstExp 12-20'!J453","v":0},6590,"New 2009"]
[6591,null,null,"New 2009"]
[6592,{"$f":"'EstExp 12-20'!I427","v":0},6592,"New 2009"]
[6593,{"$f":"'EstExp 12-20'!L427","v":0},6593,"New 2009"]
[6594,null,null,"New 2009-Closed 2018"]
[6595,null,null,"New 2009-Closed 2018"]
[6596,null,null,"New 2009-Closed 2018"]
[6597,null,null,"New 2009-Closed 2018"]
[6598,null,null,"New 2009-Closed 2021"]
[6599,{"$f":"'CashSum 5'!I9","v":0},{"$f":"A6604-B6604","v":6599},"New 2009"]
[6600,{"$f":"'CashSum 5'!J9","v":0},6600,"New 2009"]
[6601,{"$f":"'CashSum 5'!H18","v":0},6601,"New 2009"]
[6602,{"$f":"'CashSum 5'!I18","v":0},6602,"New 2009"]
[6603,{"$f":"'CashSum 5'!J18","v":0},6603,"New 2009"]
[6604,{"$f":"'EstExp 12-20'!I422","v":0},6604,"New 2010"]
[6605,{"$f":"'EstExp 12-20'!L422","v":0},6605,"New 2010"]
[6606,{"$f":"'EstExp 12-20'!I426","v":0},6606,"New 2010"]
[6607,{"$f":"'EstExp 12-20'!L426","v":0},6607,"New 2010"]
[6608,{"$f":"'EstExp 12-20'!F428","v":70000},-63392,"New 2010"]
[6609,{"$f":"'EstExp 12-20'!I428","v":0},6609,"New 2010"]
[6610,{"$f":"'EstExp 12-20'!L428","v":163250},-156640,"New 2010"]
[6611,{"$f":"'EstExp 12-20'!L429","v":-33050},39661,"New 2010"]
[6612,null,null,"New 2010","Closed 2011"]
[6613,null,null,"New 2010","Closed 2011"]
[6614,{"$f":"'EstRev 6-11'!F105","v":53781},-47167,"New 2010"]
[6615,null,null,"New 2010","Closed 2011"]
[6616,null,null,"New 2010","Closed 2011"]
[6617,{"$f":"'EstRev 6-11'!I105","v":14000},-7383,"New 2010"]
[6618,null,null,"New 2010","Closed 2011"]
[6619,null,null,"New 2010","Closed 2011"]
[6620,null,null,"New 2010"]
[6621,{"$f":"'EstExp 12-20'!D54","v":0},6621,"New 2010"]
[6622,{"$f":"'EstExp 12-20'!E54","v":0},6622,"New 2010"]
[6623,{"$f":"'EstExp 12-20'!F54","v":0},6623,"New 2010"]
[6624,{"$f":"'EstExp 12-20'!G54","v":0},6624,"New 2010"]
[6625,{"$f":"'EstExp 12-20'!H54","v":0},6625,"New 2010"]
[6626,{"$f":"'EstExp 12-20'!I54","v":0},6626,"New 2010"]
[6627,{"$f":"'EstExp 12-20'!J54","v":0},6627,"New 2010"]
[6628,{"$f":"'EstExp 12-20'!K54","v":0},6628,"New 2010"]
[6629,{"$f":"'EstExp 12-20'!L54","v":0},6629,"New 2010"]
[6630,{"$f":"'EstExp 12-20'!I112","v":0},6630,"New 2010"]
[6631,{"$f":"'EstExp 12-20'!L112","v":0},6631,"New 2010"]
[6632,{"$f":"'EstExp 12-20'!I113","v":0},6632,"New 2010"]
[6633,{"$f":"'EstExp 12-20'!L113","v":0},6633,"New 2010"]
[6634,{"$f":"'EstExp 12-20'!I151","v":0},6634,"New 2010"]
[6635,{"$f":"'EstExp 12-20'!L151","v":0},6635,"New 2010"]
[6636,{"$f":"'EstExp 12-20'!I152","v":0},6636,"New 2010"]
[6637,{"$f":"'EstExp 12-20'!L152","v":0},6637,"New 2010"]
[6638,{"$f":"'EstExp 12-20'!I209","v":0},6638,"New 2010"]
[6639,{"$f":"'EstExp 12-20'!L209","v":0},6639,"New 2010"]
[6640,{"$f":"'EstExp 12-20'!I211","v":0},6640,"New 2010"]
[6641,{"$f":"'EstExp 12-20'!L211","v":0},6641,"New 2010"]
[6642,null,null,"New 2010"]
[6643,null,null,"New 2010"]
[6644,null,null,"New 2010"]
[6645,null,null,"New 2010"]
[6646,null,null,"New 2010"]
[6647,null,null,"New 2010"]
[6648,null,null,"New 2010"]
[6649,null,null,"New 2010"]
[6650,null,null,"New 2010"]
[6651,null,null,"New 2010"]
[6652,null,null,"New 2010"]
[6653,null,null,"New 2010"]
[6654,null,null,"New 2010"]
[6655,null,null,"New 2010"]
[6656,null,null,"New 2010"]
[6657,null,null,"New 2010"]
[6658,null,null,"New 2010"]
[6659,null,null,"New 2010"]
[6660,{"$f":"'EstExp 12-20'!I448","v":0},{"$f":"A6665-B6665","v":6660},"New 2010"]
[6661,{"$f":"'EstExp 12-20'!L448","v":0},6661,"New 2010"]
[6662,{"$f":"'EstExp 12-20'!I449","v":0},6662,"New 2010"]
[6663,{"$f":"'EstExp 12-20'!L449","v":0},6663,"New 2010"]
[6664,{"$f":"'EstRev 6-11'!D225","v":0},6664,"New 2010"]
[6665,{"$f":"'EstRev 6-11'!D226","v":0},6665,"New 2010"]
[6666,{"$f":"'EstRev 6-11'!D227","v":0},6666,"New 2010"]
[6667,{"$f":"'EstRev 6-11'!D228","v":0},6667,"New 2010"]
[6668,{"$f":"'EstRev 6-11'!D229","v":0},6668,"New 2010"]
[6669,{"$f":"'EstRev 6-11'!D230","v":0},6669,"New 2010"]
[6670,{"$f":"'EstRev 6-11'!D231","v":0},6670,"New 2010"]
[6671,{"$f":"'EstRev 6-11'!D232","v":0},6671,"New 2010"]
[6672,{"$f":"'EstRev 6-11'!D233","v":0},6672,"New 2010"]
[6673,{"$f":"'EstRev 6-11'!D234","v":0},6673,"New 2010"]
[6674,{"$f":"'EstRev 6-11'!D235","v":0},6674,"New 2010"]
[6675,{"$f":"'EstRev 6-11'!D236","v":0},6675,"New 2010"]
[6676,{"$f":"'EstRev 6-11'!D237","v":0},6676,"New 2010"]
[6677,{"$f":"'EstRev 6-11'!D238","v":0},6677,"New 2010"]
[6678,{"$f":"'EstRev 6-11'!D239","v":0},6678,"New 2010"]
[6679,{"$f":"'EstRev 6-11'!D240","v":0},6679,"New 2010"]
[6680,{"$f":"'EstRev 6-11'!D241","v":0},6680,"New 2010"]
[6681,{"$f":"'EstRev 6-11'!D242","v":0},6681,"New 2010"]
[6682,{"$f":"'EstRev 6-11'!D243","v":0},6682,"New 2010"]
[6683,{"$f":"'EstRev 6-11'!D244","v":0},6683,"New 2010"]
[6684,{"$f":"'EstRev 6-11'!D245","v":0},6684,"New 2010"]
[6685,{"$f":"'EstRev 6-11'!D246","v":0},6685,"New 2010"]
[6686,{"$f":"'EstRev 6-11'!D247","v":0},6686,"New 2010"]
[6687,{"$f":"'EstRev 6-11'!D248","v":0},6687,"New 2010"]
[6688,{"$f":"'EstRev 6-11'!D249","v":0},6688,"New 2010"]
[6689,{"$f":"'EstRev 6-11'!D250","v":0},6689,"New 2010"]
[6690,{"$f":"'EstRev 6-11'!D251","v":0},6690,"New 2010"]
[6691,{"$f":"'EstRev 6-11'!D252","v":0},6691,"New 2010"]
[6692,{"$f":"'EstRev 6-11'!D253","v":0},6692,"New 2010"]
[6693,{"$f":"'EstRev 6-11'!D254","v":0},6693,"New 2010"]
[6694,{"$f":"'EstRev 6-11'!E225","v":0},6694,"New 2010"]
[6695,{"$f":"'EstRev 6-11'!E226","v":0},6695,"New 2010"]
[6696,{"$f":"'EstRev 6-11'!E227","v":0},6696,"New 2010"]
[6697,{"$f":"'EstRev 6-11'!E228","v":0},6697,"New 2010"]
[6698,{"$f":"'EstRev 6-11'!E229","v":0},6698,"New 2010"]
[6699]
[6700,{"$f":"'EstRev 6-11'!E230","v":0},6700,"New 2010"]
[6701,{"$f":"'EstRev 6-11'!E231","v":0},6701,"New 2010"]
[6702,{"$f":"'EstRev 6-11'!E232","v":0},6702,"New 2010"]
[6703,{"$f":"'EstRev 6-11'!E233","v":0},6703,"New 2010"]
[6704,{"$f":"'EstRev 6-11'!E234","v":0},6704,"New 2010"]
[6705,{"$f":"'EstRev 6-11'!E235","v":0},6705,"New 2010"]
[6706,{"$f":"'EstRev 6-11'!E236","v":0},6706,"New 2010"]
[6707,{"$f":"'EstRev 6-11'!E237","v":0},6707,"New 2010"]
[6708,{"$f":"'EstRev 6-11'!E238","v":0},6708,"New 2010"]
[6709,{"$f":"'EstRev 6-11'!E239","v":0},6709,"New 2010"]
[6710,{"$f":"'EstRev 6-11'!E240","v":0},6710,"New 2010"]
[6711,{"$f":"'EstRev 6-11'!E241","v":0},6711,"New 2010"]
[6712,{"$f":"'EstRev 6-11'!E242","v":0},6712,"New 2010"]
[6713,{"$f":"'EstRev 6-11'!E243","v":0},6713,"New 2010"]
[6714,{"$f":"'EstRev 6-11'!E244","v":0},6714,"New 2010"]
[6715,{"$f":"'EstRev 6-11'!E245","v":0},6715,"New 2010"]
[6716,{"$f":"'EstRev 6-11'!E246","v":0},6716,"New 2010"]
[6717,{"$f":"'EstRev 6-11'!E247","v":0},6717,"New 2010"]
[6718,{"$f":"'EstRev 6-11'!E248","v":0},6718,"New 2010"]
[6719,{"$f":"'EstRev 6-11'!E249","v":0},6719,"New 2010"]
[6720,{"$f":"'EstRev 6-11'!E250","v":0},6720,"New 2010"]
[6721,{"$f":"'EstRev 6-11'!E251","v":0},6721,"New 2010"]
[6722,{"$f":"'EstRev 6-11'!E252","v":0},6722,"New 2010"]
[6723,{"$f":"'EstRev 6-11'!E253","v":0},{"$f":"A6728-B6728","v":6723},"New 2010"]
[6724,{"$f":"'EstRev 6-11'!E254","v":0},6724,"New 2010"]
[6725,{"$f":"'EstRev 6-11'!F225","v":0},6725,"New 2010"]
[6726,null,null,"New 2010"]
[6727,{"$f":"'EstRev 6-11'!F227","v":0},6727,"New 2010"]
[6728,{"$f":"'EstRev 6-11'!F228","v":0},6728,"New 2010"]
[6729,{"$f":"'EstRev 6-11'!F229","v":0},6729,"New 2010"]
[6730,{"$f":"'EstRev 6-11'!F230","v":0},6730,"New 2010"]
[6731,{"$f":"'EstRev 6-11'!F231","v":0},6731,"New 2010"]
[6732,{"$f":"'EstRev 6-11'!F232","v":0},6732,"New 2010"]
[6733,{"$f":"'EstRev 6-11'!F233","v":0},6733,"New 2010"]
[6734,{"$f":"'EstRev 6-11'!F234","v":0},6734,"New 2010"]
[6735,null,null,"New 2010"]
[6736,null,null,"New 2010"]
[6737,{"$f":"'EstRev 6-11'!F237","v":0},6737,"New 2010"]
[6738,{"$f":"'EstRev 6-11'!F238","v":0},6738,"New 2010"]
[6739,{"$f":"'EstRev 6-11'!F239","v":0},6739,"New 2010"]
[6740,{"$f":"'EstRev 6-11'!F240","v":0},6740,"New 2010"]
[6741,{"$f":"'EstRev 6-11'!F241","v":0},6741,"New 2010"]
[6742,{"$f":"'EstRev 6-11'!F242","v":0},6742,"New 2010"]
[6743,{"$f":"'EstRev 6-11'!F243","v":0},6743,"New 2010"]
[6744,{"$f":"'EstRev 6-11'!F244","v":0},6744,"New 2010"]
[6745,{"$f":"'EstRev 6-11'!F245","v":0},6745,"New 2010"]
[6746,{"$f":"'EstRev 6-11'!F246","v":0},6746,"New 2010"]
[6747,{"$f":"'EstRev 6-11'!F247","v":0},6747,"New 2010"]
[6748,{"$f":"'EstRev 6-11'!F248","v":0},6748,"New 2010"]
[6749,{"$f":"'EstRev 6-11'!F249","v":0},6749,"New 2010"]
[6750,{"$f":"'EstRev 6-11'!F250","v":0},6750,"New 2010"]
[6751,{"$f":"'EstRev 6-11'!F251","v":0},6751,"New 2010"]
[6752,{"$f":"'EstRev 6-11'!F252","v":0},6752,"New 2010"]
[6753,{"$f":"'EstRev 6-11'!F253","v":0},6753,"New 2010"]
[6754,{"$f":"'EstRev 6-11'!F254","v":0},6754,"New 2010"]
[6755,{"$f":"'EstRev 6-11'!G225","v":0},6755,"New 2010"]
[6756,{"$f":"'EstRev 6-11'!G226","v":0},6756,"New 2010"]
[6757,{"$f":"'EstRev 6-11'!G227","v":0},6757,"New 2010"]
[6758,{"$f":"'EstRev 6-11'!G228","v":0},6758,"New 2010"]
[6759,{"$f":"'EstRev 6-11'!G229","v":0},6759,"New 2010"]
[6760,{"$f":"'EstRev 6-11'!G230","v":0},6760,"New 2010"]
[6761,{"$f":"'EstRev 6-11'!G231","v":0},6761,"New 2010"]
[6762,{"$f":"'EstRev 6-11'!G232","v":0},6762,"New 2010"]
[6763,{"$f":"'EstRev 6-11'!G233","v":0},6763,"New 2010"]
[6764,{"$f":"'EstRev 6-11'!G234","v":0},6764,"New 2010"]
[6765,{"$f":"'EstRev 6-11'!G235","v":0},6765,"New 2010"]
[6766,null,null,"New 2010"]
[6767,{"$f":"'EstRev 6-11'!G237","v":0},6767,"New 2010"]
[6768,{"$f":"'EstRev 6-11'!G238","v":0},6768,"New 2010"]
[6769,{"$f":"'EstRev 6-11'!G239","v":0},6769,"New 2010"]
[6770,{"$f":"'EstRev 6-11'!G240","v":0},6770,"New 2010"]
[6771,{"$f":"'EstRev 6-11'!G241","v":0},6771,"New 2010"]
[6772,{"$f":"'EstRev 6-11'!G242","v":0},6772,"New 2010"]
[6773,{"$f":"'EstRev 6-11'!G243","v":0},6773,"New 2010"]
[6774,{"$f":"'EstRev 6-11'!G244","v":0},6774,"New 2010"]
[6775,{"$f":"'EstRev 6-11'!G245","v":0},6775,"New 2010"]
[6776,{"$f":"'EstRev 6-11'!G246","v":0},6776,"New 2010"]
[6777,{"$f":"'EstRev 6-11'!G247","v":0},6777,"New 2010"]
[6778,{"$f":"'EstRev 6-11'!G248","v":0},6778,"New 2010"]
[6779,{"$f":"'EstRev 6-11'!G249","v":0},6779,"New 2010"]
[6780,{"$f":"'EstRev 6-11'!G250","v":0},6780,"New 2010"]
[6781,{"$f":"'EstRev 6-11'!G251","v":0},6781,"New 2010"]
[6782,{"$f":"'EstRev 6-11'!G252","v":0},6782,"New 2010"]
[6783,{"$f":"'EstRev 6-11'!G253","v":0},6783,"New 2010"]
[6784,{"$f":"'EstRev 6-11'!G254","v":0},6784,"New 2010"]
[6785,{"$f":"'EstRev 6-11'!H225","v":0},6785,"New 2010"]
[6786,{"$f":"'EstRev 6-11'!H226","v":0},6786,"New 2010"]
[6787,{"$f":"'EstRev 6-11'!H227","v":0},{"$f":"A6792-B6792","v":6787},"New 2010"]
[6788,{"$f":"'EstRev 6-11'!H228","v":0},6788,"New 2010"]
[6789,{"$f":"'EstRev 6-11'!H229","v":0},6789,"New 2010"]
[6790,{"$f":"'EstRev 6-11'!H230","v":0},6790,"New 2010"]
[6791,{"$f":"'EstRev 6-11'!H231","v":0},6791,"New 2010"]
[6792,{"$f":"'EstRev 6-11'!H232","v":0},6792,"New 2010"]
[6793,{"$f":"'EstRev 6-11'!H233","v":0},6793,"New 2010"]
[6794,{"$f":"'EstRev 6-11'!H234","v":0},6794,"New 2010"]
[6795,{"$f":"'EstRev 6-11'!H235","v":0},6795,"New 2010"]
[6796,null,null,"New 2010"]
[6797,{"$f":"'EstRev 6-11'!H237","v":0},6797,"New 2010"]
[6798,{"$f":"'EstRev 6-11'!H238","v":0},6798,"New 2010"]
[6799,{"$f":"'EstRev 6-11'!H239","v":0},6799,"New 2010"]
[6800,{"$f":"'EstRev 6-11'!H240","v":0},6800,"New 2010"]
[6801,{"$f":"'EstRev 6-11'!H241","v":0},6801,"New 2010"]
[6802,{"$f":"'EstRev 6-11'!H242","v":0},6802,"New 2010"]
[6803,{"$f":"'EstRev 6-11'!H243","v":0},6803,"New 2010"]
[6804,{"$f":"'EstRev 6-11'!H244","v":0},6804,"New 2010"]
[6805,{"$f":"'EstRev 6-11'!H245","v":0},6805,"New 2010"]
[6806,{"$f":"'EstRev 6-11'!H246","v":0},6806,"New 2010"]
[6807,{"$f":"'EstRev 6-11'!H247","v":0},6807,"New 2010"]
[6808,{"$f":"'EstRev 6-11'!H248","v":0},6808,"New 2010"]
[6809,{"$f":"'EstRev 6-11'!H249","v":0},6809,"New 2010"]
[6810,{"$f":"'EstRev 6-11'!H250","v":0},6810,"New 2010"]
[6811,{"$f":"'EstRev 6-11'!H251","v":0},6811,"New 2010"]
[6812,{"$f":"'EstRev 6-11'!H252","v":0},6812,"New 2010"]
[6813,{"$f":"'EstRev 6-11'!H253","v":0},6813,"New 2010"]
[6814,{"$f":"'EstRev 6-11'!H254","v":0},6814,"New 2010"]
[6815,{"$f":"'EstRev 6-11'!I225","v":0},6815,"New 2010"]
[6816,null,null,"New 2010"]
[6817,{"$f":"'EstRev 6-11'!I227","v":0},6817,"New 2010"]
[6818,{"$f":"'EstRev 6-11'!I228","v":0},6818,"New 2010"]
[6819,{"$f":"'EstRev 6-11'!I229","v":0},6819,"New 2010"]
[6820,{"$f":"'EstRev 6-11'!I230","v":0},6820,"New 2010"]
[6821,{"$f":"'EstRev 6-11'!I231","v":0},6821,"New 2010"]
[6822,{"$f":"'EstRev 6-11'!I232","v":0},6822,"New 2010"]
[6823,{"$f":"'EstRev 6-11'!I233","v":0},6823,"New 2010"]
[6824,{"$f":"'EstRev 6-11'!I234","v":0},6824,"New 2010"]
[6825,null,null,"New 2010"]
[6826,null,null,"New 2010"]
[6827,{"$f":"'EstRev 6-11'!I237","v":0},6827,"New 2010"]
[6828,{"$f":"'EstRev 6-11'!I238","v":0},6828,"New 2010"]
[6829,{"$f":"'EstRev 6-11'!I239","v":0},6829,"New 2010"]
[6830,{"$f":"'EstRev 6-11'!I240","v":0},6830,"New 2010"]
[6831,{"$f":"'EstRev 6-11'!I241","v":0},6831,"New 2010"]
[6832,{"$f":"'EstRev 6-11'!I242","v":0},6832,"New 2010"]
[6833,{"$f":"'EstRev 6-11'!I243","v":0},6833,"New 2010"]
[6834,{"$f":"'EstRev 6-11'!I244","v":0},6834,"New 2010"]
[6835,{"$f":"'EstRev 6-11'!I245","v":0},6835,"New 2010"]
[6836,{"$f":"'EstRev 6-11'!I246","v":0},6836,"New 2010"]
[6837,{"$f":"'EstRev 6-11'!I247","v":0},6837,"New 2010"]
[6838,{"$f":"'EstRev 6-11'!I248","v":0},6838,"New 2010"]
[6839,{"$f":"'EstRev 6-11'!I249","v":0},6839,"New 2010"]
[6840,{"$f":"'EstRev 6-11'!I250","v":0},6840,"New 2010"]
[6841,{"$f":"'EstRev 6-11'!I251","v":0},6841,"New 2010"]
[6842,{"$f":"'EstRev 6-11'!I252","v":0},6842,"New 2010"]
[6843,{"$f":"'EstRev 6-11'!I253","v":0},6843,"New 2010"]
[6844,{"$f":"'EstRev 6-11'!I254","v":0},6844,"New 2010"]
[6845,{"$f":"'EstRev 6-11'!K225","v":0},6845,"New 2010"]
[6846,null,null,"New 2010"]
[6847,{"$f":"'EstRev 6-11'!K227","v":0},6847,"New 2010"]
[6848,{"$f":"'EstRev 6-11'!K228","v":0},6848,"New 2010"]
[6849,{"$f":"'EstRev 6-11'!K229","v":0},6849,"New 2010"]
[6850,{"$f":"'EstRev 6-11'!K230","v":0},6850,"New 2010"]
[6851,{"$f":"'EstRev 6-11'!K231","v":0},{"$f":"A6856-B6856","v":6851},"New 2010"]
[6852,{"$f":"'EstRev 6-11'!K232","v":0},6852,"New 2010"]
[6853,{"$f":"'EstRev 6-11'!K233","v":0},6853,"New 2010"]
[6854,{"$f":"'EstRev 6-11'!K234","v":0},6854,"New 2010"]
[6855,null,null,"New 2010"]
[6856,null,null,"New 2010"]
[6857,{"$f":"'EstRev 6-11'!K237","v":0},6857,"New 2010"]
[6858,{"$f":"'EstRev 6-11'!K238","v":0},6858,"New 2010"]
[6859,{"$f":"'EstRev 6-11'!K239","v":0},6859,"New 2010"]
[6860,{"$f":"'EstRev 6-11'!K240","v":0},6860,"New 2010"]
[6861,{"$f":"'EstRev 6-11'!K241","v":0},6861,"New 2010"]
[6862,{"$f":"'EstRev 6-11'!K242","v":0},6862,"New 2010"]
[6863,{"$f":"'EstRev 6-11'!K243","v":0},6863,"New 2010"]
[6864,{"$f":"'EstRev 6-11'!K244","v":0},6864,"New 2010"]
[6865,{"$f":"'EstRev 6-11'!K245","v":0},6865,"New 2010"]
[6866,{"$f":"'EstRev 6-11'!K246","v":0},6866,"New 2010"]
[6867,{"$f":"'EstRev 6-11'!K247","v":0},6867,"New 2010"]
[6868,{"$f":"'EstRev 6-11'!K248","v":0},6868,"New 2010"]
[6869,{"$f":"'EstRev 6-11'!K249","v":0},6869,"New 2010"]
[6870,{"$f":"'EstRev 6-11'!K250","v":0},6870,"New 2010"]
[6871,{"$f":"'EstRev 6-11'!K251","v":0},6871,"New 2010"]
[6872,{"$f":"'EstRev 6-11'!K252","v":0},6872,"New 2010"]
[6873,{"$f":"'EstRev 6-11'!K253","v":0},6873,"New 2010"]
[6874,{"$f":"'EstRev 6-11'!K254","v":0},6874,"New 2010"]
[6875,{"$f":"'EstRev 6-11'!L225","v":0},6875,"New 2010"]
[6876,null,null,"New 2010"]
[6877,{"$f":"'EstRev 6-11'!L227","v":0},6877,"New 2010"]
[6878,{"$f":"'EstRev 6-11'!L228","v":0},6878,"New 2010"]
[6879,{"$f":"'EstRev 6-11'!L229","v":0},6879,"New 2010"]
[6880,{"$f":"'EstRev 6-11'!L230","v":0},6880,"New 2010"]
[6881,{"$f":"'EstRev 6-11'!L231","v":0},6881,"New 2010"]
[6882,{"$f":"'EstRev 6-11'!L232","v":0},6882,"New 2010"]
[6883,{"$f":"'EstRev 6-11'!L233","v":0},6883,"New 2010"]
[6884,{"$f":"'EstRev 6-11'!L234","v":0},6884,"New 2010"]
[6885,null,null,"New 2010"]
[6886,null,null,"New 2010"]
[6887,{"$f":"'EstRev 6-11'!L237","v":0},6887,"New 2010"]
[6888,{"$f":"'EstRev 6-11'!L238","v":0},6888,"New 2010"]
[6889,{"$f":"'EstRev 6-11'!L239","v":0},6889,"New 2010"]
[6890,{"$f":"'EstRev 6-11'!L240","v":0},6890,"New 2010"]
[6891,{"$f":"'EstRev 6-11'!L241","v":0},6891,"New 2010"]
[6892,{"$f":"'EstRev 6-11'!L242","v":0},6892,"New 2010"]
[6893,{"$f":"'EstRev 6-11'!L243","v":0},6893,"New 2010"]
[6894,{"$f":"'EstRev 6-11'!L244","v":0},6894,"New 2010"]
[6895,{"$f":"'EstRev 6-11'!L245","v":0},6895,"New 2010"]
[6896,{"$f":"'EstRev 6-11'!L246","v":0},6896,"New 2010"]
[6897,{"$f":"'EstRev 6-11'!L247","v":0},6897,"New 2010"]
[6898,{"$f":"'EstRev 6-11'!L248","v":0},6898,"New 2010"]
[6899,{"$f":"'EstRev 6-11'!L249","v":0},6899,"New 2010"]
[6900,{"$f":"'EstRev 6-11'!L250","v":0},6900,"New 2010"]
[6901,{"$f":"'EstRev 6-11'!L251","v":0},6901,"New 2010"]
[6902,{"$f":"'EstRev 6-11'!L252","v":0},6902,"New 2010"]
[6903,{"$f":"'EstRev 6-11'!L253","v":0},6903,"New 2010"]
[6904,{"$f":"'EstRev 6-11'!L254","v":0},6904,"New 2010"]
[6905,{"$f":"'EstRev 6-11'!K268","v":0},{"$f":"A6910-B6910","v":6905},"New 2011"]
[6906,{"$f":"'EstRev 6-11'!I169","v":0},{"$f":"A6911-B6911","v":6906},"New 2011"]
[6907,{"$f":"'EstRev 6-11'!D198","v":0},{"$f":"A6912-B6912","v":6907},"New 2011"]
[6908]
[6909]
[6910,{"$f":"'EstExp 12-20'!I450","v":0},{"$f":"A6915-B6915","v":6910},"New 2011"]
[6911,{"$f":"'EstExp 12-20'!L450","v":0},{"$f":"A6916-B6916","v":6911},"New 2011","Deleted 2011"]
[6912,{"$f":"'BudgetSum 2-4'!C58","v":0},6912,"New 2012"]
[6913,{"$f":"'BudgetSum 2-4'!D58","v":0},6913,"New 2012"]
[6914,{"$f":"'BudgetSum 2-4'!H58","v":0},6914,"New 2012"]
[6915,{"$f":"'BudgetSum 2-4'!C59","v":0},6915,"New 2012"]
[6916,{"$f":"'BudgetSum 2-4'!D59","v":0},6916,"New 2012"]
[6917,{"$f":"'BudgetSum 2-4'!H59","v":0},6917,"New 2012"]
[6918,{"$f":"'BudgetSum 2-4'!C60","v":0},6918,"New 2012"]
[6919,{"$f":"'BudgetSum 2-4'!D60","v":0},6919,"New 2012"]
[6920,{"$f":"'BudgetSum 2-4'!H60","v":0},6920,"New 2012"]
[6921,{"$f":"'BudgetSum 2-4'!C62","v":0},6921,"New 2012"]
[6922,{"$f":"'BudgetSum 2-4'!D62","v":0},6922,"New 2012"]
[6923,{"$f":"'BudgetSum 2-4'!H62","v":0},6923,"New 2012"]
[6924,{"$f":"'BudgetSum 2-4'!C63","v":0},6924,"New 2012"]
[6925,{"$f":"'BudgetSum 2-4'!D63","v":0},6925,"New 2012"]
[6926,{"$f":"'BudgetSum 2-4'!H63","v":0},6926,"New 2012"]
[6927,{"$f":"'BudgetSum 2-4'!C64","v":0},6927,"New 2012"]
[6928,{"$f":"'BudgetSum 2-4'!D64","v":0},6928,"New 2012"]
[6929,{"$f":"'BudgetSum 2-4'!H64","v":0},6929,"New 2012"]
[6930,{"$f":"'BudgetSum 2-4'!C66","v":0},6930,"New 2012"]
[6931,{"$f":"'BudgetSum 2-4'!D66","v":0},6931,"New 2012"]
[6932,{"$f":"'BudgetSum 2-4'!C67","v":0},6932,"New 2012"]
[6933,{"$f":"'BudgetSum 2-4'!D67","v":0},6933,"New 2012"]
[6934,{"$f":"'BudgetSum 2-4'!C68","v":0},6934,"New 2012"]
[6935,{"$f":"'BudgetSum 2-4'!D68","v":0},6935,"New 2012"]
[6936,{"$f":"'BudgetSum 2-4'!C70","v":0},6936,"New 2012"]
[6937,{"$f":"'BudgetSum 2-4'!D70","v":0},6937,"New 2012"]
[6938,{"$f":"'BudgetSum 2-4'!C71","v":0},6938,"New 2012"]
[6939,{"$f":"'BudgetSum 2-4'!D71","v":0},6939,"New 2012"]
[6940,{"$f":"'BudgetSum 2-4'!C72","v":0},6940,"New 2012"]
[6941,{"$f":"'BudgetSum 2-4'!D72","v":0},6941,"New 2012"]
[6942,{"$f":"'BudgetSum 2-4'!C74","v":0},6942,"New 2012"]
[6943,{"$f":"'BudgetSum 2-4'!D74","v":0},6943,"New 2012"]
[6944,{"$f":"'BudgetSum 2-4'!C75","v":0},6944,"New 2012"]
[6945,{"$f":"'BudgetSum 2-4'!D75","v":0},6945,"New 2012"]
[6946,{"$f":"'BudgetSum 2-4'!C76","v":0},6946,"New 2012"]
[6947,{"$f":"'BudgetSum 2-4'!D76","v":0},6947,"New 2012"]
[6948,{"$f":"'BudgetSum 2-4'!C27","v":0},6948,"New 2012"]
[6949,{"$f":"'BudgetSum 2-4'!D27","v":0},6949,"New 2012"]
[6950,{"$f":"'BudgetSum 2-4'!E27","v":0},6950,"New 2012"]
[6951,{"$f":"'BudgetSum 2-4'!F27","v":0},6951,"New 2012"]
[6952,{"$f":"'BudgetSum 2-4'!G27","v":0},6952,"New 2012"]
[6953,{"$f":"'BudgetSum 2-4'!H27","v":0},6953,"New 2012"]
[6954,{"$f":"'BudgetSum 2-4'!J27","v":0},6954,"New 2012"]
[6955,{"$f":"'BudgetSum 2-4'!K27","v":0},6955,"New 2012"]
[6956,{"$f":"'EstRev 6-11'!D255","v":0},6956,"New 2013"]
[6957,null,null,"New 2013"]
[6958,null,null,"New 2013"]
[6959,null,null,"New 2013"]
[6960,null,null,"New 2013"]
[6961,null,null,"New 2013"]
[6962,null,null,"New 2013"]
[6963,null,null,"New 2013"]
[6964,{"$f":"'EstRev 6-11'!F268","v":0},6964,"New 2013"]
[6965,{"$f":"'CashSum 5'!C6","v":0},6965,"New 2013"]
[6966,{"$f":"'CashSum 5'!C9","v":0},6966,"New 2013"]
[6967,{"$f":"'CashSum 5'!D9","v":0},6967,"New 2013"]
[6968,{"$f":"'CashSum 5'!E6","v":0},6968,"New 2013"]
[6969,{"$f":"'CashSum 5'!E17","v":0},6969,"New 2013"]
[6970,{"$f":"'CashSum 5'!G6","v":0},6970,"New 2013"]
[6971,{"$f":"'CashSum 5'!H6","v":0},6971,"New 2013"]
[6972,{"$f":"'CashSum 5'!H9","v":0},6972,"New 2013"]
[6973,{"$f":"'CashSum 5'!K6","v":0},6973,"New 2013"]
[6974,{"$f":"'CashSum 5'!K8","v":0},6974,"New 2013"]
[6975,{"$f":"'CashSum 5'!K9","v":0},{"$f":"A6980-B6980","v":6975},"New 2013"]
[6976,{"$f":"'CashSum 5'!K18","v":0},6976,"New 2013"]
[6977,{"$f":"'EstExp 12-20'!F6","v":0},6977,"New 2015 Charter School Tution Payment"]
[6978,{"$f":"'EstExp 12-20'!L6","v":0},6978,"New 2015 Charter School Tution Payment total"]
[6979,{"$f":"'EstRev 6-11'!D256","v":0},6979,"New 2016 Race to the Top - Preschool Expansion Grant - ED"]
[6980,{"$f":"'EstRev 6-11'!E256","v":0},6980,"New 2016 Race to the Top - Preschool Expansion Grant-O&M"]
[6981,null,null,"New 2016 Race to the Top - Preschool Expansion Grant-DS"]
[6982,{"$f":"'EstRev 6-11'!G256","v":0},6982,"New 2016 Race to the Top - Preschool Expansion Grant-TR"]
[6983,{"$f":"'EstRev 6-11'!H256","v":0},6983,"New 2016 Race to the Top - Preschool Expansion Grant-MR/SS"]
[6984,null,null,"New 2016 Race to the Top - Preschool Expansion Grant-CP"]
[6985,null,null,"New 2016 Race to the Top - Preschool Expansion Grant-TORT"]
[6986,null,null,"New 2016 Race to the Top - Preschool Expansion Grant-FP&S"]
[6987,{"$f":"'EstExp 12-20'!F137","v":0},6987]
[6988,{"$f":"'EstExp 12-20'!I137","v":0},6988]
[6989,{"$f":"'EstExp 12-20'!L137","v":0},6989]
[6990,{"$f":"'EstExp 12-20'!I161","v":0},6990,"New 2017 to add account 4110 and 4120 to all fund expenditures"]
[6991,{"$f":"'EstExp 12-20'!L161","v":0},6991,"New 2017 to add account 4110 and 4120 to all fund expenditures"]
[6992,{"$f":"'EstExp 12-20'!I162","v":0},6992,"New 2017 to add account 4110 and 4120 to all fund expenditures"]
[6993,{"$f":"'EstExp 12-20'!L162","v":0},6993,"New 2017 to add account 4110 and 4120 to all fund expenditures"]
[6994]
[6995]
[6996,{"$f":"'EstExp 12-20'!I163","v":0},6996,"New 2017 to add account 4110 and 4120 to all fund expenditures"]
[6997,{"$f":"'EstExp 12-20'!L163","v":0},6997,"New 2017 to add account 4110 and 4120 to all fund expenditures"]
[6998,{"$f":"'EstExp 12-20'!I164","v":0},6998,"New 2017 to add account 4110 and 4120 to all fund expenditures"]
[6999,{"$f":"'EstExp 12-20'!L164","v":0},6999,"New 2017 to add account 4110 and 4120 to all fund expenditures"]
[7000,{"$f":"'EstExp 12-20'!E279","v":0},7000,"New 2017 to add account 4110 and 4120 to all fund expenditures"]
[7001,{"$f":"'EstExp 12-20'!L279","v":0},7001,"New 2017 to add account 4110 and 4120 to all fund expenditures"]
[7002,{"$f":"'EstExp 12-20'!F303","v":0},7002,"New 2017 to add account 4110 and 4120 to all fund expenditures"]
[7003,{"$f":"'EstExp 12-20'!I303","v":0},7003,"New 2017 to add account 4110 and 4120 to all fund expenditures"]
[7004,{"$f":"'EstExp 12-20'!L303","v":0},7004,"New 2017 to add account 4110 and 4120 to all fund expenditures"]
[7005,{"$f":"'EstExp 12-20'!I391","v":0},7005,"New 2017 to add account 4110 and 4120 to all fund expenditures"]
[7006,{"$f":"'EstExp 12-20'!L391","v":0},7006,"New 2017 to add account 4110 and 4120 to all fund expenditures"]
[7007,{"$f":"'EstExp 12-20'!I392","v":0},7007,"New 2017 to add account 4110 and 4120 to all fund expenditures"]
[7008,{"$f":"'EstExp 12-20'!L392","v":0},7008,"New 2017 to add account 4110 and 4120 to all fund expenditures"]
[7009,{"$f":"'EstExp 12-20'!I397","v":0},7009,"New 2017 to add account 4110 and 4120 to all fund expenditures"]
[7010,{"$f":"'EstExp 12-20'!L397","v":0},7010,"New 2017 to add account 4110 and 4120 to all fund expenditures"]
[7011,{"$f":"'EstExp 12-20'!I440","v":0},7011,"New 2017 to add account 4110 and 4120 to all fund expenditures"]
[7012,{"$f":"'EstExp 12-20'!L440","v":0},7012,"New 2017 to add account 4110 and 4120 to all fund expenditures"]
[7013,{"$f":"'EstExp 12-20'!I441","v":0},7013,"New 2017 to add account 4110 and 4120 to all fund expenditures"]
[7014,{"$f":"'EstExp 12-20'!L441","v":0},7014,"New 2017 to add account 4110 and 4120 to all fund expenditures"]
[7015,{"$f":"'BudgetSum 2-4'!J16","v":0},7015,"New 2017 to add account 4110 and 4120 to all fund expenditures"]
[7016,{"$f":"'EstRev 6-11'!D122","v":0},7016,"new 2019 to add account 3030 in revenues"]
[7017,{"$f":"'EstRev 6-11'!E122","v":0},7017,"new 2019 to add account 3030 in revenues"]
[7018,{"$f":"'EstRev 6-11'!F122","v":0},7018,"new 2019 to add account 3030 in revenues"]
[7019,{"$f":"'EstRev 6-11'!G122","v":0},7019,"new 2019 to add account 3030 in revenues"]
[7020,{"$f":"'EstRev 6-11'!H122","v":0},7020,"new 2019 to add account 3030 in revenues"]
[7021,{"$f":"'EstRev 6-11'!I122","v":0},7021,"new 2019 to add account 3030 in revenues"]
[7022,{"$f":"'EstRev 6-11'!K122","v":0},7022,"new 2019 to add account 3030 in revenues"]
[7023,{"$f":"'EstRev 6-11'!L122","v":0},7023,"new 2019 to add account 3030 in revenues"]
[7024,{"$f":"'EstRev 6-11'!D263","v":0},7024,"new 2019 to add account 4981 in revenues"]
[7025,{"$f":"'EstRev 6-11'!E263","v":0},7025,"new 2019 to add account 4981 in revenues"]
[7026,{"$f":"'EstRev 6-11'!G263","v":0},7026,"new 2019 to add account 4981 in revenues"]
[7027,{"$f":"'EstRev 6-11'!H263","v":0},7027,"new 2019 to add account 4981 in revenues"]
[7028,{"$f":"'EstRev 6-11'!D264","v":0},7028,"new 2019 to add acount4982 in revenues"]
[7029,{"$f":"'EstRev 6-11'!E264","v":0},7029,"new 2019 to add acount4982 in revenues"]
[7030,{"$f":"'EstRev 6-11'!G264","v":0},7030,"new 2019 to add acount4982 in revenues"]
[7031,{"$f":"'EstRev 6-11'!H264","v":0},7031,"new 2019 to add acount4982 in revenues"]
[7032,{"$f":"'BudgetSum 2-4'!J13","v":6500},532,"New 2021 -BudgetSum"]
[7033,{"$f":"'BudgetSum 2-4'!J15","v":0},7033,"New 2021 -BudgetSum"]
[7034,{"$f":"'BudgetSum 2-4'!C83","v":50000},-42966,"New 2021 -BudgetSum"]
[7035,{"$f":"'BudgetSum 2-4'!C85","v":47500},-40465,"New 2021 -BudgetSum"]
[7036,{"$f":"'BudgetSum 2-4'!C87","v":47000},-39964,"New 2021 -BudgetSum"]
[7037,{"$f":"'BudgetSum 2-4'!C88","v":500},6537,"New 2021 -BudgetSum"]
[7038,{"$f":"'BudgetSum 2-4'!C89","v":50500},-43462,"New 2021 -BudgetSum"]
[7039,{"$f":"'BudgetSum 2-4'!J131","v":0},{"$f":"A7044-B7044","v":7039},"New 2021 -BudgetSum"]
[7040,{"$f":"'BudgetSum 2-4'!C91","v":1478677},-1471637,"New 2021 -BudgetSum"]
[7041,{"$f":"'BudgetSum 2-4'!C93","v":1108751},-1101710,"New 2021 -BudgetSum"]
[7042,{"$f":"'BudgetSum 2-4'!C94","v":0},7042,"New 2021 -BudgetSum"]
[7043,{"$f":"'BudgetSum 2-4'!C95","v":1095600},-1088557,"New 2021 -BudgetSum"]
[7044,{"$f":"'BudgetSum 2-4'!C96","v":425155},-418111,"New 2021 -BudgetSum"]
[7045,{"$f":"'BudgetSum 2-4'!C97","v":2629506},-2622461,"New 2021 -BudgetSum"]
[7046,{"$f":"'BudgetSum 2-4'!C98","v":0},7046,"New 2021 -BudgetSum"]
[7047,{"$f":"'BudgetSum 2-4'!C99","v":2629506},-2622459,"New 2021 -BudgetSum"]
[7048,{"$f":"'BudgetSum 2-4'!C101","v":1639100},-1632052,"New 2021 -BudgetSum"]
[7049,{"$f":"'BudgetSum 2-4'!C102","v":791465},-784416,"New 2021 -BudgetSum"]
[7050,{"$f":"'BudgetSum 2-4'!C103","v":0},7050,"New 2021 -BudgetSum"]
[7051,{"$f":"'BudgetSum 2-4'!C104","v":120000},-112949,"New 2021 -BudgetSum"]
[7052,{"$f":"'BudgetSum 2-4'!C105","v":0},7052,"New 2021 -BudgetSum"]
[7053,{"$f":"'BudgetSum 2-4'!C106","v":0},7053,"New 2021 -BudgetSum"]
[7054,{"$f":"'BudgetSum 2-4'!C107","v":2550565},-2543511,"New 2021 -BudgetSum"]
[7055,{"$f":"'BudgetSum 2-4'!C108","v":0},7055,"New 2021 -BudgetSum"]
[7056,{"$f":"'BudgetSum 2-4'!C109","v":2550565},-2543509,"New 2021 -BudgetSum"]
[7057,{"$f":"'BudgetSum 2-4'!C110","v":78941},-71884,"New 2021 -BudgetSum"]
[7058,{"$f":"'BudgetSum 2-4'!C113","v":0},7058,"New 2021 -BudgetSum"]
[7059,{"$f":"'BudgetSum 2-4'!C116","v":0},7059,"New 2021 -BudgetSum"]
[7060,{"$f":"'BudgetSum 2-4'!C117","v":0},7060,"New 2021 -BudgetSum"]
[7061,{"$f":"'BudgetSum 2-4'!C118","v":1557618},-1550557,"New 2021 -BudgetSum"]
[7062,{"$f":"'BudgetSum 2-4'!D91","v":516691},-509629,"New 2021 -BudgetSum"]
[7063,{"$f":"'BudgetSum 2-4'!D93","v":226077},-219014,"New 2021 -BudgetSum"]
[7064,{"$f":"'BudgetSum 2-4'!D94","v":0},7064,"New 2021 -BudgetSum"]
[7065,{"$f":"'BudgetSum 2-4'!D95","v":50000},-42935,"New 2021 -BudgetSum"]
[7066,{"$f":"'BudgetSum 2-4'!D96","v":276000},-268934,"New 2021 -BudgetSum"]
[7067,{"$f":"'BudgetSum 2-4'!D97","v":552077},-545010,"New 2021 -BudgetSum"]
[7068,{"$f":"'BudgetSum 2-4'!D98","v":0},7068,"New 2021 -BudgetSum"]
[7069,{"$f":"'BudgetSum 2-4'!D99","v":552077},-545008,"New 2021 -BudgetSum"]
[7070,{"$f":"'BudgetSum 2-4'!D102","v":922000},-914930,"New 2021 -BudgetSum"]
[7071,{"$f":"'BudgetSum 2-4'!D103","v":0},7071,"New 2021 -BudgetSum"]
[7072,{"$f":"'BudgetSum 2-4'!D104","v":0},7072,"New 2021 -BudgetSum"]
[7073,{"$f":"'BudgetSum 2-4'!D105","v":0},7073,"New 2021 -BudgetSum"]
[7074,{"$f":"'BudgetSum 2-4'!D106","v":0},7074,"New 2021 -BudgetSum"]
[7075,{"$f":"'BudgetSum 2-4'!D107","v":922000},-914925,"New 2021 -BudgetSum"]
[7076,{"$f":"'BudgetSum 2-4'!D108","v":0},7076,"New 2021 -BudgetSum"]
[7077,{"$f":"'BudgetSum 2-4'!D109","v":922000},-914923,"New 2021 -BudgetSum"]
[7078,{"$f":"'BudgetSum 2-4'!D110","v":-369923},377001,"New 2021 -BudgetSum"]
[7079,{"$f":"'BudgetSum 2-4'!D113","v":0},7079,"New 2021 -BudgetSum"]
[7080,{"$f":"'BudgetSum 2-4'!D116","v":0},7080,"New 2021 -BudgetSum"]
[7081,{"$f":"'BudgetSum 2-4'!D117","v":0},7081,"New 2021 -BudgetSum"]
[7082,{"$f":"'BudgetSum 2-4'!D118","v":146768},-139686,"New 2021 -BudgetSum"]
[7083,{"$f":"'BudgetSum 2-4'!E91","v":25082},-17999,"New 2021 -BudgetSum"]
[7084,{"$f":"'BudgetSum 2-4'!E93","v":342181},-335097,"New 2021 -BudgetSum"]
[7085,{"$f":"'BudgetSum 2-4'!E95","v":0},7085,"New 2021 -BudgetSum"]
[7086,{"$f":"'BudgetSum 2-4'!E96","v":0},7086,"New 2021 -BudgetSum"]
[7087,{"$f":"'BudgetSum 2-4'!E97","v":342181},-335094,"New 2021 -BudgetSum"]
[7088,{"$f":"'BudgetSum 2-4'!E98","v":0},7088,"New 2021 -BudgetSum"]
[7089,{"$f":"'BudgetSum 2-4'!E99","v":342181},-335092,"New 2021 -BudgetSum"]
[7090,{"$f":"'BudgetSum 2-4'!E104","v":0},7090,"New 2021 -BudgetSum"]
[7091,{"$f":"'BudgetSum 2-4'!E105","v":336814},-329723,"New 2021 -BudgetSum"]
[7092,{"$f":"'BudgetSum 2-4'!E106","v":0},7092,"New 2021 -BudgetSum"]
[7093,{"$f":"'BudgetSum 2-4'!E107","v":336814},-329721,"New 2021 -BudgetSum"]
[7094,{"$f":"'BudgetSum 2-4'!E108","v":0},7094,"New 2021 -BudgetSum"]
[7095,{"$f":"'BudgetSum 2-4'!E109","v":336814},-329719,"New 2021 -BudgetSum"]
[7096,{"$f":"'BudgetSum 2-4'!E110","v":5367},1729,"New 2021 -BudgetSum"]
[7097,{"$f":"'BudgetSum 2-4'!E113","v":0},7097,"New 2021 -BudgetSum"]
[7098,{"$f":"'BudgetSum 2-4'!E116","v":0},7098,"New 2021 -BudgetSum"]
[7099,{"$f":"'BudgetSum 2-4'!E117","v":0},7099,"New 2021 -BudgetSum"]
[7100,{"$f":"'BudgetSum 2-4'!E118","v":30449},-23349,"New 2021 -BudgetSum"]
[7101,{"$f":"'BudgetSum 2-4'!F91","v":74352},-67251,"New 2021 -BudgetSum"]
[7102,{"$f":"'BudgetSum 2-4'!F93","v":139769},-132667,"New 2021 -BudgetSum"]
[7103,{"$f":"'BudgetSum 2-4'!F94","v":0},{"$f":"A7108-B7108","v":7103},"New 2021 -BudgetSum"]
[7104,{"$f":"'BudgetSum 2-4'!F95","v":129000},-121896,"New 2021 -BudgetSum"]
[7105,{"$f":"'BudgetSum 2-4'!F96","v":0},7105,"New 2021 -BudgetSum"]
[7106,{"$f":"'BudgetSum 2-4'!F97","v":268769},-261663,"New 2021 -BudgetSum"]
[7107,{"$f":"'BudgetSum 2-4'!F98","v":0},7107,"New 2021 -BudgetSum"]
[7108,{"$f":"'BudgetSum 2-4'!F99","v":268769},-261661,"New 2021 -BudgetSum"]
[7109,{"$f":"'BudgetSum 2-4'!F102","v":268500},-261391,"New 2021 -BudgetSum"]
[7110,{"$f":"'BudgetSum 2-4'!F103","v":0},7110,"New 2021 -BudgetSum"]
[7111,{"$f":"'BudgetSum 2-4'!F104","v":0},7111,"New 2021 -BudgetSum"]
[7112,{"$f":"'BudgetSum 2-4'!F105","v":0},7112,"New 2021 -BudgetSum"]
[7113,{"$f":"'BudgetSum 2-4'!F106","v":0},7113,"New 2021 -BudgetSum"]
[7114,{"$f":"'BudgetSum 2-4'!F107","v":268500},-261386,"New 2021 -BudgetSum"]
[7115,{"$f":"'BudgetSum 2-4'!F108","v":0},7115,"New 2021 -BudgetSum"]
[7116,{"$f":"'BudgetSum 2-4'!F109","v":268500},-261384,"New 2021 -BudgetSum"]
[7117,{"$f":"'BudgetSum 2-4'!F110","v":269},6848,"New 2021 -BudgetSum"]
[7118,{"$f":"'BudgetSum 2-4'!F113","v":0},7118,"New 2021 -BudgetSum"]
[7119,{"$f":"'BudgetSum 2-4'!F116","v":0},7119,"New 2021 -BudgetSum"]
[7120,{"$f":"'BudgetSum 2-4'!F117","v":0},7120,"New 2021 -BudgetSum"]
[7121,{"$f":"'BudgetSum 2-4'!F118","v":74621},-67500,"New 2021 -BudgetSum"]
[7122,{"$f":"'BudgetSum 2-4'!G91","v":31103},-23981,"New 2021 -BudgetSum"]
[7123,{"$f":"'BudgetSum 2-4'!G93","v":136290},-129167,"New 2021 -BudgetSum"]
[7124,{"$f":"'BudgetSum 2-4'!G94","v":0},7124,"New 2021 -BudgetSum"]
[7125,{"$f":"'BudgetSum 2-4'!G95","v":0},7125,"New 2021 -BudgetSum"]
[7126,{"$f":"'BudgetSum 2-4'!G96","v":0},7126,"New 2021 -BudgetSum"]
[7127,{"$f":"'BudgetSum 2-4'!G97","v":136290},-129163,"New 2021 -BudgetSum"]
[7128,{"$f":"'BudgetSum 2-4'!G98","v":0},7128,"New 2021 -BudgetSum"]
[7129,{"$f":"'BudgetSum 2-4'!G99","v":136290},-129161,"New 2021 -BudgetSum"]
[7130,{"$f":"'BudgetSum 2-4'!G101","v":24600},-17470,"New 2021 -BudgetSum"]
[7131,{"$f":"'BudgetSum 2-4'!G102","v":61450},-54319,"New 2021 -BudgetSum"]
[7132,{"$f":"'BudgetSum 2-4'!G103","v":0},7132,"New 2021 -BudgetSum"]
[7133,{"$f":"'BudgetSum 2-4'!G104","v":0},7133,"New 2021 -BudgetSum"]
[7134,{"$f":"'BudgetSum 2-4'!G105","v":0},7134,"New 2021 -BudgetSum"]
[7135,{"$f":"'BudgetSum 2-4'!G106","v":0},7135,"New 2021 -BudgetSum"]
[7136,{"$f":"'BudgetSum 2-4'!G107","v":86050},-78914,"New 2021 -BudgetSum"]
[7137,{"$f":"'BudgetSum 2-4'!G108","v":0},7137,"New 2021 -BudgetSum"]
[7138,{"$f":"'BudgetSum 2-4'!G109","v":86050},-78912,"New 2021 -BudgetSum"]
[7139,{"$f":"'BudgetSum 2-4'!G110","v":50240},-43101,"New 2021 -BudgetSum"]
[7140,{"$f":"'BudgetSum 2-4'!G113","v":0},7140,"New 2021 -BudgetSum"]
[7141,{"$f":"'BudgetSum 2-4'!G116","v":0},7141,"New 2021 -BudgetSum"]
[7142,{"$f":"'BudgetSum 2-4'!G117","v":0},7142,"New 2021 -BudgetSum"]
[7143,{"$f":"'BudgetSum 2-4'!G118","v":81343},-74200,"New 2021 -BudgetSum"]
[7144,{"$f":"'BudgetSum 2-4'!H91","v":93065},-85921,"New 2021 -BudgetSum"]
[7145,{"$f":"'BudgetSum 2-4'!H93","v":14450},-7305,"New 2021 -BudgetSum"]
[7146,{"$f":"'BudgetSum 2-4'!H95","v":0},7146,"New 2021 -BudgetSum"]
[7147,{"$f":"'BudgetSum 2-4'!H96","v":0},7147,"New 2021 -BudgetSum"]
[7148,{"$f":"'BudgetSum 2-4'!H97","v":14450},-7302,"New 2021 -BudgetSum"]
[7149,{"$f":"'BudgetSum 2-4'!H98","v":0},7149,"New 2021 -BudgetSum"]
[7150,{"$f":"'BudgetSum 2-4'!H99","v":14450},-7300,"New 2021 -BudgetSum"]
[7151,{"$f":"'BudgetSum 2-4'!H102","v":0},7151,"New 2021 -BudgetSum"]
[7152,{"$f":"'BudgetSum 2-4'!H104","v":0},7152,"New 2021 -BudgetSum"]
[7153,{"$f":"'BudgetSum 2-4'!H106","v":0},7153,"New 2021 -BudgetSum"]
[7154,{"$f":"'BudgetSum 2-4'!H107","v":0},7154,"New 2021 -BudgetSum"]
[7155,{"$f":"'BudgetSum 2-4'!H108","v":0},7155,"New 2021 -BudgetSum"]
[7156,{"$f":"'BudgetSum 2-4'!H109","v":0},7156,"New 2021 -BudgetSum"]
[7157,{"$f":"'BudgetSum 2-4'!H110","v":14450},-7293,"New 2021 -BudgetSum"]
[7158,{"$f":"'BudgetSum 2-4'!H113","v":0},7158,"New 2021 -BudgetSum"]
[7159,{"$f":"'BudgetSum 2-4'!H116","v":0},7159,"New 2021 -BudgetSum"]
[7160,{"$f":"'BudgetSum 2-4'!H117","v":0},7160,"New 2021 -BudgetSum"]
[7161,{"$f":"'BudgetSum 2-4'!H118","v":107515},-100354,"New 2021 -BudgetSum"]
[7162,{"$f":"'BudgetSum 2-4'!I91","v":129929},-122767,"New 2021 -BudgetSum"]
[7163,{"$f":"'BudgetSum 2-4'!I93","v":15039},-7876,"New 2021 -BudgetSum"]
[7164,{"$f":"'BudgetSum 2-4'!I95","v":0},7164,"New 2021 -BudgetSum"]
[7165,{"$f":"'BudgetSum 2-4'!I96","v":0},7165,"New 2021 -BudgetSum"]
[7166,{"$f":"'BudgetSum 2-4'!I97","v":15039},-7873,"New 2021 -BudgetSum"]
[7167,{"$f":"'BudgetSum 2-4'!I99","v":15039},{"$f":"A7172-B7172","v":-7872},"New 2021 -BudgetSum"]
[7168,{"$f":"'BudgetSum 2-4'!I110","v":15039},-7871,"New 2021 -BudgetSum"]
[7169,{"$f":"'BudgetSum 2-4'!I113","v":0},7169,"New 2021 -BudgetSum"]
[7170,{"$f":"'BudgetSum 2-4'!I116","v":0},7170,"New 2021 -BudgetSum"]
[7171,{"$f":"'BudgetSum 2-4'!I117","v":0},7171,"New 2021 -BudgetSum"]
[7172,{"$f":"'BudgetSum 2-4'!I118","v":144968},-137796,"New 2021 -BudgetSum"]
[7173,{"$f":"'BudgetSum 2-4'!J91","v":39002},-31829,"New 2021 -BudgetSum"]
[7174,{"$f":"'BudgetSum 2-4'!J93","v":130200},-123026,"New 2021 -BudgetSum"]
[7175,{"$f":"'BudgetSum 2-4'!J95","v":0},7175,"New 2021 -BudgetSum"]
[7176,{"$f":"'BudgetSum 2-4'!J96","v":0},7176,"New 2021 -BudgetSum"]
[7177,{"$f":"'BudgetSum 2-4'!J97","v":130200},-123023,"New 2021 -BudgetSum"]
[7178,{"$f":"'BudgetSum 2-4'!J98","v":0},7178,"New 2021 -BudgetSum"]
[7179,{"$f":"'BudgetSum 2-4'!J99","v":130200},-123021,"New 2021 -BudgetSum"]
[7180,{"$f":"'BudgetSum 2-4'!J101","v":6500},680,"New 2021 -BudgetSum"]
[7181,{"$f":"'BudgetSum 2-4'!J102","v":156750},-149569,"New 2021 -BudgetSum"]
[7182,{"$f":"'BudgetSum 2-4'!J103","v":0},7182,"New 2021 -BudgetSum"]
[7183,{"$f":"'BudgetSum 2-4'!J104","v":0},7183,"New 2021 -BudgetSum"]
[7184,{"$f":"'BudgetSum 2-4'!J107","v":163250},-156066,"New 2021 -BudgetSum"]
[7185,{"$f":"'BudgetSum 2-4'!J108","v":0},7185,"New 2021 -BudgetSum"]
[7186,{"$f":"'BudgetSum 2-4'!J109","v":163250},-156064,"New 2021 -BudgetSum"]
[7187,{"$f":"'BudgetSum 2-4'!J110","v":-33050},40237,"New 2021 -BudgetSum"]
[7188,{"$f":"'BudgetSum 2-4'!J113","v":0},7188,"New 2021 -BudgetSum"]
[7189,{"$f":"'BudgetSum 2-4'!J116","v":0},7189,"New 2021 -BudgetSum"]
[7190,{"$f":"'BudgetSum 2-4'!J117","v":0},7190,"New 2021 -BudgetSum"]
[7191,{"$f":"'BudgetSum 2-4'!J118","v":5952},1239,"New 2021 -BudgetSum"]
[7192,{"$f":"'BudgetSum 2-4'!K91","v":86120},-78928,"New 2021 -BudgetSum"]
[7193,{"$f":"'BudgetSum 2-4'!K93","v":2114839},-2107646,"New 2021 -BudgetSum"]
[7194,{"$f":"'BudgetSum 2-4'!K95","v":0},7194,"New 2021 -BudgetSum"]
[7195,{"$f":"'BudgetSum 2-4'!K96","v":0},7195,"New 2021 -BudgetSum"]
[7196,{"$f":"'BudgetSum 2-4'!K97","v":2114839},-2107643,"New 2021 -BudgetSum"]
[7197,{"$f":"'BudgetSum 2-4'!K98","v":0},7197,"New 2021 -BudgetSum"]
[7198,{"$f":"'BudgetSum 2-4'!K99","v":2114839},-2107641,"New 2021 -BudgetSum"]
[7199,{"$f":"'BudgetSum 2-4'!K102","v":1000},6199,"New 2021 -BudgetSum"]
[7200,{"$f":"'BudgetSum 2-4'!K104","v":0},7200,"New 2021 -BudgetSum"]
[7201,{"$f":"'BudgetSum 2-4'!K105","v":0},7201,"New 2021 -BudgetSum"]
[7202,{"$f":"'BudgetSum 2-4'!K106","v":0},7202,"New 2021 -BudgetSum"]
[7203,{"$f":"'BudgetSum 2-4'!K107","v":1000},6203,"New 2021 -BudgetSum"]
[7204,{"$f":"'BudgetSum 2-4'!K108","v":0},7204,"New 2021 -BudgetSum"]
[7205,{"$f":"'BudgetSum 2-4'!K109","v":1000},6205,"New 2021 -BudgetSum"]
[7206,{"$f":"'BudgetSum 2-4'!K110","v":2113839},-2106633,"New 2021 -BudgetSum"]
[7207,{"$f":"'BudgetSum 2-4'!K113","v":0},7207,"New 2021 -BudgetSum"]
[7208,{"$f":"'BudgetSum 2-4'!K116","v":0},7208,"New 2021 -BudgetSum"]
[7209,{"$f":"'BudgetSum 2-4'!K117","v":0},7209,"New 2021 -BudgetSum"]
[7210,{"$f":"'BudgetSum 2-4'!K118","v":2199959},-2192749,"New 2021 -BudgetSum"]
[7211,{"$f":"'CashSum 5'!C23","v":50000},-42789,"New 2021-CashSum"]
[7212,{"$f":"'CashSum 5'!C24","v":47500},-40288,"New 2021-CashSum"]
[7213,{"$f":"'CashSum 5'!C25","v":97500},-90287,"New 2021-CashSum"]
[7214,{"$f":"'CashSum 5'!C26","v":47000},-39786,"New 2021-CashSum"]
[7215,{"$f":"'CashSum 5'!C27","v":50500},-43285,"New 2021-CashSum"]
[7216,{"$f":"'CashSum 5'!C29","v":1478677},-1471461,"New 2021-CashSum"]
[7217,{"$f":"'CashSum 5'!C30","v":2629506},-2622289,"New 2021-CashSum"]
[7218,{"$f":"'CashSum 5'!C31","v":0},7218,"New 2021-CashSum"]
[7219,{"$f":"'CashSum 5'!C32","v":2629506},-2622287,"New 2021-CashSum"]
[7220,{"$f":"'CashSum 5'!C33","v":4108183},-4100963,"New 2021-CashSum"]
[7221,{"$f":"'CashSum 5'!C34","v":2550565},-2543344,"New 2021-CashSum"]
[7222,{"$f":"'CashSum 5'!C35","v":0},7222,"New 2021-CashSum"]
[7223,{"$f":"'CashSum 5'!C36","v":2550565},-2543342,"New 2021-CashSum"]
[7224,{"$f":"'CashSum 5'!C37","v":1557618},-1550394,"New 2021-CashSum"]
[7225,{"$f":"'CashSum 5'!D29","v":516691},-509466,"New 2021-CashSum"]
[7226,{"$f":"'CashSum 5'!D30","v":552077},-544851,"New 2021-CashSum"]
[7227,{"$f":"'CashSum 5'!D31","v":0},7227,"New 2021-CashSum"]
[7228,{"$f":"'CashSum 5'!D32","v":552077},-544849,"New 2021-CashSum"]
[7229,{"$f":"'CashSum 5'!D33","v":1068768},-1061539,"New 2021-CashSum"]
[7230,{"$f":"'CashSum 5'!D34","v":922000},-914770,"New 2021-CashSum"]
[7231,{"$f":"'CashSum 5'!D35","v":0},{"$f":"A7236-B7236","v":7231},"New 2021-CashSum"]
[7232,{"$f":"'CashSum 5'!D36","v":922000},-914768,"New 2021-CashSum"]
[7233,{"$f":"'CashSum 5'!D37","v":146768},-139535,"New 2021-CashSum"]
[7234,{"$f":"'CashSum 5'!E29","v":25082},-17848,"New 2021-CashSum"]
[7235,{"$f":"'CashSum 5'!E30","v":342181},-334946,"New 2021-CashSum"]
[7236,{"$f":"'CashSum 5'!E31","v":0},7236,"New 2021-CashSum"]
[7237,{"$f":"'CashSum 5'!E32","v":342181},-334944,"New 2021-CashSum"]
[7238,{"$f":"'CashSum 5'!E33","v":367263},-360025,"New 2021-CashSum"]
[7239,{"$f":"'CashSum 5'!E34","v":336814},-329575,"New 2021-CashSum"]
[7240,{"$f":"'CashSum 5'!E35","v":0},7240,"New 2021-CashSum"]
[7241,{"$f":"'CashSum 5'!E36","v":336814},-329573,"New 2021-CashSum"]
[7242,{"$f":"'CashSum 5'!E37","v":30449},-23207,"New 2021-CashSum"]
[7243,{"$f":"'CashSum 5'!F29","v":74352},-67109,"New 2021-CashSum"]
[7244,{"$f":"'CashSum 5'!F30","v":268769},-261525,"New 2021-CashSum"]
[7245,{"$f":"'CashSum 5'!F31","v":0},7245,"New 2021-CashSum"]
[7246,{"$f":"'CashSum 5'!F32","v":268769},-261523,"New 2021-CashSum"]
[7247,{"$f":"'CashSum 5'!F33","v":343121},-335874,"New 2021-CashSum"]
[7248,{"$f":"'CashSum 5'!F34","v":268500},-261252,"New 2021-CashSum"]
[7249,{"$f":"'CashSum 5'!F35","v":0},7249,"New 2021-CashSum"]
[7250,{"$f":"'CashSum 5'!F36","v":268500},-261250,"New 2021-CashSum"]
[7251,{"$f":"'CashSum 5'!F37","v":74621},-67370,"New 2021-CashSum"]
[7252,{"$f":"'CashSum 5'!G29","v":31103},-23851,"New 2021-CashSum"]
[7253,{"$f":"'CashSum 5'!G30","v":136290},-129037,"New 2021-CashSum"]
[7254,{"$f":"'CashSum 5'!G31","v":0},7254,"New 2021-CashSum"]
[7255,{"$f":"'CashSum 5'!G32","v":136290},-129035,"New 2021-CashSum"]
[7256,{"$f":"'CashSum 5'!G33","v":167393},-160137,"New 2021-CashSum"]
[7257,{"$f":"'CashSum 5'!G34","v":86050},-78793,"New 2021-CashSum"]
[7258,{"$f":"'CashSum 5'!G35","v":0},7258,"New 2021-CashSum"]
[7259,{"$f":"'CashSum 5'!G36","v":86050},-78791,"New 2021-CashSum"]
[7260,{"$f":"'CashSum 5'!G37","v":81343},-74083,"New 2021-CashSum"]
[7261,{"$f":"'CashSum 5'!H29","v":93065},-85804,"New 2021-CashSum"]
[7262,{"$f":"'CashSum 5'!H30","v":14450},-7188,"New 2021-CashSum"]
[7263,{"$f":"'CashSum 5'!H31","v":0},7263,"New 2021-CashSum"]
[7264,{"$f":"'CashSum 5'!H32","v":14450},-7186,"New 2021-CashSum"]
[7265,{"$f":"'CashSum 5'!H33","v":107515},-100250,"New 2021-CashSum"]
[7266,{"$f":"'CashSum 5'!H34","v":0},7266,"New 2021-CashSum"]
[7267,{"$f":"'CashSum 5'!H35","v":0},7267,"New 2021-CashSum"]
[7268,{"$f":"'CashSum 5'!H36","v":0},7268,"New 2021-CashSum"]
[7269,{"$f":"'CashSum 5'!H37","v":107515},-100246,"New 2021-CashSum"]
[7270,{"$f":"'CashSum 5'!I29","v":129929},-122659,"New 2021-CashSum"]
[7271,{"$f":"'CashSum 5'!I30","v":15039},-7768,"New 2021-CashSum"]
[7272,{"$f":"'CashSum 5'!I31","v":0},7272,"New 2021-CashSum"]
[7273,{"$f":"'CashSum 5'!I32","v":15039},-7766,"New 2021-CashSum"]
[7274,{"$f":"'CashSum 5'!I33","v":144968},-137694,"New 2021-CashSum"]
[7275,{"$f":"'CashSum 5'!I34","v":0},7275,"New 2021-CashSum"]
[7276,{"$f":"'CashSum 5'!I35","v":0},7276,"New 2021-CashSum"]
[7277,{"$f":"'CashSum 5'!I36","v":0},7277,"New 2021-CashSum"]
[7278,{"$f":"'CashSum 5'!I37","v":144968},-137690,"New 2021-CashSum"]
[7279,{"$f":"'CashSum 5'!J29","v":39002},-31723,"New 2021-CashSum"]
[7280,{"$f":"'CashSum 5'!J30","v":130200},-122920,"New 2021-CashSum"]
[7281,{"$f":"'CashSum 5'!J31","v":0},7281,"New 2021-CashSum"]
[7282,{"$f":"'CashSum 5'!J32","v":130200},-122918,"New 2021-CashSum"]
[7283,{"$f":"'CashSum 5'!J33","v":169202},-161919,"New 2021-CashSum"]
[7284,{"$f":"'CashSum 5'!J34","v":163250},-155966,"New 2021-CashSum"]
[7285,{"$f":"'CashSum 5'!J35","v":0},7285,"New 2021-CashSum"]
[7286,{"$f":"'CashSum 5'!J36","v":163250},-155964,"New 2021-CashSum"]
[7287,{"$f":"'CashSum 5'!J37","v":5952},1335,"New 2021-CashSum"]
[7288,{"$f":"'CashSum 5'!K29","v":86120},-78832,"New 2021-CashSum"]
[7289,{"$f":"'CashSum 5'!K30","v":2114839},-2107550,"New 2021-CashSum"]
[7290,{"$f":"'CashSum 5'!K31","v":0},7290,"New 2021-CashSum"]
[7291,{"$f":"'CashSum 5'!K32","v":2114839},-2107548,"New 2021-CashSum"]
[7292,{"$f":"'CashSum 5'!K33","v":2200959},-2193667,"New 2021-CashSum"]
[7293,{"$f":"'CashSum 5'!K34","v":1000},6293,"New 2021-CashSum"]
[7294,{"$f":"'CashSum 5'!K35","v":0},7294,"New 2021-CashSum"]
[7295,{"$f":"'CashSum 5'!K36","v":1000},{"$f":"A7300-B7300","v":6295},"New 2021-CashSum"]
[7296,{"$f":"'CashSum 5'!K37","v":2199959},-2192663,"New 2021-CashSum"]
[7297,{"$f":"'EstRev 6-11'!D82","v":47500},-40203,"New 2021 -EstRev "]
[7298,{"$f":"'EstRev 6-11'!D84","v":62250},-54952,"New 2021 -EstRev "]
[7299,{"$f":"'EstRev 6-11'!D112","v":1108751},-1101452,"New 2021 -EstRev "]
[7300,{"$f":"'EstExp 12-20'!I33","v":47000},-39700,"New 2021 -EstExp"]
[7301,{"$f":"'EstExp 12-20'!L33","v":47000},-39699,"New 2021 -EstExp"]
[7302,{"$f":"'EstExp 12-20'!D35","v":1208000},-1200698,"New 2021 -EstExp"]
[7303,{"$f":"'EstExp 12-20'!E35","v":218000},-210697,"New 2021 -EstExp"]
[7304,{"$f":"'EstExp 12-20'!F35","v":74000},-66696,"New 2021 -EstExp"]
[7305,{"$f":"'EstExp 12-20'!G35","v":56100},-48795,"New 2021 -EstExp"]
[7306,{"$f":"'EstExp 12-20'!H35","v":36000},-28694,"New 2021 -EstExp"]
[7307,{"$f":"'EstExp 12-20'!I35","v":47000},-39693,"New 2021 -EstExp"]
[7308,{"$f":"'EstExp 12-20'!J35","v":0},7308,"New 2021 -EstExp"]
[7309,{"$f":"'EstExp 12-20'!L35","v":1639100},-1631791,"New 2021 -EstExp"]
[7310,{"$f":"'EstExp 12-20'!D117","v":1636040},-1628730,"New 2021 -EstExp"]
[7311,{"$f":"'EstExp 12-20'!E117","v":321100},-313789,"New 2021 -EstExp"]
[7312,{"$f":"'EstExp 12-20'!F117","v":266000},-258688,"New 2021 -EstExp"]
[7313,{"$f":"'EstExp 12-20'!G117","v":159425},-152112,"New 2021 -EstExp"]
[7314,{"$f":"'EstExp 12-20'!H117","v":36000},-28686,"New 2021 -EstExp"]
[7315,{"$f":"'EstExp 12-20'!I117","v":132000},-124685,"New 2021 -EstExp"]
[7316,{"$f":"'EstExp 12-20'!J117","v":0},7316,"New 2021 -EstExp"]
[7317,{"$f":"'EstExp 12-20'!K117","v":0},7317,"New 2021 -EstExp"]
[7318,{"$f":"'EstExp 12-20'!L117","v":2550565},-2543247,"New 2021 -EstExp"]
[7319,{"$f":"'EstExp 12-20'!L119","v":78941},-71622,"New 2021 -EstExp"]
[7320,{"$f":"'EstExp 12-20'!D316","v":6500},820,"New 2021 -EstExp"]
[7321,{"$f":"'EstExp 12-20'!D318","v":0},7321,"New 2021 -EstExp"]
[7322,{"$f":"'EstExp 12-20'!D319","v":0},7322,"New 2021 -EstExp"]
[7323,{"$f":"'EstExp 12-20'!D320","v":0},7323,"New 2021 -EstExp"]
[7324,{"$f":"'EstExp 12-20'!D321","v":0},7324,"New 2021 -EstExp"]
[7325,{"$f":"'EstExp 12-20'!D322","v":0},7325,"New 2021 -EstExp"]
[7326,{"$f":"'EstExp 12-20'!D323","v":0},7326,"New 2021 -EstExp"]
[7327,{"$f":"'EstExp 12-20'!D324","v":0},7327,"New 2021 -EstExp"]
[7328,{"$f":"'EstExp 12-20'!D325","v":0},7328,"New 2021 -EstExp"]
[7329,{"$f":"'EstExp 12-20'!D326","v":0},7329,"New 2021 -EstExp"]
[7330,{"$f":"'EstExp 12-20'!D327","v":0},7330,"New 2021 -EstExp"]
[7331,{"$f":"'EstExp 12-20'!D328","v":0},7331,"New 2021 -EstExp"]
[7332,{"$f":"'EstExp 12-20'!D329","v":0},7332,"New 2021 -EstExp"]
[7333,{"$f":"'EstExp 12-20'!D330","v":0},7333,"New 2021 -EstExp"]
[7334,{"$f":"'EstExp 12-20'!D344","v":6500},834,"New 2021 -EstExp"]
[7335,{"$f":"'EstExp 12-20'!D347","v":0},7335,"New 2021 -EstExp"]
[7336,{"$f":"'EstExp 12-20'!D348","v":0},7336,"New 2021 -EstExp"]
[7337,{"$f":"'EstExp 12-20'!D349","v":0},7337,"New 2021 -EstExp"]
[7338,{"$f":"'EstExp 12-20'!D350","v":0},7338,"New 2021 -EstExp"]
[7339,{"$f":"'EstExp 12-20'!D351","v":0},7339,"New 2021 -EstExp"]
[7340,{"$f":"'EstExp 12-20'!D352","v":0},7340,"New 2021 -EstExp"]
[7341,{"$f":"'EstExp 12-20'!D353","v":0},7341,"New 2021 -EstExp"]
[7342,{"$f":"'EstExp 12-20'!D355","v":0},7342,"New 2021 -EstExp"]
[7343,{"$f":"'EstExp 12-20'!D356","v":0},7343,"New 2021 -EstExp"]
[7344,{"$f":"'EstExp 12-20'!D357","v":0},7344,"New 2021 -EstExp"]
[7345,{"$f":"'EstExp 12-20'!D358","v":0},7345,"New 2021 -EstExp"]
[7346,{"$f":"'EstExp 12-20'!D360","v":0},7346,"New 2021 -EstExp"]
[7347,{"$f":"'EstExp 12-20'!D361","v":30000},-22653,"New 2021 -EstExp"]
[7348,{"$f":"'EstExp 12-20'!D362","v":0},7348,"New 2021 -EstExp"]
[7349,{"$f":"'EstExp 12-20'!D367","v":20000},-12651,"New 2021 -EstExp"]
[7350,{"$f":"'EstExp 12-20'!D368","v":0},7350,"New 2021 -EstExp"]
[7351,{"$f":"'EstExp 12-20'!D369","v":20000},-12649,"New 2021 -EstExp"]
[7352,{"$f":"'EstExp 12-20'!D371","v":0},7352,"New 2021 -EstExp"]
[7353,{"$f":"'EstExp 12-20'!D372","v":8000},-647,"New 2021 -EstExp"]
[7354,{"$f":"'EstExp 12-20'!D374","v":12000},-4646,"New 2021 -EstExp"]
[7355,{"$f":"'EstExp 12-20'!D375","v":5000},2355,"New 2021 -EstExp"]
[7356,{"$f":"'EstExp 12-20'!D376","v":0},7356,"New 2021 -EstExp"]
[7357,{"$f":"'EstExp 12-20'!D377","v":0},7357,"New 2021 -EstExp"]
[7358,{"$f":"'EstExp 12-20'!D378","v":35000},-27642,"New 2021 -EstExp"]
[7359,{"$f":"'EstExp 12-20'!D380","v":0},{"$f":"A7364-B7364","v":7359},"New 2021 -EstExp"]
[7360,{"$f":"'EstExp 12-20'!D381","v":0},7360,"New 2021 -EstExp"]
[7361,{"$f":"'EstExp 12-20'!D382","v":0},7361,"New 2021 -EstExp"]
[7362,{"$f":"'EstExp 12-20'!D383","v":0},7362,"New 2021 -EstExp"]
[7363,{"$f":"'EstExp 12-20'!D384","v":0},7363,"New 2021 -EstExp"]
[7364,{"$f":"'EstExp 12-20'!D385","v":0},7364,"New 2021 -EstExp"]
[7365,{"$f":"'EstExp 12-20'!D386","v":0},7365,"New 2021 -EstExp"]
[7366,{"$f":"'EstExp 12-20'!D387","v":85000},-77634,"New 2021 -EstExp"]
[7367,{"$f":"'EstExp 12-20'!D388","v":0},7367,"New 2021 -EstExp"]
[7368,{"$f":"'EstExp 12-20'!E316","v":0},7368,"New 2021 -EstExp"]
[7369,{"$f":"'EstExp 12-20'!E318","v":0},7369,"New 2021 -EstExp"]
[7370,{"$f":"'EstExp 12-20'!E319","v":0},7370,"New 2021 -EstExp"]
[7371,{"$f":"'EstExp 12-20'!E320","v":0},7371,"New 2021 -EstExp"]
[7372,{"$f":"'EstExp 12-20'!E321","v":0},7372,"New 2021 -EstExp"]
[7373,{"$f":"'EstExp 12-20'!E322","v":0},7373,"New 2021 -EstExp"]
[7374,{"$f":"'EstExp 12-20'!E323","v":0},7374,"New 2021 -EstExp"]
[7375,{"$f":"'EstExp 12-20'!E324","v":0},7375,"New 2021 -EstExp"]
[7376,{"$f":"'EstExp 12-20'!E325","v":0},7376,"New 2021 -EstExp"]
[7377,{"$f":"'EstExp 12-20'!E326","v":0},7377,"New 2021 -EstExp"]
[7378,{"$f":"'EstExp 12-20'!E327","v":0},7378,"New 2021 -EstExp"]
[7379,{"$f":"'EstExp 12-20'!E328","v":0},7379,"New 2021 -EstExp"]
[7380,{"$f":"'EstExp 12-20'!E329","v":0},7380,"New 2021 -EstExp"]
[7381,{"$f":"'EstExp 12-20'!E330","v":0},7381,"New 2021 -EstExp"]
[7382,{"$f":"'EstExp 12-20'!E344","v":0},7382,"New 2021 -EstExp"]
[7383,{"$f":"'EstExp 12-20'!E347","v":0},7383,"New 2021 -EstExp"]
[7384,{"$f":"'EstExp 12-20'!E348","v":0},7384,"New 2021 -EstExp"]
[7385,{"$f":"'EstExp 12-20'!E349","v":0},7385,"New 2021 -EstExp"]
[7386,{"$f":"'EstExp 12-20'!E350","v":0},7386,"New 2021 -EstExp"]
[7387,{"$f":"'EstExp 12-20'!E351","v":0},7387,"New 2021 -EstExp"]
[7388,{"$f":"'EstExp 12-20'!E352","v":0},7388,"New 2021 -EstExp"]
[7389,{"$f":"'EstExp 12-20'!E353","v":0},7389,"New 2021 -EstExp"]
[7390,{"$f":"'EstExp 12-20'!E355","v":0},7390,"New 2021 -EstExp"]
[7391,{"$f":"'EstExp 12-20'!E356","v":0},7391,"New 2021 -EstExp"]
[7392,{"$f":"'EstExp 12-20'!E357","v":0},7392,"New 2021 -EstExp"]
[7393,{"$f":"'EstExp 12-20'!E358","v":0},7393,"New 2021 -EstExp"]
[7394,{"$f":"'EstExp 12-20'!E360","v":0},7394,"New 2021 -EstExp"]
[7395,{"$f":"'EstExp 12-20'!E361","v":150},7245,"New 2021 -EstExp"]
[7396,{"$f":"'EstExp 12-20'!E362","v":0},7396,"New 2021 -EstExp"]
[7397,{"$f":"'EstExp 12-20'!E367","v":300},7097,"New 2021 -EstExp"]
[7398,{"$f":"'EstExp 12-20'!E368","v":0},7398,"New 2021 -EstExp"]
[7399,{"$f":"'EstExp 12-20'!E369","v":300},7099,"New 2021 -EstExp"]
[7400,{"$f":"'EstExp 12-20'!E371","v":0},7400,"New 2021 -EstExp"]
[7401,{"$f":"'EstExp 12-20'!E372","v":700},6701,"New 2021 -EstExp"]
[7402,{"$f":"'EstExp 12-20'!E374","v":600},6802,"New 2021 -EstExp"]
[7403,{"$f":"'EstExp 12-20'!E375","v":0},7403,"New 2021 -EstExp"]
[7404,{"$f":"'EstExp 12-20'!E376","v":0},7404,"New 2021 -EstExp"]
[7405,{"$f":"'EstExp 12-20'!E377","v":0},7405,"New 2021 -EstExp"]
[7406,{"$f":"'EstExp 12-20'!E378","v":1300},6106,"New 2021 -EstExp"]
[7407,{"$f":"'EstExp 12-20'!E380","v":0},7407,"New 2021 -EstExp"]
[7408,{"$f":"'EstExp 12-20'!E381","v":0},7408,"New 2021 -EstExp"]
[7409,{"$f":"'EstExp 12-20'!E382","v":0},7409,"New 2021 -EstExp"]
[7410,{"$f":"'EstExp 12-20'!E383","v":0},7410,"New 2021 -EstExp"]
[7411,{"$f":"'EstExp 12-20'!E384","v":0},7411,"New 2021 -EstExp"]
[7412,{"$f":"'EstExp 12-20'!E385","v":0},7412,"New 2021 -EstExp"]
[7413,{"$f":"'EstExp 12-20'!E386","v":0},7413,"New 2021 -EstExp"]
[7414,{"$f":"'EstExp 12-20'!E387","v":1750},5664,"New 2021 -EstExp"]
[7415,{"$f":"'EstExp 12-20'!E388","v":0},7415,"New 2021 -EstExp"]
[7416,{"$f":"'EstExp 12-20'!F316","v":0},7416,"New 2021 -EstExp"]
[7417,{"$f":"'EstExp 12-20'!F317","v":0},7417,"New 2021 -EstExp"]
[7418,{"$f":"'EstExp 12-20'!F318","v":0},7418,"New 2021 -EstExp"]
[7419,{"$f":"'EstExp 12-20'!F319","v":0},7419,"New 2021 -EstExp"]
[7420,{"$f":"'EstExp 12-20'!F320","v":0},7420,"New 2021 -EstExp"]
[7421,{"$f":"'EstExp 12-20'!F321","v":0},7421,"New 2021 -EstExp"]
[7422,{"$f":"'EstExp 12-20'!F322","v":0},7422,"New 2021 -EstExp"]
[7423,{"$f":"'EstExp 12-20'!F323","v":0},{"$f":"A7428-B7428","v":7423},"New 2021 -EstExp"]
[7424,{"$f":"'EstExp 12-20'!F324","v":0},7424,"New 2021 -EstExp"]
[7425,{"$f":"'EstExp 12-20'!F325","v":0},7425,"New 2021 -EstExp"]
[7426,{"$f":"'EstExp 12-20'!F326","v":0},7426,"New 2021 -EstExp"]
[7427,{"$f":"'EstExp 12-20'!F327","v":0},7427,"New 2021 -EstExp"]
[7428,{"$f":"'EstExp 12-20'!F328","v":0},7428,"New 2021 -EstExp"]
[7429,{"$f":"'EstExp 12-20'!F329","v":0},7429,"New 2021 -EstExp"]
[7430,{"$f":"'EstExp 12-20'!F330","v":0},7430,"New 2021 -EstExp"]
[7431,{"$f":"'EstExp 12-20'!F344","v":0},7431,"New 2021 -EstExp"]
[7432,{"$f":"'EstExp 12-20'!F347","v":0},7432,"New 2021 -EstExp"]
[7433,{"$f":"'EstExp 12-20'!F348","v":0},7433,"New 2021 -EstExp"]
[7434,{"$f":"'EstExp 12-20'!F349","v":0},7434,"New 2021 -EstExp"]
[7435,{"$f":"'EstExp 12-20'!F350","v":0},7435,"New 2021 -EstExp"]
[7436,{"$f":"'EstExp 12-20'!F351","v":0},7436,"New 2021 -EstExp"]
[7437,{"$f":"'EstExp 12-20'!F352","v":0},7437,"New 2021 -EstExp"]
[7438,{"$f":"'EstExp 12-20'!F353","v":0},7438,"New 2021 -EstExp"]
[7439,{"$f":"'EstExp 12-20'!F355","v":0},7439,"New 2021 -EstExp"]
[7440,{"$f":"'EstExp 12-20'!F356","v":0},7440,"New 2021 -EstExp"]
[7441,{"$f":"'EstExp 12-20'!F357","v":0},7441,"New 2021 -EstExp"]
[7442,{"$f":"'EstExp 12-20'!F358","v":0},7442,"New 2021 -EstExp"]
[7443,{"$f":"'EstExp 12-20'!F360","v":0},7443,"New 2021 -EstExp"]
[7444,{"$f":"'EstExp 12-20'!F361","v":0},7444,"New 2021 -EstExp"]
[7445,{"$f":"'EstExp 12-20'!F362","v":0},7445,"New 2021 -EstExp"]
[7446,{"$f":"'EstExp 12-20'!F367","v":0},7446,"New 2021 -EstExp"]
[7447,{"$f":"'EstExp 12-20'!F368","v":0},7447,"New 2021 -EstExp"]
[7448,{"$f":"'EstExp 12-20'!F369","v":0},7448,"New 2021 -EstExp"]
[7449,{"$f":"'EstExp 12-20'!F371","v":0},7449,"New 2021 -EstExp"]
[7450,{"$f":"'EstExp 12-20'!F372","v":0},7450,"New 2021 -EstExp"]
[7451,{"$f":"'EstExp 12-20'!F374","v":0},7451,"New 2021 -EstExp"]
[7452,{"$f":"'EstExp 12-20'!F375","v":0},7452,"New 2021 -EstExp"]
[7453,{"$f":"'EstExp 12-20'!F376","v":0},7453,"New 2021 -EstExp"]
[7454,{"$f":"'EstExp 12-20'!F377","v":0},7454,"New 2021 -EstExp"]
[7455,{"$f":"'EstExp 12-20'!F378","v":0},7455,"New 2021 -EstExp"]
[7456,{"$f":"'EstExp 12-20'!F380","v":0},7456,"New 2021 -EstExp"]
[7457,{"$f":"'EstExp 12-20'!F381","v":0},7457,"New 2021 -EstExp"]
[7458,{"$f":"'EstExp 12-20'!F382","v":0},7458,"New 2021 -EstExp"]
[7459,{"$f":"'EstExp 12-20'!F383","v":0},7459,"New 2021 -EstExp"]
[7460,{"$f":"'EstExp 12-20'!F384","v":0},7460,"New 2021 -EstExp"]
[7461,{"$f":"'EstExp 12-20'!F385","v":0},7461,"New 2021 -EstExp"]
[7462,{"$f":"'EstExp 12-20'!F386","v":0},7462,"New 2021 -EstExp"]
[7463,{"$f":"'EstExp 12-20'!F387","v":70000},-62537,"New 2021 -EstExp"]
[7464,{"$f":"'EstExp 12-20'!F388","v":0},7464,"New 2021 -EstExp"]
[7465,{"$f":"'EstExp 12-20'!F393","v":0},7465,"New 2021 -EstExp"]
[7466,{"$f":"'EstExp 12-20'!F394","v":0},7466,"New 2021 -EstExp"]
[7467,{"$f":"'EstExp 12-20'!F395","v":0},7467,"New 2021 -EstExp"]
[7468,{"$f":"'EstExp 12-20'!F396","v":0},7468,"New 2021 -EstExp"]
[7469,{"$f":"'EstExp 12-20'!F397","v":0},7469,"New 2021 -EstExp"]
[7470,{"$f":"'EstExp 12-20'!F412","v":0},7470,"New 2021 -EstExp"]
[7471,{"$f":"'EstExp 12-20'!F413","v":0},7471,"New 2021 -EstExp"]
[7472,{"$f":"'EstExp 12-20'!F414","v":0},7472,"New 2021 -EstExp"]
[7473,{"$f":"'EstExp 12-20'!F415","v":0},7473,"New 2021 -EstExp"]
[7474,{"$f":"'EstExp 12-20'!G316","v":0},7474,"New 2021 -EstExp"]
[7475,{"$f":"'EstExp 12-20'!G318","v":0},7475,"New 2021 -EstExp"]
[7476,{"$f":"'EstExp 12-20'!G319","v":0},7476,"New 2021 -EstExp"]
[7477,{"$f":"'EstExp 12-20'!G320","v":0},7477,"New 2021 -EstExp"]
[7478,{"$f":"'EstExp 12-20'!G321","v":0},7478,"New 2021 -EstExp"]
[7479,{"$f":"'EstExp 12-20'!G322","v":0},7479,"New 2021 -EstExp"]
[7480,{"$f":"'EstExp 12-20'!G323","v":0},7480,"New 2021 -EstExp"]
[7481,{"$f":"'EstExp 12-20'!G324","v":0},7481,"New 2021 -EstExp"]
[7482,{"$f":"'EstExp 12-20'!G325","v":0},7482,"New 2021 -EstExp"]
[7483,{"$f":"'EstExp 12-20'!G326","v":0},7483,"New 2021 -EstExp"]
[7484,{"$f":"'EstExp 12-20'!G327","v":0},7484,"New 2021 -EstExp"]
[7485,{"$f":"'EstExp 12-20'!G328","v":0},7485,"New 2021 -EstExp"]
[7486,{"$f":"'EstExp 12-20'!G329","v":0},7486,"New 2021 -EstExp"]
[7487,{"$f":"'EstExp 12-20'!G330","v":0},{"$f":"A7492-B7492","v":7487},"New 2021 -EstExp"]
[7488,{"$f":"'EstExp 12-20'!G344","v":0},7488,"New 2021 -EstExp"]
[7489,{"$f":"'EstExp 12-20'!G347","v":0},7489,"New 2021 -EstExp"]
[7490,{"$f":"'EstExp 12-20'!G348","v":0},7490,"New 2021 -EstExp"]
[7491,{"$f":"'EstExp 12-20'!G349","v":0},7491,"New 2021 -EstExp"]
[7492,{"$f":"'EstExp 12-20'!G350","v":0},7492,"New 2021 -EstExp"]
[7493,{"$f":"'EstExp 12-20'!G351","v":0},7493,"New 2021 -EstExp"]
[7494,{"$f":"'EstExp 12-20'!G352","v":0},7494,"New 2021 -EstExp"]
[7495,{"$f":"'EstExp 12-20'!G353","v":0},7495,"New 2021 -EstExp"]
[7496,{"$f":"'EstExp 12-20'!G355","v":0},7496,"New 2021 -EstExp"]
[7497,{"$f":"'EstExp 12-20'!G356","v":0},7497,"New 2021 -EstExp"]
[7498,{"$f":"'EstExp 12-20'!G357","v":0},7498,"New 2021 -EstExp"]
[7499,{"$f":"'EstExp 12-20'!G358","v":0},7499,"New 2021 -EstExp"]
[7500,{"$f":"'EstExp 12-20'!G360","v":0},7500,"New 2021 -EstExp"]
[7501,{"$f":"'EstExp 12-20'!G361","v":0},7501,"New 2021 -EstExp"]
[7502,{"$f":"'EstExp 12-20'!G362","v":0},7502,"New 2021 -EstExp"]
[7503,{"$f":"'EstExp 12-20'!G367","v":0},7503,"New 2021 -EstExp"]
[7504,{"$f":"'EstExp 12-20'!G368","v":0},7504,"New 2021 -EstExp"]
[7505,{"$f":"'EstExp 12-20'!G369","v":0},7505,"New 2021 -EstExp"]
[7506,{"$f":"'EstExp 12-20'!G371","v":0},7506,"New 2021 -EstExp"]
[7507,{"$f":"'EstExp 12-20'!G372","v":0},7507,"New 2021 -EstExp"]
[7508,{"$f":"'EstExp 12-20'!G374","v":0},7508,"New 2021 -EstExp"]
[7509,{"$f":"'EstExp 12-20'!G375","v":0},7509,"New 2021 -EstExp"]
[7510,{"$f":"'EstExp 12-20'!G376","v":0},7510,"New 2021 -EstExp"]
[7511,{"$f":"'EstExp 12-20'!G377","v":0},7511,"New 2021 -EstExp"]
[7512,{"$f":"'EstExp 12-20'!G378","v":0},7512,"New 2021 -EstExp"]
[7513,{"$f":"'EstExp 12-20'!G380","v":0},7513,"New 2021 -EstExp"]
[7514,{"$f":"'EstExp 12-20'!G381","v":0},7514,"New 2021 -EstExp"]
[7515,{"$f":"'EstExp 12-20'!G382","v":0},7515,"New 2021 -EstExp"]
[7516,{"$f":"'EstExp 12-20'!G383","v":0},7516,"New 2021 -EstExp"]
[7517,{"$f":"'EstExp 12-20'!G384","v":0},7517,"New 2021 -EstExp"]
[7518,{"$f":"'EstExp 12-20'!G385","v":0},7518,"New 2021 -EstExp"]
[7519,{"$f":"'EstExp 12-20'!G386","v":0},7519,"New 2021 -EstExp"]
[7520,{"$f":"'EstExp 12-20'!G387","v":0},7520,"New 2021 -EstExp"]
[7521,{"$f":"'EstExp 12-20'!G388","v":0},7521,"New 2021 -EstExp"]
[7522,{"$f":"'EstExp 12-20'!H316","v":0},7522,"New 2021 -EstExp"]
[7523,{"$f":"'EstExp 12-20'!H318","v":0},7523,"New 2021 -EstExp"]
[7524,{"$f":"'EstExp 12-20'!H319","v":0},7524,"New 2021 -EstExp"]
[7525,{"$f":"'EstExp 12-20'!H320","v":0},7525,"New 2021 -EstExp"]
[7526,{"$f":"'EstExp 12-20'!H321","v":0},7526,"New 2021 -EstExp"]
[7527,{"$f":"'EstExp 12-20'!H322","v":0},7527,"New 2021 -EstExp"]
[7528,{"$f":"'EstExp 12-20'!H323","v":0},7528,"New 2021 -EstExp"]
[7529,{"$f":"'EstExp 12-20'!H324","v":0},7529,"New 2021 -EstExp"]
[7530,{"$f":"'EstExp 12-20'!H325","v":0},7530,"New 2021 -EstExp"]
[7531,{"$f":"'EstExp 12-20'!H326","v":0},7531,"New 2021 -EstExp"]
[7532,{"$f":"'EstExp 12-20'!H327","v":0},7532,"New 2021 -EstExp"]
[7533,{"$f":"'EstExp 12-20'!H328","v":0},7533,"New 2021 -EstExp"]
[7534,{"$f":"'EstExp 12-20'!H329","v":0},7534,"New 2021 -EstExp"]
[7535,{"$f":"'EstExp 12-20'!H330","v":0},7535,"New 2021 -EstExp"]
[7536,{"$f":"'EstExp 12-20'!H344","v":0},7536,"New 2021 -EstExp"]
[7537,{"$f":"'EstExp 12-20'!H347","v":0},7537,"New 2021 -EstExp"]
[7538,{"$f":"'EstExp 12-20'!H348","v":0},7538,"New 2021 -EstExp"]
[7539,{"$f":"'EstExp 12-20'!H349","v":0},7539,"New 2021 -EstExp"]
[7540,{"$f":"'EstExp 12-20'!H350","v":0},7540,"New 2021 -EstExp"]
[7541,{"$f":"'EstExp 12-20'!H351","v":0},7541,"New 2021 -EstExp"]
[7542,{"$f":"'EstExp 12-20'!H352","v":0},7542,"New 2021 -EstExp"]
[7543,{"$f":"'EstExp 12-20'!H353","v":0},7543,"New 2021 -EstExp"]
[7544,{"$f":"'EstExp 12-20'!H356","v":0},7544,"New 2021 -EstExp"]
[7545,{"$f":"'EstExp 12-20'!H357","v":0},7545,"New 2021 -EstExp"]
[7546,{"$f":"'EstExp 12-20'!H358","v":0},7546,"New 2021 -EstExp"]
[7547,{"$f":"'EstExp 12-20'!H360","v":0},7547,"New 2021 -EstExp"]
[7548,{"$f":"'EstExp 12-20'!H361","v":0},7548,"New 2021 -EstExp"]
[7549,{"$f":"'EstExp 12-20'!H362","v":0},7549,"New 2021 -EstExp"]
[7550,{"$f":"'EstExp 12-20'!H367","v":0},7550,"New 2021 -EstExp"]
[7551,{"$f":"'EstExp 12-20'!H368","v":0},{"$f":"A7556-B7556","v":7551},"New 2021 -EstExp"]
[7552,{"$f":"'EstExp 12-20'!H369","v":0},7552,"New 2021 -EstExp"]
[7553,{"$f":"'EstExp 12-20'!H371","v":0},7553,"New 2021 -EstExp"]
[7554,{"$f":"'EstExp 12-20'!H372","v":0},7554,"New 2021 -EstExp"]
[7555,{"$f":"'EstExp 12-20'!H374","v":0},7555,"New 2021 -EstExp"]
[7556,{"$f":"'EstExp 12-20'!H375","v":0},7556,"New 2021 -EstExp"]
[7557,{"$f":"'EstExp 12-20'!H376","v":0},7557,"New 2021 -EstExp"]
[7558,{"$f":"'EstExp 12-20'!H377","v":0},7558,"New 2021 -EstExp"]
[7559,{"$f":"'EstExp 12-20'!H378","v":0},7559,"New 2021 -EstExp"]
[7560,{"$f":"'EstExp 12-20'!H380","v":0},7560,"New 2021 -EstExp"]
[7561,{"$f":"'EstExp 12-20'!H381","v":0},7561,"New 2021 -EstExp"]
[7562,{"$f":"'EstExp 12-20'!H382","v":0},7562,"New 2021 -EstExp"]
[7563,{"$f":"'EstExp 12-20'!H383","v":0},7563,"New 2021 -EstExp"]
[7564,{"$f":"'EstExp 12-20'!H384","v":0},7564,"New 2021 -EstExp"]
[7565,{"$f":"'EstExp 12-20'!H385","v":0},7565,"New 2021 -EstExp"]
[7566,{"$f":"'EstExp 12-20'!H386","v":0},7566,"New 2021 -EstExp"]
[7567,{"$f":"'EstExp 12-20'!H387","v":0},7567,"New 2021 -EstExp"]
[7568,{"$f":"'EstExp 12-20'!H388","v":0},7568,"New 2021 -EstExp"]
[7569,{"$f":"'EstExp 12-20'!I316","v":0},7569,"New 2021 -EstExp"]
[7570,{"$f":"'EstExp 12-20'!I318","v":0},7570,"New 2021 -EstExp"]
[7571,{"$f":"'EstExp 12-20'!I319","v":0},7571,"New 2021 -EstExp"]
[7572,{"$f":"'EstExp 12-20'!I320","v":0},7572,"New 2021 -EstExp"]
[7573,{"$f":"'EstExp 12-20'!I321","v":0},7573,"New 2021 -EstExp"]
[7574,{"$f":"'EstExp 12-20'!I322","v":0},7574,"New 2021 -EstExp"]
[7575,{"$f":"'EstExp 12-20'!I323","v":0},7575,"New 2021 -EstExp"]
[7576,{"$f":"'EstExp 12-20'!I324","v":0},7576,"New 2021 -EstExp"]
[7577,{"$f":"'EstExp 12-20'!I325","v":0},7577,"New 2021 -EstExp"]
[7578,{"$f":"'EstExp 12-20'!I326","v":0},7578,"New 2021 -EstExp"]
[7579,{"$f":"'EstExp 12-20'!I327","v":0},7579,"New 2021 -EstExp"]
[7580,{"$f":"'EstExp 12-20'!I328","v":0},7580,"New 2021 -EstExp"]
[7581,{"$f":"'EstExp 12-20'!I329","v":0},7581,"New 2021 -EstExp"]
[7582,{"$f":"'EstExp 12-20'!I330","v":0},7582,"New 2021 -EstExp"]
[7583,{"$f":"'EstExp 12-20'!I331","v":0},7583,"New 2021 -EstExp"]
[7584,{"$f":"'EstExp 12-20'!I332","v":0},7584,"New 2021 -EstExp"]
[7585,{"$f":"'EstExp 12-20'!I333","v":0},7585,"New 2021 -EstExp"]
[7586,{"$f":"'EstExp 12-20'!I334","v":0},7586,"New 2021 -EstExp"]
[7587,{"$f":"'EstExp 12-20'!I335","v":0},7587,"New 2021 -EstExp"]
[7588,{"$f":"'EstExp 12-20'!I336","v":0},7588,"New 2021 -EstExp"]
[7589,{"$f":"'EstExp 12-20'!I337","v":0},7589,"New 2021 -EstExp"]
[7590,{"$f":"'EstExp 12-20'!I338","v":0},7590,"New 2021 -EstExp"]
[7591,{"$f":"'EstExp 12-20'!I339","v":0},7591,"New 2021 -EstExp"]
[7592,{"$f":"'EstExp 12-20'!I340","v":0},7592,"New 2021 -EstExp"]
[7593,{"$f":"'EstExp 12-20'!I341","v":0},7593,"New 2021 -EstExp"]
[7594,{"$f":"'EstExp 12-20'!I342","v":0},7594,"New 2021 -EstExp"]
[7595,{"$f":"'EstExp 12-20'!I343","v":0},7595,"New 2021 -EstExp"]
[7596,{"$f":"'EstExp 12-20'!I344","v":0},7596,"New 2021 -EstExp"]
[7597,{"$f":"'EstExp 12-20'!I347","v":0},7597,"New 2021 -EstExp"]
[7598,{"$f":"'EstExp 12-20'!I348","v":0},7598,"New 2021 -EstExp"]
[7599,{"$f":"'EstExp 12-20'!I349","v":0},7599,"New 2021 -EstExp"]
[7600,{"$f":"'EstExp 12-20'!I350","v":0},7600,"New 2021 -EstExp"]
[7601,{"$f":"'EstExp 12-20'!I351","v":0},7601,"New 2021 -EstExp"]
[7602,{"$f":"'EstExp 12-20'!I352","v":0},7602,"New 2021 -EstExp"]
[7603,{"$f":"'EstExp 12-20'!I353","v":0},7603,"New 2021 -EstExp"]
[7604,{"$f":"'EstExp 12-20'!I355","v":0},7604,"New 2021 -EstExp"]
[7605,{"$f":"'EstExp 12-20'!I356","v":0},7605,"New 2021 -EstExp"]
[7606,{"$f":"'EstExp 12-20'!I357","v":0},7606,"New 2021 -EstExp"]
[7607,{"$f":"'EstExp 12-20'!I358","v":0},7607,"New 2021 -EstExp"]
[7608,{"$f":"'EstExp 12-20'!I360","v":0},7608,"New 2021 -EstExp"]
[7609,{"$f":"'EstExp 12-20'!I361","v":0},7609,"New 2021 -EstExp"]
[7610,{"$f":"'EstExp 12-20'!I362","v":0},7610,"New 2021 -EstExp"]
[7611,{"$f":"'EstExp 12-20'!I367","v":0},7611,"New 2021 -EstExp"]
[7612,{"$f":"'EstExp 12-20'!I368","v":0},7612,"New 2021 -EstExp"]
[7613,{"$f":"'EstExp 12-20'!I369","v":0},7613,"New 2021 -EstExp"]
[7614,{"$f":"'EstExp 12-20'!I371","v":0},7614,"New 2021 -EstExp"]
[7615,{"$f":"'EstExp 12-20'!I372","v":0},{"$f":"A7620-B7620","v":7615},"New 2021 -EstExp"]
[7616,{"$f":"'EstExp 12-20'!I374","v":0},7616,"New 2021 -EstExp"]
[7617,{"$f":"'EstExp 12-20'!I375","v":0},7617,"New 2021 -EstExp"]
[7618,{"$f":"'EstExp 12-20'!I376","v":0},7618,"New 2021 -EstExp"]
[7619,{"$f":"'EstExp 12-20'!I377","v":0},7619,"New 2021 -EstExp"]
[7620,{"$f":"'EstExp 12-20'!I378","v":0},7620,"New 2021 -EstExp"]
[7621,{"$f":"'EstExp 12-20'!I380","v":0},7621,"New 2021 -EstExp"]
[7622,{"$f":"'EstExp 12-20'!I381","v":0},7622,"New 2021 -EstExp"]
[7623,{"$f":"'EstExp 12-20'!I382","v":0},7623,"New 2021 -EstExp"]
[7624,{"$f":"'EstExp 12-20'!I383","v":0},7624,"New 2021 -EstExp"]
[7625,{"$f":"'EstExp 12-20'!I384","v":0},7625,"New 2021 -EstExp"]
[7626,{"$f":"'EstExp 12-20'!I385","v":0},7626,"New 2021 -EstExp"]
[7627,{"$f":"'EstExp 12-20'!I386","v":0},7627,"New 2021 -EstExp"]
[7628,{"$f":"'EstExp 12-20'!I387","v":0},7628,"New 2021 -EstExp"]
[7629,{"$f":"'EstExp 12-20'!I388","v":0},7629,"New 2021 -EstExp"]
[7630,{"$f":"'EstExp 12-20'!I393","v":0},7630,"New 2021 -EstExp"]
[7631,{"$f":"'EstExp 12-20'!I394","v":0},7631,"New 2021 -EstExp"]
[7632,{"$f":"'EstExp 12-20'!I395","v":0},7632,"New 2021 -EstExp"]
[7633,{"$f":"'EstExp 12-20'!I396","v":0},7633,"New 2021 -EstExp"]
[7634,null,null,"Closed -added by mistake "]
[7635,{"$f":"'EstExp 12-20'!I398","v":0},7635,"New 2021 -EstExp"]
[7636,{"$f":"'EstExp 12-20'!I399","v":0},7636,"New 2021 -EstExp"]
[7637,{"$f":"'EstExp 12-20'!I400","v":0},7637,"New 2021 -EstExp"]
[7638,{"$f":"'EstExp 12-20'!I401","v":0},7638,"New 2021 -EstExp"]
[7639,{"$f":"'EstExp 12-20'!I402","v":0},7639,"New 2021 -EstExp"]
[7640,{"$f":"'EstExp 12-20'!I403","v":0},7640,"New 2021 -EstExp"]
[7641,{"$f":"'EstExp 12-20'!I404","v":0},7641,"New 2021 -EstExp"]
[7642,{"$f":"'EstExp 12-20'!I405","v":0},7642,"New 2021 -EstExp"]
[7643,{"$f":"'EstExp 12-20'!I406","v":0},7643,"New 2021 -EstExp"]
[7644,{"$f":"'EstExp 12-20'!I407","v":0},7644,"New 2021 -EstExp"]
[7645,{"$f":"'EstExp 12-20'!I408","v":0},7645,"New 2021 -EstExp"]
[7646,{"$f":"'EstExp 12-20'!I409","v":0},7646,"New 2021 -EstExp"]
[7647,{"$f":"'EstExp 12-20'!I410","v":0},7647,"New 2021 -EstExp"]
[7648,{"$f":"'EstExp 12-20'!I411","v":0},7648,"New 2021 -EstExp"]
[7649,{"$f":"'EstExp 12-20'!I412","v":0},7649,"New 2021 -EstExp"]
[7650,{"$f":"'EstExp 12-20'!I413","v":0},7650,"New 2021 -EstExp"]
[7651,{"$f":"'EstExp 12-20'!I414","v":0},7651,"New 2021 -EstExp"]
[7652,{"$f":"'EstExp 12-20'!J316","v":0},7652,"New 2021 -EstExp"]
[7653,{"$f":"'EstExp 12-20'!J318","v":0},7653,"New 2021 -EstExp"]
[7654,{"$f":"'EstExp 12-20'!J319","v":0},7654,"New 2021 -EstExp"]
[7655,{"$f":"'EstExp 12-20'!J320","v":0},7655,"New 2021 -EstExp"]
[7656,{"$f":"'EstExp 12-20'!J321","v":0},7656,"New 2021 -EstExp"]
[7657,{"$f":"'EstExp 12-20'!J322","v":0},7657,"New 2021 -EstExp"]
[7658,{"$f":"'EstExp 12-20'!J323","v":0},7658,"New 2021 -EstExp"]
[7659,{"$f":"'EstExp 12-20'!J324","v":0},7659,"New 2021 -EstExp"]
[7660,{"$f":"'EstExp 12-20'!J325","v":0},7660,"New 2021 -EstExp"]
[7661,{"$f":"'EstExp 12-20'!J326","v":0},7661,"New 2021 -EstExp"]
[7662,{"$f":"'EstExp 12-20'!J327","v":0},7662,"New 2021 -EstExp"]
[7663,{"$f":"'EstExp 12-20'!J328","v":0},7663,"New 2021 -EstExp"]
[7664,{"$f":"'EstExp 12-20'!J329","v":0},7664,"New 2021 -EstExp"]
[7665,{"$f":"'EstExp 12-20'!J330","v":0},7665,"New 2021 -EstExp"]
[7666,{"$f":"'EstExp 12-20'!J344","v":0},7666,"New 2021 -EstExp"]
[7667,{"$f":"'EstExp 12-20'!J347","v":0},7667,"New 2021 -EstExp"]
[7668,{"$f":"'EstExp 12-20'!J348","v":0},7668,"New 2021 -EstExp"]
[7669,{"$f":"'EstExp 12-20'!J349","v":0},7669,"New 2021 -EstExp"]
[7670,{"$f":"'EstExp 12-20'!J350","v":0},7670,"New 2021 -EstExp"]
[7671,{"$f":"'EstExp 12-20'!J351","v":0},7671,"New 2021 -EstExp"]
[7672,{"$f":"'EstExp 12-20'!J352","v":0},7672,"New 2021 -EstExp"]
[7673,{"$f":"'EstExp 12-20'!J353","v":0},7673,"New 2021 -EstExp"]
[7674,{"$f":"'EstExp 12-20'!J355","v":0},7674,"New 2021 -EstExp"]
[7675,{"$f":"'EstExp 12-20'!J356","v":0},7675,"New 2021 -EstExp"]
[7676,{"$f":"'EstExp 12-20'!J357","v":0},7676,"New 2021 -EstExp"]
[7677,{"$f":"'EstExp 12-20'!J358","v":0},7677,"New 2021 -EstExp"]
[7678,{"$f":"'EstExp 12-20'!J360","v":0},7678,"New 2021 -EstExp"]
[7679,{"$f":"'EstExp 12-20'!J361","v":0},{"$f":"A7684-B7684","v":7679},"New 2021 -EstExp"]
[7680,{"$f":"'EstExp 12-20'!J362","v":0},7680,"New 2021 -EstExp"]
[7681,{"$f":"'EstExp 12-20'!J367","v":0},7681,"New 2021 -EstExp"]
[7682,{"$f":"'EstExp 12-20'!J368","v":0},7682,"New 2021 -EstExp"]
[7683,{"$f":"'EstExp 12-20'!J369","v":0},7683,"New 2021 -EstExp"]
[7684,{"$f":"'EstExp 12-20'!J371","v":0},7684,"New 2021 -EstExp"]
[7685,{"$f":"'EstExp 12-20'!J372","v":0},7685,"New 2021 -EstExp"]
[7686,{"$f":"'EstExp 12-20'!J374","v":0},7686,"New 2021 -EstExp"]
[7687,{"$f":"'EstExp 12-20'!J375","v":0},7687,"New 2021 -EstExp"]
[7688,{"$f":"'EstExp 12-20'!J376","v":0},7688,"New 2021 -EstExp"]
[7689,{"$f":"'EstExp 12-20'!J377","v":0},7689,"New 2021 -EstExp"]
[7690,{"$f":"'EstExp 12-20'!J378","v":0},7690,"New 2021 -EstExp"]
[7691,{"$f":"'EstExp 12-20'!J380","v":0},7691,"New 2021 -EstExp"]
[7692,{"$f":"'EstExp 12-20'!J381","v":0},7692,"New 2021 -EstExp"]
[7693,{"$f":"'EstExp 12-20'!J382","v":0},7693,"New 2021 -EstExp"]
[7694,{"$f":"'EstExp 12-20'!J383","v":0},7694,"New 2021 -EstExp"]
[7695,{"$f":"'EstExp 12-20'!J384","v":0},7695,"New 2021 -EstExp"]
[7696,{"$f":"'EstExp 12-20'!J385","v":0},7696,"New 2021 -EstExp"]
[7697,{"$f":"'EstExp 12-20'!J386","v":0},7697,"New 2021 -EstExp"]
[7698,{"$f":"'EstExp 12-20'!J387","v":0},7698,"New 2021 -EstExp"]
[7699,{"$f":"'EstExp 12-20'!J388","v":0},7699,"New 2021 -EstExp"]
[7700,{"$f":"'EstExp 12-20'!K316","v":0},7700,"New 2021 -EstExp"]
[7701,{"$f":"'EstExp 12-20'!K318","v":0},7701,"New 2021 -EstExp"]
[7702,{"$f":"'EstExp 12-20'!K319","v":0},7702,"New 2021 -EstExp"]
[7703,{"$f":"'EstExp 12-20'!K320","v":0},7703,"New 2021 -EstExp"]
[7704,{"$f":"'EstExp 12-20'!K321","v":0},7704,"New 2021 -EstExp"]
[7705,{"$f":"'EstExp 12-20'!K322","v":0},7705,"New 2021 -EstExp"]
[7706,{"$f":"'EstExp 12-20'!K323","v":0},7706,"New 2021 -EstExp"]
[7707,{"$f":"'EstExp 12-20'!K324","v":0},7707,"New 2021 -EstExp"]
[7708,{"$f":"'EstExp 12-20'!K325","v":0},7708,"New 2021 -EstExp"]
[7709,{"$f":"'EstExp 12-20'!K326","v":0},7709,"New 2021 -EstExp"]
[7710,{"$f":"'EstExp 12-20'!K327","v":0},7710,"New 2021 -EstExp"]
[7711,{"$f":"'EstExp 12-20'!K328","v":0},7711,"New 2021 -EstExp"]
[7712,{"$f":"'EstExp 12-20'!K329","v":0},7712,"New 2021 -EstExp"]
[7713,{"$f":"'EstExp 12-20'!K330","v":0},7713,"New 2021 -EstExp"]
[7714,{"$f":"'EstExp 12-20'!K344","v":0},7714,"New 2021 -EstExp"]
[7715,{"$f":"'EstExp 12-20'!K347","v":0},7715,"New 2021 -EstExp"]
[7716,{"$f":"'EstExp 12-20'!K348","v":0},7716,"New 2021 -EstExp"]
[7717,{"$f":"'EstExp 12-20'!K349","v":0},7717,"New 2021 -EstExp"]
[7718,{"$f":"'EstExp 12-20'!K350","v":0},7718,"New 2021 -EstExp"]
[7719,{"$f":"'EstExp 12-20'!K351","v":0},7719,"New 2021 -EstExp"]
[7720,{"$f":"'EstExp 12-20'!K352","v":0},7720,"New 2021 -EstExp"]
[7721,{"$f":"'EstExp 12-20'!K353","v":0},7721,"New 2021 -EstExp"]
[7722,{"$f":"'EstExp 12-20'!K355","v":0},7722,"New 2021 -EstExp"]
[7723,{"$f":"'EstExp 12-20'!K356","v":0},7723,"New 2021 -EstExp"]
[7724,{"$f":"'EstExp 12-20'!K357","v":0},7724,"New 2021 -EstExp"]
[7725,{"$f":"'EstExp 12-20'!K358","v":0},7725,"New 2021 -EstExp"]
[7726,{"$f":"'EstExp 12-20'!K360","v":0},7726,"New 2021 -EstExp"]
[7727,{"$f":"'EstExp 12-20'!K361","v":0},7727,"New 2021 -EstExp"]
[7728,{"$f":"'EstExp 12-20'!K362","v":0},7728,"New 2021 -EstExp"]
[7729,{"$f":"'EstExp 12-20'!K367","v":0},7729,"New 2021 -EstExp"]
[7730,{"$f":"'EstExp 12-20'!K368","v":0},7730,"New 2021 -EstExp"]
[7731,{"$f":"'EstExp 12-20'!K369","v":0},7731,"New 2021 -EstExp"]
[7732,{"$f":"'EstExp 12-20'!K371","v":0},7732,"New 2021 -EstExp"]
[7733,{"$f":"'EstExp 12-20'!K372","v":0},7733,"New 2021 -EstExp"]
[7734,{"$f":"'EstExp 12-20'!K374","v":0},7734,"New 2021 -EstExp"]
[7735,{"$f":"'EstExp 12-20'!K375","v":0},7735,"New 2021 -EstExp"]
[7736,{"$f":"'EstExp 12-20'!K376","v":0},7736,"New 2021 -EstExp"]
[7737,{"$f":"'EstExp 12-20'!K377","v":0},7737,"New 2021 -EstExp"]
[7738,{"$f":"'EstExp 12-20'!K378","v":0},7738,"New 2021 -EstExp"]
[7739,{"$f":"'EstExp 12-20'!K380","v":0},7739,"New 2021 -EstExp"]
[7740,{"$f":"'EstExp 12-20'!K381","v":0},7740,"New 2021 -EstExp"]
[7741,{"$f":"'EstExp 12-20'!K382","v":0},7741,"New 2021 -EstExp"]
[7742,{"$f":"'EstExp 12-20'!K383","v":0},7742,"New 2021 -EstExp"]
[7743,{"$f":"'EstExp 12-20'!K384","v":0},{"$f":"A7748-B7748","v":7743},"New 2021 -EstExp"]
[7744,{"$f":"'EstExp 12-20'!K385","v":0},7744,"New 2021 -EstExp"]
[7745,{"$f":"'EstExp 12-20'!K386","v":0},7745,"New 2021 -EstExp"]
[7746,{"$f":"'EstExp 12-20'!K387","v":0},7746,"New 2021 -EstExp"]
[7747,{"$f":"'EstExp 12-20'!K388","v":0},7747,"New 2021 -EstExp"]
[7748,{"$f":"'EstExp 12-20'!L316","v":6500},1248,"New 2021 -EstExp"]
[7749,{"$f":"'EstExp 12-20'!L317","v":0},7749,"New 2021 -EstExp"]
[7750,{"$f":"'EstExp 12-20'!L318","v":0},7750,"New 2021 -EstExp"]
[7751,{"$f":"'EstExp 12-20'!L319","v":0},7751,"New 2021 -EstExp"]
[7752,{"$f":"'EstExp 12-20'!L320","v":0},7752,"New 2021 -EstExp"]
[7753,{"$f":"'EstExp 12-20'!L321","v":0},7753,"New 2021 -EstExp"]
[7754,{"$f":"'EstExp 12-20'!L322","v":0},7754,"New 2021 -EstExp"]
[7755,{"$f":"'EstExp 12-20'!L323","v":0},7755,"New 2021 -EstExp"]
[7756,{"$f":"'EstExp 12-20'!L324","v":0},7756,"New 2021 -EstExp"]
[7757,{"$f":"'EstExp 12-20'!L325","v":0},7757,"New 2021 -EstExp"]
[7758,{"$f":"'EstExp 12-20'!L326","v":0},7758,"New 2021 -EstExp"]
[7759,{"$f":"'EstExp 12-20'!L327","v":0},7759,"New 2021 -EstExp"]
[7760,{"$f":"'EstExp 12-20'!L328","v":0},7760,"New 2021 -EstExp"]
[7761,{"$f":"'EstExp 12-20'!L329","v":0},7761,"New 2021 -EstExp"]
[7762,{"$f":"'EstExp 12-20'!L330","v":0},7762,"New 2021 -EstExp"]
[7763,{"$f":"'EstExp 12-20'!L331","v":0},7763,"New 2021 -EstExp"]
[7764,{"$f":"'EstExp 12-20'!L332","v":0},7764,"New 2021 -EstExp"]
[7765,{"$f":"'EstExp 12-20'!L333","v":0},7765,"New 2021 -EstExp"]
[7766,{"$f":"'EstExp 12-20'!L334","v":0},7766,"New 2021 -EstExp"]
[7767,{"$f":"'EstExp 12-20'!L335","v":0},7767,"New 2021 -EstExp"]
[7768,{"$f":"'EstExp 12-20'!L336","v":0},7768,"New 2021 -EstExp"]
[7769,{"$f":"'EstExp 12-20'!L337","v":0},7769,"New 2021 -EstExp"]
[7770,{"$f":"'EstExp 12-20'!L338","v":0},7770,"New 2021 -EstExp"]
[7771,{"$f":"'EstExp 12-20'!L339","v":0},7771,"New 2021 -EstExp"]
[7772,{"$f":"'EstExp 12-20'!L340","v":0},7772,"New 2021 -EstExp"]
[7773,{"$f":"'EstExp 12-20'!L341","v":0},7773,"New 2021 -EstExp"]
[7774,{"$f":"'EstExp 12-20'!L342","v":0},7774,"New 2021 -EstExp"]
[7775,{"$f":"'EstExp 12-20'!L343","v":0},7775,"New 2021 -EstExp"]
[7776,{"$f":"'EstExp 12-20'!L344","v":6500},1276,"New 2021 -EstExp"]
[7777,{"$f":"'EstExp 12-20'!L347","v":0},7777,"New 2021 -EstExp"]
[7778,{"$f":"'EstExp 12-20'!L348","v":0},7778,"New 2021 -EstExp"]
[7779,{"$f":"'EstExp 12-20'!L349","v":0},7779,"New 2021 -EstExp"]
[7780,{"$f":"'EstExp 12-20'!L350","v":0},7780,"New 2021 -EstExp"]
[7781,{"$f":"'EstExp 12-20'!L351","v":0},7781,"New 2021 -EstExp"]
[7782,{"$f":"'EstExp 12-20'!L352","v":0},7782,"New 2021 -EstExp"]
[7783,{"$f":"'EstExp 12-20'!L353","v":0},7783,"New 2021 -EstExp"]
[7784,{"$f":"'EstExp 12-20'!L355","v":0},7784,"New 2021 -EstExp"]
[7785,{"$f":"'EstExp 12-20'!L356","v":0},7785,"New 2021 -EstExp"]
[7786,{"$f":"'EstExp 12-20'!L357","v":0},7786,"New 2021 -EstExp"]
[7787,{"$f":"'EstExp 12-20'!L358","v":0},7787,"New 2021 -EstExp"]
[7788,{"$f":"'EstExp 12-20'!L360","v":0},7788,"New 2021 -EstExp"]
[7789,{"$f":"'EstExp 12-20'!L361","v":30150},-22361,"New 2021 -EstExp"]
[7790,{"$f":"'EstExp 12-20'!L362","v":0},7790,"New 2021 -EstExp"]
[7791,{"$f":"'EstExp 12-20'!L367","v":20300},-12509,"New 2021 -EstExp"]
[7792,{"$f":"'EstExp 12-20'!L368","v":0},7792,"New 2021 -EstExp"]
[7793,{"$f":"'EstExp 12-20'!L369","v":20300},-12507,"New 2021 -EstExp"]
[7794,{"$f":"'EstExp 12-20'!L371","v":0},7794,"New 2021 -EstExp"]
[7795,{"$f":"'EstExp 12-20'!L372","v":8700},-905,"New 2021 -EstExp"]
[7796,{"$f":"'EstExp 12-20'!L374","v":12600},-4804,"New 2021 -EstExp"]
[7797,{"$f":"'EstExp 12-20'!L375","v":5000},2797,"New 2021 -EstExp"]
[7798,{"$f":"'EstExp 12-20'!L376","v":0},7798,"New 2021 -EstExp"]
[7799,{"$f":"'EstExp 12-20'!L377","v":0},7799,"New 2021 -EstExp"]
[7800,{"$f":"'EstExp 12-20'!L378","v":36300},-28500,"New 2021 -EstExp"]
[7801,{"$f":"'EstExp 12-20'!L380","v":0},7801,"New 2021 -EstExp"]
[7802,{"$f":"'EstExp 12-20'!L381","v":0},7802,"New 2021 -EstExp"]
[7803,{"$f":"'EstExp 12-20'!L382","v":0},7803,"New 2021 -EstExp"]
[7804,{"$f":"'EstExp 12-20'!L383","v":0},7804,"New 2021 -EstExp"]
[7805,{"$f":"'EstExp 12-20'!L384","v":0},7805,"New 2021 -EstExp"]
[7806,{"$f":"'EstExp 12-20'!L385","v":0},7806,"New 2021 -EstExp"]
[7807,{"$f":"'EstExp 12-20'!L386","v":0},{"$f":"A7812-B7812","v":7807},"New 2021 -EstExp"]
[7808,{"$f":"'EstExp 12-20'!L387","v":156750},-148942,"New 2021 -EstExp"]
[7809,{"$f":"'EstExp 12-20'!L388","v":0},7809,"New 2021 -EstExp"]
[7810,{"$f":"'EstExp 12-20'!L393","v":0},7810,"New 2021 -EstExp"]
[7811,{"$f":"'EstExp 12-20'!L394","v":0},7811,"New 2021 -EstExp"]
[7812,{"$f":"'EstExp 12-20'!L395","v":0},7812,"New 2021 -EstExp"]
[7813,{"$f":"'EstExp 12-20'!L396","v":0},7813,"New 2021 -EstExp"]
[7814,null,null,"New 2021 -EstExp, closed 2021 made in error"]
[7815,{"$f":"'EstExp 12-20'!L398","v":0},7815,"New 2021 -EstExp"]
[7816,{"$f":"'EstExp 12-20'!L399","v":0},7816,"New 2021 -EstExp"]
[7817,{"$f":"'EstExp 12-20'!L400","v":0},7817,"New 2021 -EstExp"]
[7818,{"$f":"'EstExp 12-20'!L401","v":0},7818,"New 2021 -EstExp"]
[7819,{"$f":"'EstExp 12-20'!L402","v":0},7819,"New 2021 -EstExp"]
[7820,{"$f":"'EstExp 12-20'!L403","v":0},7820,"New 2021 -EstExp"]
[7821,{"$f":"'EstExp 12-20'!L404","v":0},7821,"New 2021 -EstExp"]
[7822,{"$f":"'EstExp 12-20'!L405","v":0},7822,"New 2021 -EstExp"]
[7823,{"$f":"'EstExp 12-20'!L406","v":0},7823,"New 2021 -EstExp"]
[7824,{"$f":"'EstExp 12-20'!L407","v":0},7824,"New 2021 -EstExp"]
[7825,{"$f":"'EstExp 12-20'!L408","v":0},7825,"New 2021 -EstExp"]
[7826,{"$f":"'EstExp 12-20'!L409","v":0},7826,"New 2021 -EstExp"]
[7827,{"$f":"'EstExp 12-20'!L410","v":0},7827,"New 2021 -EstExp"]
[7828,{"$f":"'EstExp 12-20'!L411","v":0},7828,"New 2021 -EstExp"]
[7829,{"$f":"'EstExp 12-20'!L412","v":0},7829,"New 2021 -EstExp"]
[7830,{"$f":"'EstExp 12-20'!L413","v":0},7830,"New 2021 -EstExp"]
[7831,{"$f":"'EstExp 12-20'!L414","v":0},7831,"New 2021 -EstExp"]
[7832,{"$f":"'EstExp 12-20'!H355","v":0},7832,"New 2021 -EstExp"]
[7833,{"$f":"'EstExp 12-20'!F391","v":0},7833,"EstExp no field had been assigned fixed in 2021"]
[7834,{"$f":"'EstExp 12-20'!F392","v":0},7834,"EstExp no field had been assigned fixed in 2021"]
[7835,{"$f":"'EstExp 12-20'!K365","v":0},7835,"EstExp no field had been assigned fixed in 2021"]
[7836,{"$f":"'EstExp 12-20'!K428","v":0},7836,"EstExp no field had been assigned fixed in 2021"]
[7837,{"$f":"'EstExp 12-20'!K35","v":0},7837,"New 2021 -EstExp"]
[7838,{"$f":"'EstRev 6-11'!D271","v":2629506},-2621668,"New 2021 EstRev"]
[7839,{"$f":"'BudgetSum 2-4'!J105","v":0},7839,"New 2021 BudgtSum"]
[7840,{"$f":"'BudgetSum 2-4'!J106","v":0},7840,"New 2021 BudgtSum"]
[7841,{"$f":"'EstRev 6-11'!D105","v":0},7841,"New 2022 EstRev"]
[7842,{"$f":"'EstExp 12-20'!D373","v":10000},-2158,"New 2022 EstExp"]
[7843,{"$f":"'EstExp 12-20'!E373","v":0},7843,"New 2022 EstExp"]
[7844,{"$f":"'EstExp 12-20'!F373","v":0},7844,"New 2022 EstExp"]
[7845,{"$f":"'EstExp 12-20'!G373","v":0},7845,"New 2022 EstExp"]
[7846,{"$f":"'EstExp 12-20'!H373","v":0},7846,"New 2022 EstExp"]
[7847,{"$f":"'EstExp 12-20'!I373","v":0},7847,"New 2022 EstExp"]
[7848,{"$f":"'EstExp 12-20'!J373","v":0},7848,"New 2022 EstExp"]
[7849,{"$f":"'EstExp 12-20'!K373","v":0},7849,"New 2022 EstExp"]
[7850,{"$f":"'EstExp 12-20'!L373","v":10000},-2150,"New 2022 EstExp"]
[7851,{"$f":"'EstExp 12-20'!I419","v":0},7851,"New 2022 EstExp"]
[7852,{"$f":"'EstExp 12-20'!L419","v":0},7852,"New 2022 EstExp"]
[7853,{"$f":"'EstExp 12-20'!I421","v":0},7853,"New 2022 EstExp"]
[7854,{"$f":"'EstExp 12-20'!L421","v":0},7854,"New 2022 EstExp"]
[7855,{"$f":"'EstExp 12-20'!I423","v":0},7855,"New 2022 EstExp"]
[7856,{"$f":"'EstExp 12-20'!L423","v":0},7856,"New 2022 EstExp"]
[7857,{"$f":"'EstExp 12-20'!I424","v":0},7857,"New 2022 EstExp"]
[7858,{"$f":"'EstExp 12-20'!L424","v":0},7858,"New 2022 EstExp"]
[7859,{"$f":"'EstExp 12-20'!F425","v":0},7859,"New 2022 EstExp"]
[7860,{"$f":"'EstExp 12-20'!I425","v":0},7860,"New 2022 EstExp"]
[7861,{"$f":"'EstExp 12-20'!L425","v":0},7861,"New 2022 EstExp"]
[7862,{"$f":"'EstExp 12-20'!F426","v":0},7862,"New 2022 EstExp"]
[7863]
[7864]
[7865]
[7866]
[7867]
[7868]
[7869]
[7870]
[7871]
[7872]
[7873]
[7874]
[7875]
[7876]
[7877]
[7878]
[7879]
[7880]
[7881]
[7882]
[7883]
[7884]
[7885]
[7886]
[7887]
[7888]
[7889]
[7890]
[7891]
[7892]
[7893]
[7894]
[7895]
[7896]
[7897]
[7898]
[7899]
[7900]
[7901]
[7902]
[7903]
[7904]
[7905]
[7906]
[7907]
[7908]
[7909]
[7910]
[7911]
[7912]
[7913]
[7914]
[7915]
[7916]
[7917]
[7918]
[7919]
[7920]
[7921]
[7922]
[7923]
[7924]
[7925]
[7926]
[7927]
[7928]
[7929]
[7930]
[7931]
[7932]
[7933]
[7934]
[7935]
[7936]
[7937]
[7938]
[7939]
[7940]
[7941]
[7942]
[7943]
[7944]
[7945]
[7946]
[7947]
[7948]
[7949]
[7950]
[7951]
[7952]
[7953]
[7954]
[7955]
[7956]
[7957]
[7958]
[7959]
[7960]
[7961]
[7962]
[7963]
[7964]
[7965]
[7966]
[7967]
[7968]
[7969]
[7970]
[7971]
[7972]
[7973]
[7974]
[7975]
[7976]
[7977]
[7978]
[7979]
[7980]
[7981]
[7982]
[7983]
[7984]
[7985]
[7986]
[7987]
[7988]
[7989]
[7990]
[7991]
[7992]
[7993]
[7994]
[7995]